{"text_format":"1","workbook":"xlsx","n_sheets":14,"sheets":["Handleiding","Administratief formulier","START","RESULTATEN","Warmteopwekkers","Warmtevragers","Warmteverliezen lineair","Warmteverliezen lokaal","Hulpenergie circulatiepomp","Hulpenergie opwekkers","Keuzelijsten","fp,dh en energiebalans","Q_del,j en Q_del,dh","Qlossdist,dh"],"not_rendered":{"charts":0,"images":4,"macros":1,"external_links":2,"defined_names":113,"comments":0,"pivot_tables":0},"unopened":[],"bounds":{"document_bytes":16777216,"sheet_cells":100000,"rows_first":2000,"rows_last":500,"rows_between":2000,"halvings":0,"cell_chars":16384,"cell_head_chars":4096},"cells_cut":0,"cells_raw":0,"read":"whole","date_system":"1900"}

{"sheet":"Handleiding","index":0,"n_rows":652,"n_cols":6,"rows_kept":652,"cut":false,"hidden":false,"merged":[[0,0,0,13],[1,0,1,13]]}
["Rekenblad externe warmtelevering "]
["versie 1.0 - januari 2019"]
[]
["Dit rekenblad moet gezien worden bij de handleiding voor systemen van externe warmtelevering."]
["De handleiding voor invoer in de software vindt u op Brussels Leefmilieu website:"]
["https://leefmilieu.brussels/themas/gebouwen/de-energieprestatie-van-gebouwen-epb/bouwen-en-renoveren/handige-documenten"]
[]
["De rekenmethode wordt beschreven in bijlage 4 bij het MB van 18 januari 2019. Hier wordt verder naar verwezen als Bijlage 4."]
["Bij vragen over het rekenblad, kan u contact opnemen met epbdossierpeb@environnement.brussels"]
[]
["Deze handleiding bestaat uit volgende delen: "]
["1. Wat berekent u met dit rekenblad? Kan u een waarde bij ontstentenis gebruiken? "]
["2. Mogelijkheden en beperkingen van het rekenblad"]
["3. Kleurconventie van het rekenblad"]
["4. Stappenplan invoeren gegevens in het rekenblad"]
["5. Versiebeheer"]
[]
["1. Wat berekent u met dit rekenblad? Kan u een waarde bij ontstentenis gebruiken? "]
[]
["Via dit rekenblad kunnen volgende zaken worden berekend:"]
[null,"- de equivalente primaire energiefactor van het systeem van externe warmtelevering;"]
[null,"- het hernieuwbaar aandeel van het systeem van externe warmtelevering;"]
[null,"- het rendement voor desgevallend ruimteverwarming, warm water, bevochtiging of koeling voor elke warmtevrager."]
[]
[null,"Let op!"]
[null,"Een berekening via dit rekenblad is niet nodig indien u in de EPB-aangifte rekent met volgende waarden bij ontstentenis:"]
[null,null,"- De equivalente primaire energiefactor van het systeem van externe warmtelevering  fp,dh = 2,0 [-]"]
[null,null,"- Het hernieuwbaar aandeel van het systeem van externe warmtelevering fRE,dh = 0,0 [-] = 0 %"]
[null,null,"- Het rendement voor desgevallend ruimteverwarming, warm water, bevochtiging of koeling voor elke warmtevrager "]
[null,null,"berekend aan de hand van hequiv,heat,dh = 0,97 [-] = 97 %"]
[]
["2. Mogelijkheden en beperkingen van het rekenblad"]
[]
["Met dit rekenblad berekent u de energieprestatie van één uniek systeem van externe warmtelevering "]
[]
["Het tabblad 'Administratief formulier' is gebaseerd op de gevraagde gegevens in bijlage 4 van het ministerieel besluit van 18 januari 2019. "]
["Het aanvraagdossier moet minstens alle gegevens bevatten die daarin worden opgesomd. "]
[]
["Beperkingen: "]
["- In dit rekenblad is het niet mogelijk om de warmteopwekking door omgevingsafhankelijke warmteopwekkers (bijvoorbeeld zonthermische systemen) in te "]
["rekenen; "]
["- In dit rekenblad is het niet mogelijk om de warmteopwekking door elektrische warmtepompen met een ander warmteafgiftemedium als water in te voeren."]
[]
["3. Kleurconventie van het rekenblad"]
[]
["Cellen waarvan de inhoud veranderd mag worden: "]
[]
[null,"In de groen omrande vakjes moeten de gegevens vanuit het EPB-bestand geplakt worden (kopieer de gegevens vanuit het EPB-bestand + "]
[null,"plakken speciaal - tekst)."]
[]
[null,"In de groene vakjes kunnen tekst (bv. een naam) of getallen (bv. een afmeting, ...) worden ingevuld."]
[]
[null,"In de gele cellen kan een keuze uit een afrollijst worden gemaakt. Deze keuzelijst wordt zichtbaar door op de desbetreffende cel te klikken."]
[]
["Cellen waarvan de inhoud niet veranderd mag worden: "]
[]
[null,"Zwarte cellen bevatten informatie die irrelevant en dus ongebruikt is voor de gekozen configuratie. Afhankelijk van de waarden in andere cellen, "]
[null,"kunnen zwarte cellen terug zichtbaar worden, zodat er bijvoorbeeld iets kan ingevuld worden, of een keuze kan worden gemaakt. Andersom, "]
[null,"kan het zijn dat bepaalde cellen zwart worden door een bepaalde keuze die ergens anders wordt gemaakt. "]
[]
[null,"De rode cellen geven het eindresultaat dat moet ingevoerd worden in de EPB-software."]
[]
[null,"De blauwe cellen geven tussenresultaten."]
[]
[null,"De overblijvende cellen zijn wit en bevatten titels of beschrijvingen."]
[]
["4. Stappenplan invoeren gegevens in het rekenblad"]
[]
[null,"Beknopte handleiding - stappenplan"]
[null,"Het is sterk aangeraden om de onderstaande acties stap voor stap (in de opgegeven volgorde) volledig uit te voeren. "]
[]
[null,"1. Ga naar het tabblad 'START'"]
[null,"START"]
[]
[null,"U dient eerst volgende gegevens correct in te geven: "]
[null,null,"- de bepalingsmethode van het jaarlijks energieverbruik bij de warmteopwekking: via meet- of factuurwaarden of via"]
[null,null,"rekenwaarden. U kiest hoe u de parameter Egen,i [MJ] wil bepalen (hoofdstuk 5.3.2 van Bijlage 4). Dit kan via meet-of factuurwaarden "]
[null,null,"op basis van gegevens voor het jaarlijks energieverbruik van energiedrager i bij de warmteopwekking door warmteopwekker k "]
[null,null,"(middendeel formule hoofdstuk 5.3.2 van Bijlage 4) of via een rekenwaarde (rechterdeel formule hoofdstuk 5.3.2 van Bijlage 4). "]
[null,null,"- de bepalingsmethode voor de hoeveelheid warmte die jaarlijks wordt opgewekt door de warmteopwekkers in het "]
[null,null,"systeem van externe warmtelevering: via meetwaarden of via rekenwaarden. U kiest hoe u de parameter Qgen,dh [MJ] wil bepalen, via "]
[null,null,"meetwaarden (in te voeren in het rekenblad per opwekker, rij 36 tabblad 'Warmteopwekkers') of via de rekenmethode in hoofdstuk 5.3.3"]
[null,null,"van Bijlage 4 (invoeren van meerdere gegevens in  tabblad 'Warmtevrager', 'Warmteverliezen lineair' en 'Warmteverliezen lokaal'). "]
[null,null,"- de bepalingsmethode van de lokale en lineaire warmteverliezen: via waarde bij ontstentenis of via detailberekening. Dit veld"]
[null,null,"is zwart als de hoeveelheid warmte die jaarlijks wordt opgewekt door het systeem van externe warmtelevering bepaald wordt a.d.h.v."]
[null,null,"meetwaarden. "]
[null,null,"- de bepalingsmethode voor het hulpenergieverbruik van circulatiepompen en warmteopwekkers: via waarde bij ontstentenis"]
[null,null,"of via detailberekening;"]
[]
[null,"Klik vervolgens op de knop \"maak juiste rekenblad aan voor deze invoergegevens\""]
[]
[]
[]
[]
[]
[null,"2. Vul de nodige gegevens in op de betreffende tabbladen"]
[]
[null,"Warmteopwekkers"]
[]
[null,null,"A. inhoud van het tabblad"]
[null,null,"In dit tabblad kan u alle warmteopwekkers van het systeem van externe warmtelevering invoeren. "]
[null,null,"In de doorrekening worden alle as-built warmteopwekkers die warmte in het systeem van externe warmtelevering injecteren,"]
[null,null,"opgenomen."]
[null,null,"Het tabblad bestaat uit twee delen:"]
[null,null,null,"1. U voert de eigenschappen van de warmteopwekkers in;"]
[null,null,null,"2. Weergave van de resultaten voor de warmteopwekkers. "]
[null,null,"De verschillende warmteopwekkers vindt u in de kolommen naast elkaar terug. U vult het aantal kolommen in, overeenkomstig"]
[null,null,"het aantal warmteopwekkers aanwezig in het systeem van externe warmtelevering. De overige kolommen laat u leeg. "]
[null,null,"Tot 10 kolommen zijn voorzien in dit tabblad."]
[]
[null,null,"B. Methode"]
[null,null,"Indien meerdere verschillende warmteopwekkers aanwezig zijn in het systeem van externe warmtelevering, wordt per warmte-"]
[null,null,"opwekker het aandeel in de totale levering aan het systeem van externe warmtelevering bepaald. Dit wordt uitgedrukt als de "]
[null,null,"energiefractie in de warmtelevering, fheat,k, door een bepaalde warmteopwekker. "]
[]
[null,null,"Indien er maar één warmteopwekker is of één groep van identieke warmteopwekkers (ingevoerd als één opwekkingstoestel met een"]
[null,null,"totaal nominaal vermogen gelijk aan de som van de nominale vermogens van de opwekkers) is de energiefractie in de warmte-"]
[null,null,"levering voor die warmteopwekker gelijk aan 1. "]
[]
[null,null,"Bij de bepaling van de energiefractie wordt onderscheid gemaakt tussen volgende opwekkers: "]
[null,null,"- bovenliggende systemen van externe warmtelevering die dienen als opwekker voor het bestudeerde systeem; "]
[null,null,"- omgevingsonafhankelijke warmteopwekkers, waarbij het warmtevermogen steeds beschikbaar is (dus onafhankelijk van "]
[null,null,"buitencondities of interne industriële processen) en waarbij enkel wordt gestuurd op de warmtevraag in het systeem van externe "]
[null,null,"warmtelevering, bijvoorbeeld:"]
[null,null,null,"- opwekker van restwarmte;"]
[null,null,null,"- condenserende ketel;"]
[null,null,null,"- niet-condenserende ketel;"]
[null,null,null,"- warmtekrachtkoppeling (WKK);"]
[null,null,null,"- elektrische weerstandsverwarming;"]
[null,null,null,"- diepe geothermie;"]
[null,null,null,"- elektrische warmtepomp. "]
[]
[null,null,"Let op!"]
[null,null,"Bij het invoeren van de warmteopwekkers moet u volgende volgorde/cascade respecteren:"]
[null,null,"- als opwekkers met de laagste rangnummers (meest links) voert u alle bovenliggende systemen van externe warmtelevering in;"]
[null,null,"- als opwekkers met de hoogste rangnummers (meest rechts) voert u de omgevingsonafhankelijke warmteopwekkers in. "]
[null,null,"De volgorde/cascade waarin de verschillende opwekkers worden ingevoerd, zal een invloed hebben op het eindresultaat. "]
[]
[]
[]
[]
[]
[]
[null,null,"C. Invoervelden per warmteopwekker"]
[null,null,"- Naam"]
[null,null,null,"Beschrijf de warmteopwekker op een eenduidige manier. "]
[null,null,"- Bestaande warmteopwekker of nieuw te realiseren?"]
[null,null,null,"Kies: "]
[null,null,null,"- Bestaand;"]
[null,null,null,"- Nieuw."]
[null,null,"- Bij nieuwe warmteopwekker: timing van realisatie"]
[null,null,null,"Vul een datum in met de timing van de realisatie"]
[null,null,"- Type opwekker"]
[null,null,null,"Kies: "]
[null,null,null,"- bovenliggend warmtenet;"]
[null,null,null,"- opwekker van restwarmte;"]
[null,null,null,"- condenserende ketel;"]
[null,null,null,"- niet-condenserende ketel;"]
[null,null,null,"- warmtekrachtkoppeling (WKK);"]
[null,null,null,"- elektrische weerstandsverwarming;"]
[null,null,null,"- diepe geothermie;"]
[null,null,null,"- elektrische warmtepomp. "]
[null,null,"- Keuze energiedrager"]
[null,null,null,"Kies: "]
[null,null,null,"- aardgas;"]
[null,null,null,"- propaan;"]
[null,null,null,"- butaan;"]
[null,null,null,"- LPG;"]
[null,null,null,"- gasolie;"]
[null,null,null,"- kolen;"]
[null,null,null,"- biomassa. "]
[null,null,"- Thermisch vermogen [kW]"]
[null,null,null,"- opwekker van restwarmte: voor warmtewisselaars geldt het vermogen bij ontwerpcondities zoals bepaald op de "]
[null,null,null,"technische fiche, bij uitkoppeling van restwarmte zonder warmtewisselaar geldt het vermogen bij ontwerpcondities. "]
[null,null,null,"- andere opwekkers: het nominaal thermisch vermogen, bepaald volgens 7.3.1 van Bijlage EPN bij het Energiebesluit  "]
[null,null,"- Jaarlijks energieverbruik van de energiedrager bij de warmteopwekking door warmteopwekker k op basis van meet- of factuur-"]
[null,null,"waarden Egen,i,k [MJ]"]
[null,null,null,"Dit veld is enkel actief indien u in het tabblad 'START' bij het veld 'Bepalingsmethode van het jaarlijks energieverbruik bij de "]
[null,null,null,"warmteopwekking Egen,i [MJ]' kiest voor 'Meet- of factuurwaarden'. Voor het gebruik van meet- of factuurwaarden volgt u de "]
[null,null,null,"aanwijzingen in hoofdstuk 5.3.9 en 5.3.10 van Bijlage 4"]
[null,null,"- Gebruik de waarde bij ontstentenis voor het opwekkingsrendement?"]
[null,null,null,"Kies: "]
[null,null,null,"- ja;"]
[null,null,null,"- nee. "]
[null,null,"- Opwekker van restwarmte: is de opwekker een afvalverbrandingsinstallatie die valt onder Bijlage 4? "]
[null,null,null,"Kies: "]
[null,null,null,"- ja;"]
[null,null,null,"- nee. "]
[null,null,"- Bovenliggend warmtenet: Vermogen van de warmtewisselaar of onderstation voor warmteoverdracht uit het bovenliggend systeem "]
[null,null,"bij ontwerp en opgenomen in de technische fiche [kW]"]
[null,null,null,"Vul het vermogen van de warmtewisselaar of het onderstation in, die is gelegen tussen het bovenliggend systeem van "]
[null,null,null,"externe warmtelevering en het bestudeerde unieke systeem van externe warmtelevering, bepaald bij ontwerpcondities en "]
[null,null,null,"zoals opgenomen in de technische fiche."]
[null,null,"- Bovenliggend warmtenet: Equivalente primaire energiefactor van het bovenliggend systeem van externe warmte [-]"]
[null,null,null,"Vul de equivalente primaire energiefactor van het bovenliggend systeem van externe warmtelevering in, bepaald als "]
[null,null,null,"fp,dh = ( Ep,dh / Qdel,dh ) zonder toepassing van de ondergrens van 0,7. "]
[null,null,"- Bovenliggend warmtenet: Het hernieuwbaar aandeel van het bovenliggend systeem van externe warmtelevering [-]"]
[null,null,null,"Vul het hernieuwbaar aandeel van het bovenliggend systeem van externe warmtelevering in. "]
[null,null,null,"Indien dit niet gekend is mag een waarde van 0% worden ingevuld."]
[null,null,"- Bovenliggend warmtenet: Is er een warmtewisselaar of onderstation aanwezig voor warmteoverdracht uit het bovenliggend systeem? "]
[null,null,null,"Kies: "]
[null,null,null,"- ja;"]
[null,null,null,"- nee. "]
[null,null,"- Bovenliggend warmtenet: Is de warmtewisselaar of het onderstation voor warmteoverdracht uit het bovenliggend systeem voldoende"]
[null,null," geïsoleerd? "]
[null,null,null,"Kies: "]
[null,null,null,"- ja, als wordt voldaan aan de voorwaarden gesteld in 5.3.11 van Bijlage 4."]
[null,null,null,"- nee, als niet wordt voldaan aan de voorwaarden gesteld in 5.3.11 van Bijlage 4. "]
[null,null,"- Ketel: Deellastrendement bij 30% belasting [-]"]
[null,null,null,"Vul het deellastrendement bij een belasting van 30% in. "]
[null,null,"- Ketel: Gemiddelde ketelwatertemperatuur bij 30 % belasting [°C]"]
[null,null,null,"Vul de ketelinlaattemperatuur waarbij het 30% deellastrendement bepaald is in. "]
[null,null,"- Ketel: Ontwerp retourtemperatuur warmteafgiftesysteem [°C]"]
[null,null,null,"Vul de ontwerp retourtemperatuur van het water dat vanuit de distributie-elementen naar de ketel stroomt in. "]
[null,null,"- Ketel/WKK: Het aandeel van de brandstof van de ketel of WKK uit organisch-biologische stof [-]"]
[null,null,null,"Het aandeel van de brandstof van de ketel of WKK uit organisch-biologische stof,  bepaald bij ontwerp voor nieuwe "]
[null,null,null,"installaties, of voor een bestaande installatie tijdens de laatste drie kalenderjaren mits de brandstofmix van de installatie"]
[null,null,null,"gedurende deze periode representatief is voor de brandstofmix. "]
[null,null,"- WKK: Type "]
[null,null,null,"Kies: "]
[null,null,null,"- Interne verbrandingsmotor op aardgas;"]
[null,null,null,"- Interne verbrandingsmotor op gas afkomstig van biomassa;"]
[null,null,null,"- Interne verbrandingsmotor op gasolie;"]
[null,null,null,"- Interne verbrandingsmotor op plantaardige olie;"]
[null,null,null,"- Ander. "]
[null,null,"- WKK: Bepalingsmethode van de jaarlijkse opwekking van elektriciteit door de WKK "]
[null,null,null,"De bepaling van Eprod,el,cogen kan op basis van meetwaarden of rekenwaarden (zie hoofdstuk 5.3.8 van Bijlage 4). "]
[null,null,null,"Kies: "]
[null,null,null,"- Meetwaarden;"]
[null,null,null,"- Rekenwaarden."]
[null,null,"- WKK: De jaarlijkse opwekking van elektriciteit door WKK op basis van meetwaarden [MJ]"]
[null,null,null,"Vul de meetwaarde van de jaarlijkse opwekking van elektriciteit door de WKK, Eprod,el,cogen [MJ], in. Voor het gebruik van"]
[null,null,null,"meetwaarden volgt u de aanwijzingen in hoofdstuk 5.3.9 van Bijlage 4. "]
[null,null,"- WKK: Elektrisch vermogen gekend?"]
[null,null,null,"Kies: "]
[null,null,null,"- ja;"]
[null,null,null,"- nee. "]
[null,null,"- WKK: Elektrisch vermogen [kW]"]
[null,null,null,"Vul het elektrisch vermogen van de WKK-installatie in. "]
[null,null,"- WKK: Elektrisch vermogen [kW]"]
[null,null,null,"Dit veld toont een (tussen-)resultaat."]
[null,null,"- Warmtepomp: De prestatiecoëfficiënt onder testomstandigheden (COPtest)"]
[null,null,null,"Vul de prestatiecoëfficiënt (coefficient of performance) van de warmtepomp in, bepaald volgens 10.2.3.3 van bijlage PEN bij"]
[null,null,null,"het Eisenbesluit."]
[null,null,"- Warmtepomp: Warmtebron"]
[null,null,null,"Kies: "]
[null,null,null,"- bodem;"]
[null,null,null,"- bodem (directe verdamping);"]
[null,null,null,"- grondwater;"]
[null,null,null,"- oppervlaktewater;"]
[null,null,null,"- enkel buitenlucht;"]
[null,null,"- Warmtepomp: Ontwerpvertrektemperatuur naar het systeem van externe warmtelevering [°C]"]
[null,null,null,"Vul de vertrektemperatuur in vanaf de warmtepomp naar het systeem van externe warmtelevering bij de ontwerp-"]
[null,null,null,"omstandigheden. "]
[null,null,"- Warmtepomp: Temperatuursverschil tussen vertrek en retour van en naar het systeem van externe warmtelevering bij ontwerp-"]
[null,null,"omstandigheden [°C]"]
[null,null,null,"Vul het verschil tussen de vertrektrektemperatuur vanaf de warmtepomp naar de distributie-elementen én de retour-"]
[null,null,null,"temperatuur van de distributie-elementen naar de warmtepomp bij ontwerpomstandigheden in. "]
[null,null,"- Warmtepomp: Temperatuurtoename van het water over de condensor, bij test volgens EN 14511 [°C]"]
[null,null,null,"Vul de temperatuurstoename van het water over de condensor in, bepaal bij het testen volgens de norm NBN EN 14511. "]
[null,null,"- Pomp voor warmtetoevoer naar verdamper warmtepomp: Elektrisch vermogen van de pomp gekend? "]
[null,null,null,"Kies: "]
[null,null,null,"- ja;"]
[null,null,null,"- nee. "]
[null,null,"- Pomp voor warmtetoevoer naar verdamper warmtepomp: Elektrisch vermogen van de pomp [kW]"]
[null,null,null,"Vul het elektrisch vermogen van de pomp voor warmtetoevoer naar de verdamper in. "]
[null,null,"- Warmtepomp: Elektrisch vermogen van de warmtepomp volgens EN 14511 bij dezelfde testomstandigheden als waarbij COPtest "]
[null,null,"werd bepaald [kW]"]
[null,null,null,"Vul het elektrisch vermogen van de warmtepomp in, bepaald volgens NBN EN 14511 bij dezelfde testomstandigheden als"]
[null,null,null,"waarbij de prestatiecoëfficiënt van de warmtepomp (COPtest) is bepaald. "]
[null,null,"- De hoeveelheid warmte die jaarlijks wordt opgewekt door de warmteopwekker in het systeem van externe warmtelevering op basis van"]
[null,null,"meetwaarden [MJ]"]
[null,null,null,"Vul de meetwaarde van de hoeveelheid warmte die jaarlijks wordt opgewekt door de warmteopwekker in het systeem van "]
[null,null,null,"externe warmtelevering in. Voor het gebruik van meetwaarden volgt u de aanwijzingen in hoofdstuk 5.3.9 van Bijlage 4."]
[]
[null,"Warmtevragers"]
[]
[null,null,"A. inhoud van het tabblad"]
[null,null,"In dit tabblad kan u alle warmtevragers van het systeem van externe warmtelevering invoeren. "]
[null,null,"Volgende warmtevragers worden in de doorrekening meegenomen: "]
[null,null,null,"- alle warmtevragers die via een bestaande of nieuw gerealiseerde warmteaansluiting warmte afnemen van het "]
[null,null,null,"systeem van externe warmtelevering;"]
[null,null,null,"- alle warmtevragers die warmte zullen afnemen van het systeem van externe warmtelevering"]
[null,null,null," én die gerealiseerd worden in de bouwfase waarvoor de EPB-verklaring wordt ingediend."]
[null,null,"Bovenaan het tabblad wordt de hoeveelheid warmte die jaarlijks wordt afgeleverd aan alle warmtevragers in het systeem van "]
[null,null,"externe warmtelevering weergegeven. "]
[null,null,"Per warmtevrager vindt u twee delen:"]
[null,null,null,"1. Bovenaan, de algemene gegevens van de warmtevrager;"]
[null,null,null,"2. Onderaan, de gegevens voor de inschatting van de warmtevraag van de warmtevrager. "]
[]
[null,null,"De verschillende warmtevragers vindt u in de kolommen naast elkaar terug. U vult het aantal kolommen in, overeenkomstig"]
[null,null,"het aantal warmtevragers aanwezig in het systeem van externe warmtelevering. De overige kolommen laat u leeg."]
[]
[null,null,"B. Methode"]
[null,null,"De hoeveelheid warmte die jaarlijks wordt afgeleverd aan warmtevrager j, Qdel,j, wordt naar keuze volgens één van de volgende vier "]
[null,null,"methoden bepaald:"]
[null,null,null,"- gebruik van meet- of factuurwaarden;"]
[null,null,null,"- gebruik van een rekenwaarde;"]
[null,null,null,"- gebruik van de vloeroppervlakte; "]
[null,null,null,"- gebruik van een waarde bij ontstentenis. "]
[]
[null,null,"C. Invoervelden / resultaatvelden per warmtevrager"]
[null,null,"- Naam"]
[null,null,null,"Beschrijf de warmtevrager op een eenduidige manier. "]
[null,null,"- Bestaande warmtevrager of nieuw te realiseren?"]
[null,null,null,"Kies: "]
[null,null,null,"- ja;"]
[null,null,null,"- nee. "]
[null,null,"- Bij nieuwe warmtevrager: timing van realisatie"]
[null,null,null,"Vul een datum in met de timing van de realisatie"]
[null,null,"- Is de warmtevrager EPB-plichtig?"]
[null,null,null,"Kies: "]
[null,null,null,"- ja;"]
[null,null,null,"- nee. "]
[null,null,"- Type EPB-eenheid"]
[null,null,null,"Dit veld is enkel actief als de warmtevrager EPB-plichtig is."]
[null,null,null,"Kies: "]
[null,null,null,"- EPW-eenheid: als het gaat om een woongebouw;"]
[null,null,null,"- EPN-eenheid: als het gaat om een niet-residentieel gebouw;"]
[null,null,"- Er is een onvoldoende geïsoleerde warmtewisselaar of onderstation aanwezig bij de warmtevrager (dus buiten de grenzen van het "]
[null,null,"syteem van externe warmtelevering)"]
[null,null,null,"Kies: "]
[null,null,null,"- ja, als er een warmtewisselaar of onderstation aanwezig is bij de warmtevrager (dus buiten het systeem van externe "]
[null,null,null,"warmtelevering), én als voor die warmtewisselaar of dat onderstation niet wordt voldaan aan de voorwaarden gesteld in "]
[null,null,null,"5.3.11 van Bijlage 4;"]
[null,null,null,"- nee, als: "]
[null,null,null,null,"- er geen warmtewisselaar of onderstation aanwezig is;"]
[null,null,null,null,"- de warmtewisselaar of onderstation inbegrepen is in het systeem van externe warmte;"]
[null,null,null,null,"- voor de warmtewisselaar of het onderstation aanwezig bij de warmtevrager wordt voldaan aan de voorwaarden "]
[null,null,null,null,"gesteld in 5.3.11 van Bijlage 4."]
[null,null,"- Wordt de warmte door het warmtenet toegepast voor verwarming?"]
[null,null,null,"Dit veld is actief als u aangeeft dat de EPB-eenheid EPB-plichtig is."]
[null,null,null,"Kies: "]
[null,null,null,"- ja;"]
[null,null,null,"- nee. "]
[null,null,"- Wordt de warmte door het warmtenet toegepast voor sanitair warm water?"]
[null,null,null,"Dit veld is actief als u aangeeft dat de EPB-eenheid EPB-plichtig is."]
[null,null,null,"Kies: "]
[null,null,null,"- ja;"]
[null,null,null,"- nee. "]
[null,null,"- Wordt de warmte door het warmtenet toegepast voor koeling?"]
[null,null,null,"Dit veld is actief als u aangeeft dat de EPB-eenheid EPB-plichtig is én als het gaat om een EPN-eenheid."]
[null,null,null,"Kies: "]
[null,null,null,"- ja;"]
[null,null,null,"- nee. "]
[null,null,"- Wordt de warmte door het warmtenet toegepast voor bevochtiging?"]
[null,null,null,"Dit veld is actief als u aangeeft dat de EPB-eenheid EPB-plichtig is én als het gaat om een EPN-eenheid."]
[null,null,null,"Kies: "]
[null,null,null,"- ja;"]
[null,null,null,"- nee. "]
[null,null,"- Begrenzing warmtenet"]
[null,null,null,"Kies: "]
[null,null,null,"- Er is één warmtemeter: in dat geval vormt de warmtemeter de grens tussen het systeem van externe warmtelevering en de "]
[null,null,null,"warmtevrager."]
[null,null,null,"- Er zijn meerdere warmtemeters: in het geval er meerdere warmtemeters in serie zijn geplaatst, wordt de grens tussen het "]
[null,null,null,"systeem van externe warmtelevering en de warmtevrager gevormd door de warmtemeter die de uitbater van het systeem van"]
[null,null,null,"externe warmtelevering gebruikt voor de warmtekostenafrekening. Welke warmtemeter dit is kan u verduidelijken in het veld "]
[null,null,null," 'Beschrijf de warmtemeter op basis waarvan de warmtekostenafrekening gebeurt'. "]
[null,null,null,"- Er is geen warmtemeter, er is wel een onderstation bij de warmtevrager: in dat geval vormt het onderstaion (of de warmte-"]
[null,null,null,"wisselaar) de grens tussen het systeem van externe warmtelevering en de warmtevrager. "]
[null,null,null,"- Er is geen warmtemeter, er is geen onderstation bij de warmtevrager: in dat geval vormt de doorgang tot het gebouw de "]
[null,null,null,"grens tussen het systeem van externe warmtelevering en de warmtevrager. "]
[null,null,"- Beschrijf de warmtemeter op basis waarvan de warmtekostenafrekening gebeurt"]
[null,null,null,"Dit veld is actief als u kiest voor 'Er zijn meerdere warmtemeters' bij 'Begrenzing warmtenet'. "]
[null,null,null,"In het geval er meerdere warmtemeters in serie zijn geplaatst, wordt de grens tussen het systeem van externe "]
[null,null,null,"warmtelevering en de warmtevrager gevormd door de warmtemeter die de uitbater van het systeem van externe "]
[null,null,null,"warmtelevering gebruikt voor de warmtekostenafrekening. Welke warmtemeter dit is kan u verduidelijken in dit veld. "]
[null,null,"- Berekening afgeleverde warmte op basis van:"]
[null,null,null,"Kies: "]
[null,null,null,"- Meetwaarden;"]
[null,null,null,"- Factuurwaarden;"]
[null,null,null,"- EPB-waarden;"]
[null,null,null,"- Vloeroppervlakte;"]
[null,null,null,"- Waarde bij ontstentenis."]
[null,null,"- De afgeleverde warmte aan de warmtevrager op basis van meetwaarden [MJ]"]
[null,null,null,"Voer de afgeleverde warmte aan de warmtevrager in, bepaald volgens 5.3.9 van Bijlage 4. "]
[null,null,"- De afgeleverde warmte aan de warmtevrager op basis van factuurwaarden [MJ]"]
[null,null,null,"Voer de afgeleverde warmte aan de warmtevrager in, bepaald volgens 5.3.10 van Bijlage 4. "]
[null,null,"- Eindenergieverbruik ruimteverwarming"]
[null,null,null,"Vul hier de waarde voor het totaal jaarlijks eindenergieverbruik voor ruimteverwarming uit de EPB-software."]
[null,null,"- Eindenergieverbruik SWW van alle tappunten"]
[null,null,null,"Vul hier de waarde voor het totaal jaarlijks eindenergieverbruik voor SWW van alle tappunten uit de EPB-software."]
[null,null,"- Eindenergieverbruik bevochtiging"]
[null,null,null,"Vul hier de waarde voor het totaal jaarlijks eindenergieverbruik voor bevochtiging uit de EPB-software."]
[null,null,"- Eindenergieverbruik koeling"]
[null,null,null,"Vul hier de waarde voor het totaal jaarlijks eindenergieverbruik voor koeling uit de EPB-software."]
[null,null,"- Type warmtevrager"]
[null,null,null,"Kies: "]
[null,null,null,"- Appartement;"]
[null,null,null,"- Rijwoning;"]
[null,null,null,"- Halfopen bebouwing residentieel;"]
[null,null,null,"- Open bebouwing residentieel;"]
[null,null,null,"- Overige eenheden."]
[null,null,"- Vloeroppervlakte gekend?"]
[null,null,null,"Kies: "]
[null,null,null,"- Ja: er verschijnt een veld waarin u de vloeroppervlakte kan invoeren. "]
[null,null,null,"- Nee: de vloeroppervlakte wordt vastgelegd op basis van Tabel 2 uit 5.2.3 van Bijlage 4. "]
[null,null,"- Vloeroppervlakte [m²]"]
[null,null,null,"Vul de vloeroppervlakte van de warmtevrager in, zoals gedefinieerd in bijlage 2 van het Richtlijnenbesluit."]
[null,null,"- Resultaat Qdel,j [MJ]"]
[null,null,null,"Dit veld toont het resultaat van de warmtevraag van de warmtevrager op basis van de hierboven ingevulde gegevens. "]
[]
[null,"Warmteverliezen lineair"]
[]
[null,null,"Dit tabblad is enkel actief indien in het tabblad 'START' bij het veld 'Bepalingsmethode voor de hoeveelheid warmte die jaarlijks wordt "]
[null,null,"opgewekt door de warmteopwekkers in het systeem van externe warmtelevering Qgen,dh [MJ]' wordt gekozen voor 'Rekenwaarden' én"]
[null,null,"indien bij het veld 'Bepaling lokale en lineaire warmteverliezen' wordt gekozen voor 'Detailberekening'. "]
[]
[null,null,"A. inhoud van het tabblad"]
[null,null,"In dit tabblad kan u de eigenschappen van alle leidingsegmenten die zich in het systeem van externe warmtelevering bevinden,"]
[null,null,"invoeren. "]
[null,null,"Alle leidingsegmenten van het warmteverdelingsnet worden beschouwd, m.a.w. alle leidingsegmenten tussen de aansluitingen van "]
[null,null,"het (de) opwekkingstoelstel(len) tot de stroomafwaartse begrenzing van het systeem van externe warmte. "]
[null,null,"Het systeem van externe warmtelevering bestaat uit minimaal 1 segment. Als de uitvoeringswijze, de diameter van de geïsoleerde"]
[null,null,"leiding, de diameter van de ongeïsoleerde leiding, het isolatiemateriaal, de afstand tussen het middelpunt van de leiding en het "]
[null,null,"grondoppervlak, de ligging van de leiding, de externe warmteoverdrachtscoëfficiënt van de leiding naar de omgeving, de dikte van de "]
[null,null,"isolatie, de hoogte en de breedte van het kanaal, ... wijzigt, of bij aanwezigheid van een buffervat of warmtewisselaar, wordt er  "]
[null,null,"gesproken van een nieuw leidingsegment. "]
[null,null,"Bovenaan het tabblad, in cel B4, wordt de hoeveelheid warmte die jaarlijks verloren gaat in het systeem van externe warmtelevering"]
[null,null,"te wijten aan lineaire warmteverliezen weergegeven. "]
[null,null,"De verschillende leidingsegmenten vindt u in de kolommen naast elkaar terug.  U vult het aantal kolommen in, overeenkomstig"]
[null,null,"het aantal leidingsegmenten aanwezig in het systeem van externe warmtelevering. De overige kolommen laat u leeg."]
[]
[null,null,"B. Invoervelden "]
[null,null,"- Naam/beschrijving"]
[null,null,null,"Vul hier een eenduidige naam of beschrijving van het leidingsegment in. "]
[null,null,"- Bestaand leidingsegment of nieuw te realiseren?"]
[null,null,null,"Kies: "]
[null,null,null,"- ja;"]
[null,null,null,"- nee. "]
[null,null,"- Bij nieuw leidingsegment: timing van realisatie"]
[null,null,null,"Vul een datum in met de timing van de realisatie (deze moet gerealiseerd worden in de bouwfase"]
[null,null,null,"waarvoor de EPB-verklaring wordt ingediend)."]
[null,null,"- Leiding ondergronds? "]
[null,null,null,"Kies:"]
[null,null,null,"- Ja;"]
[null,null,null,"- Nee. "]
[null,null,"- Uitvoeringswijze ondergrondse leiding"]
[null,null,null,"Dit veld is enkel actief voor ondergrondse leidingen. "]
[null,null,null,"Kies: "]
[null,null,null,"- 2 of meer parallelle leidingen in volle grond"]
[null,null,null,"- Eén enkele leiding, geplaatst in volle grond"]
[null,null,null,"- 2 leidingen, parallel geplaatst in  een gemeenschappelijke ondergrondse buisbehuizing"]
[null,null,null,"- Andere uitvoeringswijze"]
[null,null,null,"Een schema van de uitvoeringswijzen voor ondergrondse leidingen vindt u in tabel 3 van 5.3.4 van Bijlage 4. "]
[null,null,"- Type bovengrondse leiding"]
[null,null,null,"Dit veld is enkel actief voor bovengrondse leidingen. "]
[null,null,null,"Kies: "]
[null,null,null,"- Ronde leidingen en kanalen;"]
[null,null,null,"- Rechthoekige kanalen. "]
[null,null,"- Ligging bovengrondse leiding"]
[null,null,null,"Dit veld is enkel actief voor bovengrondse leidingen. "]
[null,null,null,"Kies: "]
[null,null,null,"- Binnen het beschermd volume;"]
[null,null,null,"- In een AOR van de warmtevrager;"]
[null,null,null,"- Buiten."]
[null,null,"- Lengte lj [m]"]
[null,null,null,"Vul de lengte van het leidingsegment j in. "]
[null,null,"- Warmtegeleidingscoëfficiënt isolatie λinsul,j [W/mK]"]
[null,null,null,"Vul de warmtegeleidingscoëfficiënt van de warmte-isolatie rond leidingsegment j in. "]
[null,null,"- Buitendiameter van geïsoleerde leiding De,j [m]"]
[null,null,null,"Dit veld is enkel actief voor bovengrondse, ronde leidingen en kanalen én voor ondergrondse leidingen."]
[null,null,null,"Vul de buitendiameter van de geïsoleerde leidingsegment in. "]
[null,null,"- Buitendiameter van ongeïsoleerde leiding Di,j [m]"]
[null,null,null,"Dit veld is enkel actief voor bovengrondse, ronde leidingen en kanalen én voor ondergrondse leidingen."]
[null,null,null,"Vul de buitendiameter van het ongeïsoleerde leidingsegment in. "]
[null,null,"- Dikte van de warmte-isolatie rond het kanaal dinsul,j [m]"]
[null,null,null,"Dit veld is enkel actief voor bovengrondse, rechthoekige kanalen."]
[null,null,null,"Vul de dikte van de warmte-isolatie rond leidingsegment j in. "]
[null,null,"- Hoogte van het geïsoleerd kanaal (buitenafmeting) Hj [m]"]
[null,null,null,"Dit veld is enkel actief voor bovengrondse, rechthoekige kanalen."]
[null,null,null,"Vul de hoogte van het geïsoleerd leidingsegment j (buitenafmeting) in. "]
[null,null,"- Breedte van het geïsoleerd kanaal (buitenafmeting) Bj [m]"]
[null,null,null,"Dit veld is enkel actief voor bovengrondse, rechthoekige kanalen."]
[null,null,null,"Vul de breedte van het geïsoleerd leidingsegment j (buitenafmeting) in. "]
[null,null,"- Afstand tussen middelpunt leiding en grondoppervlak HE,j [m]"]
[null,null,null,"Dit veld is enkel actief voor ondergrondse leidingen."]
[null,null,null,"Vul de afstand tussen het middelpunt van het leidingsegment en het grondoppervlak in. "]
[null,null,"- Correctiefactor impact koudebruggen finsul,netw nj [-] (bepaald volgens bijlage PEN §9.3.2.2 met finsul,netw nj in plaats van finsul,circ k )"]
[null,null,null,"Kies: "]
[null,null,null,"- geval 1;"]
[null,null,null,"- geval 2;"]
[null,null,null,"- geval 3."]
[null,null,"- Gemiddelde werkingstemperatuur van het fluidum θc,netw n,m [°C]"]
[null,null,null,"Vul de werkingstemperatuur van het fluïdum in warmteverdelingsnet n in. Deze waarde is gelijk voor elke maand van het jaar."]
[null,null,null,"Neem het rekenkundig gemiddelde van de ontwerp vertrek- en retourtemperatuur aan de centrale warmteopwekker. In het "]
[null,null,null,"geval er meerdere warmteopwekkers zijn én in het geval die warmteopwekkers verschillende ontwerp vertrek- en "]
[null,null,null,"retourtemperaturen hanteren, wordt voor het volledige warmteverdelingsnet gerekend met de hoogste waarde voor het "]
[null,null,null,"rekenkundig gemiddelde van de ontwerp vertrek- en retourtemperatuur. "]
[null,null,"- Resultaat Qdistr,heat,netw n,m [MJ]"]
[null,null,null,"Dit veld toont het resultaat van de lineaire warmteverliezen van het leidingsegment op basis van de hierboven"]
[null,null,null,"ingevulde gegevens. "]
[]
[null,"Warmteverliezen lokaal"]
[]
[null,null,"Dit tabblad is enkel actief indien in het tabblad 'START' bij het veld 'Bepalingsmethode voor de hoeveelheid warmte die jaarlijks wordt "]
[null,null,"opgewekt door de warmteopwekkers in het systeem van externe warmtelevering Qgen,dh [MJ]' wordt gekozen voor 'Rekenwaarden' én"]
[null,null,"indien bij het veld 'Bepaling lokale en lineaire warmteverliezen' wordt gekozen voor 'Detailberekening'. "]
[]
[null,null,"A. inhoud van het tabblad"]
[null,null,"In dit tabblad kan u de eigenschappen van alle buffervaten en warmtewisselaars l die zich in het systeem van externe warmtelevering"]
[null,null,"bevinden, invoeren. "]
[null,null,"Bovenaan het tabblad, in cel B4, wordt de hoeveelheid warmte die jaarlijks verloren gaat in het systeem van externe warmtelevering "]
[null,null,"te wijten aan lokale warmteverliezen weergegeven. "]
[null,null,"De verschillende buffervaten of warmtewisselaars vindt u in de kolommen naast elkaar terug. U vult het aantal kolommen in, "]
[null,null,"overeenkomstig het aantal buffervaten of warmtewisselaars aanwezig in het systeem van externe warmtelevering. "]
[null,null,"De overige kolommen laat u leeg."]
[]
[null,null,"B. Methode"]
[null,null,"De hoeveelheid warmte die jaarlijks verloren gaat in het systeem van externe warmtelevering te wijten aan lokale warmteverliezen bij"]
[null,null,"buffervat of warmtewisselaar l, Qlossloc,l [MJ], is:"]
[null,null,null,"- gelijk aan '0' indien het buffervat of de warmtewisselaar voldoende is geïsoleerd, m.a.w. indien wordt voldaan aan de"]
[null,null,null,"voorwaarden gesteld in 5.3.11 van Bijlage 4. "]
[null,null,null,"- verschillend van '0' en wordt berekend indien het buffervat of de warmtewisselaar niet voldoende is geïsoleerd, m.a.w. indien"]
[null,null,null,"niet wordt voldaan aan de voorwaarden gesteld in 5.3.11 van Bijlage 4. "]
[]
[null,null,"C. Invoervelden "]
[null,null,"- Is het buffervat of de warmtewisselaar voldoende geïsoleerd? "]
[null,null,null,"Kies: "]
[null,null,null,"- ja, als wordt voldaan aan de voorwaarden gesteld in 5.3.11 van Bijlage 4;"]
[null,null,null,"- nee, als niet wordt voldaan aan de voorwaarden gesteld in 5.3.11 van Bijlage 4. "]
[null,null,"- Bevindt het segment zich stroomafwaarts van het buffervat of de warmtewisselaar? "]
[null,null,null,"Vul dit in voor alle leidingsegmenten aanwezig in het systeem van externe warmtelevering. U houdt dezelfde "]
[null,null,null,"rangnummers aan als in het tabblad 'Warmteverliezen lineair'."]
[null,null,null,"Kies: "]
[null,null,null,"- Ja;"]
[null,null,null,"- Nee. "]
[null,null,null,"Met 'stroom' in het woord stroomafwaarts wordt de warmtestroom bedoeld. De warmtestroming is een stroom van energie "]
[null,null,null,"van locaties met een hogere temperatuur naar locaties met een lagere temperatuur. Met stroomafwaarts wordt dus de zin "]
[null,null,null,"van de lagere temperatuur bedoeld. "]
[null,null,"- Bevindt de warmtevrager zicht stroomafwaarts van het buffervat of de warmtewisselaar? "]
[null,null,null,"Vul dit in voor alle warmtevragers aanwezig in het systeem van externe warmtelevering. U houdt dezelfde "]
[null,null,null,"rangnummers aan als in het tabblad 'Warmtevragers'."]
[null,null,null,"Kies: "]
[null,null,null,"- Ja;"]
[null,null,null,"- Nee. "]
[null,null,null,"Met 'stroom' in het woord stroomafwaarts wordt de warmtestroom bedoeld. De warmtestroming is een stroom van energie "]
[null,null,null,"van locaties met een hogere temperatuur naar locaties met een lagere temperatuur. Met stroomafwaarts wordt dus de zin "]
[null,null,null,"van de lagere temperatuur bedoeld. "]
[]
[null,"Hulpenergie circulatiepomp"]
[null,"Hulpenergie circulatiepomp"]
[null,null,"Dit tabblad is enkel actief indien in het tabblad 'START' bij het veld 'Bepaling hulpenergieverbruik voor circulatiepompen en "]
[null,null,"warmteopwekkers' wordt gekozen voor 'Detailberekening'."]
[]
[null,null,"A. inhoud van het tabblad"]
[null,null,"In dit tabblad kan u alle circulatiepompen van het systeem van externe warmtelevering invoeren. "]
[null,null,null,"Let op!"]
[null,null,null,"Bij pompen die voor reservestelling dubbel zijn uitgevoerd, moet enkel de pomp met het grootste elektrisch vermogen in "]
[null,null,null,"beschouwing worden genomen. Indien de voedingspomp van een warmteopwekker ook dienst doet als circulatiepomp voor "]
[null,null,null,"het systeem van externe warmtelevering, wordt deze pomp slechts éénmaal ingerekend, namelijk als circulatiepomp. "]
[null,null,"Bovenaan het tabblad wordt in cel B4 het jaarlijks eindenergieverbruik van elektriciteit als hulpenergie door alle circulatiepompen "]
[null,null,"weergegeven. De verschillende circulatiepompen vindt u in de kolommen naast elkaar terug. U vult het aantal kolommen in,  "]
[null,null,"overeenkomstig het aantal circulatiepompen aanwezig in het systeem van externe warmtelevering. De overige kolommen "]
[null,null,"laat u leeg."]
[]
[null,null,"B. Methode"]
[null,null,"Het jaarlijks eindenergieverbruik van elektriciteit als hulpenergie door circulatiepomp j, Eauxdist,el,j, wordt naar keuze volgens één van de "]
[null,null,"volgende methoden bepaald:"]
[null,null,null,"- gebruik van meet- of factuurwaarden;"]
[null,null,null,"- gebruik van rekenwaarden. "]
[]
[null,null,"C. Invoervelden "]
[null,null,"- Vastlegging hulpenergieverbruik op basis van:"]
[null,null,null,"Kies:"]
[null,null,null,"- Meetwaarden;"]
[null,null,null,"- Factuurwaarden;"]
[null,null,null,"- Rekenwaarden."]
[null,null,"- Hulpenergie circulatiepomp op basis van meetwaarden [MJ]"]
[null,null,null,"Voer het jaarlijks eindenergieverbruik van circulatiepomp j in, bepaald volgens 3.3.9 van Bijlage 1. "]
[null,null,"- Hulpenergie circulatiepomp op basis van factuurwaarden [MJ]"]
[null,null,null,"Voer het jaarlijks eindenergieverbruik van circulatiepomp j in, bepaald volgens 3.3.10 van Bijlage 1. "]
[null,null,"- Het elektrisch vermogen van de circulatiepomp [W]"]
[null,null,null,"Voer het jaarlijks eindenergieverbruik van circulatiepomp j in, bepaald als het opgenomen elektrisch vermogen bij "]
[null,null,null,"het werkingspunt waar de pomp is geselecteerd, zoals vermeld op de technische fiche. Indien deze waarde niet is gekend, "]
[null,null,null,"wordt het nominale elektrische vermogen van de pomp gehanteerd. "]
[]
[null,"Hulpenergie opwekkers"]
[]
[null,null,"Dit tabblad is enkel actief indien in het tabblad 'START' bij het veld 'Bepaling hulpenergieverbruik voor circulatiepompen en "]
[null,null,"warmteopwekkers' wordt gekozen voor 'Detailberekening'."]
[]
[null,null,"A. inhoud van het tabblad"]
[null,null,"In dit tabblad kan u voor alle warmteopwekkers van het systeem van externe warmtelevering het elektrisch hulpenergieverbruik invoeren. "]
[null,null,null,"Let op!"]
[null,null,null,"Bij pompen die voor reservestelling dubbel zijn uitgevoerd, moet enkel de pomp met het grootste elektrisch vermogen in "]
[null,null,null,"beschouwing worden genomen. Indien de voedingspomp van een warmteopwekker ook dienst doet als circulatiepomp voor "]
[null,null,null,"het systeem van externe warmtelevering, wordt deze pomp slechts éénmaal ingerekend, namelijk als circulatiepomp. "]
[null,null,"Bovenaan het tabblad in cel B4 wordt het jaarlijks eindenergieverbruik van elektriciteit als hulpenergie door alle warmteopwekkers"]
[null,null,"weergegeven. De verschillende warmteopwekkers vindt u in de kolommen naast elkaar terug. "]
[null,null,"De warmteopwekkers worden genummerd. Zorg ervoor dat u de juiste gegevens bij de juiste warmteopwekker invoert, overeenkomstig "]
[null,null,"met de volgorde van de warmteopwekkers in het tabblad 'Warmteopwekkers'. "]
[null,null,"De overige kolommen laat u leeg."]
[]
[null,null,"B. Methode"]
[null,null,"Het jaarlijks eindenergieverbruik van elektriciteit als hulpenergie door warmteopwekker k, Eauxprod,el,k, wordt naar keuze volgens één van "]
[null,null,"de volgende methoden bepaald:"]
[null,null,null,"- gebruik van meet- of factuurwaarden;"]
[null,null,null,"- gebruik van rekenwaarden. "]
[]
[null,null,"C. Invoervelden "]
[null,null,"- Vastlegging hulpenergieverbruik op basis van:"]
[null,null,null,"Kies:"]
[null,null,null,"- Meetwaarden;"]
[null,null,null,"- Factuurwaarden;"]
[null,null,null,"- Rekenwaarden. "]
[null,null,"- Hulpenergie opwekker op basis van meetwaarden [MJ]"]
[null,null,null,"Voer het jaarlijks eindenergieverbruik van warmteopwekker k in, bepaald volgens 3.3.9 van Bijlage 1. "]
[null,null,"- Hulpenergie opwekker op basis van factuurwaarden [MJ]"]
[null,null,null,"Voer het jaarlijks eindenergieverbruik van opwekker k in, bepaald volgens 3.3.10 van Bijlage 1. "]
[null,null,"- Het totale elektrische vermogen van de pompen, motoren en hulpfuncties van de warmteopwekker [W]"]
[null,null,null,"Voer het totale elektrische vermogen van de pompen, motoren en hulpfuncties in, die zijn toegekend aan warmte- \n\n"]
[null,null,null,"opwekker k. Het pompvermogen wordt gelijkgesteld aan het opgenomen elektrische vermogen bij het werkingspunt waarop "]
[null,null,null,"de pomp is geselecteerd, zoals vermeld op de technische fiche. Indien deze waarde niet gekend is, wordt het nominale "]
[null,null,null,"elektrische vermogen van de pomp gehanteerd. Voor alle andere verbruikers wordt het nominaal vermogen genomen."]
[null,null,"- Bepaling van de equivalente jaarlijkse werkingstijd "]
[null,null,null,"Kies:"]
[null,null,null,"- Meetwaarden;"]
[null,null,null,"- Rekenwaarden."]
[null,null,"- De equivalente jaarlijkse werkingstijd op basis van meetwaarden [Ms]"]
[null,null,null,"Voer de equivalente jaarlijks werkingstijd van warmteopwekker k in, bepaald volgens 3.3.9 van Bijlage 1. "]
[]
[null,"3. Ga naar tabblad 'RESULTATEN'"]
[null,"RESULTATEN"]
[]
[null,null,"De gegevens in het tabblad 'RESULTATEN' kunnen door de EPB-verslaggever worden ingevuld in de EPB-aangifte. "]
[]
[]
[null,null,"Het tabblad resultaten bestaat uit twee delen:"]
[null,null,null,"- Een eerste deel bevat de resultaten/ invoergegevens in de EPB-software voor het systeem van externe warmtelevering:"]
[null,null,null,null,"- de equivalente primaire energiefactor van het systeem van externe warmtelevering;"]
[null,null,null,"- Een tweede deel bevat de resultaten/ invoergegevens in de EPB-software voor elk van de warmtevragers:"]
[null,null,null,null,"- per warmtevrager de naam;"]
[null,null,null,null,"- per warmtevrager de rendementen;"]
[null,null,null,null,"- per warmtevrager de gegevens over de begrenzing van het warmtenet:"]
[null,null,null,null,null,"- Er is één warmtemeter: in dat geval vormt de warmtemeter de grens tussen het systeem van externe"]
[null,null,null,null,null,"warmtelevering en de warmtevrager."]
[null,null,null,null,null,"- Er zijn meerdere warmtemeters + verduidelijking bij welke warmtemeter de warmtekostenafrekening "]
[null,null,null,null,null,"gebeurt: in het geval er meerdere warmtemeters in serie zijn geplaatst, wordt de grens tussen het "]
[null,null,null,null,null,"systeem van externe warmtelevering en de warmtevrager gevormd door de warmtemeter die de "]
[null,null,null,null,null,"uitbater van het systeem van externe warmtelevering gebruikt voor de warmtekostenafrekening. "]
[null,null,null,null,null,"- Er is geen warmtemeter, er is wel een onderstation bij de warmtevrager: in dat geval vormt het "]
[null,null,null,null,null,"onderstation (of de warmtewisselaar) de grens tussen het systeem van externe warmtelevering en de "]
[null,null,null,null,null,"warmtevrager. "]
[null,null,null,null,null,"- Er is geen warmtemeter, er is geen onderstation bij de warmtevrager: in dat geval vormt de doorgang"]
[null,null,null,null,null,"tot het gebouw de grens tussen het systeem van externe warmtelevering en de warmtevrager. "]
[]
[]
[]
[]
["5. Versiebeheer rekenblad"]
["Versie 1 - januari 2019"]

{"sheet":"Administratief formulier","index":1,"n_rows":36,"n_cols":3,"rows_kept":36,"cut":false,"hidden":false,"merged":[[33,1,33,8],[34,3,34,8],[35,3,35,8],[26,3,26,8],[30,3,30,8],[29,1,29,8],[22,1,22,8],[23,3,23,8],[32,1,32,8],[11,3,11,6],[12,3,12,6],[14,3,14,6],[15,3,15,6],[24,3,24,8],[18,1,18,2],[19,1,19,2],[18,3,18,6],[19,3,19,6],[28,1,28,8],[25,3,25,8],[6,3,6,6],[7,3,7,6],[8,3,8,6],[9,3,9,6],[10,3,10,6],[0,0,0,8],[3,1,3,8],[21,1,21,8],[4,1,4,2],[5,1,5,2],[6,1,6,2],[8,1,8,2],[9,1,9,2],[10,1,10,2],[11,1,11,2],[12,1,12,2],[14,1,14,2],[15,1,15,2],[17,1,17,8],[4,3,4,6],[5,3,5,6]]}
["Administratief formulier"]
[]
[]
[null,"1. GEGEVENS VAN DE AANVRAGER"]
[null,"naam"]
[null,"voornaam"]
[null,"adres"]
[]
[null,"rechtspersoon?"]
[null,"naam of handelsnaam"]
[null,"juridische vorm"]
[null,"maatschappelijke zetel"]
[null,"hoedanigheid van de ondertekenaar"]
[]
[null,"relatie van de aanvrager tot het systeem van externe warmtelevering"]
[null,"verdere verduidelijking bij 'andere' relatie"]
[]
[null,"2. SYSTEEM VAN EXTERNE WARMTELEVERING"]
[null,"naam"]
[null,"type"]
[]
[null,"3. LIGGING VAN HET SYSTEEM VAN EXTERNE WARMTELEVERING"]
[null,"Voeg onderstaande bijlagen toe aan de EPB aangifte"]
[null,null,"inplantingsplan, omgevingsplan, liggingsplan"]
[null,null,"plannen met aanduiding en nummering met de ligging van alle warmteopwekkers"]
[null,null,"plannen met aanduiding en nummering met de ligging van alle warmtedistributie-elementen"]
[null,null,"plannen met aanduiding en nummering met de ligging van alle warmtevragers"]
[]
[null,"4. EIGENSCHAPPEN VAN DE WARMTEVRAGERS"]
[null,"Voeg onderstaande bijlagen toe aan de EPB aangifte"]
[null,null,"grondplannen van elke warmtevrager, indien de warmtevraag wordt bepaald op basis van de bruto vloeroppervlakte"]
[]
[null,"5. STAVINGSNOTA"]
[null,"Voeg onderstaande bijlagen toe aan de EPB aangifte"]
[null,null,"meetgegevens, indien de brekening gebeurt op basis van meetgegevens"]
[null,null,"factuurgegevens, indien de berekening gebeurt op basis van factuurgegevens"]

{"sheet":"START","index":2,"n_rows":10,"n_cols":14,"rows_kept":10,"cut":false,"hidden":false,"merged":[]}
["Start"]
[null,null,null,null,null,null,null,null,null,null,null,null,"vanaf hier verbergen","invoer volledig?"]
[null,"PROJECTGEGEVENS",null,null,null,null,null,null,null,null,null,null,null,{"$f":"AND(N5:N8)","v":true}]
[null,null,null,null,null,null,null,null,null,null,null,null,"index"]
[null,"Bepalingsmethode van het jaarlijks energieverbruik bij de warmteopwekking Egen,i [MJ]","Rekenwaarden",null,null,null,null,null,null,null,null,null,{"$f":"IF(C5=\"\",0,VLOOKUP(C5,T_meetfact_of_reken,2,FALSE))","v":2},{"$f":"NOT(ISBLANK(C5))","v":true}]
[null,"Bepalingsmethode voor de hoeveelheid warmte die jaarlijks wordt opgewekt door de warmteopwekkers in het systeem van externe warmtelevering Qgen,dh [MJ]","Rekenwaarden",null,null,null,null,null,null,null,null,null,{"$f":"IF(C6=\"\",0,VLOOKUP(C6,T_tonk,2,FALSE))","v":2},{"$f":"NOT(ISBLANK(C6))","v":true}]
[null,"Bepaling lokale en lineaire warmteverliezen ","Detailberekening",null,null,null,null,null,null,null,null,null,{"$f":"IF(M6=1,0,IF(C7=\"\",0,VLOOKUP(C7,T_BerekeningVerliezen,2,FALSE)))","v":2},{"$f":"IF(M6=1,TRUE,NOT(ISBLANK(C7)))","v":true}]
[null,"Bepaling hulpenergieverbruik voor circulatiepompen en warmteopwekkers","Detailberekening",null,null,null,null,null,null,null,null,null,{"$f":"IF(C8=\"\",0,VLOOKUP(C8,T_BerekeningVerliezen,2,FALSE))","v":2},{"$f":"NOT(ISBLANK(C8))","v":true}]
[]
[null,"START =>"]

{"sheet":"RESULTATEN","index":3,"n_rows":215,"n_cols":13,"rows_kept":215,"cut":false,"hidden":false,"merged":[[13,8,13,11],[13,3,13,6],[2,1,2,2],[5,1,5,2],[8,1,8,2],[9,1,9,2]]}
["Resultaten "]
[]
[null,"RESULTAAT systeem externe warmtelevering"]
[]
[null,"Primair energieverbruik Ep,dh [MJ]",null,null,null,null,null,null,{"$f":"'fp,dh en energiebalans'!$B$8","v":0}]
[null,"De hoeveelheid warmte die jaarlijks wordt afgeleverd aan de warmtevragers Qdel,dh [MJ]",null,null,null,null,null,null,{"$f":"'fp,dh en energiebalans'!$B$3","v":0}]
[]
[]
[null,"Invoergegevens EPB-software"]
[null,"Equivalente primaire energiefactor  fp,dh [-]",null,null,null,null,null,null,{"$f":"'fp,dh en energiebalans'!$B$9","v":{"$error":"#DIV/0!"}}]
[]
[]
[null,"RESULTAAT warmtevragers"]
[null,null,null,"Rendement in [-]",null,null,null,null,"Invoergegevens EPB-software\nRendement in %"]
[null,null,"Naam","Ruimteverwar-ming","Warm water","Bevochti-ging","Koeling",null,"Ruimteverwarming","Sanitair warm water","Bevochtiging","Koeling","Begrenzing warmtenet"]
[1,{"$f":"\"Warmtevrager \"&A16","v":"Warmtevrager 1"},{"$f":"IF($A16=\"\",\"\",OFFSET(Warmtevragers!$C$7,2,$A16-1,1,1))","v":0},{"$f":"IF($A16=\"\",\"\",'Q_del,j en Q_del,dh'!K8)","v":1},{"$f":"$D16","v":1},{"$f":"$D16","v":1},1,null,{"$f":"$D16*100","v":100},100,100,100,{"$f":"'Q_del,j en Q_del,dh'!L8","v":0}]
[{"$f":"A16+1","v":2},{"$f":"\"Warmtevrager \"&A17","v":"Warmtevrager 2"},{"$f":"IF($A17=\"\",\"\",OFFSET(Warmtevragers!$C$7,2,$A17-1,1,1))","v":0},{"$f":"IF($A17=\"\",\"\",'Q_del,j en Q_del,dh'!K9)","v":1},{"$f":"$D17","v":1},1,1,null,100,100,100,100,{"$f":"'Q_del,j en Q_del,dh'!L9","v":0}]
[{"$f":"A17+1","v":3},{"$f":"\"Warmtevrager \"&A18","v":"Warmtevrager 3"},{"$f":"IF($A18=\"\",\"\",OFFSET(Warmtevragers!$C$7,2,$A18-1,1,1))","v":0},{"$f":"IF($A18=\"\",\"\",'Q_del,j en Q_del,dh'!K10)","v":1},1,1,1,null,100,100,100,100,{"$f":"'Q_del,j en Q_del,dh'!L10","v":0}]
[4,"Warmtevrager 4",{"$f":"IF($A19=\"\",\"\",OFFSET(Warmtevragers!$C$7,2,$A19-1,1,1))","v":0},{"$f":"IF($A19=\"\",\"\",'Q_del,j en Q_del,dh'!K11)","v":1},{"$f":"$D19","v":1},1,1,null,100,100,100,100,{"$f":"'Q_del,j en Q_del,dh'!L11","v":0}]
[5,"Warmtevrager 5",{"$f":"IF($A20=\"\",\"\",OFFSET(Warmtevragers!$C$7,2,$A20-1,1,1))","v":0},{"$f":"IF($A20=\"\",\"\",'Q_del,j en Q_del,dh'!K12)","v":1},1,1,1,null,100,100,100,100,{"$f":"'Q_del,j en Q_del,dh'!L12","v":0}]
[6,"Warmtevrager 6",{"$f":"IF($A21=\"\",\"\",OFFSET(Warmtevragers!$C$7,2,$A21-1,1,1))","v":0},{"$f":"IF($A21=\"\",\"\",'Q_del,j en Q_del,dh'!K13)","v":1},1,1,1,null,100,100,100,100,{"$f":"'Q_del,j en Q_del,dh'!L13","v":0}]
[7,"Warmtevrager 7",{"$f":"IF($A22=\"\",\"\",OFFSET(Warmtevragers!$C$7,2,$A22-1,1,1))","v":0},{"$f":"IF($A22=\"\",\"\",'Q_del,j en Q_del,dh'!K14)","v":1},1,1,1,null,100,100,100,100,{"$f":"'Q_del,j en Q_del,dh'!L14","v":0}]
[8,"Warmtevrager 8",{"$f":"IF($A23=\"\",\"\",OFFSET(Warmtevragers!$C$7,2,$A23-1,1,1))","v":0},{"$f":"IF($A23=\"\",\"\",'Q_del,j en Q_del,dh'!K15)","v":1},1,1,1,null,100,100,100,100,{"$f":"'Q_del,j en Q_del,dh'!L15","v":0}]
[9,"Warmtevrager 9",{"$f":"IF($A24=\"\",\"\",OFFSET(Warmtevragers!$C$7,2,$A24-1,1,1))","v":0},{"$f":"IF($A24=\"\",\"\",'Q_del,j en Q_del,dh'!K16)","v":1},1,1,1,null,100,100,100,100,{"$f":"'Q_del,j en Q_del,dh'!L16","v":0}]
[10,"Warmtevrager 10",{"$f":"IF($A25=\"\",\"\",OFFSET(Warmtevragers!$C$7,2,$A25-1,1,1))","v":0},{"$f":"IF($A25=\"\",\"\",'Q_del,j en Q_del,dh'!K17)","v":1},1,1,1,null,100,100,100,100,{"$f":"'Q_del,j en Q_del,dh'!L17","v":0}]
[11,"Warmtevrager 11",{"$f":"IF($A26=\"\",\"\",OFFSET(Warmtevragers!$C$7,2,$A26-1,1,1))","v":0},{"$f":"IF($A26=\"\",\"\",'Q_del,j en Q_del,dh'!K18)","v":1},1,1,1,null,100,100,100,100,{"$f":"'Q_del,j en Q_del,dh'!L18","v":0}]
[12,"Warmtevrager 12",{"$f":"IF($A27=\"\",\"\",OFFSET(Warmtevragers!$C$7,2,$A27-1,1,1))","v":0},{"$f":"IF($A27=\"\",\"\",'Q_del,j en Q_del,dh'!K19)","v":1},1,1,1,null,100,100,100,100,{"$f":"'Q_del,j en Q_del,dh'!L19","v":0}]
[13,"Warmtevrager 13",{"$f":"IF($A28=\"\",\"\",OFFSET(Warmtevragers!$C$7,2,$A28-1,1,1))","v":0},{"$f":"IF($A28=\"\",\"\",'Q_del,j en Q_del,dh'!K20)","v":1},1,1,1,null,100,100,100,100,{"$f":"'Q_del,j en Q_del,dh'!L20","v":0}]
[14,"Warmtevrager 14",{"$f":"IF($A29=\"\",\"\",OFFSET(Warmtevragers!$C$7,2,$A29-1,1,1))","v":0},{"$f":"IF($A29=\"\",\"\",'Q_del,j en Q_del,dh'!K21)","v":1},1,1,1,null,100,100,100,100,{"$f":"'Q_del,j en Q_del,dh'!L21","v":0}]
[15,"Warmtevrager 15",{"$f":"IF($A30=\"\",\"\",OFFSET(Warmtevragers!$C$7,2,$A30-1,1,1))","v":0},{"$f":"IF($A30=\"\",\"\",'Q_del,j en Q_del,dh'!K22)","v":1},1,1,1,null,100,100,100,100,{"$f":"'Q_del,j en Q_del,dh'!L22","v":0}]
[16,"Warmtevrager 16",{"$f":"IF($A31=\"\",\"\",OFFSET(Warmtevragers!$C$7,2,$A31-1,1,1))","v":0},{"$f":"IF($A31=\"\",\"\",'Q_del,j en Q_del,dh'!K23)","v":1},1,1,1,null,100,100,100,100,{"$f":"'Q_del,j en Q_del,dh'!L23","v":0}]
[17,"Warmtevrager 17",{"$f":"IF($A32=\"\",\"\",OFFSET(Warmtevragers!$C$7,2,$A32-1,1,1))","v":0},{"$f":"IF($A32=\"\",\"\",'Q_del,j en Q_del,dh'!K24)","v":1},1,1,1,null,100,100,100,100,{"$f":"'Q_del,j en Q_del,dh'!L24","v":0}]
[18,"Warmtevrager 18",{"$f":"IF($A33=\"\",\"\",OFFSET(Warmtevragers!$C$7,2,$A33-1,1,1))","v":0},{"$f":"IF($A33=\"\",\"\",'Q_del,j en Q_del,dh'!K25)","v":1},{"$f":"$D33","v":1},1,1,null,100,100,100,100,{"$f":"'Q_del,j en Q_del,dh'!L25","v":0}]
[19,"Warmtevrager 19",{"$f":"IF($A34=\"\",\"\",OFFSET(Warmtevragers!$C$7,2,$A34-1,1,1))","v":0},{"$f":"IF($A34=\"\",\"\",'Q_del,j en Q_del,dh'!K26)","v":1},1,1,1,null,100,100,100,100,{"$f":"'Q_del,j en Q_del,dh'!L26","v":0}]
[20,"Warmtevrager 20",{"$f":"IF($A35=\"\",\"\",OFFSET(Warmtevragers!$C$7,2,$A35-1,1,1))","v":0},{"$f":"IF($A35=\"\",\"\",'Q_del,j en Q_del,dh'!K27)","v":1},1,1,1,null,100,100,100,100,{"$f":"'Q_del,j en Q_del,dh'!L27","v":0}]
[21,"Warmtevrager 21",{"$f":"IF($A36=\"\",\"\",OFFSET(Warmtevragers!$C$7,2,$A36-1,1,1))","v":0},{"$f":"IF($A36=\"\",\"\",'Q_del,j en Q_del,dh'!K28)","v":1},1,1,1,null,{"$f":"$D36*100","v":100},100,100,100,{"$f":"'Q_del,j en Q_del,dh'!L28","v":0}]
[22,"Warmtevrager 22",{"$f":"IF($A37=\"\",\"\",OFFSET(Warmtevragers!$C$7,2,$A37-1,1,1))","v":0},{"$f":"IF($A37=\"\",\"\",'Q_del,j en Q_del,dh'!K29)","v":1},1,1,1,null,100,100,100,100,{"$f":"'Q_del,j en Q_del,dh'!L29","v":0}]
[23,"Warmtevrager 23",{"$f":"IF($A38=\"\",\"\",OFFSET(Warmtevragers!$C$7,2,$A38-1,1,1))","v":0},{"$f":"IF($A38=\"\",\"\",'Q_del,j en Q_del,dh'!K30)","v":1},1,1,1,null,100,100,100,100,{"$f":"'Q_del,j en Q_del,dh'!L30","v":0}]
[24,"Warmtevrager 24",{"$f":"IF($A39=\"\",\"\",OFFSET(Warmtevragers!$C$7,2,$A39-1,1,1))","v":0},{"$f":"IF($A39=\"\",\"\",'Q_del,j en Q_del,dh'!K31)","v":1},1,1,1,null,100,100,100,100,{"$f":"'Q_del,j en Q_del,dh'!L31","v":0}]
[25,"Warmtevrager 25",{"$f":"IF($A40=\"\",\"\",OFFSET(Warmtevragers!$C$7,2,$A40-1,1,1))","v":0},{"$f":"IF($A40=\"\",\"\",'Q_del,j en Q_del,dh'!K32)","v":1},1,1,1,null,100,100,100,100,{"$f":"'Q_del,j en Q_del,dh'!L32","v":0}]
[26,"Warmtevrager 26",{"$f":"IF($A41=\"\",\"\",OFFSET(Warmtevragers!$C$7,2,$A41-1,1,1))","v":0},{"$f":"IF($A41=\"\",\"\",'Q_del,j en Q_del,dh'!K33)","v":1},1,1,1,null,100,100,100,100,{"$f":"'Q_del,j en Q_del,dh'!L33","v":0}]
[27,"Warmtevrager 27",{"$f":"IF($A42=\"\",\"\",OFFSET(Warmtevragers!$C$7,2,$A42-1,1,1))","v":0},{"$f":"IF($A42=\"\",\"\",'Q_del,j en Q_del,dh'!K34)","v":1},1,1,1,null,100,100,100,100,{"$f":"'Q_del,j en Q_del,dh'!L34","v":0}]
[28,"Warmtevrager 28",{"$f":"IF($A43=\"\",\"\",OFFSET(Warmtevragers!$C$7,2,$A43-1,1,1))","v":0},{"$f":"IF($A43=\"\",\"\",'Q_del,j en Q_del,dh'!K35)","v":1},1,1,1,null,100,100,100,100,{"$f":"'Q_del,j en Q_del,dh'!L35","v":0}]
[29,"Warmtevrager 29",{"$f":"IF($A44=\"\",\"\",OFFSET(Warmtevragers!$C$7,2,$A44-1,1,1))","v":0},{"$f":"IF($A44=\"\",\"\",'Q_del,j en Q_del,dh'!K36)","v":1},1,1,1,null,100,100,100,100,{"$f":"'Q_del,j en Q_del,dh'!L36","v":0}]
[30,"Warmtevrager 30",{"$f":"IF($A45=\"\",\"\",OFFSET(Warmtevragers!$C$7,2,$A45-1,1,1))","v":0},{"$f":"IF($A45=\"\",\"\",'Q_del,j en Q_del,dh'!K37)","v":1},1,1,1,null,100,100,100,100,{"$f":"'Q_del,j en Q_del,dh'!L37","v":0}]
[31,"Warmtevrager 31",{"$f":"IF($A46=\"\",\"\",OFFSET(Warmtevragers!$C$7,2,$A46-1,1,1))","v":0},{"$f":"IF($A46=\"\",\"\",'Q_del,j en Q_del,dh'!K38)","v":1},1,1,1,null,100,100,100,100,{"$f":"'Q_del,j en Q_del,dh'!L38","v":0}]
[32,"Warmtevrager 32",{"$f":"IF($A47=\"\",\"\",OFFSET(Warmtevragers!$C$7,2,$A47-1,1,1))","v":0},{"$f":"IF($A47=\"\",\"\",'Q_del,j en Q_del,dh'!K39)","v":1},1,1,1,null,100,100,100,100,{"$f":"'Q_del,j en Q_del,dh'!L39","v":0}]
[33,"Warmtevrager 33",{"$f":"IF($A48=\"\",\"\",OFFSET(Warmtevragers!$C$7,2,$A48-1,1,1))","v":0},{"$f":"IF($A48=\"\",\"\",'Q_del,j en Q_del,dh'!K40)","v":1},1,1,1,null,100,100,100,100,{"$f":"'Q_del,j en Q_del,dh'!L40","v":0}]
[34,"Warmtevrager 34",{"$f":"IF($A49=\"\",\"\",OFFSET(Warmtevragers!$C$7,2,$A49-1,1,1))","v":0},{"$f":"IF($A49=\"\",\"\",'Q_del,j en Q_del,dh'!K41)","v":1},1,1,1,null,100,100,100,100,{"$f":"'Q_del,j en Q_del,dh'!L41","v":0}]
[35,"Warmtevrager 35",{"$f":"IF($A50=\"\",\"\",OFFSET(Warmtevragers!$C$7,2,$A50-1,1,1))","v":0},{"$f":"IF($A50=\"\",\"\",'Q_del,j en Q_del,dh'!K42)","v":1},1,1,1,null,100,100,100,100,{"$f":"'Q_del,j en Q_del,dh'!L42","v":0}]
[36,"Warmtevrager 36",{"$f":"IF($A51=\"\",\"\",OFFSET(Warmtevragers!$C$7,2,$A51-1,1,1))","v":0},{"$f":"IF($A51=\"\",\"\",'Q_del,j en Q_del,dh'!K43)","v":1},1,1,1,null,100,100,100,100,{"$f":"'Q_del,j en Q_del,dh'!L43","v":0}]
[37,"Warmtevrager 37",{"$f":"IF($A52=\"\",\"\",OFFSET(Warmtevragers!$C$7,2,$A52-1,1,1))","v":0},{"$f":"IF($A52=\"\",\"\",'Q_del,j en Q_del,dh'!K44)","v":1},1,1,1,null,100,100,100,100,{"$f":"'Q_del,j en Q_del,dh'!L44","v":0}]
[38,"Warmtevrager 38",{"$f":"IF($A53=\"\",\"\",OFFSET(Warmtevragers!$C$7,2,$A53-1,1,1))","v":0},{"$f":"IF($A53=\"\",\"\",'Q_del,j en Q_del,dh'!K45)","v":1},1,1,1,null,100,100,100,100,{"$f":"'Q_del,j en Q_del,dh'!L45","v":0}]
[39,"Warmtevrager 39",{"$f":"IF($A54=\"\",\"\",OFFSET(Warmtevragers!$C$7,2,$A54-1,1,1))","v":0},{"$f":"IF($A54=\"\",\"\",'Q_del,j en Q_del,dh'!K46)","v":1},1,1,1,null,100,100,100,100,{"$f":"'Q_del,j en Q_del,dh'!L46","v":0}]
[40,"Warmtevrager 40",{"$f":"IF($A55=\"\",\"\",OFFSET(Warmtevragers!$C$7,2,$A55-1,1,1))","v":0},{"$f":"IF($A55=\"\",\"\",'Q_del,j en Q_del,dh'!K47)","v":1},1,1,1,null,100,100,100,100,{"$f":"'Q_del,j en Q_del,dh'!L47","v":0}]
[41,"Warmtevrager 41",{"$f":"IF($A56=\"\",\"\",OFFSET(Warmtevragers!$C$7,2,$A56-1,1,1))","v":0},{"$f":"IF($A56=\"\",\"\",'Q_del,j en Q_del,dh'!K48)","v":1},1,1,1,null,{"$f":"$D56*100","v":100},100,100,100,{"$f":"'Q_del,j en Q_del,dh'!L48","v":0}]
[42,"Warmtevrager 42",{"$f":"IF($A57=\"\",\"\",OFFSET(Warmtevragers!$C$7,2,$A57-1,1,1))","v":0},{"$f":"IF($A57=\"\",\"\",'Q_del,j en Q_del,dh'!K49)","v":1},1,1,1,null,100,100,100,100,{"$f":"'Q_del,j en Q_del,dh'!L49","v":0}]
[43,"Warmtevrager 43",{"$f":"IF($A58=\"\",\"\",OFFSET(Warmtevragers!$C$7,2,$A58-1,1,1))","v":0},{"$f":"IF($A58=\"\",\"\",'Q_del,j en Q_del,dh'!K50)","v":1},1,1,1,null,100,100,100,100,{"$f":"'Q_del,j en Q_del,dh'!L50","v":0}]
[44,"Warmtevrager 44",{"$f":"IF($A59=\"\",\"\",OFFSET(Warmtevragers!$C$7,2,$A59-1,1,1))","v":0},{"$f":"IF($A59=\"\",\"\",'Q_del,j en Q_del,dh'!K51)","v":1},1,1,1,null,100,100,100,100,{"$f":"'Q_del,j en Q_del,dh'!L51","v":0}]
[45,"Warmtevrager 45",{"$f":"IF($A60=\"\",\"\",OFFSET(Warmtevragers!$C$7,2,$A60-1,1,1))","v":0},{"$f":"IF($A60=\"\",\"\",'Q_del,j en Q_del,dh'!K52)","v":1},1,1,1,null,100,100,100,100,{"$f":"'Q_del,j en Q_del,dh'!L52","v":0}]
[46,"Warmtevrager 46",{"$f":"IF($A61=\"\",\"\",OFFSET(Warmtevragers!$C$7,2,$A61-1,1,1))","v":0},{"$f":"IF($A61=\"\",\"\",'Q_del,j en Q_del,dh'!K53)","v":1},1,1,1,null,100,100,100,100,{"$f":"'Q_del,j en Q_del,dh'!L53","v":0}]
[47,"Warmtevrager 47",{"$f":"IF($A62=\"\",\"\",OFFSET(Warmtevragers!$C$7,2,$A62-1,1,1))","v":0},{"$f":"IF($A62=\"\",\"\",'Q_del,j en Q_del,dh'!K54)","v":1},1,1,1,null,100,100,100,100,{"$f":"'Q_del,j en Q_del,dh'!L54","v":0}]
[48,"Warmtevrager 48",{"$f":"IF($A63=\"\",\"\",OFFSET(Warmtevragers!$C$7,2,$A63-1,1,1))","v":0},{"$f":"IF($A63=\"\",\"\",'Q_del,j en Q_del,dh'!K55)","v":1},1,1,1,null,100,100,100,100,{"$f":"'Q_del,j en Q_del,dh'!L55","v":0}]
[49,"Warmtevrager 49",{"$f":"IF($A64=\"\",\"\",OFFSET(Warmtevragers!$C$7,2,$A64-1,1,1))","v":0},{"$f":"IF($A64=\"\",\"\",'Q_del,j en Q_del,dh'!K56)","v":1},1,1,1,null,100,100,100,100,{"$f":"'Q_del,j en Q_del,dh'!L56","v":0}]
[50,"Warmtevrager 50",{"$f":"IF($A65=\"\",\"\",OFFSET(Warmtevragers!$C$7,2,$A65-1,1,1))","v":0},{"$f":"IF($A65=\"\",\"\",'Q_del,j en Q_del,dh'!K57)","v":1},1,1,1,null,100,100,100,100,{"$f":"'Q_del,j en Q_del,dh'!L57","v":0}]
[51,"Warmtevrager 51",{"$f":"IF($A66=\"\",\"\",OFFSET(Warmtevragers!$C$7,2,$A66-1,1,1))","v":0},{"$f":"IF($A66=\"\",\"\",'Q_del,j en Q_del,dh'!K58)","v":1},1,1,1,null,100,100,100,100,{"$f":"'Q_del,j en Q_del,dh'!L58","v":0}]
[52,"Warmtevrager 52",{"$f":"IF($A67=\"\",\"\",OFFSET(Warmtevragers!$C$7,2,$A67-1,1,1))","v":0},{"$f":"IF($A67=\"\",\"\",'Q_del,j en Q_del,dh'!K59)","v":1},1,1,1,null,100,100,100,100,{"$f":"'Q_del,j en Q_del,dh'!L59","v":0}]
[53,"Warmtevrager 53",{"$f":"IF($A68=\"\",\"\",OFFSET(Warmtevragers!$C$7,2,$A68-1,1,1))","v":0},{"$f":"IF($A68=\"\",\"\",'Q_del,j en Q_del,dh'!K60)","v":1},1,1,1,null,100,100,100,100,{"$f":"'Q_del,j en Q_del,dh'!L60","v":0}]
[54,"Warmtevrager 54",{"$f":"IF($A69=\"\",\"\",OFFSET(Warmtevragers!$C$7,2,$A69-1,1,1))","v":0},{"$f":"IF($A69=\"\",\"\",'Q_del,j en Q_del,dh'!K61)","v":1},1,1,1,null,100,100,100,100,{"$f":"'Q_del,j en Q_del,dh'!L61","v":0}]
[55,"Warmtevrager 55",{"$f":"IF($A70=\"\",\"\",OFFSET(Warmtevragers!$C$7,2,$A70-1,1,1))","v":0},{"$f":"IF($A70=\"\",\"\",'Q_del,j en Q_del,dh'!K62)","v":1},1,1,1,null,100,100,100,100,{"$f":"'Q_del,j en Q_del,dh'!L62","v":0}]
[56,"Warmtevrager 56",{"$f":"IF($A71=\"\",\"\",OFFSET(Warmtevragers!$C$7,2,$A71-1,1,1))","v":0},{"$f":"IF($A71=\"\",\"\",'Q_del,j en Q_del,dh'!K63)","v":1},1,1,1,null,100,100,100,100,{"$f":"'Q_del,j en Q_del,dh'!L63","v":0}]
[57,"Warmtevrager 57",{"$f":"IF($A72=\"\",\"\",OFFSET(Warmtevragers!$C$7,2,$A72-1,1,1))","v":0},{"$f":"IF($A72=\"\",\"\",'Q_del,j en Q_del,dh'!K64)","v":1},1,1,1,null,100,100,100,100,{"$f":"'Q_del,j en Q_del,dh'!L64","v":0}]
[58,"Warmtevrager 58",{"$f":"IF($A73=\"\",\"\",OFFSET(Warmtevragers!$C$7,2,$A73-1,1,1))","v":0},{"$f":"IF($A73=\"\",\"\",'Q_del,j en Q_del,dh'!K65)","v":1},1,1,1,null,100,100,100,100,{"$f":"'Q_del,j en Q_del,dh'!L65","v":0}]
[59,"Warmtevrager 59",{"$f":"IF($A74=\"\",\"\",OFFSET(Warmtevragers!$C$7,2,$A74-1,1,1))","v":0},{"$f":"IF($A74=\"\",\"\",'Q_del,j en Q_del,dh'!K66)","v":1},1,1,1,null,100,100,100,100,{"$f":"'Q_del,j en Q_del,dh'!L66","v":0}]
[60,"Warmtevrager 60",{"$f":"IF($A75=\"\",\"\",OFFSET(Warmtevragers!$C$7,2,$A75-1,1,1))","v":0},{"$f":"IF($A75=\"\",\"\",'Q_del,j en Q_del,dh'!K67)","v":1},1,1,1,null,100,100,100,100,{"$f":"'Q_del,j en Q_del,dh'!L67","v":0}]
[61,"Warmtevrager 61",{"$f":"IF($A76=\"\",\"\",OFFSET(Warmtevragers!$C$7,2,$A76-1,1,1))","v":0},{"$f":"IF($A76=\"\",\"\",'Q_del,j en Q_del,dh'!K68)","v":1},1,1,1,null,{"$f":"$D76*100","v":100},100,100,100,{"$f":"'Q_del,j en Q_del,dh'!L68","v":0}]
[62,"Warmtevrager 62",{"$f":"IF($A77=\"\",\"\",OFFSET(Warmtevragers!$C$7,2,$A77-1,1,1))","v":0},{"$f":"IF($A77=\"\",\"\",'Q_del,j en Q_del,dh'!K69)","v":1},1,1,1,null,100,100,100,100,{"$f":"'Q_del,j en Q_del,dh'!L69","v":0}]
[63,"Warmtevrager 63",{"$f":"IF($A78=\"\",\"\",OFFSET(Warmtevragers!$C$7,2,$A78-1,1,1))","v":0},{"$f":"IF($A78=\"\",\"\",'Q_del,j en Q_del,dh'!K70)","v":1},1,1,1,null,100,100,100,100,{"$f":"'Q_del,j en Q_del,dh'!L70","v":0}]
[64,"Warmtevrager 64",{"$f":"IF($A79=\"\",\"\",OFFSET(Warmtevragers!$C$7,2,$A79-1,1,1))","v":0},{"$f":"IF($A79=\"\",\"\",'Q_del,j en Q_del,dh'!K71)","v":1},1,1,1,null,100,100,100,100,{"$f":"'Q_del,j en Q_del,dh'!L71","v":0}]
[65,"Warmtevrager 65",{"$f":"IF($A80=\"\",\"\",OFFSET(Warmtevragers!$C$7,2,$A80-1,1,1))","v":0},{"$f":"IF($A80=\"\",\"\",'Q_del,j en Q_del,dh'!K72)","v":1},1,1,1,null,100,100,100,100,{"$f":"'Q_del,j en Q_del,dh'!L72","v":0}]
[66,"Warmtevrager 66",{"$f":"IF($A81=\"\",\"\",OFFSET(Warmtevragers!$C$7,2,$A81-1,1,1))","v":0},{"$f":"IF($A81=\"\",\"\",'Q_del,j en Q_del,dh'!K73)","v":1},1,1,1,null,100,100,100,100,{"$f":"'Q_del,j en Q_del,dh'!L73","v":0}]
[{"$f":"A81+1","v":67},{"$f":"\"Warmtevrager \"&A82","v":"Warmtevrager 67"},{"$f":"IF($A82=\"\",\"\",OFFSET(Warmtevragers!$C$7,2,$A82-1,1,1))","v":0},{"$f":"IF($A82=\"\",\"\",'Q_del,j en Q_del,dh'!K74)","v":1},1,1,1,null,100,100,100,100,{"$f":"'Q_del,j en Q_del,dh'!L74","v":0}]
[68,"Warmtevrager 68",{"$f":"IF($A83=\"\",\"\",OFFSET(Warmtevragers!$C$7,2,$A83-1,1,1))","v":0},{"$f":"IF($A83=\"\",\"\",'Q_del,j en Q_del,dh'!K75)","v":1},1,1,1,null,100,100,100,100,{"$f":"'Q_del,j en Q_del,dh'!L75","v":0}]
[69,"Warmtevrager 69",{"$f":"IF($A84=\"\",\"\",OFFSET(Warmtevragers!$C$7,2,$A84-1,1,1))","v":0},{"$f":"IF($A84=\"\",\"\",'Q_del,j en Q_del,dh'!K76)","v":1},1,1,1,null,100,100,100,100,{"$f":"'Q_del,j en Q_del,dh'!L76","v":0}]
[70,"Warmtevrager 70",{"$f":"IF($A85=\"\",\"\",OFFSET(Warmtevragers!$C$7,2,$A85-1,1,1))","v":0},{"$f":"IF($A85=\"\",\"\",'Q_del,j en Q_del,dh'!K77)","v":1},1,1,1,null,100,100,100,100,{"$f":"'Q_del,j en Q_del,dh'!L77","v":0}]
[71,"Warmtevrager 71",{"$f":"IF($A86=\"\",\"\",OFFSET(Warmtevragers!$C$7,2,$A86-1,1,1))","v":0},{"$f":"IF($A86=\"\",\"\",'Q_del,j en Q_del,dh'!K78)","v":1},1,1,1,null,100,100,100,100,{"$f":"'Q_del,j en Q_del,dh'!L78","v":0}]
[72,"Warmtevrager 72",{"$f":"IF($A87=\"\",\"\",OFFSET(Warmtevragers!$C$7,2,$A87-1,1,1))","v":0},{"$f":"IF($A87=\"\",\"\",'Q_del,j en Q_del,dh'!K79)","v":1},1,1,1,null,100,100,100,100,{"$f":"'Q_del,j en Q_del,dh'!L79","v":0}]
[73,"Warmtevrager 73",{"$f":"IF($A88=\"\",\"\",OFFSET(Warmtevragers!$C$7,2,$A88-1,1,1))","v":0},{"$f":"IF($A88=\"\",\"\",'Q_del,j en Q_del,dh'!K80)","v":1},1,1,1,null,100,100,100,100,{"$f":"'Q_del,j en Q_del,dh'!L80","v":0}]
[74,"Warmtevrager 74",{"$f":"IF($A89=\"\",\"\",OFFSET(Warmtevragers!$C$7,2,$A89-1,1,1))","v":0},{"$f":"IF($A89=\"\",\"\",'Q_del,j en Q_del,dh'!K81)","v":1},1,1,1,null,100,100,100,100,{"$f":"'Q_del,j en Q_del,dh'!L81","v":0}]
[75,"Warmtevrager 75",{"$f":"IF($A90=\"\",\"\",OFFSET(Warmtevragers!$C$7,2,$A90-1,1,1))","v":0},{"$f":"IF($A90=\"\",\"\",'Q_del,j en Q_del,dh'!K82)","v":1},1,1,1,null,100,100,100,100,{"$f":"'Q_del,j en Q_del,dh'!L82","v":0}]
[76,"Warmtevrager 76",{"$f":"IF($A91=\"\",\"\",OFFSET(Warmtevragers!$C$7,2,$A91-1,1,1))","v":0},{"$f":"IF($A91=\"\",\"\",'Q_del,j en Q_del,dh'!K83)","v":1},1,1,1,null,100,100,100,100,{"$f":"'Q_del,j en Q_del,dh'!L83","v":0}]
[77,"Warmtevrager 77",{"$f":"IF($A92=\"\",\"\",OFFSET(Warmtevragers!$C$7,2,$A92-1,1,1))","v":0},{"$f":"IF($A92=\"\",\"\",'Q_del,j en Q_del,dh'!K84)","v":1},1,1,1,null,100,100,100,100,{"$f":"'Q_del,j en Q_del,dh'!L84","v":0}]
[78,"Warmtevrager 78",{"$f":"IF($A93=\"\",\"\",OFFSET(Warmtevragers!$C$7,2,$A93-1,1,1))","v":0},{"$f":"IF($A93=\"\",\"\",'Q_del,j en Q_del,dh'!K85)","v":1},1,1,1,null,100,100,100,100,{"$f":"'Q_del,j en Q_del,dh'!L85","v":0}]
[79,"Warmtevrager 79",{"$f":"IF($A94=\"\",\"\",OFFSET(Warmtevragers!$C$7,2,$A94-1,1,1))","v":0},{"$f":"IF($A94=\"\",\"\",'Q_del,j en Q_del,dh'!K86)","v":1},1,1,1,null,100,100,100,100,{"$f":"'Q_del,j en Q_del,dh'!L86","v":0}]
[80,"Warmtevrager 80",{"$f":"IF($A95=\"\",\"\",OFFSET(Warmtevragers!$C$7,2,$A95-1,1,1))","v":0},{"$f":"IF($A95=\"\",\"\",'Q_del,j en Q_del,dh'!K87)","v":1},1,1,1,null,100,100,100,100,{"$f":"'Q_del,j en Q_del,dh'!L87","v":0}]
[81,"Warmtevrager 81",{"$f":"IF($A96=\"\",\"\",OFFSET(Warmtevragers!$C$7,2,$A96-1,1,1))","v":0},{"$f":"IF($A96=\"\",\"\",'Q_del,j en Q_del,dh'!K88)","v":1},1,1,1,null,{"$f":"$D96*100","v":100},100,100,100,{"$f":"'Q_del,j en Q_del,dh'!L88","v":0}]
[82,"Warmtevrager 82",{"$f":"IF($A97=\"\",\"\",OFFSET(Warmtevragers!$C$7,2,$A97-1,1,1))","v":0},{"$f":"IF($A97=\"\",\"\",'Q_del,j en Q_del,dh'!K89)","v":1},{"$f":"$D97","v":1},1,1,null,100,100,100,100,{"$f":"'Q_del,j en Q_del,dh'!L89","v":0}]
[83,"Warmtevrager 83",{"$f":"IF($A98=\"\",\"\",OFFSET(Warmtevragers!$C$7,2,$A98-1,1,1))","v":0},{"$f":"IF($A98=\"\",\"\",'Q_del,j en Q_del,dh'!K90)","v":1},1,1,1,null,100,100,100,100,{"$f":"'Q_del,j en Q_del,dh'!L90","v":0}]
[84,"Warmtevrager 84",{"$f":"IF($A99=\"\",\"\",OFFSET(Warmtevragers!$C$7,2,$A99-1,1,1))","v":0},{"$f":"IF($A99=\"\",\"\",'Q_del,j en Q_del,dh'!K91)","v":1},1,1,1,null,100,100,100,100,{"$f":"'Q_del,j en Q_del,dh'!L91","v":0}]
[85,"Warmtevrager 85",{"$f":"IF($A100=\"\",\"\",OFFSET(Warmtevragers!$C$7,2,$A100-1,1,1))","v":0},{"$f":"IF($A100=\"\",\"\",'Q_del,j en Q_del,dh'!K92)","v":1},1,1,1,null,100,100,100,100,{"$f":"'Q_del,j en Q_del,dh'!L92","v":0}]
[86,"Warmtevrager 86",{"$f":"IF($A101=\"\",\"\",OFFSET(Warmtevragers!$C$7,2,$A101-1,1,1))","v":0},{"$f":"IF($A101=\"\",\"\",'Q_del,j en Q_del,dh'!K93)","v":1},1,1,1,null,100,100,100,100,{"$f":"'Q_del,j en Q_del,dh'!L93","v":0}]
[87,"Warmtevrager 87",{"$f":"IF($A102=\"\",\"\",OFFSET(Warmtevragers!$C$7,2,$A102-1,1,1))","v":0},{"$f":"IF($A102=\"\",\"\",'Q_del,j en Q_del,dh'!K94)","v":1},1,1,1,null,100,100,100,100,{"$f":"'Q_del,j en Q_del,dh'!L94","v":0}]
[88,"Warmtevrager 88",{"$f":"IF($A103=\"\",\"\",OFFSET(Warmtevragers!$C$7,2,$A103-1,1,1))","v":0},{"$f":"IF($A103=\"\",\"\",'Q_del,j en Q_del,dh'!K95)","v":1},1,1,1,null,100,100,100,100,{"$f":"'Q_del,j en Q_del,dh'!L95","v":0}]
[89,"Warmtevrager 89",{"$f":"IF($A104=\"\",\"\",OFFSET(Warmtevragers!$C$7,2,$A104-1,1,1))","v":0},{"$f":"IF($A104=\"\",\"\",'Q_del,j en Q_del,dh'!K96)","v":1},1,1,1,null,100,100,100,100,{"$f":"'Q_del,j en Q_del,dh'!L96","v":0}]
[90,"Warmtevrager 90",{"$f":"IF($A105=\"\",\"\",OFFSET(Warmtevragers!$C$7,2,$A105-1,1,1))","v":0},{"$f":"IF($A105=\"\",\"\",'Q_del,j en Q_del,dh'!K97)","v":1},1,1,1,null,100,100,100,100,{"$f":"'Q_del,j en Q_del,dh'!L97","v":0}]
[91,"Warmtevrager 91",{"$f":"IF($A106=\"\",\"\",OFFSET(Warmtevragers!$C$7,2,$A106-1,1,1))","v":0},{"$f":"IF($A106=\"\",\"\",'Q_del,j en Q_del,dh'!K98)","v":1},1,1,1,null,100,100,100,100,{"$f":"'Q_del,j en Q_del,dh'!L98","v":0}]
[92,"Warmtevrager 92",{"$f":"IF($A107=\"\",\"\",OFFSET(Warmtevragers!$C$7,2,$A107-1,1,1))","v":0},{"$f":"IF($A107=\"\",\"\",'Q_del,j en Q_del,dh'!K99)","v":1},1,1,1,null,100,100,100,100,{"$f":"'Q_del,j en Q_del,dh'!L99","v":0}]
[93,"Warmtevrager 93",{"$f":"IF($A108=\"\",\"\",OFFSET(Warmtevragers!$C$7,2,$A108-1,1,1))","v":0},{"$f":"IF($A108=\"\",\"\",'Q_del,j en Q_del,dh'!K100)","v":1},1,1,1,null,100,100,100,100,{"$f":"'Q_del,j en Q_del,dh'!L100","v":0}]
[94,"Warmtevrager 94",{"$f":"IF($A109=\"\",\"\",OFFSET(Warmtevragers!$C$7,2,$A109-1,1,1))","v":0},{"$f":"IF($A109=\"\",\"\",'Q_del,j en Q_del,dh'!K101)","v":1},1,1,1,null,100,100,100,100,{"$f":"'Q_del,j en Q_del,dh'!L101","v":0}]
[95,"Warmtevrager 95",{"$f":"IF($A110=\"\",\"\",OFFSET(Warmtevragers!$C$7,2,$A110-1,1,1))","v":0},{"$f":"IF($A110=\"\",\"\",'Q_del,j en Q_del,dh'!K102)","v":1},1,1,1,null,100,100,100,100,{"$f":"'Q_del,j en Q_del,dh'!L102","v":0}]
[96,"Warmtevrager 96",{"$f":"IF($A111=\"\",\"\",OFFSET(Warmtevragers!$C$7,2,$A111-1,1,1))","v":0},{"$f":"IF($A111=\"\",\"\",'Q_del,j en Q_del,dh'!K103)","v":1},1,1,1,null,100,100,100,100,{"$f":"'Q_del,j en Q_del,dh'!L103","v":0}]
[97,"Warmtevrager 97",{"$f":"IF($A112=\"\",\"\",OFFSET(Warmtevragers!$C$7,2,$A112-1,1,1))","v":0},{"$f":"IF($A112=\"\",\"\",'Q_del,j en Q_del,dh'!K104)","v":1},1,1,1,null,100,100,100,100,{"$f":"'Q_del,j en Q_del,dh'!L104","v":0}]
[98,"Warmtevrager 98",{"$f":"IF($A113=\"\",\"\",OFFSET(Warmtevragers!$C$7,2,$A113-1,1,1))","v":0},{"$f":"IF($A113=\"\",\"\",'Q_del,j en Q_del,dh'!K105)","v":1},1,1,1,null,100,100,100,100,{"$f":"'Q_del,j en Q_del,dh'!L105","v":0}]
[99,"Warmtevrager 99",{"$f":"IF($A114=\"\",\"\",OFFSET(Warmtevragers!$C$7,2,$A114-1,1,1))","v":0},{"$f":"IF($A114=\"\",\"\",'Q_del,j en Q_del,dh'!K106)","v":1},1,1,1,null,100,100,100,100,{"$f":"'Q_del,j en Q_del,dh'!L106","v":0}]
[100,"Warmtevrager 100",{"$f":"IF($A115=\"\",\"\",OFFSET(Warmtevragers!$C$7,2,$A115-1,1,1))","v":0},{"$f":"IF($A115=\"\",\"\",'Q_del,j en Q_del,dh'!K107)","v":1},1,1,1,null,100,100,100,100,{"$f":"'Q_del,j en Q_del,dh'!L107","v":0}]
[101,"Warmtevrager 101",{"$f":"IF($A116=\"\",\"\",OFFSET(Warmtevragers!$C$7,2,$A116-1,1,1))","v":0},{"$f":"IF($A116=\"\",\"\",'Q_del,j en Q_del,dh'!K108)","v":1},1,1,1,null,{"$f":"$D116*100","v":100},100,100,100,{"$f":"'Q_del,j en Q_del,dh'!L108","v":0}]
[102,"Warmtevrager 102",{"$f":"IF($A117=\"\",\"\",OFFSET(Warmtevragers!$C$7,2,$A117-1,1,1))","v":0},{"$f":"IF($A117=\"\",\"\",'Q_del,j en Q_del,dh'!K109)","v":1},1,1,1,null,100,100,100,100,{"$f":"'Q_del,j en Q_del,dh'!L109","v":0}]
[103,"Warmtevrager 103",{"$f":"IF($A118=\"\",\"\",OFFSET(Warmtevragers!$C$7,2,$A118-1,1,1))","v":0},{"$f":"IF($A118=\"\",\"\",'Q_del,j en Q_del,dh'!K110)","v":1},1,1,1,null,100,100,100,100,{"$f":"'Q_del,j en Q_del,dh'!L110","v":0}]
[104,"Warmtevrager 104",{"$f":"IF($A119=\"\",\"\",OFFSET(Warmtevragers!$C$7,2,$A119-1,1,1))","v":0},{"$f":"IF($A119=\"\",\"\",'Q_del,j en Q_del,dh'!K111)","v":1},1,1,1,null,100,100,100,100,{"$f":"'Q_del,j en Q_del,dh'!L111","v":0}]
[105,"Warmtevrager 105",{"$f":"IF($A120=\"\",\"\",OFFSET(Warmtevragers!$C$7,2,$A120-1,1,1))","v":0},{"$f":"IF($A120=\"\",\"\",'Q_del,j en Q_del,dh'!K112)","v":1},1,1,1,null,100,100,100,100,{"$f":"'Q_del,j en Q_del,dh'!L112","v":0}]
[106,"Warmtevrager 106",{"$f":"IF($A121=\"\",\"\",OFFSET(Warmtevragers!$C$7,2,$A121-1,1,1))","v":0},{"$f":"IF($A121=\"\",\"\",'Q_del,j en Q_del,dh'!K113)","v":1},1,1,1,null,100,100,100,100,{"$f":"'Q_del,j en Q_del,dh'!L113","v":0}]
[107,"Warmtevrager 107",{"$f":"IF($A122=\"\",\"\",OFFSET(Warmtevragers!$C$7,2,$A122-1,1,1))","v":0},{"$f":"IF($A122=\"\",\"\",'Q_del,j en Q_del,dh'!K114)","v":1},1,1,1,null,100,100,100,100,{"$f":"'Q_del,j en Q_del,dh'!L114","v":0}]
[108,"Warmtevrager 108",{"$f":"IF($A123=\"\",\"\",OFFSET(Warmtevragers!$C$7,2,$A123-1,1,1))","v":0},{"$f":"IF($A123=\"\",\"\",'Q_del,j en Q_del,dh'!K115)","v":1},1,1,1,null,100,100,100,100,{"$f":"'Q_del,j en Q_del,dh'!L115","v":0}]
[109,"Warmtevrager 109",{"$f":"IF($A124=\"\",\"\",OFFSET(Warmtevragers!$C$7,2,$A124-1,1,1))","v":0},{"$f":"IF($A124=\"\",\"\",'Q_del,j en Q_del,dh'!K116)","v":1},1,1,1,null,100,100,100,100,{"$f":"'Q_del,j en Q_del,dh'!L116","v":0}]
[110,"Warmtevrager 110",{"$f":"IF($A125=\"\",\"\",OFFSET(Warmtevragers!$C$7,2,$A125-1,1,1))","v":0},{"$f":"IF($A125=\"\",\"\",'Q_del,j en Q_del,dh'!K117)","v":1},1,1,1,null,100,100,100,100,{"$f":"'Q_del,j en Q_del,dh'!L117","v":0}]
[111,"Warmtevrager 111",{"$f":"IF($A126=\"\",\"\",OFFSET(Warmtevragers!$C$7,2,$A126-1,1,1))","v":0},{"$f":"IF($A126=\"\",\"\",'Q_del,j en Q_del,dh'!K118)","v":1},1,1,1,null,100,100,100,100,{"$f":"'Q_del,j en Q_del,dh'!L118","v":0}]
[112,"Warmtevrager 112",{"$f":"IF($A127=\"\",\"\",OFFSET(Warmtevragers!$C$7,2,$A127-1,1,1))","v":0},{"$f":"IF($A127=\"\",\"\",'Q_del,j en Q_del,dh'!K119)","v":1},1,1,1,null,100,100,100,100,{"$f":"'Q_del,j en Q_del,dh'!L119","v":0}]
[113,"Warmtevrager 113",{"$f":"IF($A128=\"\",\"\",OFFSET(Warmtevragers!$C$7,2,$A128-1,1,1))","v":0},{"$f":"IF($A128=\"\",\"\",'Q_del,j en Q_del,dh'!K120)","v":1},1,1,1,null,100,100,100,100,{"$f":"'Q_del,j en Q_del,dh'!L120","v":0}]
[114,"Warmtevrager 114",{"$f":"IF($A129=\"\",\"\",OFFSET(Warmtevragers!$C$7,2,$A129-1,1,1))","v":0},{"$f":"IF($A129=\"\",\"\",'Q_del,j en Q_del,dh'!K121)","v":1},1,1,1,null,100,100,100,100,{"$f":"'Q_del,j en Q_del,dh'!L121","v":0}]
[115,"Warmtevrager 115",{"$f":"IF($A130=\"\",\"\",OFFSET(Warmtevragers!$C$7,2,$A130-1,1,1))","v":0},{"$f":"IF($A130=\"\",\"\",'Q_del,j en Q_del,dh'!K122)","v":1},1,1,1,null,100,100,100,100,{"$f":"'Q_del,j en Q_del,dh'!L122","v":0}]
[116,"Warmtevrager 116",{"$f":"IF($A131=\"\",\"\",OFFSET(Warmtevragers!$C$7,2,$A131-1,1,1))","v":0},{"$f":"IF($A131=\"\",\"\",'Q_del,j en Q_del,dh'!K123)","v":1},1,1,1,null,100,100,100,100,{"$f":"'Q_del,j en Q_del,dh'!L123","v":0}]
[117,"Warmtevrager 117",{"$f":"IF($A132=\"\",\"\",OFFSET(Warmtevragers!$C$7,2,$A132-1,1,1))","v":0},{"$f":"IF($A132=\"\",\"\",'Q_del,j en Q_del,dh'!K124)","v":1},1,1,1,null,100,100,100,100,{"$f":"'Q_del,j en Q_del,dh'!L124","v":0}]
[118,"Warmtevrager 118",{"$f":"IF($A133=\"\",\"\",OFFSET(Warmtevragers!$C$7,2,$A133-1,1,1))","v":0},{"$f":"IF($A133=\"\",\"\",'Q_del,j en Q_del,dh'!K125)","v":1},1,1,1,null,100,100,100,100,{"$f":"'Q_del,j en Q_del,dh'!L125","v":0}]
[119,"Warmtevrager 119",{"$f":"IF($A134=\"\",\"\",OFFSET(Warmtevragers!$C$7,2,$A134-1,1,1))","v":0},{"$f":"IF($A134=\"\",\"\",'Q_del,j en Q_del,dh'!K126)","v":1},1,1,1,null,100,100,100,100,{"$f":"'Q_del,j en Q_del,dh'!L126","v":0}]
[120,"Warmtevrager 120",{"$f":"IF($A135=\"\",\"\",OFFSET(Warmtevragers!$C$7,2,$A135-1,1,1))","v":0},{"$f":"IF($A135=\"\",\"\",'Q_del,j en Q_del,dh'!K127)","v":1},1,1,1,null,100,100,100,100,{"$f":"'Q_del,j en Q_del,dh'!L127","v":0}]
[121,"Warmtevrager 121",{"$f":"IF($A136=\"\",\"\",OFFSET(Warmtevragers!$C$7,2,$A136-1,1,1))","v":0},{"$f":"IF($A136=\"\",\"\",'Q_del,j en Q_del,dh'!K128)","v":1},1,1,1,null,{"$f":"$D136*100","v":100},100,100,100,{"$f":"'Q_del,j en Q_del,dh'!L128","v":0}]
[122,"Warmtevrager 122",{"$f":"IF($A137=\"\",\"\",OFFSET(Warmtevragers!$C$7,2,$A137-1,1,1))","v":0},{"$f":"IF($A137=\"\",\"\",'Q_del,j en Q_del,dh'!K129)","v":1},1,1,1,null,100,100,100,100,{"$f":"'Q_del,j en Q_del,dh'!L129","v":0}]
[123,"Warmtevrager 123",{"$f":"IF($A138=\"\",\"\",OFFSET(Warmtevragers!$C$7,2,$A138-1,1,1))","v":0},{"$f":"IF($A138=\"\",\"\",'Q_del,j en Q_del,dh'!K130)","v":1},1,1,1,null,100,100,100,100,{"$f":"'Q_del,j en Q_del,dh'!L130","v":0}]
[124,"Warmtevrager 124",{"$f":"IF($A139=\"\",\"\",OFFSET(Warmtevragers!$C$7,2,$A139-1,1,1))","v":0},{"$f":"IF($A139=\"\",\"\",'Q_del,j en Q_del,dh'!K131)","v":1},1,1,1,null,100,100,100,100,{"$f":"'Q_del,j en Q_del,dh'!L131","v":0}]
[125,"Warmtevrager 125",{"$f":"IF($A140=\"\",\"\",OFFSET(Warmtevragers!$C$7,2,$A140-1,1,1))","v":0},{"$f":"IF($A140=\"\",\"\",'Q_del,j en Q_del,dh'!K132)","v":1},1,1,1,null,100,100,100,100,{"$f":"'Q_del,j en Q_del,dh'!L132","v":0}]
[126,"Warmtevrager 126",{"$f":"IF($A141=\"\",\"\",OFFSET(Warmtevragers!$C$7,2,$A141-1,1,1))","v":0},{"$f":"IF($A141=\"\",\"\",'Q_del,j en Q_del,dh'!K133)","v":1},1,1,1,null,100,100,100,100,{"$f":"'Q_del,j en Q_del,dh'!L133","v":0}]
[127,"Warmtevrager 127",{"$f":"IF($A142=\"\",\"\",OFFSET(Warmtevragers!$C$7,2,$A142-1,1,1))","v":0},{"$f":"IF($A142=\"\",\"\",'Q_del,j en Q_del,dh'!K134)","v":1},1,1,1,null,100,100,100,100,{"$f":"'Q_del,j en Q_del,dh'!L134","v":0}]
[128,"Warmtevrager 128",{"$f":"IF($A143=\"\",\"\",OFFSET(Warmtevragers!$C$7,2,$A143-1,1,1))","v":0},{"$f":"IF($A143=\"\",\"\",'Q_del,j en Q_del,dh'!K135)","v":1},1,1,1,null,100,100,100,100,{"$f":"'Q_del,j en Q_del,dh'!L135","v":0}]
[129,"Warmtevrager 129",{"$f":"IF($A144=\"\",\"\",OFFSET(Warmtevragers!$C$7,2,$A144-1,1,1))","v":0},{"$f":"IF($A144=\"\",\"\",'Q_del,j en Q_del,dh'!K136)","v":1},1,1,1,null,100,100,100,100,{"$f":"'Q_del,j en Q_del,dh'!L136","v":0}]
[130,"Warmtevrager 130",{"$f":"IF($A145=\"\",\"\",OFFSET(Warmtevragers!$C$7,2,$A145-1,1,1))","v":0},{"$f":"IF($A145=\"\",\"\",'Q_del,j en Q_del,dh'!K137)","v":1},1,1,1,null,100,100,100,100,{"$f":"'Q_del,j en Q_del,dh'!L137","v":0}]
[{"$f":"A145+1","v":131},{"$f":"\"Warmtevrager \"&A146","v":"Warmtevrager 131"},{"$f":"IF($A146=\"\",\"\",OFFSET(Warmtevragers!$C$7,2,$A146-1,1,1))","v":0},{"$f":"IF($A146=\"\",\"\",'Q_del,j en Q_del,dh'!K138)","v":1},1,1,1,null,100,100,100,100,{"$f":"'Q_del,j en Q_del,dh'!L138","v":0}]
[132,"Warmtevrager 132",{"$f":"IF($A147=\"\",\"\",OFFSET(Warmtevragers!$C$7,2,$A147-1,1,1))","v":0},{"$f":"IF($A147=\"\",\"\",'Q_del,j en Q_del,dh'!K139)","v":1},1,1,1,null,100,100,100,100,{"$f":"'Q_del,j en Q_del,dh'!L139","v":0}]
[133,"Warmtevrager 133",{"$f":"IF($A148=\"\",\"\",OFFSET(Warmtevragers!$C$7,2,$A148-1,1,1))","v":0},{"$f":"IF($A148=\"\",\"\",'Q_del,j en Q_del,dh'!K140)","v":1},1,1,1,null,100,100,100,100,{"$f":"'Q_del,j en Q_del,dh'!L140","v":0}]
[134,"Warmtevrager 134",{"$f":"IF($A149=\"\",\"\",OFFSET(Warmtevragers!$C$7,2,$A149-1,1,1))","v":0},{"$f":"IF($A149=\"\",\"\",'Q_del,j en Q_del,dh'!K141)","v":1},1,1,1,null,100,100,100,100,{"$f":"'Q_del,j en Q_del,dh'!L141","v":0}]
[135,"Warmtevrager 135",{"$f":"IF($A150=\"\",\"\",OFFSET(Warmtevragers!$C$7,2,$A150-1,1,1))","v":0},{"$f":"IF($A150=\"\",\"\",'Q_del,j en Q_del,dh'!K142)","v":1},1,1,1,null,100,100,100,100,{"$f":"'Q_del,j en Q_del,dh'!L142","v":0}]
[136,"Warmtevrager 136",{"$f":"IF($A151=\"\",\"\",OFFSET(Warmtevragers!$C$7,2,$A151-1,1,1))","v":0},{"$f":"IF($A151=\"\",\"\",'Q_del,j en Q_del,dh'!K143)","v":1},1,1,1,null,100,100,100,100,{"$f":"'Q_del,j en Q_del,dh'!L143","v":0}]
[137,"Warmtevrager 137",{"$f":"IF($A152=\"\",\"\",OFFSET(Warmtevragers!$C$7,2,$A152-1,1,1))","v":0},{"$f":"IF($A152=\"\",\"\",'Q_del,j en Q_del,dh'!K144)","v":1},1,1,1,null,100,100,100,100,{"$f":"'Q_del,j en Q_del,dh'!L144","v":0}]
[138,"Warmtevrager 138",{"$f":"IF($A153=\"\",\"\",OFFSET(Warmtevragers!$C$7,2,$A153-1,1,1))","v":0},{"$f":"IF($A153=\"\",\"\",'Q_del,j en Q_del,dh'!K145)","v":1},1,1,1,null,100,100,100,100,{"$f":"'Q_del,j en Q_del,dh'!L145","v":0}]
[139,"Warmtevrager 139",{"$f":"IF($A154=\"\",\"\",OFFSET(Warmtevragers!$C$7,2,$A154-1,1,1))","v":0},{"$f":"IF($A154=\"\",\"\",'Q_del,j en Q_del,dh'!K146)","v":1},1,1,1,null,100,100,100,100,{"$f":"'Q_del,j en Q_del,dh'!L146","v":0}]
[140,"Warmtevrager 140",{"$f":"IF($A155=\"\",\"\",OFFSET(Warmtevragers!$C$7,2,$A155-1,1,1))","v":0},{"$f":"IF($A155=\"\",\"\",'Q_del,j en Q_del,dh'!K147)","v":1},1,1,1,null,100,100,100,100,{"$f":"'Q_del,j en Q_del,dh'!L147","v":0}]
[141,"Warmtevrager 141",{"$f":"IF($A156=\"\",\"\",OFFSET(Warmtevragers!$C$7,2,$A156-1,1,1))","v":0},{"$f":"IF($A156=\"\",\"\",'Q_del,j en Q_del,dh'!K148)","v":1},1,1,1,null,{"$f":"$D156*100","v":100},100,100,100,{"$f":"'Q_del,j en Q_del,dh'!L148","v":0}]
[142,"Warmtevrager 142",{"$f":"IF($A157=\"\",\"\",OFFSET(Warmtevragers!$C$7,2,$A157-1,1,1))","v":0},{"$f":"IF($A157=\"\",\"\",'Q_del,j en Q_del,dh'!K149)","v":1},1,1,1,null,100,100,100,100,{"$f":"'Q_del,j en Q_del,dh'!L149","v":0}]
[143,"Warmtevrager 143",{"$f":"IF($A158=\"\",\"\",OFFSET(Warmtevragers!$C$7,2,$A158-1,1,1))","v":0},{"$f":"IF($A158=\"\",\"\",'Q_del,j en Q_del,dh'!K150)","v":1},1,1,1,null,100,100,100,100,{"$f":"'Q_del,j en Q_del,dh'!L150","v":0}]
[144,"Warmtevrager 144",{"$f":"IF($A159=\"\",\"\",OFFSET(Warmtevragers!$C$7,2,$A159-1,1,1))","v":0},{"$f":"IF($A159=\"\",\"\",'Q_del,j en Q_del,dh'!K151)","v":1},1,1,1,null,100,100,100,100,{"$f":"'Q_del,j en Q_del,dh'!L151","v":0}]
[145,"Warmtevrager 145",{"$f":"IF($A160=\"\",\"\",OFFSET(Warmtevragers!$C$7,2,$A160-1,1,1))","v":0},{"$f":"IF($A160=\"\",\"\",'Q_del,j en Q_del,dh'!K152)","v":1},1,1,1,null,100,100,100,100,{"$f":"'Q_del,j en Q_del,dh'!L152","v":0}]
[146,"Warmtevrager 146",{"$f":"IF($A161=\"\",\"\",OFFSET(Warmtevragers!$C$7,2,$A161-1,1,1))","v":0},{"$f":"IF($A161=\"\",\"\",'Q_del,j en Q_del,dh'!K153)","v":1},{"$f":"$D161","v":1},1,1,null,100,100,100,100,{"$f":"'Q_del,j en Q_del,dh'!L153","v":0}]
[147,"Warmtevrager 147",{"$f":"IF($A162=\"\",\"\",OFFSET(Warmtevragers!$C$7,2,$A162-1,1,1))","v":0},{"$f":"IF($A162=\"\",\"\",'Q_del,j en Q_del,dh'!K154)","v":1},1,1,1,null,100,100,100,100,{"$f":"'Q_del,j en Q_del,dh'!L154","v":0}]
[148,"Warmtevrager 148",{"$f":"IF($A163=\"\",\"\",OFFSET(Warmtevragers!$C$7,2,$A163-1,1,1))","v":0},{"$f":"IF($A163=\"\",\"\",'Q_del,j en Q_del,dh'!K155)","v":1},1,1,1,null,100,100,100,100,{"$f":"'Q_del,j en Q_del,dh'!L155","v":0}]
[149,"Warmtevrager 149",{"$f":"IF($A164=\"\",\"\",OFFSET(Warmtevragers!$C$7,2,$A164-1,1,1))","v":0},{"$f":"IF($A164=\"\",\"\",'Q_del,j en Q_del,dh'!K156)","v":1},1,1,1,null,100,100,100,100,{"$f":"'Q_del,j en Q_del,dh'!L156","v":0}]
[150,"Warmtevrager 150",{"$f":"IF($A165=\"\",\"\",OFFSET(Warmtevragers!$C$7,2,$A165-1,1,1))","v":0},{"$f":"IF($A165=\"\",\"\",'Q_del,j en Q_del,dh'!K157)","v":1},1,1,1,null,100,100,100,100,{"$f":"'Q_del,j en Q_del,dh'!L157","v":0}]
[151,"Warmtevrager 151",{"$f":"IF($A166=\"\",\"\",OFFSET(Warmtevragers!$C$7,2,$A166-1,1,1))","v":0},{"$f":"IF($A166=\"\",\"\",'Q_del,j en Q_del,dh'!K158)","v":1},1,1,1,null,100,100,100,100,{"$f":"'Q_del,j en Q_del,dh'!L158","v":0}]
[152,"Warmtevrager 152",{"$f":"IF($A167=\"\",\"\",OFFSET(Warmtevragers!$C$7,2,$A167-1,1,1))","v":0},{"$f":"IF($A167=\"\",\"\",'Q_del,j en Q_del,dh'!K159)","v":1},1,1,1,null,100,100,100,100,{"$f":"'Q_del,j en Q_del,dh'!L159","v":0}]
[153,"Warmtevrager 153",{"$f":"IF($A168=\"\",\"\",OFFSET(Warmtevragers!$C$7,2,$A168-1,1,1))","v":0},{"$f":"IF($A168=\"\",\"\",'Q_del,j en Q_del,dh'!K160)","v":1},1,1,1,null,100,100,100,100,{"$f":"'Q_del,j en Q_del,dh'!L160","v":0}]
[154,"Warmtevrager 154",{"$f":"IF($A169=\"\",\"\",OFFSET(Warmtevragers!$C$7,2,$A169-1,1,1))","v":0},{"$f":"IF($A169=\"\",\"\",'Q_del,j en Q_del,dh'!K161)","v":1},1,1,1,null,100,100,100,100,{"$f":"'Q_del,j en Q_del,dh'!L161","v":0}]
[155,"Warmtevrager 155",{"$f":"IF($A170=\"\",\"\",OFFSET(Warmtevragers!$C$7,2,$A170-1,1,1))","v":0},{"$f":"IF($A170=\"\",\"\",'Q_del,j en Q_del,dh'!K162)","v":1},1,1,1,null,100,100,100,100,{"$f":"'Q_del,j en Q_del,dh'!L162","v":0}]
[156,"Warmtevrager 156",{"$f":"IF($A171=\"\",\"\",OFFSET(Warmtevragers!$C$7,2,$A171-1,1,1))","v":0},{"$f":"IF($A171=\"\",\"\",'Q_del,j en Q_del,dh'!K163)","v":1},1,1,1,null,100,100,100,100,{"$f":"'Q_del,j en Q_del,dh'!L163","v":0}]
[157,"Warmtevrager 157",{"$f":"IF($A172=\"\",\"\",OFFSET(Warmtevragers!$C$7,2,$A172-1,1,1))","v":0},{"$f":"IF($A172=\"\",\"\",'Q_del,j en Q_del,dh'!K164)","v":1},1,1,1,null,100,100,100,100,{"$f":"'Q_del,j en Q_del,dh'!L164","v":0}]
[158,"Warmtevrager 158",{"$f":"IF($A173=\"\",\"\",OFFSET(Warmtevragers!$C$7,2,$A173-1,1,1))","v":0},{"$f":"IF($A173=\"\",\"\",'Q_del,j en Q_del,dh'!K165)","v":1},1,1,1,null,100,100,100,100,{"$f":"'Q_del,j en Q_del,dh'!L165","v":0}]
[159,"Warmtevrager 159",{"$f":"IF($A174=\"\",\"\",OFFSET(Warmtevragers!$C$7,2,$A174-1,1,1))","v":0},{"$f":"IF($A174=\"\",\"\",'Q_del,j en Q_del,dh'!K166)","v":1},1,1,1,null,100,100,100,100,{"$f":"'Q_del,j en Q_del,dh'!L166","v":0}]
[160,"Warmtevrager 160",{"$f":"IF($A175=\"\",\"\",OFFSET(Warmtevragers!$C$7,2,$A175-1,1,1))","v":0},{"$f":"IF($A175=\"\",\"\",'Q_del,j en Q_del,dh'!K167)","v":1},1,1,1,null,100,100,100,100,{"$f":"'Q_del,j en Q_del,dh'!L167","v":0}]
[161,"Warmtevrager 161",{"$f":"IF($A176=\"\",\"\",OFFSET(Warmtevragers!$C$7,2,$A176-1,1,1))","v":0},{"$f":"IF($A176=\"\",\"\",'Q_del,j en Q_del,dh'!K168)","v":1},1,1,1,null,{"$f":"$D176*100","v":100},100,100,100,{"$f":"'Q_del,j en Q_del,dh'!L168","v":0}]
[162,"Warmtevrager 162",{"$f":"IF($A177=\"\",\"\",OFFSET(Warmtevragers!$C$7,2,$A177-1,1,1))","v":0},{"$f":"IF($A177=\"\",\"\",'Q_del,j en Q_del,dh'!K169)","v":1},1,1,1,null,100,100,100,100,{"$f":"'Q_del,j en Q_del,dh'!L169","v":0}]
[163,"Warmtevrager 163",{"$f":"IF($A178=\"\",\"\",OFFSET(Warmtevragers!$C$7,2,$A178-1,1,1))","v":0},{"$f":"IF($A178=\"\",\"\",'Q_del,j en Q_del,dh'!K170)","v":1},1,1,1,null,100,100,100,100,{"$f":"'Q_del,j en Q_del,dh'!L170","v":0}]
[164,"Warmtevrager 164",{"$f":"IF($A179=\"\",\"\",OFFSET(Warmtevragers!$C$7,2,$A179-1,1,1))","v":0},{"$f":"IF($A179=\"\",\"\",'Q_del,j en Q_del,dh'!K171)","v":1},1,1,1,null,100,100,100,100,{"$f":"'Q_del,j en Q_del,dh'!L171","v":0}]
[165,"Warmtevrager 165",{"$f":"IF($A180=\"\",\"\",OFFSET(Warmtevragers!$C$7,2,$A180-1,1,1))","v":0},{"$f":"IF($A180=\"\",\"\",'Q_del,j en Q_del,dh'!K172)","v":1},1,1,1,null,100,100,100,100,{"$f":"'Q_del,j en Q_del,dh'!L172","v":0}]
[166,"Warmtevrager 166",{"$f":"IF($A181=\"\",\"\",OFFSET(Warmtevragers!$C$7,2,$A181-1,1,1))","v":0},{"$f":"IF($A181=\"\",\"\",'Q_del,j en Q_del,dh'!K173)","v":1},1,1,1,null,100,100,100,100,{"$f":"'Q_del,j en Q_del,dh'!L173","v":0}]
[167,"Warmtevrager 167",{"$f":"IF($A182=\"\",\"\",OFFSET(Warmtevragers!$C$7,2,$A182-1,1,1))","v":0},{"$f":"IF($A182=\"\",\"\",'Q_del,j en Q_del,dh'!K174)","v":1},1,1,1,null,100,100,100,100,{"$f":"'Q_del,j en Q_del,dh'!L174","v":0}]
[168,"Warmtevrager 168",{"$f":"IF($A183=\"\",\"\",OFFSET(Warmtevragers!$C$7,2,$A183-1,1,1))","v":0},{"$f":"IF($A183=\"\",\"\",'Q_del,j en Q_del,dh'!K175)","v":1},1,1,1,null,100,100,100,100,{"$f":"'Q_del,j en Q_del,dh'!L175","v":0}]
[169,"Warmtevrager 169",{"$f":"IF($A184=\"\",\"\",OFFSET(Warmtevragers!$C$7,2,$A184-1,1,1))","v":0},{"$f":"IF($A184=\"\",\"\",'Q_del,j en Q_del,dh'!K176)","v":1},1,1,1,null,100,100,100,100,{"$f":"'Q_del,j en Q_del,dh'!L176","v":0}]
[170,"Warmtevrager 170",{"$f":"IF($A185=\"\",\"\",OFFSET(Warmtevragers!$C$7,2,$A185-1,1,1))","v":0},{"$f":"IF($A185=\"\",\"\",'Q_del,j en Q_del,dh'!K177)","v":1},1,1,1,null,100,100,100,100,{"$f":"'Q_del,j en Q_del,dh'!L177","v":0}]
[171,"Warmtevrager 171",{"$f":"IF($A186=\"\",\"\",OFFSET(Warmtevragers!$C$7,2,$A186-1,1,1))","v":0},{"$f":"IF($A186=\"\",\"\",'Q_del,j en Q_del,dh'!K178)","v":1},1,1,1,null,100,100,100,100,{"$f":"'Q_del,j en Q_del,dh'!L178","v":0}]
[172,"Warmtevrager 172",{"$f":"IF($A187=\"\",\"\",OFFSET(Warmtevragers!$C$7,2,$A187-1,1,1))","v":0},{"$f":"IF($A187=\"\",\"\",'Q_del,j en Q_del,dh'!K179)","v":1},1,1,1,null,100,100,100,100,{"$f":"'Q_del,j en Q_del,dh'!L179","v":0}]
[173,"Warmtevrager 173",{"$f":"IF($A188=\"\",\"\",OFFSET(Warmtevragers!$C$7,2,$A188-1,1,1))","v":0},{"$f":"IF($A188=\"\",\"\",'Q_del,j en Q_del,dh'!K180)","v":1},1,1,1,null,100,100,100,100,{"$f":"'Q_del,j en Q_del,dh'!L180","v":0}]
[174,"Warmtevrager 174",{"$f":"IF($A189=\"\",\"\",OFFSET(Warmtevragers!$C$7,2,$A189-1,1,1))","v":0},{"$f":"IF($A189=\"\",\"\",'Q_del,j en Q_del,dh'!K181)","v":1},1,1,1,null,100,100,100,100,{"$f":"'Q_del,j en Q_del,dh'!L181","v":0}]
[175,"Warmtevrager 175",{"$f":"IF($A190=\"\",\"\",OFFSET(Warmtevragers!$C$7,2,$A190-1,1,1))","v":0},{"$f":"IF($A190=\"\",\"\",'Q_del,j en Q_del,dh'!K182)","v":1},1,1,1,null,100,100,100,100,{"$f":"'Q_del,j en Q_del,dh'!L182","v":0}]
[176,"Warmtevrager 176",{"$f":"IF($A191=\"\",\"\",OFFSET(Warmtevragers!$C$7,2,$A191-1,1,1))","v":0},{"$f":"IF($A191=\"\",\"\",'Q_del,j en Q_del,dh'!K183)","v":1},1,1,1,null,100,100,100,100,{"$f":"'Q_del,j en Q_del,dh'!L183","v":0}]
[177,"Warmtevrager 177",{"$f":"IF($A192=\"\",\"\",OFFSET(Warmtevragers!$C$7,2,$A192-1,1,1))","v":0},{"$f":"IF($A192=\"\",\"\",'Q_del,j en Q_del,dh'!K184)","v":1},1,1,1,null,100,100,100,100,{"$f":"'Q_del,j en Q_del,dh'!L184","v":0}]
[178,"Warmtevrager 178",{"$f":"IF($A193=\"\",\"\",OFFSET(Warmtevragers!$C$7,2,$A193-1,1,1))","v":0},{"$f":"IF($A193=\"\",\"\",'Q_del,j en Q_del,dh'!K185)","v":1},1,1,1,null,100,100,100,100,{"$f":"'Q_del,j en Q_del,dh'!L185","v":0}]
[179,"Warmtevrager 179",{"$f":"IF($A194=\"\",\"\",OFFSET(Warmtevragers!$C$7,2,$A194-1,1,1))","v":0},{"$f":"IF($A194=\"\",\"\",'Q_del,j en Q_del,dh'!K186)","v":1},1,1,1,null,100,100,100,100,{"$f":"'Q_del,j en Q_del,dh'!L186","v":0}]
[180,"Warmtevrager 180",{"$f":"IF($A195=\"\",\"\",OFFSET(Warmtevragers!$C$7,2,$A195-1,1,1))","v":0},{"$f":"IF($A195=\"\",\"\",'Q_del,j en Q_del,dh'!K187)","v":1},1,1,1,null,100,100,100,100,{"$f":"'Q_del,j en Q_del,dh'!L187","v":0}]
[181,"Warmtevrager 181",{"$f":"IF($A196=\"\",\"\",OFFSET(Warmtevragers!$C$7,2,$A196-1,1,1))","v":0},{"$f":"IF($A196=\"\",\"\",'Q_del,j en Q_del,dh'!K188)","v":1},1,1,1,null,{"$f":"$D196*100","v":100},100,100,100,{"$f":"'Q_del,j en Q_del,dh'!L188","v":0}]
[182,"Warmtevrager 182",{"$f":"IF($A197=\"\",\"\",OFFSET(Warmtevragers!$C$7,2,$A197-1,1,1))","v":0},{"$f":"IF($A197=\"\",\"\",'Q_del,j en Q_del,dh'!K189)","v":1},1,1,1,null,100,100,100,100,{"$f":"'Q_del,j en Q_del,dh'!L189","v":0}]
[183,"Warmtevrager 183",{"$f":"IF($A198=\"\",\"\",OFFSET(Warmtevragers!$C$7,2,$A198-1,1,1))","v":0},{"$f":"IF($A198=\"\",\"\",'Q_del,j en Q_del,dh'!K190)","v":1},1,1,1,null,100,100,100,100,{"$f":"'Q_del,j en Q_del,dh'!L190","v":0}]
[184,"Warmtevrager 184",{"$f":"IF($A199=\"\",\"\",OFFSET(Warmtevragers!$C$7,2,$A199-1,1,1))","v":0},{"$f":"IF($A199=\"\",\"\",'Q_del,j en Q_del,dh'!K191)","v":1},1,1,1,null,100,100,100,100,{"$f":"'Q_del,j en Q_del,dh'!L191","v":0}]
[185,"Warmtevrager 185",{"$f":"IF($A200=\"\",\"\",OFFSET(Warmtevragers!$C$7,2,$A200-1,1,1))","v":0},{"$f":"IF($A200=\"\",\"\",'Q_del,j en Q_del,dh'!K192)","v":1},1,1,1,null,100,100,100,100,{"$f":"'Q_del,j en Q_del,dh'!L192","v":0}]
[186,"Warmtevrager 186",{"$f":"IF($A201=\"\",\"\",OFFSET(Warmtevragers!$C$7,2,$A201-1,1,1))","v":0},{"$f":"IF($A201=\"\",\"\",'Q_del,j en Q_del,dh'!K193)","v":1},1,1,1,null,100,100,100,100,{"$f":"'Q_del,j en Q_del,dh'!L193","v":0}]
[187,"Warmtevrager 187",{"$f":"IF($A202=\"\",\"\",OFFSET(Warmtevragers!$C$7,2,$A202-1,1,1))","v":0},{"$f":"IF($A202=\"\",\"\",'Q_del,j en Q_del,dh'!K194)","v":1},1,1,1,null,100,100,100,100,{"$f":"'Q_del,j en Q_del,dh'!L194","v":0}]
[188,"Warmtevrager 188",{"$f":"IF($A203=\"\",\"\",OFFSET(Warmtevragers!$C$7,2,$A203-1,1,1))","v":0},{"$f":"IF($A203=\"\",\"\",'Q_del,j en Q_del,dh'!K195)","v":1},1,1,1,null,100,100,100,100,{"$f":"'Q_del,j en Q_del,dh'!L195","v":0}]
[189,"Warmtevrager 189",{"$f":"IF($A204=\"\",\"\",OFFSET(Warmtevragers!$C$7,2,$A204-1,1,1))","v":0},{"$f":"IF($A204=\"\",\"\",'Q_del,j en Q_del,dh'!K196)","v":1},1,1,1,null,100,100,100,100,{"$f":"'Q_del,j en Q_del,dh'!L196","v":0}]
[190,"Warmtevrager 190",{"$f":"IF($A205=\"\",\"\",OFFSET(Warmtevragers!$C$7,2,$A205-1,1,1))","v":0},{"$f":"IF($A205=\"\",\"\",'Q_del,j en Q_del,dh'!K197)","v":1},1,1,1,null,100,100,100,100,{"$f":"'Q_del,j en Q_del,dh'!L197","v":0}]
[191,"Warmtevrager 191",{"$f":"IF($A206=\"\",\"\",OFFSET(Warmtevragers!$C$7,2,$A206-1,1,1))","v":0},{"$f":"IF($A206=\"\",\"\",'Q_del,j en Q_del,dh'!K198)","v":1},1,1,1,null,100,100,100,100,{"$f":"'Q_del,j en Q_del,dh'!L198","v":0}]
[192,"Warmtevrager 192",{"$f":"IF($A207=\"\",\"\",OFFSET(Warmtevragers!$C$7,2,$A207-1,1,1))","v":0},{"$f":"IF($A207=\"\",\"\",'Q_del,j en Q_del,dh'!K199)","v":1},1,1,1,null,100,100,100,100,{"$f":"'Q_del,j en Q_del,dh'!L199","v":0}]
[193,"Warmtevrager 193",{"$f":"IF($A208=\"\",\"\",OFFSET(Warmtevragers!$C$7,2,$A208-1,1,1))","v":0},{"$f":"IF($A208=\"\",\"\",'Q_del,j en Q_del,dh'!K200)","v":1},1,1,1,null,100,100,100,100,{"$f":"'Q_del,j en Q_del,dh'!L200","v":0}]
[194,"Warmtevrager 194",{"$f":"IF($A209=\"\",\"\",OFFSET(Warmtevragers!$C$7,2,$A209-1,1,1))","v":0},{"$f":"IF($A209=\"\",\"\",'Q_del,j en Q_del,dh'!K201)","v":1},1,1,1,null,100,100,100,100,{"$f":"'Q_del,j en Q_del,dh'!L201","v":0}]
[{"$f":"A209+1","v":195},{"$f":"\"Warmtevrager \"&A210","v":"Warmtevrager 195"},{"$f":"IF($A210=\"\",\"\",OFFSET(Warmtevragers!$C$7,2,$A210-1,1,1))","v":0},{"$f":"IF($A210=\"\",\"\",'Q_del,j en Q_del,dh'!K202)","v":1},1,1,1,null,100,100,100,100,{"$f":"'Q_del,j en Q_del,dh'!L202","v":0}]
[196,"Warmtevrager 196",{"$f":"IF($A211=\"\",\"\",OFFSET(Warmtevragers!$C$7,2,$A211-1,1,1))","v":0},{"$f":"IF($A211=\"\",\"\",'Q_del,j en Q_del,dh'!K203)","v":1},1,1,1,null,100,100,100,100,{"$f":"'Q_del,j en Q_del,dh'!L203","v":0}]
[197,"Warmtevrager 197",{"$f":"IF($A212=\"\",\"\",OFFSET(Warmtevragers!$C$7,2,$A212-1,1,1))","v":0},{"$f":"IF($A212=\"\",\"\",'Q_del,j en Q_del,dh'!K204)","v":1},1,1,1,null,100,100,100,100,{"$f":"'Q_del,j en Q_del,dh'!L204","v":0}]
[198,"Warmtevrager 198",{"$f":"IF($A213=\"\",\"\",OFFSET(Warmtevragers!$C$7,2,$A213-1,1,1))","v":0},{"$f":"IF($A213=\"\",\"\",'Q_del,j en Q_del,dh'!K205)","v":1},1,1,1,null,100,100,100,100,{"$f":"'Q_del,j en Q_del,dh'!L205","v":0}]
[199,"Warmtevrager 199",{"$f":"IF($A214=\"\",\"\",OFFSET(Warmtevragers!$C$7,2,$A214-1,1,1))","v":0},{"$f":"IF($A214=\"\",\"\",'Q_del,j en Q_del,dh'!K206)","v":1},1,1,1,null,100,100,100,100,{"$f":"'Q_del,j en Q_del,dh'!L206","v":0}]
[200,"Warmtevrager 200",{"$f":"IF($A215=\"\",\"\",OFFSET(Warmtevragers!$C$7,2,$A215-1,1,1))","v":0},{"$f":"IF($A215=\"\",\"\",'Q_del,j en Q_del,dh'!K207)","v":1},1,1,1,null,100,100,100,100,{"$f":"'Q_del,j en Q_del,dh'!L207","v":0}]

{"sheet":"Warmteopwekkers","index":4,"n_rows":108,"n_cols":12,"rows_kept":108,"cut":false,"hidden":false,"merged":[[49,0,49,1],[50,0,50,1],[51,0,51,1],[42,0,42,1],[12,0,12,1],[13,0,13,1],[15,0,15,1],[16,0,16,1],[14,0,14,1],[44,0,44,1],[45,0,45,1],[46,0,46,1],[47,0,47,1],[48,0,48,1],[39,0,39,1],[36,0,36,1],[68,0,68,1],[69,0,69,1],[61,0,61,1],[62,0,62,1],[63,0,63,1],[64,0,64,1],[65,0,65,1],[66,0,66,1],[2,0,2,1],[6,0,6,1],[7,0,7,1],[8,0,8,1],[67,0,67,1],[56,0,56,1],[57,0,57,1],[60,0,60,1],[53,0,53,1],[54,0,54,1],[55,0,55,1],[58,0,58,1],[59,0,59,1],[52,0,52,1],[40,0,40,1],[41,0,41,1],[37,0,37,1],[38,0,38,1],[9,0,9,1],[19,0,19,1],[21,0,21,1],[24,0,24,1],[25,0,25,1],[20,0,20,1],[11,0,11,1],[1,0,1,1],[35,0,35,1],[22,0,22,1],[23,0,23,1],[31,0,31,1],[32,0,32,1],[33,0,33,1],[34,0,34,1],[26,0,26,1],[27,0,27,1],[28,0,28,1],[29,0,29,1],[30,0,30,1],[18,0,18,1],[17,0,17,1],[10,0,10,1],[115,0,115,1],[116,0,116,1],[117,0,117,1],[118,0,118,1],[109,0,109,1],[110,0,110,1],[111,0,111,1],[112,0,112,1],[113,0,113,1],[136,0,136,1],[137,0,137,1],[138,0,138,1],[129,0,129,1],[130,0,130,1],[131,0,131,1],[132,0,132,1],[133,0,133,1],[3,0,3,1],[4,0,4,1],[5,0,5,1],[134,0,134,1],[135,0,135,1],[124,0,124,1],[125,0,125,1],[126,0,126,1],[127,0,127,1],[128,0,128,1],[119,0,119,1],[120,0,120,1],[121,0,121,1],[122,0,122,1],[123,0,123,1],[114,0,114,1]]}
["Warmteopwekkers van het systeem van externe warmtelevering"]
[]
["1. Eigenschappen warmteopwekkers",null,{"$f":"\"Opwekker \"&C$108","v":"Opwekker 1"},{"$f":"\"Opwekker \"&D$108","v":"Opwekker 2"},"Opwekker 3","Opwekker 4","Opwekker 5","Opwekker 6","Opwekker 7","Opwekker 8","Opwekker 9","Opwekker 10"]
["Naam"]
["Bestaande warmteopwekker of nieuw te realiseren?"]
["Bij nieuwe warmteopwekker: timing van realisatie"]
["Type opwekker"]
["Keuze energiedrager"]
["Thermisch vermogen [kW]"]
["Jaarlijks energieverbruik van de energiedrager bij de warmteopwekking door warmteopwekker k op basis van meet- of factuurwaarden Egen,i,k [MJ]"]
["Gebruik de waarde bij ontstentenis voor het opwekkingsrendement?"]
["Opwekker van restwarmte: gebruikt de opwekker restwarmte zoals gedefinieerd in bijlage 4 van het MB van 18 januari 2019?"]
["Bovenliggend warmtenet: Vermogen van de warmtewisselaar of onderstation voor warmteoverdracht uit het bovenliggend systeem bij ontwerp en opgenomen in de technische fiche [kW]"]
["Bovenliggend warmtenet: Equivalente primaire energiefactor van het bovenliggend systeem van externe warmte [-]"]
["Bovenliggend warmtenet: Het hernieuwbaar aandeel van het bovenliggend systeem van externe warmtelevering [-]"]
["Bovenliggend warmtenet: Is er een warmtewisselaar of onderstation aanwezig voor warmteoverdracht uit het bovenliggend systeem? "]
["Bovenliggend warmtenet: Is de warmtewisselaar of het onderstation voor warmteoverdracht uit het bovenliggend systeem voldoende geïsoleerd? "]
["Ketel: Deellastrendement bij 30% belasting [%]"]
["Ketel: Gemiddelde ketelwatertemperatuur bij 30 % belasting [°C]"]
["Ketel: Ontwerp retourtemperatuur warmteafgiftesysteem [°C]"]
["Ketel/WKK: Het aandeel van de brandstof van de ketel of WKK uit organisch-biologische stof [-]"]
["WKK: Type "]
["WKK: Bepalingsmethode van de jaarlijkse opwekking van elektriciteit door de WKK "]
["WKK: De jaarlijkse opwekking van elektriciteit door WKK op basis van meetwaarden [MJ]"]
["WKK: Elektrisch vermogen gekend?"]
["WKK: Elektrisch vermogen [kW]"]
["WKK: Elektrisch vermogen [kW]",null,{"$f":"IF(C47=5,IF(C$49=1,C$26,C$55*(C$9^C$56)),0)","v":0},{"$f":"IF(D47=5,IF(D$49=1,D$26,D$55*(D$9^D$56)),0)","v":0},0,0,0,0,0,0,0,0]
["Warmtepomp: De prestatiecoefficient onder testomstandigheden (COPtest)",null,null,5]
["Warmtepomp: Warmtebron",null,null,"Bodem"]
["Warmtepomp: Ontwerpvertrektemperatuur naar het systeem van externe warmtelevering [°C]",null,null,60]
["Warmtepomp: Temperatuursverschil tussen vertrek en retour van en naar het systeem van externe warmtelevering bij ontwerpomstandigheden [°C]",null,null,20]
["Warmtepomp: Temperatuurtoename van het water over de condensor, bij test volgens EN 14511 [°C]",null,null,5]
["Pomp(en) voor warmtetoevoer naar verdamper warmtepomp: Elektrisch vermogen van de pomp(en) gekend? ",null,null,"Nee"]
["Pomp(en) voor warmtetoevoer naar verdamper warmtepomp: Elektrisch vermogen van de pomp(en) [kW]"]
["Warmtepomp: Elektrisch vermogen van de warmtepomp volgens EN 14511 bij dezelfde testomstandigheden als waarbij COPtest werd bepaald [kW]"]
["De hoeveelheid warmte die jaarlijks wordt opgewekt door de warmteopwekker in het systeem van externe warmtelevering op basis van meetwaarden [MJ]"]
[]
["2. Resultaten warmteopwekkers",null,{"$f":"\"Opwekker \"&C$108","v":"Opwekker 1"},"Opwekker 2","Opwekker 3","Opwekker 4","Opwekker 5","Opwekker 6","Opwekker 7","Opwekker 8","Opwekker 9","Opwekker 10"]
["hgen,heat,i,k [-]",null,{"$f":"C$67","v":1},1,1,1,1,1,1,1,1,1]
["fp,i [-]",null,{"$f":"C$68","v":{"$error":"#N/A"}},{"$f":"D$68","v":{"$error":"#N/A"}},{"$f":"E$68","v":{"$error":"#N/A"}},{"$error":"#N/A"},{"$f":"G$68","v":{"$error":"#N/A"}},{"$error":"#N/A"},{"$f":"I$68","v":{"$error":"#N/A"}},{"$error":"#N/A"},{"$f":"K$68","v":{"$error":"#N/A"}},{"$error":"#N/A"}]
["Pgen,k [kW]",null,{"$f":"IF(C$47=1,C$13,C$9)","v":0},0,0,0,0,0,0,0,0,0]
["fheat,k [-]",null,{"$f":"C$85","v":1},{"$f":"D$85","v":0},{"$f":"E$85","v":0},0,{"$f":"G$85","v":0},0,{"$f":"I$85","v":0},0,{"$f":"K$85","v":0},0]
["Egen,i,k [MJ]",null,{"$f":"IF(START!$C$5=Keuzelijsten!$A$173,Warmteopwekkers!C$10,C$42*'fp,dh en energiebalans'!$B$6/Warmteopwekkers!C$39)","v":0},{"$f":"IF(START!$C$5=Keuzelijsten!$A$173,Warmteopwekkers!D$10,D$42*'fp,dh en energiebalans'!$B$6/Warmteopwekkers!D$39)","v":0},{"$f":"IF(START!$C$5=Keuzelijsten!$A$173,Warmteopwekkers!E$10,E$42*'fp,dh en energiebalans'!$B$6/Warmteopwekkers!E$39)","v":0},{"$f":"IF(START!$C$5=Keuzelijsten!$A$173,Warmteopwekkers!F$10,F$42*'fp,dh en energiebalans'!$B$6/Warmteopwekkers!F$39)","v":0},{"$f":"IF(START!$C$5=Keuzelijsten!$A$173,Warmteopwekkers!G$10,G$42*'fp,dh en energiebalans'!$B$6/Warmteopwekkers!G$39)","v":0},{"$f":"IF(START!$C$5=Keuzelijsten!$A$173,Warmteopwekkers!H$10,H$42*'fp,dh en energiebalans'!$B$6/Warmteopwekkers!H$39)","v":0},{"$f":"IF(START!$C$5=Keuzelijsten!$A$173,Warmteopwekkers!I$10,I$42*'fp,dh en energiebalans'!$B$6/Warmteopwekkers!I$39)","v":0},{"$f":"IF(START!$C$5=Keuzelijsten!$A$173,Warmteopwekkers!J$10,J$42*'fp,dh en energiebalans'!$B$6/Warmteopwekkers!J$39)","v":0},{"$f":"IF(START!$C$5=Keuzelijsten!$A$173,Warmteopwekkers!K$10,K$42*'fp,dh en energiebalans'!$B$6/Warmteopwekkers!K$39)","v":0},{"$f":"IF(START!$C$5=Keuzelijsten!$A$173,Warmteopwekkers!L$10,L$42*'fp,dh en energiebalans'!$B$6/Warmteopwekkers!L$39)","v":0}]
["fRE,k [-]",null,{"$f":"C102","v":0},{"$f":"D102","v":0},{"$f":"E102","v":0},0,{"$f":"G102","v":0},{"$f":"H102","v":0},{"$f":"I102","v":0},{"$f":"J102","v":0},{"$f":"K102","v":0},{"$f":"L102","v":0}]
[]
["3. Berekeningen rendement - vanaf hier verbergen",null,{"$f":"\"Opwekker \"&C$108","v":"Opwekker 1"},"Opwekker 2","Opwekker 3","Opwekker 4","Opwekker 5","Opwekker 6","Opwekker 7","Opwekker 8","Opwekker 9","Opwekker 10"]
["Index opwekker verwarming ",null,{"$f":"IF(C$7=\"\",0,VLOOKUP(C$7,T_opwekkers,2,FALSE))","v":0},{"$f":"IF(D$7=\"\",0,VLOOKUP(D$7,T_opwekkers,2,FALSE))","v":0},0,0,0,0,0,0,0,0]
["Index WKK",null,{"$f":"IF(C$47=5,VLOOKUP(C$22,TTypeWKK,2,FALSE),0)","v":0},0,0,0,0,0,0,0,0,0]
["Index vermogen WKK gekend",null,{"$f":"IF(C$47=5,IF(C$48=5,1,VLOOKUP(C$25,T_JaNee,2,FALSE)),0)","v":0},0,0,0,0,0,0,0,0,0]
["Index elek vermogen WKK(hulpindex voor kolom a elec, ...)",null,{"$f":"IF(C$47=5,IF(C$48=5,\"nvt\",IF(C$27<5,3,IF(C$27<=5000,4,5))),0)","v":0},0,0,0,0,0,0,0,0,0]
["a elec WKK",null,{"$f":"IF(C$47=5,IF(C$48=5,\"nvt\",VLOOKUP(C$22,TTypeWKK,C$50)),0)","v":0},0,0,0,0,0,0,0,0,0]
["b elec WKK",null,{"$f":"IF(C$47=5,IF(C$48=5,\"nvt\",VLOOKUP(C$22,TTypeWKK,C$50+3)),0)","v":0},0,0,0,0,0,0,0,0,0]
["a th WKK",null,{"$f":"IF(C$47=5,IF(C$48=5,\"nvt\",VLOOKUP(C$22,TTypeWKK,C$50+6)),0)","v":0},0,0,0,0,0,0,0,0,0]
["b th WKK",null,{"$f":"IF(C$47=5,IF(C$48=5,\"nvt\",VLOOKUP(C$22,TTypeWKK,C$50+9)),0)","v":0},0,0,0,0,0,0,0,0,0]
["a WKK",null,{"$f":"IF(C$47=5,IF(C$48=5,\"nvt\",IF(C$49=1,\"nvt\",VLOOKUP(C$22,TTypeWKK,15))),0)","v":0},0,0,0,0,0,0,0,0,0]
["b WKK",null,{"$f":"IF(C$47=5,IF(C$48=5,\"nvt\",IF(C$49=1,\"nvt\",VLOOKUP(C$22,TTypeWKK,16))),0)","v":0},0,0,0,0,0,0,0,0,0]
["Conventioneel elektrisch rendement WKK",null,{"$f":"IF(C$47=5,IF(C$48=5,0.77*C$27/(C$27+C$9),C$51*C$27^C$52),0)","v":0},0,0,0,0,0,0,0,0,0]
["Conventioneel thermisch rendement WKK",null,{"$f":"IF(C$47=5,IF(C$48=5,0.77*C$9/(C$9+C$27),C$53*(C$27^C$54)),0)","v":0},0,0,0,0,0,0,0,0,0]
["Index warmtebron ",null,{"$f":"IF(C$47=7,VLOOKUP(C$29,T_Warmtebron,2,FALSE),0)","v":0},0,0,0,0,0,0,0,0,0]
["Index vw.opmaak pomp",null,{"$f":"IF(C$47=7,IF(Warmteopwekkers!C$59=1,1,IF(Warmteopwekkers!C$59=3,1,IF(Warmteopwekkers!C$59=4,1,0))),0)","v":0},{"$f":"IF(D$47=7,IF(Warmteopwekkers!D$59=1,1,IF(Warmteopwekkers!D$59=3,1,IF(Warmteopwekkers!D$59=4,1,0))),0)","v":0},{"$f":"IF(E$47=7,IF(Warmteopwekkers!E$59=1,1,IF(Warmteopwekkers!E$59=3,1,IF(Warmteopwekkers!E$59=4,1,0))),0)","v":0},{"$f":"IF(F$47=7,IF(Warmteopwekkers!F$59=1,1,IF(Warmteopwekkers!F$59=3,1,IF(Warmteopwekkers!F$59=4,1,0))),0)","v":0},{"$f":"IF(G$47=7,IF(Warmteopwekkers!G$59=1,1,IF(Warmteopwekkers!G$59=3,1,IF(Warmteopwekkers!G$59=4,1,0))),0)","v":0},{"$f":"IF(H$47=7,IF(Warmteopwekkers!H$59=1,1,IF(Warmteopwekkers!H$59=3,1,IF(Warmteopwekkers!H$59=4,1,0))),0)","v":0},{"$f":"IF(I$47=7,IF(Warmteopwekkers!I$59=1,1,IF(Warmteopwekkers!I$59=3,1,IF(Warmteopwekkers!I$59=4,1,0))),0)","v":0},{"$f":"IF(J$47=7,IF(Warmteopwekkers!J$59=1,1,IF(Warmteopwekkers!J$59=3,1,IF(Warmteopwekkers!J$59=4,1,0))),0)","v":0},{"$f":"IF(K$47=7,IF(Warmteopwekkers!K$59=1,1,IF(Warmteopwekkers!K$59=3,1,IF(Warmteopwekkers!K$59=4,1,0))),0)","v":0},{"$f":"IF(L$47=7,IF(Warmteopwekkers!L$59=1,1,IF(Warmteopwekkers!L$59=3,1,IF(Warmteopwekkers!L$59=4,1,0))),0)","v":0}]
["WP fθ",null,{"$f":"IF(C$47=7,1+0.01*(43-C$30),0)","v":0},0,0,0,0,0,0,0,0,0]
["WP fΔθ",null,{"$f":"IF(C$47=7,1+0.01*(C$31-C$32),0)","v":0},0,0,0,0,0,0,0,0,0]
["WP fpumps",null,{"$f":"IF(C$47=7,IF(OR(C$59=1,C$59=3,C$59=4),IF(C$33=Keuzelijsten!$A$18,5/6,1/(1+C$34/C$35)),1),0)","v":0},{"$f":"IF(D$47=7,IF(OR(D$59=1,D$59=3,D$59=4),IF(D$33=Keuzelijsten!$A$18,5/6,1/(1+D$34/D$35)),1),0)","v":0},{"$f":"IF(E$47=7,IF(OR(E$59=1,E$59=3,E$59=4),IF(E$33=Keuzelijsten!$A$18,5/6,1/(1+E$34/E$35)),1),0)","v":0},{"$f":"IF(F$47=7,IF(OR(F$59=1,F$59=3,F$59=4),IF(F$33=Keuzelijsten!$A$18,5/6,1/(1+F$34/F$35)),1),0)","v":0},{"$f":"IF(G$47=7,IF(OR(G$59=1,G$59=3,G$59=4),IF(G$33=Keuzelijsten!$A$18,5/6,1/(1+G$34/G$35)),1),0)","v":0},{"$f":"IF(H$47=7,IF(OR(H$59=1,H$59=3,H$59=4),IF(H$33=Keuzelijsten!$A$18,5/6,1/(1+H$34/H$35)),1),0)","v":0},{"$f":"IF(I$47=7,IF(OR(I$59=1,I$59=3,I$59=4),IF(I$33=Keuzelijsten!$A$18,5/6,1/(1+I$34/I$35)),1),0)","v":0},{"$f":"IF(J$47=7,IF(OR(J$59=1,J$59=3,J$59=4),IF(J$33=Keuzelijsten!$A$18,5/6,1/(1+J$34/J$35)),1),0)","v":0},{"$f":"IF(K$47=7,IF(OR(K$59=1,K$59=3,K$59=4),IF(K$33=Keuzelijsten!$A$18,5/6,1/(1+K$34/K$35)),1),0)","v":0},{"$f":"IF(L$47=7,IF(OR(L$59=1,L$59=3,L$59=4),IF(L$33=Keuzelijsten!$A$18,5/6,1/(1+L$34/L$35)),1),0)","v":0}]
["Verhouding onderste tot bovenste verbrandingswaarde",null,{"$f":"IF(OR(C$47=3,C$47=4),VLOOKUP(C$8,T_Energiedragerzonderelek,4,FALSE),0)","v":0},0,0,0,0,0,0,0,0,0]
["Vermeerdering rendement condenserende ketel",null,{"$f":"IF(C$47=3,0.003*(C$19-(6.4+0.63*C$20)),0)","v":0},0,0,0,0,0,0,0,0,0]
["Vermindering rendement warmtetoeslag aanwezig en niet geisoleerd",null,{"$f":"IF(C$47=1,IF(AND(C$16=\"Ja\",C$17=\"Nee\"),-0.03,0),0)","v":0},{"$f":"IF(D$47=1,IF(AND(D$16=\"Ja\",D$17=\"Nee\"),-0.03,0),0)","v":0},0,0,0,0,0,0,0,0]
["Opwekkingsrendement",null,{"$f":"IF(C$47=1,1+C$66,IF(C$47=2,1,IF(C$47=3,IF(C$11=\"Ja\",0.73,C$64*(C$18/100+C$65)),IF(C$47=4,IF(C$11=\"Ja\",0.73,C$64*C$18/100),IF(C$47=5,C$58,IF(C$47=6,1,IF(C$47=7,IF(C$11=\"Nee\",C$28*C$61*C$62*C$63,2),IF(C$47=8,7,1))))))))","v":1},{"$f":"IF(D$47=1,1+D$66,IF(D$47=2,1,IF(D$47=3,IF(D$11=\"Ja\",0.73,D$64*(D$18/100+D$65)),IF(D$47=4,IF(D$11=\"Ja\",0.73,D$64*D$18/100),IF(D$47=5,D$58,IF(D$47=6,1,IF(D$47=7,IF(D$11=\"Nee\",D$28*D$61*D$62*D$63,2),IF(D$47=8,7,1))))))))","v":1},{"$f":"IF(E$47=1,1+E$66,IF(E$47=2,1,IF(E$47=3,IF(E$11=\"Ja\",0.73,E$64*(E$18/100+E$65)),IF(E$47=4,IF(E$11=\"Ja\",0.73,E$64*E$18/100),IF(E$47=5,E$58,IF(E$47=6,1,IF(E$47=7,IF(E$11=\"Nee\",E$28*E$61*E$62*E$63,2),IF(E$47=8,7,1))))))))","v":1},1,{"$f":"IF(G$47=1,1+G$66,IF(G$47=2,1,IF(G$47=3,IF(G$11=\"Ja\",0.73,G$64*(G$18/100+G$65)),IF(G$47=4,IF(G$11=\"Ja\",0.73,G$64*G$18/100),IF(G$47=5,G$58,IF(G$47=6,1,IF(G$47=7,IF(G$11=\"Nee\",G$28*G$61*G$62*G$63,2),IF(G$47=8,7,1))))))))","v":1},1,{"$f":"IF(I$47=1,1+I$66,IF(I$47=2,1,IF(I$47=3,IF(I$11=\"Ja\",0.73,I$64*(I$18/100+I$65)),IF(I$47=4,IF(I$11=\"Ja\",0.73,I$64*I$18/100),IF(I$47=5,I$58,IF(I$47=6,1,IF(I$47=7,IF(I$11=\"Nee\",I$28*I$61*I$62*I$63,2),IF(I$47=8,7,1))))))))","v":1},1,{"$f":"IF(K$47=1,1+K$66,IF(K$47=2,1,IF(K$47=3,IF(K$11=\"Ja\",0.73,K$64*(K$18/100+K$65)),IF(K$47=4,IF(K$11=\"Ja\",0.73,K$64*K$18/100),IF(K$47=5,K$58,IF(K$47=6,1,IF(K$47=7,IF(K$11=\"Nee\",K$28*K$61*K$62*K$63,2),IF(K$47=8,7,1))))))))","v":1},1]
["primaire energiefactor",null,{"$f":"IF(C$47=1,C$14,IF(C$47=2,1,IF(OR(C$47=6,C$47=7,C$47=8),T_fpelek,IF(C$47=5,1,VLOOKUP(C$8,T_Energiedragerzonderelek,3,FALSE)))))","v":{"$error":"#N/A"}},{"$error":"#N/A"},{"$error":"#N/A"},{"$error":"#N/A"},{"$error":"#N/A"},{"$error":"#N/A"},{"$error":"#N/A"},{"$error":"#N/A"},{"$error":"#N/A"},{"$error":"#N/A"}]
[]
[]
["4. Berekeningen fheat,k - verbergen",null,{"$f":"\"Opwekker \"&C$108","v":"Opwekker 1"},"Opwekker 2","Opwekker 3","Opwekker 4","Opwekker 5","Opwekker 6","Opwekker 7","Opwekker 8","Opwekker 9","Opwekker 10"]
["Index: bovenliggend systeem van externe warmtelevering (0) of omgevingsonafhankelijke opwekker (1)",null,{"$f":"IF(C$7=Keuzelijsten!$A$23,0,1)","v":1},{"$f":"IF(D$7=Keuzelijsten!$A$23,0,1)","v":1},{"$f":"IF(E$7=Keuzelijsten!$A$23,0,1)","v":1},{"$f":"IF(F$7=Keuzelijsten!$A$23,0,1)","v":1},{"$f":"IF(G$7=Keuzelijsten!$A$23,0,1)","v":1},{"$f":"IF(H$7=Keuzelijsten!$A$23,0,1)","v":1},{"$f":"IF(I$7=Keuzelijsten!$A$23,0,1)","v":1},{"$f":"IF(J$7=Keuzelijsten!$A$23,0,1)","v":1},{"$f":"IF(K$7=Keuzelijsten!$A$23,0,1)","v":1},{"$f":"IF(L$7=Keuzelijsten!$A$23,0,1)","v":1}]
["Pgen,dh [kW]",null,{"$f":"'fp,dh en energiebalans'!$B$6/4000","v":0},{"$f":"'fp,dh en energiebalans'!$B$6/4000","v":0},{"$f":"'fp,dh en energiebalans'!$B$6/4000","v":0},{"$f":"'fp,dh en energiebalans'!$B$6/4000","v":0},{"$f":"'fp,dh en energiebalans'!$B$6/4000","v":0},{"$f":"'fp,dh en energiebalans'!$B$6/4000","v":0},{"$f":"'fp,dh en energiebalans'!$B$6/4000","v":0},{"$f":"'fp,dh en energiebalans'!$B$6/4000","v":0},{"$f":"'fp,dh en energiebalans'!$B$6/4000","v":0},{"$f":"'fp,dh en energiebalans'!$B$6/4000","v":0}]
["Pgen,k [kW]",null,{"$f":"C$41","v":0},0,0,0,0,0,0,0,0,0]
["Cumulatief Pgen,k-1 [kW]",null,{"$f":"B$74+B$75","v":0},{"$f":"C$74+C$75","v":0},{"$f":"D$74+D$75","v":0},{"$f":"E$74+E$75","v":0},{"$f":"F$74+F$75","v":0},{"$f":"G$74+G$75","v":0},{"$f":"H$74+H$75","v":0},{"$f":"I$74+I$75","v":0},{"$f":"J$74+J$75","v":0},{"$f":"K$74+K$75","v":0}]
["Noemer formule βk",null,{"$f":"C$73-C$75","v":0},{"$f":"D$73-D$75","v":0},{"$f":"E$73-E$75","v":0},0,{"$f":"G$73-G$75","v":0},0,{"$f":"I$73-I$75","v":0},0,{"$f":"K$73-K$75","v":0},0]
["βk",null,{"$f":"IF(C$74/C$76<0,0,IF(C$74/C$76>1,1,C$74/C$76))","v":{"$error":"#DIV/0!"}},{"$f":"IF(D$74/D$76<0,0,IF(D$74/D$76>1,1,D$74/D$76))","v":{"$error":"#DIV/0!"}},{"$f":"IF(E$74/E$76<0,0,IF(E$74/E$76>1,1,E$74/E$76))","v":{"$error":"#DIV/0!"}},{"$error":"#DIV/0!"},{"$f":"IF(G$74/G$76<0,0,IF(G$74/G$76>1,1,G$74/G$76))","v":{"$error":"#DIV/0!"}},{"$error":"#DIV/0!"},{"$f":"IF(I$74/I$76<0,0,IF(I$74/I$76>1,1,I$74/I$76))","v":{"$error":"#DIV/0!"}},{"$error":"#DIV/0!"},{"$f":"IF(K$74/K$76<0,0,IF(K$74/K$76>1,1,K$74/K$76))","v":{"$error":"#DIV/0!"}},{"$error":"#DIV/0!"}]
["βk+0,1",null,{"$f":"IF((C$77+0.1)>1,1,C$77+0.1)","v":{"$error":"#DIV/0!"}},{"$error":"#DIV/0!"},{"$error":"#DIV/0!"},{"$error":"#DIV/0!"},{"$error":"#DIV/0!"},{"$error":"#DIV/0!"},{"$error":"#DIV/0!"},{"$error":"#DIV/0!"},{"$error":"#DIV/0!"},{"$error":"#DIV/0!"}]
["Onderwaarde lineaire interpollatie βk",null,{"$f":"VLOOKUP(C$77,T_Energiefractie,1,TRUE)","v":{"$error":"#DIV/0!"}},{"$error":"#DIV/0!"},{"$error":"#DIV/0!"},{"$error":"#DIV/0!"},{"$error":"#DIV/0!"},{"$error":"#DIV/0!"},{"$error":"#DIV/0!"},{"$error":"#DIV/0!"},{"$error":"#DIV/0!"},{"$error":"#DIV/0!"}]
["Onderwaarde lineaire interpollatie f'heat,k",null,{"$f":"VLOOKUP(C$77,T_Energiefractie,2,TRUE)","v":{"$error":"#DIV/0!"}},{"$error":"#DIV/0!"},{"$error":"#DIV/0!"},{"$error":"#DIV/0!"},{"$error":"#DIV/0!"},{"$error":"#DIV/0!"},{"$error":"#DIV/0!"},{"$error":"#DIV/0!"},{"$error":"#DIV/0!"},{"$error":"#DIV/0!"}]
["Bovenwaarde lineaire interpollatie βk",null,{"$f":"VLOOKUP(C$78,T_Energiefractie,1,TRUE)","v":{"$error":"#DIV/0!"}},{"$error":"#DIV/0!"},{"$error":"#DIV/0!"},{"$error":"#DIV/0!"},{"$error":"#DIV/0!"},{"$error":"#DIV/0!"},{"$error":"#DIV/0!"},{"$error":"#DIV/0!"},{"$error":"#DIV/0!"},{"$error":"#DIV/0!"}]
["Bovenwaarde lineaire interpollatie f'heat,k",null,{"$f":"VLOOKUP(C$78,T_Energiefractie,2,TRUE)","v":{"$error":"#DIV/0!"}},{"$error":"#DIV/0!"},{"$error":"#DIV/0!"},{"$error":"#DIV/0!"},{"$error":"#DIV/0!"},{"$error":"#DIV/0!"},{"$error":"#DIV/0!"},{"$error":"#DIV/0!"},{"$error":"#DIV/0!"},{"$error":"#DIV/0!"}]
["f'heat,k",null,{"$f":"IF(C$77=1,1,C$80+(C$77-C$79)*(C$82-C$80)/(C$81-C$79))","v":{"$error":"#DIV/0!"}},{"$error":"#DIV/0!"},{"$error":"#DIV/0!"},{"$error":"#DIV/0!"},{"$error":"#DIV/0!"},{"$error":"#DIV/0!"},{"$error":"#DIV/0!"},{"$error":"#DIV/0!"},{"$error":"#DIV/0!"},{"$error":"#DIV/0!"}]
["Cumulatief fheat,k",null,{"$f":"0+B$84+B$85","v":0},{"$f":"0+C$84+C$85","v":1},{"$f":"0+D$84+D$85","v":1},{"$f":"0+E$84+E$85","v":1},{"$f":"0+F$84+F$85","v":1},{"$f":"0+G$84+G$85","v":1},{"$f":"0+H$84+H$85","v":1},{"$f":"0+I$84+I$85","v":1},{"$f":"0+J$84+J$85","v":1},{"$f":"0+K$84+K$85","v":1}]
["fheat,k",null,{"$f":"IF(D$7=\"\",1-C84,C$83*(1-C$84))","v":1},0,0,0,0,0,0,0,0,0]
[]
[]
["5. Berekeningen Egen,i",null,{"$f":"\"Opwekker \"&C$108","v":"Opwekker 1"},"Opwekker 2","Opwekker 3","Opwekker 4","Opwekker 5","Opwekker 6","Opwekker 7","Opwekker 8","Opwekker 9","Opwekker 10"]
["Egen,fossiel [MJ]*fp,fossiel",{"$f":"SUM(C89:L89)","v":0},{"$f":"IF(C$7=\"\",0,IF(OR(C$7=Keuzelijsten!$A$25,C$7=Keuzelijsten!$A$26),IF(OR(C$8=Keuzelijsten!$A$5,C$8=Keuzelijsten!$A$6,C$8=Keuzelijsten!$A$7,C$8=Keuzelijsten!$A$8,C$8=Keuzelijsten!$A$9,C$8=Keuzelijsten!$A$10),Warmteopwekkers!C$43,0),IF(C$7=Keuzelijsten!$A$27,IF(OR(C$22=Keuzelijsten!$A$35,C$22=Keuzelijsten!$A$37,C$22=Keuzelijsten!$A$39),Warmteopwekkers!C$43,0),0))*C$40)","v":0},{"$f":"IF(D$7=\"\",0,IF(OR(D$7=Keuzelijsten!$A$25,D$7=Keuzelijsten!$A$26),IF(OR(D$8=Keuzelijsten!$A$5,D$8=Keuzelijsten!$A$6,D$8=Keuzelijsten!$A$7,D$8=Keuzelijsten!$A$8,D$8=Keuzelijsten!$A$9,D$8=Keuzelijsten!$A$10),Warmteopwekkers!D$43,0),IF(D$7=Keuzelijsten!$A$27,IF(OR(D$22=Keuzelijsten!$A$35,D$22=Keuzelijsten!$A$37,D$22=Keuzelijsten!$A$39),Warmteopwekkers!D$43,0),0))*D$40)","v":0},{"$f":"IF(E$7=\"\",0,IF(OR(E$7=Keuzelijsten!$A$25,E$7=Keuzelijsten!$A$26),IF(OR(E$8=Keuzelijsten!$A$5,E$8=Keuzelijsten!$A$6,E$8=Keuzelijsten!$A$7,E$8=Keuzelijsten!$A$8,E$8=Keuzelijsten!$A$9,E$8=Keuzelijsten!$A$10),Warmteopwekkers!E$43,0),IF(E$7=Keuzelijsten!$A$27,IF(OR(E$22=Keuzelijsten!$A$35,E$22=Keuzelijsten!$A$37,E$22=Keuzelijsten!$A$39),Warmteopwekkers!E$43,0),0))*E$40)","v":0},{"$f":"IF(F$7=\"\",0,IF(OR(F$7=Keuzelijsten!$A$25,F$7=Keuzelijsten!$A$26),IF(OR(F$8=Keuzelijsten!$A$5,F$8=Keuzelijsten!$A$6,F$8=Keuzelijsten!$A$7,F$8=Keuzelijsten!$A$8,F$8=Keuzelijsten!$A$9,F$8=Keuzelijsten!$A$10),Warmteopwekkers!F$43,0),IF(F$7=Keuzelijsten!$A$27,IF(OR(F$22=Keuzelijsten!$A$35,F$22=Keuzelijsten!$A$37,F$22=Keuzelijsten!$A$39),Warmteopwekkers!F$43,0),0))*F$40)","v":0},{"$f":"IF(G$7=\"\",0,IF(OR(G$7=Keuzelijsten!$A$25,G$7=Keuzelijsten!$A$26),IF(OR(G$8=Keuzelijsten!$A$5,G$8=Keuzelijsten!$A$6,G$8=Keuzelijsten!$A$7,G$8=Keuzelijsten!$A$8,G$8=Keuzelijsten!$A$9,G$8=Keuzelijsten!$A$10),Warmteopwekkers!G$43,0),IF(G$7=Keuzelijsten!$A$27,IF(OR(G$22=Keuzelijsten!$A$35,G$22=Keuzelijsten!$A$37,G$22=Keuzelijsten!$A$39),Warmteopwekkers!G$43,0),0))*G$40)","v":0},{"$f":"IF(H$7=\"\",0,IF(OR(H$7=Keuzelijsten!$A$25,H$7=Keuzelijsten!$A$26),IF(OR(H$8=Keuzelijsten!$A$5,H$8=Keuzelijsten!$A$6,H$8=Keuzelijsten!$A$7,H$8=Keuzelijsten!$A$8,H$8=Keuzelijsten!$A$9,H$8=Keuzelijsten!$A$10),Warmteopwekkers!H$43,0),IF(H$7=Keuzelijsten!$A$27,IF(OR(H$22=Keuzelijsten!$A$35,H$22=Keuzelijsten!$A$37,H$22=Keuzelijsten!$A$39),Warmteopwekkers!H$43,0),0))*H$40)","v":0},{"$f":"IF(I$7=\"\",0,IF(OR(I$7=Keuzelijsten!$A$25,I$7=Keuzelijsten!$A$26),IF(OR(I$8=Keuzelijsten!$A$5,I$8=Keuzelijsten!$A$6,I$8=Keuzelijsten!$A$7,I$8=Keuzelijsten!$A$8,I$8=Keuzelijsten!$A$9,I$8=Keuzelijsten!$A$10),Warmteopwekkers!I$43,0),IF(I$7=Keuzelijsten!$A$27,IF(OR(I$22=Keuzelijsten!$A$35,I$22=Keuzelijsten!$A$37,I$22=Keuzelijsten!$A$39),Warmteopwekkers!I$43,0),0))*I$40)","v":0},{"$f":"IF(J$7=\"\",0,IF(OR(J$7=Keuzelijsten!$A$25,J$7=Keuzelijsten!$A$26),IF(OR(J$8=Keuzelijsten!$A$5,J$8=Keuzelijsten!$A$6,J$8=Keuzelijsten!$A$7,J$8=Keuzelijsten!$A$8,J$8=Keuzelijsten!$A$9,J$8=Keuzelijsten!$A$10),Warmteopwekkers!J$43,0),IF(J$7=Keuzelijsten!$A$27,IF(OR(J$22=Keuzelijsten!$A$35,J$22=Keuzelijsten!$A$37,J$22=Keuzelijsten!$A$39),Warmteopwekkers!J$43,0),0))*J$40)","v":0},{"$f":"IF(K$7=\"\",0,IF(OR(K$7=Keuzelijsten!$A$25,K$7=Keuzelijsten!$A$26),IF(OR(K$8=Keuzelijsten!$A$5,K$8=Keuzelijsten!$A$6,K$8=Keuzelijsten!$A$7,K$8=Keuzelijsten!$A$8,K$8=Keuzelijsten!$A$9,K$8=Keuzelijsten!$A$10),Warmteopwekkers!K$43,0),IF(K$7=Keuzelijsten!$A$27,IF(OR(K$22=Keuzelijsten!$A$35,K$22=Keuzelijsten!$A$37,K$22=Keuzelijsten!$A$39),Warmteopwekkers!K$43,0),0))*K$40)","v":0},{"$f":"IF(L$7=\"\",0,IF(OR(L$7=Keuzelijsten!$A$25,L$7=Keuzelijsten!$A$26),IF(OR(L$8=Keuzelijsten!$A$5,L$8=Keuzelijsten!$A$6,L$8=Keuzelijsten!$A$7,L$8=Keuzelijsten!$A$8,L$8=Keuzelijsten!$A$9,L$8=Keuzelijsten!$A$10),Warmteopwekkers!L$43,0),IF(L$7=Keuzelijsten!$A$27,IF(OR(L$22=Keuzelijsten!$A$35,L$22=Keuzelijsten!$A$37,L$22=Keuzelijsten!$A$39),Warmteopwekkers!L$43,0),0))*L$40)","v":0}]
["Egen,elek [MJ]*fp,elek",{"$f":"SUM(C90:L90)","v":0},{"$f":"IF(C$7=\"\",0,IF(OR(C$7=Keuzelijsten!$A$28,C$7=Keuzelijsten!$A$30,C$7=Keuzelijsten!$A$29),Warmteopwekkers!C$43,0)*C$40)","v":0},{"$f":"IF(D$7=\"\",0,IF(OR(D$7=Keuzelijsten!$A$28,D$7=Keuzelijsten!$A$30,D$7=Keuzelijsten!$A$29),Warmteopwekkers!D$43,0)*D$40)","v":0},{"$f":"IF(E$7=\"\",0,IF(OR(E$7=Keuzelijsten!$A$28,E$7=Keuzelijsten!$A$30,E$7=Keuzelijsten!$A$29),Warmteopwekkers!E$43,0)*E$40)","v":0},{"$f":"IF(F$7=\"\",0,IF(OR(F$7=Keuzelijsten!$A$28,F$7=Keuzelijsten!$A$30,F$7=Keuzelijsten!$A$29),Warmteopwekkers!F$43,0)*F$40)","v":0},{"$f":"IF(G$7=\"\",0,IF(OR(G$7=Keuzelijsten!$A$28,G$7=Keuzelijsten!$A$30,G$7=Keuzelijsten!$A$29),Warmteopwekkers!G$43,0)*G$40)","v":0},{"$f":"IF(H$7=\"\",0,IF(OR(H$7=Keuzelijsten!$A$28,H$7=Keuzelijsten!$A$30,H$7=Keuzelijsten!$A$29),Warmteopwekkers!H$43,0)*H$40)","v":0},{"$f":"IF(I$7=\"\",0,IF(OR(I$7=Keuzelijsten!$A$28,I$7=Keuzelijsten!$A$30,I$7=Keuzelijsten!$A$29),Warmteopwekkers!I$43,0)*I$40)","v":0},{"$f":"IF(J$7=\"\",0,IF(OR(J$7=Keuzelijsten!$A$28,J$7=Keuzelijsten!$A$30,J$7=Keuzelijsten!$A$29),Warmteopwekkers!J$43,0)*J$40)","v":0},{"$f":"IF(K$7=\"\",0,IF(OR(K$7=Keuzelijsten!$A$28,K$7=Keuzelijsten!$A$30,K$7=Keuzelijsten!$A$29),Warmteopwekkers!K$43,0)*K$40)","v":0},{"$f":"IF(L$7=\"\",0,IF(OR(L$7=Keuzelijsten!$A$28,L$7=Keuzelijsten!$A$30,L$7=Keuzelijsten!$A$29),Warmteopwekkers!L$43,0)*L$40)","v":0}]
["Egen,biomassa [MJ]*fp,biomassa",{"$f":"SUM(C91:L91)","v":0},{"$f":"IF(C$7=\"\",0,IF(OR(C$7=Keuzelijsten!$A$25,C$7=Keuzelijsten!$A$26),IF(OR(C$8=Keuzelijsten!$A$11),Warmteopwekkers!C$43,0),IF(C$7=Keuzelijsten!$A$27,IF(OR(C$22=Keuzelijsten!$A$36,C$22=Keuzelijsten!$A$38),Warmteopwekkers!C$43,0),0))*C$40)","v":0},{"$f":"IF(D$7=\"\",0,IF(OR(D$7=Keuzelijsten!$A$25,D$7=Keuzelijsten!$A$26),IF(OR(D$8=Keuzelijsten!$A$11),Warmteopwekkers!D$43,0),IF(D$7=Keuzelijsten!$A$27,IF(OR(D$22=Keuzelijsten!$A$36,D$22=Keuzelijsten!$A$38),Warmteopwekkers!D$43,0),0))*D$40)","v":0},{"$f":"IF(E$7=\"\",0,IF(OR(E$7=Keuzelijsten!$A$25,E$7=Keuzelijsten!$A$26),IF(OR(E$8=Keuzelijsten!$A$11),Warmteopwekkers!E$43,0),IF(E$7=Keuzelijsten!$A$27,IF(OR(E$22=Keuzelijsten!$A$36,E$22=Keuzelijsten!$A$38),Warmteopwekkers!E$43,0),0))*E$40)","v":0},{"$f":"IF(F$7=\"\",0,IF(OR(F$7=Keuzelijsten!$A$25,F$7=Keuzelijsten!$A$26),IF(OR(F$8=Keuzelijsten!$A$11),Warmteopwekkers!F$43,0),IF(F$7=Keuzelijsten!$A$27,IF(OR(F$22=Keuzelijsten!$A$36,F$22=Keuzelijsten!$A$38),Warmteopwekkers!F$43,0),0))*F$40)","v":0},{"$f":"IF(G$7=\"\",0,IF(OR(G$7=Keuzelijsten!$A$25,G$7=Keuzelijsten!$A$26),IF(OR(G$8=Keuzelijsten!$A$11),Warmteopwekkers!G$43,0),IF(G$7=Keuzelijsten!$A$27,IF(OR(G$22=Keuzelijsten!$A$36,G$22=Keuzelijsten!$A$38),Warmteopwekkers!G$43,0),0))*G$40)","v":0},{"$f":"IF(H$7=\"\",0,IF(OR(H$7=Keuzelijsten!$A$25,H$7=Keuzelijsten!$A$26),IF(OR(H$8=Keuzelijsten!$A$11),Warmteopwekkers!H$43,0),IF(H$7=Keuzelijsten!$A$27,IF(OR(H$22=Keuzelijsten!$A$36,H$22=Keuzelijsten!$A$38),Warmteopwekkers!H$43,0),0))*H$40)","v":0},{"$f":"IF(I$7=\"\",0,IF(OR(I$7=Keuzelijsten!$A$25,I$7=Keuzelijsten!$A$26),IF(OR(I$8=Keuzelijsten!$A$11),Warmteopwekkers!I$43,0),IF(I$7=Keuzelijsten!$A$27,IF(OR(I$22=Keuzelijsten!$A$36,I$22=Keuzelijsten!$A$38),Warmteopwekkers!I$43,0),0))*I$40)","v":0},{"$f":"IF(J$7=\"\",0,IF(OR(J$7=Keuzelijsten!$A$25,J$7=Keuzelijsten!$A$26),IF(OR(J$8=Keuzelijsten!$A$11),Warmteopwekkers!J$43,0),IF(J$7=Keuzelijsten!$A$27,IF(OR(J$22=Keuzelijsten!$A$36,J$22=Keuzelijsten!$A$38),Warmteopwekkers!J$43,0),0))*J$40)","v":0},{"$f":"IF(K$7=\"\",0,IF(OR(K$7=Keuzelijsten!$A$25,K$7=Keuzelijsten!$A$26),IF(OR(K$8=Keuzelijsten!$A$11),Warmteopwekkers!K$43,0),IF(K$7=Keuzelijsten!$A$27,IF(OR(K$22=Keuzelijsten!$A$36,K$22=Keuzelijsten!$A$38),Warmteopwekkers!K$43,0),0))*K$40)","v":0},{"$f":"IF(L$7=\"\",0,IF(OR(L$7=Keuzelijsten!$A$25,L$7=Keuzelijsten!$A$26),IF(OR(L$8=Keuzelijsten!$A$11),Warmteopwekkers!L$43,0),IF(L$7=Keuzelijsten!$A$27,IF(OR(L$22=Keuzelijsten!$A$36,L$22=Keuzelijsten!$A$38),Warmteopwekkers!L$43,0),0))*L$40)","v":0}]
["Egen,restwarmte [MJ]*fp,restwarmte",{"$f":"SUM(C92:L92)","v":0},{"$f":"IF(C$7=\"\",0,IF(C$7=Keuzelijsten!$A$24,Warmteopwekkers!C$43,0)*C$40)","v":0},{"$f":"IF(D$7=\"\",0,IF(D$7=Keuzelijsten!$A$24,Warmteopwekkers!D$43,0)*D$40)","v":0},{"$f":"IF(E$7=\"\",0,IF(E$7=Keuzelijsten!$A$24,Warmteopwekkers!E$43,0)*E$40)","v":0},{"$f":"IF(F$7=\"\",0,IF(F$7=Keuzelijsten!$A$24,Warmteopwekkers!F$43,0)*F$40)","v":0},{"$f":"IF(G$7=\"\",0,IF(G$7=Keuzelijsten!$A$24,Warmteopwekkers!G$43,0)*G$40)","v":0},{"$f":"IF(H$7=\"\",0,IF(H$7=Keuzelijsten!$A$24,Warmteopwekkers!H$43,0)*H$40)","v":0},{"$f":"IF(I$7=\"\",0,IF(I$7=Keuzelijsten!$A$24,Warmteopwekkers!I$43,0)*I$40)","v":0},{"$f":"IF(J$7=\"\",0,IF(J$7=Keuzelijsten!$A$24,Warmteopwekkers!J$43,0)*J$40)","v":0},{"$f":"IF(K$7=\"\",0,IF(K$7=Keuzelijsten!$A$24,Warmteopwekkers!K$43,0)*K$40)","v":0},{"$f":"IF(L$7=\"\",0,IF(L$7=Keuzelijsten!$A$24,Warmteopwekkers!L$43,0)*L$40)","v":0}]
["Egen,bovenliggendwarmtenet [MJ]*fp,bovenliggend warmtenet",{"$f":"SUM(C93:L93)","v":0},{"$f":"IF(C$7=\"\",0,IF(C$7=Keuzelijsten!$A$23,Warmteopwekkers!C$43,0)*C$40)","v":0},{"$f":"IF(D$7=\"\",0,IF(D$7=Keuzelijsten!$A$23,Warmteopwekkers!D$43,0)*D$40)","v":0},{"$f":"IF(E$7=\"\",0,IF(E$7=Keuzelijsten!$A$23,Warmteopwekkers!E$43,0)*E$40)","v":0},{"$f":"IF(F$7=\"\",0,IF(F$7=Keuzelijsten!$A$23,Warmteopwekkers!F$43,0)*F$40)","v":0},{"$f":"IF(G$7=\"\",0,IF(G$7=Keuzelijsten!$A$23,Warmteopwekkers!G$43,0)*G$40)","v":0},{"$f":"IF(H$7=\"\",0,IF(H$7=Keuzelijsten!$A$23,Warmteopwekkers!H$43,0)*H$40)","v":0},{"$f":"IF(I$7=\"\",0,IF(I$7=Keuzelijsten!$A$23,Warmteopwekkers!I$43,0)*I$40)","v":0},{"$f":"IF(J$7=\"\",0,IF(J$7=Keuzelijsten!$A$23,Warmteopwekkers!J$43,0)*J$40)","v":0},{"$f":"IF(K$7=\"\",0,IF(K$7=Keuzelijsten!$A$23,Warmteopwekkers!K$43,0)*K$40)","v":0},{"$f":"IF(L$7=\"\",0,IF(L$7=Keuzelijsten!$A$23,Warmteopwekkers!L$43,0)*L$40)","v":0}]
[]
[]
["6. Berekeningen Eout,i=Eout,elWKK",null,{"$f":"\"Opwekker \"&C$108","v":"Opwekker 1"},"Opwekker 2","Opwekker 3","Opwekker 4","Opwekker 5","Opwekker 6","Opwekker 7","Opwekker 8","Opwekker 9","Opwekker 10"]
["Eout,i = Eprod,i = Eprod,el [MJ]",{"$f":"SUM(C97:L97)","v":0},{"$f":"IF(C$7=Keuzelijsten!$A$27,IF(C$23=Keuzelijsten!$A$152,Warmteopwekkers!C$24,Warmteopwekkers!C$57*Warmteopwekkers!C$43),0)","v":0},{"$f":"IF(D$7=Keuzelijsten!$A$27,IF(D$23=Keuzelijsten!$A$152,Warmteopwekkers!D$24,Warmteopwekkers!D$57*Warmteopwekkers!D$43),0)","v":0},{"$f":"IF(E$7=Keuzelijsten!$A$27,IF(E$23=Keuzelijsten!$A$152,Warmteopwekkers!E$24,Warmteopwekkers!E$57*Warmteopwekkers!E$43),0)","v":0},{"$f":"IF(F$7=Keuzelijsten!$A$27,IF(F$23=Keuzelijsten!$A$152,Warmteopwekkers!F$24,Warmteopwekkers!F$57*Warmteopwekkers!F$43),0)","v":0},{"$f":"IF(G$7=Keuzelijsten!$A$27,IF(G$23=Keuzelijsten!$A$152,Warmteopwekkers!G$24,Warmteopwekkers!G$57*Warmteopwekkers!G$43),0)","v":0},{"$f":"IF(H$7=Keuzelijsten!$A$27,IF(H$23=Keuzelijsten!$A$152,Warmteopwekkers!H$24,Warmteopwekkers!H$57*Warmteopwekkers!H$43),0)","v":0},{"$f":"IF(I$7=Keuzelijsten!$A$27,IF(I$23=Keuzelijsten!$A$152,Warmteopwekkers!I$24,Warmteopwekkers!I$57*Warmteopwekkers!I$43),0)","v":0},{"$f":"IF(J$7=Keuzelijsten!$A$27,IF(J$23=Keuzelijsten!$A$152,Warmteopwekkers!J$24,Warmteopwekkers!J$57*Warmteopwekkers!J$43),0)","v":0},{"$f":"IF(K$7=Keuzelijsten!$A$27,IF(K$23=Keuzelijsten!$A$152,Warmteopwekkers!K$24,Warmteopwekkers!K$57*Warmteopwekkers!K$43),0)","v":0},{"$f":"IF(L$7=Keuzelijsten!$A$27,IF(L$23=Keuzelijsten!$A$152,Warmteopwekkers!L$24,Warmteopwekkers!L$57*Warmteopwekkers!L$43),0)","v":0}]
[]
[]
["7. Berekeningen aandeel hernieuwbare energie",null,{"$f":"\"Opwekker \"&C$108","v":"Opwekker 1"},"Opwekker 2","Opwekker 3","Opwekker 4","Opwekker 5","Opwekker 6","Opwekker 7","Opwekker 8","Opwekker 9","Opwekker 10"]
["Het hernieuwbaar aandeel van het systeem van externe warmtelevering, fRE,dh",{"$f":"SUM(C103:L103)","v":0}]
["Het hernieuwbaar aandeel van warmteopwekker k van het systeem van externe warmtelevering, fRE,k",null,{"$f":"IF(C$7=Keuzelijsten!$A$23,C$15,IF(C$7=Keuzelijsten!$A$24,IF(C$12=\"Ja\",0.4778,0),IF(C$7=Keuzelijsten!$A$25,IF(C$8=Keuzelijsten!$A$11,C$21,0),IF(C$7=Keuzelijsten!$A$26,IF(C$8=Keuzelijsten!$A$11,C$21,0),IF(C$7=Keuzelijsten!$A$27,IF(OR(C$22=Keuzelijsten!$A$36,C$22=Keuzelijsten!$A$38),C$21,0),IF(C$7=Keuzelijsten!$A$28,0,IF(C$7=Keuzelijsten!$A$30,(1-(1/C$67)),IF(C$7=Keuzelijsten!$A$29,1,0))))))))","v":0},{"$f":"IF(D$7=Keuzelijsten!$A$23,D$15,IF(D$7=Keuzelijsten!$A$24,IF(D$12=\"Ja\",0.4778,0),IF(D$7=Keuzelijsten!$A$25,IF(D$8=Keuzelijsten!$A$11,D$21,0),IF(D$7=Keuzelijsten!$A$26,IF(D$8=Keuzelijsten!$A$11,D$21,0),IF(D$7=Keuzelijsten!$A$27,IF(OR(D$22=Keuzelijsten!$A$36,D$22=Keuzelijsten!$A$38),D$21,0),IF(D$7=Keuzelijsten!$A$28,0,IF(D$7=Keuzelijsten!$A$30,(1-(1/D$67)),IF(D$7=Keuzelijsten!$A$29,1,0))))))))","v":0},{"$f":"IF(E$7=Keuzelijsten!$A$23,E$15,IF(E$7=Keuzelijsten!$A$24,IF(E$12=\"Ja\",0.4778,0),IF(E$7=Keuzelijsten!$A$25,IF(E$8=Keuzelijsten!$A$11,E$21,0),IF(E$7=Keuzelijsten!$A$26,IF(E$8=Keuzelijsten!$A$11,E$21,0),IF(E$7=Keuzelijsten!$A$27,IF(OR(E$22=Keuzelijsten!$A$36,E$22=Keuzelijsten!$A$38),E$21,0),IF(E$7=Keuzelijsten!$A$28,0,IF(E$7=Keuzelijsten!$A$30,(1-(1/E$67)),IF(E$7=Keuzelijsten!$A$29,1,0))))))))","v":0},{"$f":"IF(F$7=Keuzelijsten!$A$23,F$15,IF(F$7=Keuzelijsten!$A$24,IF(F$12=\"Ja\",0.4778,0),IF(F$7=Keuzelijsten!$A$25,IF(F$8=Keuzelijsten!$A$11,F$21,0),IF(F$7=Keuzelijsten!$A$26,IF(F$8=Keuzelijsten!$A$11,F$21,0),IF(F$7=Keuzelijsten!$A$27,IF(OR(F$22=Keuzelijsten!$A$36,F$22=Keuzelijsten!$A$38),F$21,0),IF(F$7=Keuzelijsten!$A$28,0,IF(F$7=Keuzelijsten!$A$30,(1-(1/F$67)),IF(F$7=Keuzelijsten!$A$29,1,0))))))))","v":0},{"$f":"IF(G$7=Keuzelijsten!$A$23,G$15,IF(G$7=Keuzelijsten!$A$24,IF(G$12=\"Ja\",0.4778,0),IF(G$7=Keuzelijsten!$A$25,IF(G$8=Keuzelijsten!$A$11,G$21,0),IF(G$7=Keuzelijsten!$A$26,IF(G$8=Keuzelijsten!$A$11,G$21,0),IF(G$7=Keuzelijsten!$A$27,IF(OR(G$22=Keuzelijsten!$A$36,G$22=Keuzelijsten!$A$38),G$21,0),IF(G$7=Keuzelijsten!$A$28,0,IF(G$7=Keuzelijsten!$A$30,(1-(1/G$67)),IF(G$7=Keuzelijsten!$A$29,1,0))))))))","v":0},{"$f":"IF(H$7=Keuzelijsten!$A$23,H$15,IF(H$7=Keuzelijsten!$A$24,IF(H$12=\"Ja\",0.4778,0),IF(H$7=Keuzelijsten!$A$25,IF(H$8=Keuzelijsten!$A$11,H$21,0),IF(H$7=Keuzelijsten!$A$26,IF(H$8=Keuzelijsten!$A$11,H$21,0),IF(H$7=Keuzelijsten!$A$27,IF(OR(H$22=Keuzelijsten!$A$36,H$22=Keuzelijsten!$A$38),H$21,0),IF(H$7=Keuzelijsten!$A$28,0,IF(H$7=Keuzelijsten!$A$30,(1-(1/H$67)),IF(H$7=Keuzelijsten!$A$29,1,0))))))))","v":0},{"$f":"IF(I$7=Keuzelijsten!$A$23,I$15,IF(I$7=Keuzelijsten!$A$24,IF(I$12=\"Ja\",0.4778,0),IF(I$7=Keuzelijsten!$A$25,IF(I$8=Keuzelijsten!$A$11,I$21,0),IF(I$7=Keuzelijsten!$A$26,IF(I$8=Keuzelijsten!$A$11,I$21,0),IF(I$7=Keuzelijsten!$A$27,IF(OR(I$22=Keuzelijsten!$A$36,I$22=Keuzelijsten!$A$38),I$21,0),IF(I$7=Keuzelijsten!$A$28,0,IF(I$7=Keuzelijsten!$A$30,(1-(1/I$67)),IF(I$7=Keuzelijsten!$A$29,1,0))))))))","v":0},{"$f":"IF(J$7=Keuzelijsten!$A$23,J$15,IF(J$7=Keuzelijsten!$A$24,IF(J$12=\"Ja\",0.4778,0),IF(J$7=Keuzelijsten!$A$25,IF(J$8=Keuzelijsten!$A$11,J$21,0),IF(J$7=Keuzelijsten!$A$26,IF(J$8=Keuzelijsten!$A$11,J$21,0),IF(J$7=Keuzelijsten!$A$27,IF(OR(J$22=Keuzelijsten!$A$36,J$22=Keuzelijsten!$A$38),J$21,0),IF(J$7=Keuzelijsten!$A$28,0,IF(J$7=Keuzelijsten!$A$30,(1-(1/J$67)),IF(J$7=Keuzelijsten!$A$29,1,0))))))))","v":0},{"$f":"IF(K$7=Keuzelijsten!$A$23,K$15,IF(K$7=Keuzelijsten!$A$24,IF(K$12=\"Ja\",0.4778,0),IF(K$7=Keuzelijsten!$A$25,IF(K$8=Keuzelijsten!$A$11,K$21,0),IF(K$7=Keuzelijsten!$A$26,IF(K$8=Keuzelijsten!$A$11,K$21,0),IF(K$7=Keuzelijsten!$A$27,IF(OR(K$22=Keuzelijsten!$A$36,K$22=Keuzelijsten!$A$38),K$21,0),IF(K$7=Keuzelijsten!$A$28,0,IF(K$7=Keuzelijsten!$A$30,(1-(1/K$67)),IF(K$7=Keuzelijsten!$A$29,1,0))))))))","v":0},{"$f":"IF(L$7=Keuzelijsten!$A$23,L$15,IF(L$7=Keuzelijsten!$A$24,IF(L$12=\"Ja\",0.4778,0),IF(L$7=Keuzelijsten!$A$25,IF(L$8=Keuzelijsten!$A$11,L$21,0),IF(L$7=Keuzelijsten!$A$26,IF(L$8=Keuzelijsten!$A$11,L$21,0),IF(L$7=Keuzelijsten!$A$27,IF(OR(L$22=Keuzelijsten!$A$36,L$22=Keuzelijsten!$A$38),L$21,0),IF(L$7=Keuzelijsten!$A$28,0,IF(L$7=Keuzelijsten!$A$30,(1-(1/L$67)),IF(L$7=Keuzelijsten!$A$29,1,0))))))))","v":0}]
["fheat,k * fRE,k",null,{"$f":"C$102*C$42","v":0},{"$f":"D$102*D$42","v":0},0,0,0,0,0,0,0,0]
[]
["8. Berekeningen opgewekte warmte",null,{"$f":"\"Opwekker \"&C$108","v":"Opwekker 1"},"Opwekker 2","Opwekker 3","Opwekker 4","Opwekker 5","Opwekker 6","Opwekker 7","Opwekker 8","Opwekker 9","Opwekker 10"]
["De hoeveelheid warmte die jaarlijks wordt opgewekt door de warmteopwekkers in het systeem van externe warmtelevering Qgen,dh [MJ]",{"$f":"SUM(C36:L36)","v":0}]
["Aantal opwekkers",{"$f":"MAX(C108:C108)","v":1}]
["nummering opwekker",null,1,2,3,4,5,6,7,8,9,10]

{"sheet":"Warmtevragers","index":5,"n_rows":72,"n_cols":202,"rows_kept":72,"cut":false,"hidden":false,"merged":[[13,0,13,1],[14,0,14,1],[15,0,15,1],[19,0,19,1],[26,0,26,1],[23,0,23,1],[24,0,24,1],[16,0,16,1],[17,0,17,1],[18,0,18,1],[25,0,25,1],[33,0,33,1],[34,0,34,1],[27,0,27,1],[28,0,28,1],[29,0,29,1],[30,0,30,1],[31,0,31,1],[32,0,32,1]]}
["Afgeleverde warmte aan de warmtevragers van het systeem van externe warmtelevering"]
[]
["1. De hoeveelheid warmte die jaarlijks wordt afgeleverd aan de warmtevragers in het systeem van externe warmtelevering"]
["Qdel,dh",{"$f":"SUM($C36:$GT36)","v":0}]
[]
["2. De hoeveelheid warmte die jaarlijks wordt afgeleverd aan warmtevrager j"]
[null,null,{"$f":"\"Warmtevrager \"&C$72","v":"Warmtevrager 1"},{"$f":"\"Warmtevrager \"&D$72","v":"Warmtevrager 2"},"Warmtevrager 3","Warmtevrager 4","Warmtevrager 5","Warmtevrager 6","Warmtevrager 7","Warmtevrager 8","Warmtevrager 9","Warmtevrager 10","Warmtevrager 11","Warmtevrager 12","Warmtevrager 13","Warmtevrager 14","Warmtevrager 15","Warmtevrager 16","Warmtevrager 17","Warmtevrager 18","Warmtevrager 19","Warmtevrager 20","Warmtevrager 21","Warmtevrager 22","Warmtevrager 23","Warmtevrager 24","Warmtevrager 25","Warmtevrager 26","Warmtevrager 27","Warmtevrager 28","Warmtevrager 29","Warmtevrager 30","Warmtevrager 31","Warmtevrager 32","Warmtevrager 33","Warmtevrager 34","Warmtevrager 35","Warmtevrager 36","Warmtevrager 37","Warmtevrager 38","Warmtevrager 39","Warmtevrager 40","Warmtevrager 41","Warmtevrager 42","Warmtevrager 43","Warmtevrager 44","Warmtevrager 45","Warmtevrager 46","Warmtevrager 47","Warmtevrager 48","Warmtevrager 49","Warmtevrager 50","Warmtevrager 51","Warmtevrager 52","Warmtevrager 53","Warmtevrager 54","Warmtevrager 55","Warmtevrager 56","Warmtevrager 57","Warmtevrager 58","Warmtevrager 59","Warmtevrager 60","Warmtevrager 61","Warmtevrager 62","Warmtevrager 63","Warmtevrager 64","Warmtevrager 65","Warmtevrager 66","Warmtevrager 67","Warmtevrager 68","Warmtevrager 69","Warmtevrager 70","Warmtevrager 71","Warmtevrager 72","Warmtevrager 73","Warmtevrager 74","Warmtevrager 75","Warmtevrager 76","Warmtevrager 77","Warmtevrager 78","Warmtevrager 79","Warmtevrager 80","Warmtevrager 81","Warmtevrager 82","Warmtevrager 83","Warmtevrager 84","Warmtevrager 85","Warmtevrager 86","Warmtevrager 87","Warmtevrager 88","Warmtevrager 89","Warmtevrager 90","Warmtevrager 91","Warmtevrager 92","Warmtevrager 93","Warmtevrager 94","Warmtevrager 95","Warmtevrager 96","Warmtevrager 97","Warmtevrager 98","Warmtevrager 99","Warmtevrager 100","Warmtevrager 101","Warmtevrager 102","Warmtevrager 103","Warmtevrager 104","Warmtevrager 105","Warmtevrager 106","Warmtevrager 107","Warmtevrager 108","Warmtevrager 109","Warmtevrager 110","Warmtevrager 111","Warmtevrager 112","Warmtevrager 113","Warmtevrager 114","Warmtevrager 115","Warmtevrager 116","Warmtevrager 117","Warmtevrager 118","Warmtevrager 119","Warmtevrager 120","Warmtevrager 121","Warmtevrager 122","Warmtevrager 123","Warmtevrager 124","Warmtevrager 125","Warmtevrager 126","Warmtevrager 127","Warmtevrager 128","Warmtevrager 129","Warmtevrager 130","Warmtevrager 131","Warmtevrager 132","Warmtevrager 133","Warmtevrager 134","Warmtevrager 135","Warmtevrager 136","Warmtevrager 137","Warmtevrager 138","Warmtevrager 139","Warmtevrager 140","Warmtevrager 141","Warmtevrager 142","Warmtevrager 143","Warmtevrager 144","Warmtevrager 145","Warmtevrager 146","Warmtevrager 147","Warmtevrager 148","Warmtevrager 149","Warmtevrager 150","Warmtevrager 151","Warmtevrager 152","Warmtevrager 153","Warmtevrager 154","Warmtevrager 155","Warmtevrager 156","Warmtevrager 157","Warmtevrager 158","Warmtevrager 159","Warmtevrager 160","Warmtevrager 161","Warmtevrager 162","Warmtevrager 163","Warmtevrager 164","Warmtevrager 165","Warmtevrager 166","Warmtevrager 167","Warmtevrager 168","Warmtevrager 169","Warmtevrager 170","Warmtevrager 171","Warmtevrager 172","Warmtevrager 173","Warmtevrager 174","Warmtevrager 175","Warmtevrager 176","Warmtevrager 177","Warmtevrager 178","Warmtevrager 179","Warmtevrager 180","Warmtevrager 181","Warmtevrager 182","Warmtevrager 183","Warmtevrager 184","Warmtevrager 185","Warmtevrager 186","Warmtevrager 187","Warmtevrager 188","Warmtevrager 189","Warmtevrager 190","Warmtevrager 191","Warmtevrager 192","Warmtevrager 193","Warmtevrager 194","Warmtevrager 195","Warmtevrager 196","Warmtevrager 197","Warmtevrager 198","Warmtevrager 199","Warmtevrager 200"]
["1. Algemene gegevens"]
["Naam"]
["Bestaande warmtervrager of nieuw te realiseren?"]
["Bij nieuwe warmtevrager: timing van realisatie"]
["Is de warmtevrager EPB-plichtig? "]
["Type EPB-eenheid"]
["Er is een onvoldoende geïsoleerde warmtewisselaar of onderstation aanwezig bij de warmtevrager (dus buiten de grenzen van het systeem van externe warmtelevering) "]
["Wordt de warmte door het warmtenet toegepast voor verwarming?"]
["Wordt de warmte door het warmtenet toegepast voor sanitair warm water?"]
["Wordt de warmte door het warmtenet toegepast voor bevochtiging?"]
["Wordt de warmte door het warmtenet toegepast voor koeling?"]
["Begrenzing warmtenet"]
["Beschrijf de warmtemeter op basis waarvan de warmtekostenafrekening gebeurt",null,null,"test tekst","test tekst"]
[]
["2. Gegevens inschatting warmtevraag"]
["Berekening afgeleverde warmte op basis van:"]
["De afgeleverde warmte aan de warmtevrager op basis van meetwaarden [MJ]"]
["De afgeleverde warmte aan de warmtevrager op basis van factuurwaarden [MJ]"]
["Eindenergieverbruik ruimteverwarming"]
["Eindenergieverbruik SWW van alle tappunten"]
["Eindenergieverbruik van tappunt 1"]
["Eindenergieverbruik van tappunt 2"]
["Eindenergieverbruik van tappunt 3"]
["Eindenergieverbruik bevochtiging"]
["Eindenergieverbruik koeling"]
["Type warmtevrager"]
["Vloeroppervlakte gekend?"]
["Vloeroppervlakte [m²]"]
["Resultaat Qdel,j [MJ]",null,{"$f":"SUM(C$66:C$70)","v":0},{"$f":"SUM(D$66:D$70)","v":0},{"$f":"SUM(E$66:E$70)","v":0},{"$f":"SUM(F$66:F$70)","v":0},{"$f":"SUM(G$66:G$70)","v":0},0,0,0,0,0,0,0,0,0,0,0,0,0,0,0,0,0,0,0,0,0,0,0,0,0,0,0,0,0,0,0,0,0,0,0,0,0,0,0,0,0,0,0,0,0,0,0,0,0,0,0,0,0,0,0,0,0,0,0,0,0,0,0,0,0,0,0,0,0,0,0,0,0,0,0,0,0,0,0,0,0,0,0,0,0,0,0,0,0,0,0,0,0,0,0,0,0,0,0,0,0,0,0,0,0,0,0,0,0,0,0,0,0,0,0,0,0,0,0,0,0,0,0,0,0,0,0,0,0,0,0,0,0,0,0,0,0,0,0,0,0,0,0,0,0,0,0,0,0,0,0,0,0,0,0,0,0,0,0,0,0,0,0,0,0,0,0,0,0,0,0,0,0,0,0,0,0,0,0,0,0,0,0,0,0,0,0,0,0,0,0,0,0,0,0]
[]
["3. Indices - vanaf hier verbergen"]
["Index EPB-plicht","-",{"$f":"IF(C$12=\"\",0,VLOOKUP(C$12,T_JaNee,2,FALSE))","v":0},0,0,0,0,0,0,0,0,0,0,0,0,0,0,0,0,0,0,0,0,0,0,0,0,0,0,0,0,0,0,0,0,0,0,0,0,0,0,0,0,0,0,0,0,0,0,0,0,0,0,0,0,0,0,0,0,0,0,0,0,0,0,0,0,0,0,0,0,0,0,0,0,0,0,0,0,0,0,0,0,0,0,0,0,0,0,0,0,0,0,0,0,0,0,0,0,0,0,0,0,0,0,0,0,0,0,0,0,0,0,0,0,0,0,0,0,0,0,0,0,0,0,0,0,0,0,0,0,0,0,0,0,0,0,0,0,0,0,0,0,0,0,0,0,0,0,0,0,0,0,0,0,0,0,0,0,0,0,0,0,0,0,0,0,0,0,0,0,0,0,0,0,0,0,0,0,0,0,0,0,0,0,0,0,0,0,0,0,0,0,0,0,0,0,0,0,0,0,0]
["Index EPB-eenheid","-",{"$f":"IF(C$39=1,IF(C$13=\"\",0,VLOOKUP(C$13,T_TypeEPBeenheid,2,FALSE)),0)","v":0},0,0,0,0,0,0,0,0,0,0,0,0,0,0,0,0,0,0,0,0,0,0,0,0,0,0,0,0,0,0,0,{"$f":"IF(AI$39=1,IF(AI$13=\"\",0,VLOOKUP(AI$13,T_TypeEPBeenheid,2,FALSE)),0)","v":0},0,0,0,0,0,0,0,0,0,0,0,0,0,0,0,0,0,0,0,0,0,0,0,0,0,0,0,0,0,0,0,{"$f":"IF(BO$39=1,IF(BO$13=\"\",0,VLOOKUP(BO$13,T_TypeEPBeenheid,2,FALSE)),0)","v":0},0,0,0,0,0,0,0,0,0,0,0,0,0,0,0,0,0,0,0,0,0,0,0,0,0,0,0,0,0,0,0,{"$f":"IF(CU$39=1,IF(CU$13=\"\",0,VLOOKUP(CU$13,T_TypeEPBeenheid,2,FALSE)),0)","v":0},0,0,0,0,0,0,0,0,0,0,0,0,0,0,0,0,0,0,0,0,0,0,0,0,0,0,0,0,0,0,0,{"$f":"IF(EA$39=1,IF(EA$13=\"\",0,VLOOKUP(EA$13,T_TypeEPBeenheid,2,FALSE)),0)","v":0},0,0,0,0,0,0,0,0,0,0,0,0,0,0,0,0,0,0,0,0,0,0,0,0,0,0,0,0,0,0,0,{"$f":"IF(FG$39=1,IF(FG$13=\"\",0,VLOOKUP(FG$13,T_TypeEPBeenheid,2,FALSE)),0)","v":0},0,0,0,0,0,0,0,0,0,0,0,0,0,0,0,0,0,0,0,0,0,0,0,0,0,0,0,0,0,0,0,{"$f":"IF(GM$39=1,IF(GM$13=\"\",0,VLOOKUP(GM$13,T_TypeEPBeenheid,2,FALSE)),0)","v":0},0,0,0,0,0,0,0]
["Index toepassing verwarming","-",{"$f":"IF(C15=Keuzelijsten!$A$17,1,0)","v":0},{"$f":"IF(D15=Keuzelijsten!$A$17,1,0)","v":0},{"$f":"IF(E15=Keuzelijsten!$A$17,1,0)","v":0},{"$f":"IF(F15=Keuzelijsten!$A$17,1,0)","v":0},{"$f":"IF(G15=Keuzelijsten!$A$17,1,0)","v":0},{"$f":"IF(H15=Keuzelijsten!$A$17,1,0)","v":0},{"$f":"IF(I15=Keuzelijsten!$A$17,1,0)","v":0},{"$f":"IF(J15=Keuzelijsten!$A$17,1,0)","v":0},{"$f":"IF(K15=Keuzelijsten!$A$17,1,0)","v":0},{"$f":"IF(L15=Keuzelijsten!$A$17,1,0)","v":0},{"$f":"IF(M15=Keuzelijsten!$A$17,1,0)","v":0},{"$f":"IF(N15=Keuzelijsten!$A$17,1,0)","v":0},{"$f":"IF(O15=Keuzelijsten!$A$17,1,0)","v":0},{"$f":"IF(P15=Keuzelijsten!$A$17,1,0)","v":0},{"$f":"IF(Q15=Keuzelijsten!$A$17,1,0)","v":0},{"$f":"IF(R15=Keuzelijsten!$A$17,1,0)","v":0},{"$f":"IF(S15=Keuzelijsten!$A$17,1,0)","v":0},{"$f":"IF(T15=Keuzelijsten!$A$17,1,0)","v":0},{"$f":"IF(U15=Keuzelijsten!$A$17,1,0)","v":0},{"$f":"IF(V15=Keuzelijsten!$A$17,1,0)","v":0},{"$f":"IF(W15=Keuzelijsten!$A$17,1,0)","v":0},{"$f":"IF(X15=Keuzelijsten!$A$17,1,0)","v":0},{"$f":"IF(Y15=Keuzelijsten!$A$17,1,0)","v":0},{"$f":"IF(Z15=Keuzelijsten!$A$17,1,0)","v":0},{"$f":"IF(AA15=Keuzelijsten!$A$17,1,0)","v":0},{"$f":"IF(AB15=Keuzelijsten!$A$17,1,0)","v":0},{"$f":"IF(AC15=Keuzelijsten!$A$17,1,0)","v":0},{"$f":"IF(AD15=Keuzelijsten!$A$17,1,0)","v":0},{"$f":"IF(AE15=Keuzelijsten!$A$17,1,0)","v":0},{"$f":"IF(AF15=Keuzelijsten!$A$17,1,0)","v":0},{"$f":"IF(AG15=Keuzelijsten!$A$17,1,0)","v":0},{"$f":"IF(AH15=Keuzelijsten!$A$17,1,0)","v":0},{"$f":"IF(AI15=Keuzelijsten!$A$17,1,0)","v":0},{"$f":"IF(AJ15=Keuzelijsten!$A$17,1,0)","v":0},{"$f":"IF(AK15=Keuzelijsten!$A$17,1,0)","v":0},{"$f":"IF(AL15=Keuzelijsten!$A$17,1,0)","v":0},{"$f":"IF(AM15=Keuzelijsten!$A$17,1,0)","v":0},{"$f":"IF(AN15=Keuzelijsten!$A$17,1,0)","v":0},{"$f":"IF(AO15=Keuzelijsten!$A$17,1,0)","v":0},{"$f":"IF(AP15=Keuzelijsten!$A$17,1,0)","v":0},{"$f":"IF(AQ15=Keuzelijsten!$A$17,1,0)","v":0},{"$f":"IF(AR15=Keuzelijsten!$A$17,1,0)","v":0},{"$f":"IF(AS15=Keuzelijsten!$A$17,1,0)","v":0},{"$f":"IF(AT15=Keuzelijsten!$A$17,1,0)","v":0},{"$f":"IF(AU15=Keuzelijsten!$A$17,1,0)","v":0},{"$f":"IF(AV15=Keuzelijsten!$A$17,1,0)","v":0},{"$f":"IF(AW15=Keuzelijsten!$A$17,1,0)","v":0},{"$f":"IF(AX15=Keuzelijsten!$A$17,1,0)","v":0},{"$f":"IF(AY15=Keuzelijsten!$A$17,1,0)","v":0},{"$f":"IF(AZ15=Keuzelijsten!$A$17,1,0)","v":0},{"$f":"IF(BA15=Keuzelijsten!$A$17,1,0)","v":0},{"$f":"IF(BB15=Keuzelijsten!$A$17,1,0)","v":0},{"$f":"IF(BC15=Keuzelijsten!$A$17,1,0)","v":0},{"$f":"IF(BD15=Keuzelijsten!$A$17,1,0)","v":0},{"$f":"IF(BE15=Keuzelijsten!$A$17,1,0)","v":0},{"$f":"IF(BF15=Keuzelijsten!$A$17,1,0)","v":0},{"$f":"IF(BG15=Keuzelijsten!$A$17,1,0)","v":0},{"$f":"IF(BH15=Keuzelijsten!$A$17,1,0)","v":0},{"$f":"IF(BI15=Keuzelijsten!$A$17,1,0)","v":0},{"$f":"IF(BJ15=Keuzelijsten!$A$17,1,0)","v":0},{"$f":"IF(BK15=Keuzelijsten!$A$17,1,0)","v":0},{"$f":"IF(BL15=Keuzelijsten!$A$17,1,0)","v":0},{"$f":"IF(BM15=Keuzelijsten!$A$17,1,0)","v":0},{"$f":"IF(BN15=Keuzelijsten!$A$17,1,0)","v":0},{"$f":"IF(BO15=Keuzelijsten!$A$17,1,0)","v":0},{"$f":"IF(BP15=Keuzelijsten!$A$17,1,0)","v":0},{"$f":"IF(BQ15=Keuzelijsten!$A$17,1,0)","v":0},{"$f":"IF(BR15=Keuzelijsten!$A$17,1,0)","v":0},{"$f":"IF(BS15=Keuzelijsten!$A$17,1,0)","v":0},{"$f":"IF(BT15=Keuzelijsten!$A$17,1,0)","v":0},{"$f":"IF(BU15=Keuzelijsten!$A$17,1,0)","v":0},{"$f":"IF(BV15=Keuzelijsten!$A$17,1,0)","v":0},{"$f":"IF(BW15=Keuzelijsten!$A$17,1,0)","v":0},{"$f":"IF(BX15=Keuzelijsten!$A$17,1,0)","v":0},{"$f":"IF(BY15=Keuzelijsten!$A$17,1,0)","v":0},{"$f":"IF(BZ15=Keuzelijsten!$A$17,1,0)","v":0},{"$f":"IF(CA15=Keuzelijsten!$A$17,1,0)","v":0},{"$f":"IF(CB15=Keuzelijsten!$A$17,1,0)","v":0},{"$f":"IF(CC15=Keuzelijsten!$A$17,1,0)","v":0},{"$f":"IF(CD15=Keuzelijsten!$A$17,1,0)","v":0},{"$f":"IF(CE15=Keuzelijsten!$A$17,1,0)","v":0},{"$f":"IF(CF15=Keuzelijsten!$A$17,1,0)","v":0},{"$f":"IF(CG15=Keuzelijsten!$A$17,1,0)","v":0},{"$f":"IF(CH15=Keuzelijsten!$A$17,1,0)","v":0},{"$f":"IF(CI15=Keuzelijsten!$A$17,1,0)","v":0},{"$f":"IF(CJ15=Keuzelijsten!$A$17,1,0)","v":0},{"$f":"IF(CK15=Keuzelijsten!$A$17,1,0)","v":0},{"$f":"IF(CL15=Keuzelijsten!$A$17,1,0)","v":0},{"$f":"IF(CM15=Keuzelijsten!$A$17,1,0)","v":0},{"$f":"IF(CN15=Keuzelijsten!$A$17,1,0)","v":0},{"$f":"IF(CO15=Keuzelijsten!$A$17,1,0)","v":0},{"$f":"IF(CP15=Keuzelijsten!$A$17,1,0)","v":0},{"$f":"IF(CQ15=Keuzelijsten!$A$17,1,0)","v":0},{"$f":"IF(CR15=Keuzelijsten!$A$17,1,0)","v":0},{"$f":"IF(CS15=Keuzelijsten!$A$17,1,0)","v":0},{"$f":"IF(CT15=Keuzelijsten!$A$17,1,0)","v":0},{"$f":"IF(CU15=Keuzelijsten!$A$17,1,0)","v":0},{"$f":"IF(CV15=Keuzelijsten!$A$17,1,0)","v":0},{"$f":"IF(CW15=Keuzelijsten!$A$17,1,0)","v":0},{"$f":"IF(CX15=Keuzelijsten!$A$17,1,0)","v":0},{"$f":"IF(CY15=Keuzelijsten!$A$17,1,0)","v":0},{"$f":"IF(CZ15=Keuzelijsten!$A$17,1,0)","v":0},{"$f":"IF(DA15=Keuzelijsten!$A$17,1,0)","v":0},{"$f":"IF(DB15=Keuzelijsten!$A$17,1,0)","v":0},{"$f":"IF(DC15=Keuzelijsten!$A$17,1,0)","v":0},{"$f":"IF(DD15=Keuzelijsten!$A$17,1,0)","v":0},{"$f":"IF(DE15=Keuzelijsten!$A$17,1,0)","v":0},{"$f":"IF(DF15=Keuzelijsten!$A$17,1,0)","v":0},{"$f":"IF(DG15=Keuzelijsten!$A$17,1,0)","v":0},{"$f":"IF(DH15=Keuzelijsten!$A$17,1,0)","v":0},{"$f":"IF(DI15=Keuzelijsten!$A$17,1,0)","v":0},{"$f":"IF(DJ15=Keuzelijsten!$A$17,1,0)","v":0},{"$f":"IF(DK15=Keuzelijsten!$A$17,1,0)","v":0},{"$f":"IF(DL15=Keuzelijsten!$A$17,1,0)","v":0},{"$f":"IF(DM15=Keuzelijsten!$A$17,1,0)","v":0},{"$f":"IF(DN15=Keuzelijsten!$A$17,1,0)","v":0},{"$f":"IF(DO15=Keuzelijsten!$A$17,1,0)","v":0},{"$f":"IF(DP15=Keuzelijsten!$A$17,1,0)","v":0},{"$f":"IF(DQ15=Keuzelijsten!$A$17,1,0)","v":0},{"$f":"IF(DR15=Keuzelijsten!$A$17,1,0)","v":0},{"$f":"IF(DS15=Keuzelijsten!$A$17,1,0)","v":0},{"$f":"IF(DT15=Keuzelijsten!$A$17,1,0)","v":0},{"$f":"IF(DU15=Keuzelijsten!$A$17,1,0)","v":0},{"$f":"IF(DV15=Keuzelijsten!$A$17,1,0)","v":0},{"$f":"IF(DW15=Keuzelijsten!$A$17,1,0)","v":0},{"$f":"IF(DX15=Keuzelijsten!$A$17,1,0)","v":0},{"$f":"IF(DY15=Keuzelijsten!$A$17,1,0)","v":0},{"$f":"IF(DZ15=Keuzelijsten!$A$17,1,0)","v":0},{"$f":"IF(EA15=Keuzelijsten!$A$17,1,0)","v":0},{"$f":"IF(EB15=Keuzelijsten!$A$17,1,0)","v":0},{"$f":"IF(EC15=Keuzelijsten!$A$17,1,0)","v":0},{"$f":"IF(ED15=Keuzelijsten!$A$17,1,0)","v":0},{"$f":"IF(EE15=Keuzelijsten!$A$17,1,0)","v":0},{"$f":"IF(EF15=Keuzelijsten!$A$17,1,0)","v":0},{"$f":"IF(EG15=Keuzelijsten!$A$17,1,0)","v":0},{"$f":"IF(EH15=Keuzelijsten!$A$17,1,0)","v":0},{"$f":"IF(EI15=Keuzelijsten!$A$17,1,0)","v":0},{"$f":"IF(EJ15=Keuzelijsten!$A$17,1,0)","v":0},{"$f":"IF(EK15=Keuzelijsten!$A$17,1,0)","v":0},{"$f":"IF(EL15=Keuzelijsten!$A$17,1,0)","v":0},{"$f":"IF(EM15=Keuzelijsten!$A$17,1,0)","v":0},{"$f":"IF(EN15=Keuzelijsten!$A$17,1,0)","v":0},{"$f":"IF(EO15=Keuzelijsten!$A$17,1,0)","v":0},{"$f":"IF(EP15=Keuzelijsten!$A$17,1,0)","v":0},{"$f":"IF(EQ15=Keuzelijsten!$A$17,1,0)","v":0},{"$f":"IF(ER15=Keuzelijsten!$A$17,1,0)","v":0},{"$f":"IF(ES15=Keuzelijsten!$A$17,1,0)","v":0},{"$f":"IF(ET15=Keuzelijsten!$A$17,1,0)","v":0},{"$f":"IF(EU15=Keuzelijsten!$A$17,1,0)","v":0},{"$f":"IF(EV15=Keuzelijsten!$A$17,1,0)","v":0},{"$f":"IF(EW15=Keuzelijsten!$A$17,1,0)","v":0},{"$f":"IF(EX15=Keuzelijsten!$A$17,1,0)","v":0},{"$f":"IF(EY15=Keuzelijsten!$A$17,1,0)","v":0},{"$f":"IF(EZ15=Keuzelijsten!$A$17,1,0)","v":0},{"$f":"IF(FA15=Keuzelijsten!$A$17,1,0)","v":0},{"$f":"IF(FB15=Keuzelijsten!$A$17,1,0)","v":0},{"$f":"IF(FC15=Keuzelijsten!$A$17,1,0)","v":0},{"$f":"IF(FD15=Keuzelijsten!$A$17,1,0)","v":0},{"$f":"IF(FE15=Keuzelijsten!$A$17,1,0)","v":0},{"$f":"IF(FF15=Keuzelijsten!$A$17,1,0)","v":0},{"$f":"IF(FG15=Keuzelijsten!$A$17,1,0)","v":0},{"$f":"IF(FH15=Keuzelijsten!$A$17,1,0)","v":0},{"$f":"IF(FI15=Keuzelijsten!$A$17,1,0)","v":0},{"$f":"IF(FJ15=Keuzelijsten!$A$17,1,0)","v":0},{"$f":"IF(FK15=Keuzelijsten!$A$17,1,0)","v":0},{"$f":"IF(FL15=Keuzelijsten!$A$17,1,0)","v":0},{"$f":"IF(FM15=Keuzelijsten!$A$17,1,0)","v":0},{"$f":"IF(FN15=Keuzelijsten!$A$17,1,0)","v":0},{"$f":"IF(FO15=Keuzelijsten!$A$17,1,0)","v":0},{"$f":"IF(FP15=Keuzelijsten!$A$17,1,0)","v":0},{"$f":"IF(FQ15=Keuzelijsten!$A$17,1,0)","v":0},{"$f":"IF(FR15=Keuzelijsten!$A$17,1,0)","v":0},{"$f":"IF(FS15=Keuzelijsten!$A$17,1,0)","v":0},{"$f":"IF(FT15=Keuzelijsten!$A$17,1,0)","v":0},{"$f":"IF(FU15=Keuzelijsten!$A$17,1,0)","v":0},{"$f":"IF(FV15=Keuzelijsten!$A$17,1,0)","v":0},{"$f":"IF(FW15=Keuzelijsten!$A$17,1,0)","v":0},{"$f":"IF(FX15=Keuzelijsten!$A$17,1,0)","v":0},{"$f":"IF(FY15=Keuzelijsten!$A$17,1,0)","v":0},{"$f":"IF(FZ15=Keuzelijsten!$A$17,1,0)","v":0},{"$f":"IF(GA15=Keuzelijsten!$A$17,1,0)","v":0},{"$f":"IF(GB15=Keuzelijsten!$A$17,1,0)","v":0},{"$f":"IF(GC15=Keuzelijsten!$A$17,1,0)","v":0},{"$f":"IF(GD15=Keuzelijsten!$A$17,1,0)","v":0},{"$f":"IF(GE15=Keuzelijsten!$A$17,1,0)","v":0},{"$f":"IF(GF15=Keuzelijsten!$A$17,1,0)","v":0},{"$f":"IF(GG15=Keuzelijsten!$A$17,1,0)","v":0},{"$f":"IF(GH15=Keuzelijsten!$A$17,1,0)","v":0},{"$f":"IF(GI15=Keuzelijsten!$A$17,1,0)","v":0},{"$f":"IF(GJ15=Keuzelijsten!$A$17,1,0)","v":0},{"$f":"IF(GK15=Keuzelijsten!$A$17,1,0)","v":0},{"$f":"IF(GL15=Keuzelijsten!$A$17,1,0)","v":0},{"$f":"IF(GM15=Keuzelijsten!$A$17,1,0)","v":0},{"$f":"IF(GN15=Keuzelijsten!$A$17,1,0)","v":0},{"$f":"IF(GO15=Keuzelijsten!$A$17,1,0)","v":0},{"$f":"IF(GP15=Keuzelijsten!$A$17,1,0)","v":0},{"$f":"IF(GQ15=Keuzelijsten!$A$17,1,0)","v":0},{"$f":"IF(GR15=Keuzelijsten!$A$17,1,0)","v":0},{"$f":"IF(GS15=Keuzelijsten!$A$17,1,0)","v":0},{"$f":"IF(GT15=Keuzelijsten!$A$17,1,0)","v":0}]
["Index toepassing sanitair warm water","-",{"$f":"IF(C16=Keuzelijsten!$A$17,1,0)","v":0},{"$f":"IF(D16=Keuzelijsten!$A$17,1,0)","v":0},{"$f":"IF(E16=Keuzelijsten!$A$17,1,0)","v":0},{"$f":"IF(F16=Keuzelijsten!$A$17,1,0)","v":0},{"$f":"IF(G16=Keuzelijsten!$A$17,1,0)","v":0},{"$f":"IF(H16=Keuzelijsten!$A$17,1,0)","v":0},{"$f":"IF(I16=Keuzelijsten!$A$17,1,0)","v":0},{"$f":"IF(J16=Keuzelijsten!$A$17,1,0)","v":0},{"$f":"IF(K16=Keuzelijsten!$A$17,1,0)","v":0},{"$f":"IF(L16=Keuzelijsten!$A$17,1,0)","v":0},{"$f":"IF(M16=Keuzelijsten!$A$17,1,0)","v":0},{"$f":"IF(N16=Keuzelijsten!$A$17,1,0)","v":0},{"$f":"IF(O16=Keuzelijsten!$A$17,1,0)","v":0},{"$f":"IF(P16=Keuzelijsten!$A$17,1,0)","v":0},{"$f":"IF(Q16=Keuzelijsten!$A$17,1,0)","v":0},{"$f":"IF(R16=Keuzelijsten!$A$17,1,0)","v":0},{"$f":"IF(S16=Keuzelijsten!$A$17,1,0)","v":0},{"$f":"IF(T16=Keuzelijsten!$A$17,1,0)","v":0},{"$f":"IF(U16=Keuzelijsten!$A$17,1,0)","v":0},{"$f":"IF(V16=Keuzelijsten!$A$17,1,0)","v":0},{"$f":"IF(W16=Keuzelijsten!$A$17,1,0)","v":0},{"$f":"IF(X16=Keuzelijsten!$A$17,1,0)","v":0},{"$f":"IF(Y16=Keuzelijsten!$A$17,1,0)","v":0},{"$f":"IF(Z16=Keuzelijsten!$A$17,1,0)","v":0},{"$f":"IF(AA16=Keuzelijsten!$A$17,1,0)","v":0},{"$f":"IF(AB16=Keuzelijsten!$A$17,1,0)","v":0},{"$f":"IF(AC16=Keuzelijsten!$A$17,1,0)","v":0},{"$f":"IF(AD16=Keuzelijsten!$A$17,1,0)","v":0},{"$f":"IF(AE16=Keuzelijsten!$A$17,1,0)","v":0},{"$f":"IF(AF16=Keuzelijsten!$A$17,1,0)","v":0},{"$f":"IF(AG16=Keuzelijsten!$A$17,1,0)","v":0},{"$f":"IF(AH16=Keuzelijsten!$A$17,1,0)","v":0},{"$f":"IF(AI16=Keuzelijsten!$A$17,1,0)","v":0},{"$f":"IF(AJ16=Keuzelijsten!$A$17,1,0)","v":0},{"$f":"IF(AK16=Keuzelijsten!$A$17,1,0)","v":0},{"$f":"IF(AL16=Keuzelijsten!$A$17,1,0)","v":0},{"$f":"IF(AM16=Keuzelijsten!$A$17,1,0)","v":0},{"$f":"IF(AN16=Keuzelijsten!$A$17,1,0)","v":0},{"$f":"IF(AO16=Keuzelijsten!$A$17,1,0)","v":0},{"$f":"IF(AP16=Keuzelijsten!$A$17,1,0)","v":0},{"$f":"IF(AQ16=Keuzelijsten!$A$17,1,0)","v":0},{"$f":"IF(AR16=Keuzelijsten!$A$17,1,0)","v":0},{"$f":"IF(AS16=Keuzelijsten!$A$17,1,0)","v":0},{"$f":"IF(AT16=Keuzelijsten!$A$17,1,0)","v":0},{"$f":"IF(AU16=Keuzelijsten!$A$17,1,0)","v":0},{"$f":"IF(AV16=Keuzelijsten!$A$17,1,0)","v":0},{"$f":"IF(AW16=Keuzelijsten!$A$17,1,0)","v":0},{"$f":"IF(AX16=Keuzelijsten!$A$17,1,0)","v":0},{"$f":"IF(AY16=Keuzelijsten!$A$17,1,0)","v":0},{"$f":"IF(AZ16=Keuzelijsten!$A$17,1,0)","v":0},{"$f":"IF(BA16=Keuzelijsten!$A$17,1,0)","v":0},{"$f":"IF(BB16=Keuzelijsten!$A$17,1,0)","v":0},{"$f":"IF(BC16=Keuzelijsten!$A$17,1,0)","v":0},{"$f":"IF(BD16=Keuzelijsten!$A$17,1,0)","v":0},{"$f":"IF(BE16=Keuzelijsten!$A$17,1,0)","v":0},{"$f":"IF(BF16=Keuzelijsten!$A$17,1,0)","v":0},{"$f":"IF(BG16=Keuzelijsten!$A$17,1,0)","v":0},{"$f":"IF(BH16=Keuzelijsten!$A$17,1,0)","v":0},{"$f":"IF(BI16=Keuzelijsten!$A$17,1,0)","v":0},{"$f":"IF(BJ16=Keuzelijsten!$A$17,1,0)","v":0},{"$f":"IF(BK16=Keuzelijsten!$A$17,1,0)","v":0},{"$f":"IF(BL16=Keuzelijsten!$A$17,1,0)","v":0},{"$f":"IF(BM16=Keuzelijsten!$A$17,1,0)","v":0},{"$f":"IF(BN16=Keuzelijsten!$A$17,1,0)","v":0},{"$f":"IF(BO16=Keuzelijsten!$A$17,1,0)","v":0},{"$f":"IF(BP16=Keuzelijsten!$A$17,1,0)","v":0},{"$f":"IF(BQ16=Keuzelijsten!$A$17,1,0)","v":0},{"$f":"IF(BR16=Keuzelijsten!$A$17,1,0)","v":0},{"$f":"IF(BS16=Keuzelijsten!$A$17,1,0)","v":0},{"$f":"IF(BT16=Keuzelijsten!$A$17,1,0)","v":0},{"$f":"IF(BU16=Keuzelijsten!$A$17,1,0)","v":0},{"$f":"IF(BV16=Keuzelijsten!$A$17,1,0)","v":0},{"$f":"IF(BW16=Keuzelijsten!$A$17,1,0)","v":0},{"$f":"IF(BX16=Keuzelijsten!$A$17,1,0)","v":0},{"$f":"IF(BY16=Keuzelijsten!$A$17,1,0)","v":0},{"$f":"IF(BZ16=Keuzelijsten!$A$17,1,0)","v":0},{"$f":"IF(CA16=Keuzelijsten!$A$17,1,0)","v":0},{"$f":"IF(CB16=Keuzelijsten!$A$17,1,0)","v":0},{"$f":"IF(CC16=Keuzelijsten!$A$17,1,0)","v":0},{"$f":"IF(CD16=Keuzelijsten!$A$17,1,0)","v":0},{"$f":"IF(CE16=Keuzelijsten!$A$17,1,0)","v":0},{"$f":"IF(CF16=Keuzelijsten!$A$17,1,0)","v":0},{"$f":"IF(CG16=Keuzelijsten!$A$17,1,0)","v":0},{"$f":"IF(CH16=Keuzelijsten!$A$17,1,0)","v":0},{"$f":"IF(CI16=Keuzelijsten!$A$17,1,0)","v":0},{"$f":"IF(CJ16=Keuzelijsten!$A$17,1,0)","v":0},{"$f":"IF(CK16=Keuzelijsten!$A$17,1,0)","v":0},{"$f":"IF(CL16=Keuzelijsten!$A$17,1,0)","v":0},{"$f":"IF(CM16=Keuzelijsten!$A$17,1,0)","v":0},{"$f":"IF(CN16=Keuzelijsten!$A$17,1,0)","v":0},{"$f":"IF(CO16=Keuzelijsten!$A$17,1,0)","v":0},{"$f":"IF(CP16=Keuzelijsten!$A$17,1,0)","v":0},{"$f":"IF(CQ16=Keuzelijsten!$A$17,1,0)","v":0},{"$f":"IF(CR16=Keuzelijsten!$A$17,1,0)","v":0},{"$f":"IF(CS16=Keuzelijsten!$A$17,1,0)","v":0},{"$f":"IF(CT16=Keuzelijsten!$A$17,1,0)","v":0},{"$f":"IF(CU16=Keuzelijsten!$A$17,1,0)","v":0},{"$f":"IF(CV16=Keuzelijsten!$A$17,1,0)","v":0},{"$f":"IF(CW16=Keuzelijsten!$A$17,1,0)","v":0},{"$f":"IF(CX16=Keuzelijsten!$A$17,1,0)","v":0},{"$f":"IF(CY16=Keuzelijsten!$A$17,1,0)","v":0},{"$f":"IF(CZ16=Keuzelijsten!$A$17,1,0)","v":0},{"$f":"IF(DA16=Keuzelijsten!$A$17,1,0)","v":0},{"$f":"IF(DB16=Keuzelijsten!$A$17,1,0)","v":0},{"$f":"IF(DC16=Keuzelijsten!$A$17,1,0)","v":0},{"$f":"IF(DD16=Keuzelijsten!$A$17,1,0)","v":0},{"$f":"IF(DE16=Keuzelijsten!$A$17,1,0)","v":0},{"$f":"IF(DF16=Keuzelijsten!$A$17,1,0)","v":0},{"$f":"IF(DG16=Keuzelijsten!$A$17,1,0)","v":0},{"$f":"IF(DH16=Keuzelijsten!$A$17,1,0)","v":0},{"$f":"IF(DI16=Keuzelijsten!$A$17,1,0)","v":0},{"$f":"IF(DJ16=Keuzelijsten!$A$17,1,0)","v":0},{"$f":"IF(DK16=Keuzelijsten!$A$17,1,0)","v":0},{"$f":"IF(DL16=Keuzelijsten!$A$17,1,0)","v":0},{"$f":"IF(DM16=Keuzelijsten!$A$17,1,0)","v":0},{"$f":"IF(DN16=Keuzelijsten!$A$17,1,0)","v":0},{"$f":"IF(DO16=Keuzelijsten!$A$17,1,0)","v":0},{"$f":"IF(DP16=Keuzelijsten!$A$17,1,0)","v":0},{"$f":"IF(DQ16=Keuzelijsten!$A$17,1,0)","v":0},{"$f":"IF(DR16=Keuzelijsten!$A$17,1,0)","v":0},{"$f":"IF(DS16=Keuzelijsten!$A$17,1,0)","v":0},{"$f":"IF(DT16=Keuzelijsten!$A$17,1,0)","v":0},{"$f":"IF(DU16=Keuzelijsten!$A$17,1,0)","v":0},{"$f":"IF(DV16=Keuzelijsten!$A$17,1,0)","v":0},{"$f":"IF(DW16=Keuzelijsten!$A$17,1,0)","v":0},{"$f":"IF(DX16=Keuzelijsten!$A$17,1,0)","v":0},{"$f":"IF(DY16=Keuzelijsten!$A$17,1,0)","v":0},{"$f":"IF(DZ16=Keuzelijsten!$A$17,1,0)","v":0},{"$f":"IF(EA16=Keuzelijsten!$A$17,1,0)","v":0},{"$f":"IF(EB16=Keuzelijsten!$A$17,1,0)","v":0},{"$f":"IF(EC16=Keuzelijsten!$A$17,1,0)","v":0},{"$f":"IF(ED16=Keuzelijsten!$A$17,1,0)","v":0},{"$f":"IF(EE16=Keuzelijsten!$A$17,1,0)","v":0},{"$f":"IF(EF16=Keuzelijsten!$A$17,1,0)","v":0},{"$f":"IF(EG16=Keuzelijsten!$A$17,1,0)","v":0},{"$f":"IF(EH16=Keuzelijsten!$A$17,1,0)","v":0},{"$f":"IF(EI16=Keuzelijsten!$A$17,1,0)","v":0},{"$f":"IF(EJ16=Keuzelijsten!$A$17,1,0)","v":0},{"$f":"IF(EK16=Keuzelijsten!$A$17,1,0)","v":0},{"$f":"IF(EL16=Keuzelijsten!$A$17,1,0)","v":0},{"$f":"IF(EM16=Keuzelijsten!$A$17,1,0)","v":0},{"$f":"IF(EN16=Keuzelijsten!$A$17,1,0)","v":0},{"$f":"IF(EO16=Keuzelijsten!$A$17,1,0)","v":0},{"$f":"IF(EP16=Keuzelijsten!$A$17,1,0)","v":0},{"$f":"IF(EQ16=Keuzelijsten!$A$17,1,0)","v":0},{"$f":"IF(ER16=Keuzelijsten!$A$17,1,0)","v":0},{"$f":"IF(ES16=Keuzelijsten!$A$17,1,0)","v":0},{"$f":"IF(ET16=Keuzelijsten!$A$17,1,0)","v":0},{"$f":"IF(EU16=Keuzelijsten!$A$17,1,0)","v":0},{"$f":"IF(EV16=Keuzelijsten!$A$17,1,0)","v":0},{"$f":"IF(EW16=Keuzelijsten!$A$17,1,0)","v":0},{"$f":"IF(EX16=Keuzelijsten!$A$17,1,0)","v":0},{"$f":"IF(EY16=Keuzelijsten!$A$17,1,0)","v":0},{"$f":"IF(EZ16=Keuzelijsten!$A$17,1,0)","v":0},{"$f":"IF(FA16=Keuzelijsten!$A$17,1,0)","v":0},{"$f":"IF(FB16=Keuzelijsten!$A$17,1,0)","v":0},{"$f":"IF(FC16=Keuzelijsten!$A$17,1,0)","v":0},{"$f":"IF(FD16=Keuzelijsten!$A$17,1,0)","v":0},{"$f":"IF(FE16=Keuzelijsten!$A$17,1,0)","v":0},{"$f":"IF(FF16=Keuzelijsten!$A$17,1,0)","v":0},{"$f":"IF(FG16=Keuzelijsten!$A$17,1,0)","v":0},{"$f":"IF(FH16=Keuzelijsten!$A$17,1,0)","v":0},{"$f":"IF(FI16=Keuzelijsten!$A$17,1,0)","v":0},{"$f":"IF(FJ16=Keuzelijsten!$A$17,1,0)","v":0},{"$f":"IF(FK16=Keuzelijsten!$A$17,1,0)","v":0},{"$f":"IF(FL16=Keuzelijsten!$A$17,1,0)","v":0},{"$f":"IF(FM16=Keuzelijsten!$A$17,1,0)","v":0},{"$f":"IF(FN16=Keuzelijsten!$A$17,1,0)","v":0},{"$f":"IF(FO16=Keuzelijsten!$A$17,1,0)","v":0},{"$f":"IF(FP16=Keuzelijsten!$A$17,1,0)","v":0},{"$f":"IF(FQ16=Keuzelijsten!$A$17,1,0)","v":0},{"$f":"IF(FR16=Keuzelijsten!$A$17,1,0)","v":0},{"$f":"IF(FS16=Keuzelijsten!$A$17,1,0)","v":0},{"$f":"IF(FT16=Keuzelijsten!$A$17,1,0)","v":0},{"$f":"IF(FU16=Keuzelijsten!$A$17,1,0)","v":0},{"$f":"IF(FV16=Keuzelijsten!$A$17,1,0)","v":0},{"$f":"IF(FW16=Keuzelijsten!$A$17,1,0)","v":0},{"$f":"IF(FX16=Keuzelijsten!$A$17,1,0)","v":0},{"$f":"IF(FY16=Keuzelijsten!$A$17,1,0)","v":0},{"$f":"IF(FZ16=Keuzelijsten!$A$17,1,0)","v":0},{"$f":"IF(GA16=Keuzelijsten!$A$17,1,0)","v":0},{"$f":"IF(GB16=Keuzelijsten!$A$17,1,0)","v":0},{"$f":"IF(GC16=Keuzelijsten!$A$17,1,0)","v":0},{"$f":"IF(GD16=Keuzelijsten!$A$17,1,0)","v":0},{"$f":"IF(GE16=Keuzelijsten!$A$17,1,0)","v":0},{"$f":"IF(GF16=Keuzelijsten!$A$17,1,0)","v":0},{"$f":"IF(GG16=Keuzelijsten!$A$17,1,0)","v":0},{"$f":"IF(GH16=Keuzelijsten!$A$17,1,0)","v":0},{"$f":"IF(GI16=Keuzelijsten!$A$17,1,0)","v":0},{"$f":"IF(GJ16=Keuzelijsten!$A$17,1,0)","v":0},{"$f":"IF(GK16=Keuzelijsten!$A$17,1,0)","v":0},{"$f":"IF(GL16=Keuzelijsten!$A$17,1,0)","v":0},{"$f":"IF(GM16=Keuzelijsten!$A$17,1,0)","v":0},{"$f":"IF(GN16=Keuzelijsten!$A$17,1,0)","v":0},{"$f":"IF(GO16=Keuzelijsten!$A$17,1,0)","v":0},{"$f":"IF(GP16=Keuzelijsten!$A$17,1,0)","v":0},{"$f":"IF(GQ16=Keuzelijsten!$A$17,1,0)","v":0},{"$f":"IF(GR16=Keuzelijsten!$A$17,1,0)","v":0},{"$f":"IF(GS16=Keuzelijsten!$A$17,1,0)","v":0},{"$f":"IF(GT16=Keuzelijsten!$A$17,1,0)","v":0}]
["Index toepassing bevochtiging","-",{"$f":"IF(C17=Keuzelijsten!$A$17,1,0)","v":0},{"$f":"IF(D17=Keuzelijsten!$A$17,1,0)","v":0},{"$f":"IF(E17=Keuzelijsten!$A$17,1,0)","v":0},{"$f":"IF(F17=Keuzelijsten!$A$17,1,0)","v":0},{"$f":"IF(G17=Keuzelijsten!$A$17,1,0)","v":0},{"$f":"IF(H17=Keuzelijsten!$A$17,1,0)","v":0},{"$f":"IF(I17=Keuzelijsten!$A$17,1,0)","v":0},{"$f":"IF(J17=Keuzelijsten!$A$17,1,0)","v":0},{"$f":"IF(K17=Keuzelijsten!$A$17,1,0)","v":0},{"$f":"IF(L17=Keuzelijsten!$A$17,1,0)","v":0},{"$f":"IF(M17=Keuzelijsten!$A$17,1,0)","v":0},{"$f":"IF(N17=Keuzelijsten!$A$17,1,0)","v":0},{"$f":"IF(O17=Keuzelijsten!$A$17,1,0)","v":0},{"$f":"IF(P17=Keuzelijsten!$A$17,1,0)","v":0},{"$f":"IF(Q17=Keuzelijsten!$A$17,1,0)","v":0},{"$f":"IF(R17=Keuzelijsten!$A$17,1,0)","v":0},{"$f":"IF(S17=Keuzelijsten!$A$17,1,0)","v":0},{"$f":"IF(T17=Keuzelijsten!$A$17,1,0)","v":0},{"$f":"IF(U17=Keuzelijsten!$A$17,1,0)","v":0},{"$f":"IF(V17=Keuzelijsten!$A$17,1,0)","v":0},{"$f":"IF(W17=Keuzelijsten!$A$17,1,0)","v":0},{"$f":"IF(X17=Keuzelijsten!$A$17,1,0)","v":0},{"$f":"IF(Y17=Keuzelijsten!$A$17,1,0)","v":0},{"$f":"IF(Z17=Keuzelijsten!$A$17,1,0)","v":0},{"$f":"IF(AA17=Keuzelijsten!$A$17,1,0)","v":0},{"$f":"IF(AB17=Keuzelijsten!$A$17,1,0)","v":0},{"$f":"IF(AC17=Keuzelijsten!$A$17,1,0)","v":0},{"$f":"IF(AD17=Keuzelijsten!$A$17,1,0)","v":0},{"$f":"IF(AE17=Keuzelijsten!$A$17,1,0)","v":0},{"$f":"IF(AF17=Keuzelijsten!$A$17,1,0)","v":0},{"$f":"IF(AG17=Keuzelijsten!$A$17,1,0)","v":0},{"$f":"IF(AH17=Keuzelijsten!$A$17,1,0)","v":0},{"$f":"IF(AI17=Keuzelijsten!$A$17,1,0)","v":0},{"$f":"IF(AJ17=Keuzelijsten!$A$17,1,0)","v":0},{"$f":"IF(AK17=Keuzelijsten!$A$17,1,0)","v":0},{"$f":"IF(AL17=Keuzelijsten!$A$17,1,0)","v":0},{"$f":"IF(AM17=Keuzelijsten!$A$17,1,0)","v":0},{"$f":"IF(AN17=Keuzelijsten!$A$17,1,0)","v":0},{"$f":"IF(AO17=Keuzelijsten!$A$17,1,0)","v":0},{"$f":"IF(AP17=Keuzelijsten!$A$17,1,0)","v":0},{"$f":"IF(AQ17=Keuzelijsten!$A$17,1,0)","v":0},{"$f":"IF(AR17=Keuzelijsten!$A$17,1,0)","v":0},{"$f":"IF(AS17=Keuzelijsten!$A$17,1,0)","v":0},{"$f":"IF(AT17=Keuzelijsten!$A$17,1,0)","v":0},{"$f":"IF(AU17=Keuzelijsten!$A$17,1,0)","v":0},{"$f":"IF(AV17=Keuzelijsten!$A$17,1,0)","v":0},{"$f":"IF(AW17=Keuzelijsten!$A$17,1,0)","v":0},{"$f":"IF(AX17=Keuzelijsten!$A$17,1,0)","v":0},{"$f":"IF(AY17=Keuzelijsten!$A$17,1,0)","v":0},{"$f":"IF(AZ17=Keuzelijsten!$A$17,1,0)","v":0},{"$f":"IF(BA17=Keuzelijsten!$A$17,1,0)","v":0},{"$f":"IF(BB17=Keuzelijsten!$A$17,1,0)","v":0},{"$f":"IF(BC17=Keuzelijsten!$A$17,1,0)","v":0},{"$f":"IF(BD17=Keuzelijsten!$A$17,1,0)","v":0},{"$f":"IF(BE17=Keuzelijsten!$A$17,1,0)","v":0},{"$f":"IF(BF17=Keuzelijsten!$A$17,1,0)","v":0},{"$f":"IF(BG17=Keuzelijsten!$A$17,1,0)","v":0},{"$f":"IF(BH17=Keuzelijsten!$A$17,1,0)","v":0},{"$f":"IF(BI17=Keuzelijsten!$A$17,1,0)","v":0},{"$f":"IF(BJ17=Keuzelijsten!$A$17,1,0)","v":0},{"$f":"IF(BK17=Keuzelijsten!$A$17,1,0)","v":0},{"$f":"IF(BL17=Keuzelijsten!$A$17,1,0)","v":0},{"$f":"IF(BM17=Keuzelijsten!$A$17,1,0)","v":0},{"$f":"IF(BN17=Keuzelijsten!$A$17,1,0)","v":0},{"$f":"IF(BO17=Keuzelijsten!$A$17,1,0)","v":0},{"$f":"IF(BP17=Keuzelijsten!$A$17,1,0)","v":0},{"$f":"IF(BQ17=Keuzelijsten!$A$17,1,0)","v":0},{"$f":"IF(BR17=Keuzelijsten!$A$17,1,0)","v":0},{"$f":"IF(BS17=Keuzelijsten!$A$17,1,0)","v":0},{"$f":"IF(BT17=Keuzelijsten!$A$17,1,0)","v":0},{"$f":"IF(BU17=Keuzelijsten!$A$17,1,0)","v":0},{"$f":"IF(BV17=Keuzelijsten!$A$17,1,0)","v":0},{"$f":"IF(BW17=Keuzelijsten!$A$17,1,0)","v":0},{"$f":"IF(BX17=Keuzelijsten!$A$17,1,0)","v":0},{"$f":"IF(BY17=Keuzelijsten!$A$17,1,0)","v":0},{"$f":"IF(BZ17=Keuzelijsten!$A$17,1,0)","v":0},{"$f":"IF(CA17=Keuzelijsten!$A$17,1,0)","v":0},{"$f":"IF(CB17=Keuzelijsten!$A$17,1,0)","v":0},{"$f":"IF(CC17=Keuzelijsten!$A$17,1,0)","v":0},{"$f":"IF(CD17=Keuzelijsten!$A$17,1,0)","v":0},{"$f":"IF(CE17=Keuzelijsten!$A$17,1,0)","v":0},{"$f":"IF(CF17=Keuzelijsten!$A$17,1,0)","v":0},{"$f":"IF(CG17=Keuzelijsten!$A$17,1,0)","v":0},{"$f":"IF(CH17=Keuzelijsten!$A$17,1,0)","v":0},{"$f":"IF(CI17=Keuzelijsten!$A$17,1,0)","v":0},{"$f":"IF(CJ17=Keuzelijsten!$A$17,1,0)","v":0},{"$f":"IF(CK17=Keuzelijsten!$A$17,1,0)","v":0},{"$f":"IF(CL17=Keuzelijsten!$A$17,1,0)","v":0},{"$f":"IF(CM17=Keuzelijsten!$A$17,1,0)","v":0},{"$f":"IF(CN17=Keuzelijsten!$A$17,1,0)","v":0},{"$f":"IF(CO17=Keuzelijsten!$A$17,1,0)","v":0},{"$f":"IF(CP17=Keuzelijsten!$A$17,1,0)","v":0},{"$f":"IF(CQ17=Keuzelijsten!$A$17,1,0)","v":0},{"$f":"IF(CR17=Keuzelijsten!$A$17,1,0)","v":0},{"$f":"IF(CS17=Keuzelijsten!$A$17,1,0)","v":0},{"$f":"IF(CT17=Keuzelijsten!$A$17,1,0)","v":0},{"$f":"IF(CU17=Keuzelijsten!$A$17,1,0)","v":0},{"$f":"IF(CV17=Keuzelijsten!$A$17,1,0)","v":0},{"$f":"IF(CW17=Keuzelijsten!$A$17,1,0)","v":0},{"$f":"IF(CX17=Keuzelijsten!$A$17,1,0)","v":0},{"$f":"IF(CY17=Keuzelijsten!$A$17,1,0)","v":0},{"$f":"IF(CZ17=Keuzelijsten!$A$17,1,0)","v":0},{"$f":"IF(DA17=Keuzelijsten!$A$17,1,0)","v":0},{"$f":"IF(DB17=Keuzelijsten!$A$17,1,0)","v":0},{"$f":"IF(DC17=Keuzelijsten!$A$17,1,0)","v":0},{"$f":"IF(DD17=Keuzelijsten!$A$17,1,0)","v":0},{"$f":"IF(DE17=Keuzelijsten!$A$17,1,0)","v":0},{"$f":"IF(DF17=Keuzelijsten!$A$17,1,0)","v":0},{"$f":"IF(DG17=Keuzelijsten!$A$17,1,0)","v":0},{"$f":"IF(DH17=Keuzelijsten!$A$17,1,0)","v":0},{"$f":"IF(DI17=Keuzelijsten!$A$17,1,0)","v":0},{"$f":"IF(DJ17=Keuzelijsten!$A$17,1,0)","v":0},{"$f":"IF(DK17=Keuzelijsten!$A$17,1,0)","v":0},{"$f":"IF(DL17=Keuzelijsten!$A$17,1,0)","v":0},{"$f":"IF(DM17=Keuzelijsten!$A$17,1,0)","v":0},{"$f":"IF(DN17=Keuzelijsten!$A$17,1,0)","v":0},{"$f":"IF(DO17=Keuzelijsten!$A$17,1,0)","v":0},{"$f":"IF(DP17=Keuzelijsten!$A$17,1,0)","v":0},{"$f":"IF(DQ17=Keuzelijsten!$A$17,1,0)","v":0},{"$f":"IF(DR17=Keuzelijsten!$A$17,1,0)","v":0},{"$f":"IF(DS17=Keuzelijsten!$A$17,1,0)","v":0},{"$f":"IF(DT17=Keuzelijsten!$A$17,1,0)","v":0},{"$f":"IF(DU17=Keuzelijsten!$A$17,1,0)","v":0},{"$f":"IF(DV17=Keuzelijsten!$A$17,1,0)","v":0},{"$f":"IF(DW17=Keuzelijsten!$A$17,1,0)","v":0},{"$f":"IF(DX17=Keuzelijsten!$A$17,1,0)","v":0},{"$f":"IF(DY17=Keuzelijsten!$A$17,1,0)","v":0},{"$f":"IF(DZ17=Keuzelijsten!$A$17,1,0)","v":0},{"$f":"IF(EA17=Keuzelijsten!$A$17,1,0)","v":0},{"$f":"IF(EB17=Keuzelijsten!$A$17,1,0)","v":0},{"$f":"IF(EC17=Keuzelijsten!$A$17,1,0)","v":0},{"$f":"IF(ED17=Keuzelijsten!$A$17,1,0)","v":0},{"$f":"IF(EE17=Keuzelijsten!$A$17,1,0)","v":0},{"$f":"IF(EF17=Keuzelijsten!$A$17,1,0)","v":0},{"$f":"IF(EG17=Keuzelijsten!$A$17,1,0)","v":0},{"$f":"IF(EH17=Keuzelijsten!$A$17,1,0)","v":0},{"$f":"IF(EI17=Keuzelijsten!$A$17,1,0)","v":0},{"$f":"IF(EJ17=Keuzelijsten!$A$17,1,0)","v":0},{"$f":"IF(EK17=Keuzelijsten!$A$17,1,0)","v":0},{"$f":"IF(EL17=Keuzelijsten!$A$17,1,0)","v":0},{"$f":"IF(EM17=Keuzelijsten!$A$17,1,0)","v":0},{"$f":"IF(EN17=Keuzelijsten!$A$17,1,0)","v":0},{"$f":"IF(EO17=Keuzelijsten!$A$17,1,0)","v":0},{"$f":"IF(EP17=Keuzelijsten!$A$17,1,0)","v":0},{"$f":"IF(EQ17=Keuzelijsten!$A$17,1,0)","v":0},{"$f":"IF(ER17=Keuzelijsten!$A$17,1,0)","v":0},{"$f":"IF(ES17=Keuzelijsten!$A$17,1,0)","v":0},{"$f":"IF(ET17=Keuzelijsten!$A$17,1,0)","v":0},{"$f":"IF(EU17=Keuzelijsten!$A$17,1,0)","v":0},{"$f":"IF(EV17=Keuzelijsten!$A$17,1,0)","v":0},{"$f":"IF(EW17=Keuzelijsten!$A$17,1,0)","v":0},{"$f":"IF(EX17=Keuzelijsten!$A$17,1,0)","v":0},{"$f":"IF(EY17=Keuzelijsten!$A$17,1,0)","v":0},{"$f":"IF(EZ17=Keuzelijsten!$A$17,1,0)","v":0},{"$f":"IF(FA17=Keuzelijsten!$A$17,1,0)","v":0},{"$f":"IF(FB17=Keuzelijsten!$A$17,1,0)","v":0},{"$f":"IF(FC17=Keuzelijsten!$A$17,1,0)","v":0},{"$f":"IF(FD17=Keuzelijsten!$A$17,1,0)","v":0},{"$f":"IF(FE17=Keuzelijsten!$A$17,1,0)","v":0},{"$f":"IF(FF17=Keuzelijsten!$A$17,1,0)","v":0},{"$f":"IF(FG17=Keuzelijsten!$A$17,1,0)","v":0},{"$f":"IF(FH17=Keuzelijsten!$A$17,1,0)","v":0},{"$f":"IF(FI17=Keuzelijsten!$A$17,1,0)","v":0},{"$f":"IF(FJ17=Keuzelijsten!$A$17,1,0)","v":0},{"$f":"IF(FK17=Keuzelijsten!$A$17,1,0)","v":0},{"$f":"IF(FL17=Keuzelijsten!$A$17,1,0)","v":0},{"$f":"IF(FM17=Keuzelijsten!$A$17,1,0)","v":0},{"$f":"IF(FN17=Keuzelijsten!$A$17,1,0)","v":0},{"$f":"IF(FO17=Keuzelijsten!$A$17,1,0)","v":0},{"$f":"IF(FP17=Keuzelijsten!$A$17,1,0)","v":0},{"$f":"IF(FQ17=Keuzelijsten!$A$17,1,0)","v":0},{"$f":"IF(FR17=Keuzelijsten!$A$17,1,0)","v":0},{"$f":"IF(FS17=Keuzelijsten!$A$17,1,0)","v":0},{"$f":"IF(FT17=Keuzelijsten!$A$17,1,0)","v":0},{"$f":"IF(FU17=Keuzelijsten!$A$17,1,0)","v":0},{"$f":"IF(FV17=Keuzelijsten!$A$17,1,0)","v":0},{"$f":"IF(FW17=Keuzelijsten!$A$17,1,0)","v":0},{"$f":"IF(FX17=Keuzelijsten!$A$17,1,0)","v":0},{"$f":"IF(FY17=Keuzelijsten!$A$17,1,0)","v":0},{"$f":"IF(FZ17=Keuzelijsten!$A$17,1,0)","v":0},{"$f":"IF(GA17=Keuzelijsten!$A$17,1,0)","v":0},{"$f":"IF(GB17=Keuzelijsten!$A$17,1,0)","v":0},{"$f":"IF(GC17=Keuzelijsten!$A$17,1,0)","v":0},{"$f":"IF(GD17=Keuzelijsten!$A$17,1,0)","v":0},{"$f":"IF(GE17=Keuzelijsten!$A$17,1,0)","v":0},{"$f":"IF(GF17=Keuzelijsten!$A$17,1,0)","v":0},{"$f":"IF(GG17=Keuzelijsten!$A$17,1,0)","v":0},{"$f":"IF(GH17=Keuzelijsten!$A$17,1,0)","v":0},{"$f":"IF(GI17=Keuzelijsten!$A$17,1,0)","v":0},{"$f":"IF(GJ17=Keuzelijsten!$A$17,1,0)","v":0},{"$f":"IF(GK17=Keuzelijsten!$A$17,1,0)","v":0},{"$f":"IF(GL17=Keuzelijsten!$A$17,1,0)","v":0},{"$f":"IF(GM17=Keuzelijsten!$A$17,1,0)","v":0},{"$f":"IF(GN17=Keuzelijsten!$A$17,1,0)","v":0},{"$f":"IF(GO17=Keuzelijsten!$A$17,1,0)","v":0},{"$f":"IF(GP17=Keuzelijsten!$A$17,1,0)","v":0},{"$f":"IF(GQ17=Keuzelijsten!$A$17,1,0)","v":0},{"$f":"IF(GR17=Keuzelijsten!$A$17,1,0)","v":0},{"$f":"IF(GS17=Keuzelijsten!$A$17,1,0)","v":0},{"$f":"IF(GT17=Keuzelijsten!$A$17,1,0)","v":0}]
["Index toepassing koeling","-",{"$f":"IF(C18=Keuzelijsten!$A$17,1,0)","v":0},{"$f":"IF(D18=Keuzelijsten!$A$17,1,0)","v":0},{"$f":"IF(E18=Keuzelijsten!$A$17,1,0)","v":0},{"$f":"IF(F18=Keuzelijsten!$A$17,1,0)","v":0},{"$f":"IF(G18=Keuzelijsten!$A$17,1,0)","v":0},{"$f":"IF(H18=Keuzelijsten!$A$17,1,0)","v":0},{"$f":"IF(I18=Keuzelijsten!$A$17,1,0)","v":0},{"$f":"IF(J18=Keuzelijsten!$A$17,1,0)","v":0},{"$f":"IF(K18=Keuzelijsten!$A$17,1,0)","v":0},{"$f":"IF(L18=Keuzelijsten!$A$17,1,0)","v":0},{"$f":"IF(M18=Keuzelijsten!$A$17,1,0)","v":0},{"$f":"IF(N18=Keuzelijsten!$A$17,1,0)","v":0},{"$f":"IF(O18=Keuzelijsten!$A$17,1,0)","v":0},{"$f":"IF(P18=Keuzelijsten!$A$17,1,0)","v":0},{"$f":"IF(Q18=Keuzelijsten!$A$17,1,0)","v":0},{"$f":"IF(R18=Keuzelijsten!$A$17,1,0)","v":0},{"$f":"IF(S18=Keuzelijsten!$A$17,1,0)","v":0},{"$f":"IF(T18=Keuzelijsten!$A$17,1,0)","v":0},{"$f":"IF(U18=Keuzelijsten!$A$17,1,0)","v":0},{"$f":"IF(V18=Keuzelijsten!$A$17,1,0)","v":0},{"$f":"IF(W18=Keuzelijsten!$A$17,1,0)","v":0},{"$f":"IF(X18=Keuzelijsten!$A$17,1,0)","v":0},{"$f":"IF(Y18=Keuzelijsten!$A$17,1,0)","v":0},{"$f":"IF(Z18=Keuzelijsten!$A$17,1,0)","v":0},{"$f":"IF(AA18=Keuzelijsten!$A$17,1,0)","v":0},{"$f":"IF(AB18=Keuzelijsten!$A$17,1,0)","v":0},{"$f":"IF(AC18=Keuzelijsten!$A$17,1,0)","v":0},{"$f":"IF(AD18=Keuzelijsten!$A$17,1,0)","v":0},{"$f":"IF(AE18=Keuzelijsten!$A$17,1,0)","v":0},{"$f":"IF(AF18=Keuzelijsten!$A$17,1,0)","v":0},{"$f":"IF(AG18=Keuzelijsten!$A$17,1,0)","v":0},{"$f":"IF(AH18=Keuzelijsten!$A$17,1,0)","v":0},{"$f":"IF(AI18=Keuzelijsten!$A$17,1,0)","v":0},{"$f":"IF(AJ18=Keuzelijsten!$A$17,1,0)","v":0},{"$f":"IF(AK18=Keuzelijsten!$A$17,1,0)","v":0},{"$f":"IF(AL18=Keuzelijsten!$A$17,1,0)","v":0},{"$f":"IF(AM18=Keuzelijsten!$A$17,1,0)","v":0},{"$f":"IF(AN18=Keuzelijsten!$A$17,1,0)","v":0},{"$f":"IF(AO18=Keuzelijsten!$A$17,1,0)","v":0},{"$f":"IF(AP18=Keuzelijsten!$A$17,1,0)","v":0},{"$f":"IF(AQ18=Keuzelijsten!$A$17,1,0)","v":0},{"$f":"IF(AR18=Keuzelijsten!$A$17,1,0)","v":0},{"$f":"IF(AS18=Keuzelijsten!$A$17,1,0)","v":0},{"$f":"IF(AT18=Keuzelijsten!$A$17,1,0)","v":0},{"$f":"IF(AU18=Keuzelijsten!$A$17,1,0)","v":0},{"$f":"IF(AV18=Keuzelijsten!$A$17,1,0)","v":0},{"$f":"IF(AW18=Keuzelijsten!$A$17,1,0)","v":0},{"$f":"IF(AX18=Keuzelijsten!$A$17,1,0)","v":0},{"$f":"IF(AY18=Keuzelijsten!$A$17,1,0)","v":0},{"$f":"IF(AZ18=Keuzelijsten!$A$17,1,0)","v":0},{"$f":"IF(BA18=Keuzelijsten!$A$17,1,0)","v":0},{"$f":"IF(BB18=Keuzelijsten!$A$17,1,0)","v":0},{"$f":"IF(BC18=Keuzelijsten!$A$17,1,0)","v":0},{"$f":"IF(BD18=Keuzelijsten!$A$17,1,0)","v":0},{"$f":"IF(BE18=Keuzelijsten!$A$17,1,0)","v":0},{"$f":"IF(BF18=Keuzelijsten!$A$17,1,0)","v":0},{"$f":"IF(BG18=Keuzelijsten!$A$17,1,0)","v":0},{"$f":"IF(BH18=Keuzelijsten!$A$17,1,0)","v":0},{"$f":"IF(BI18=Keuzelijsten!$A$17,1,0)","v":0},{"$f":"IF(BJ18=Keuzelijsten!$A$17,1,0)","v":0},{"$f":"IF(BK18=Keuzelijsten!$A$17,1,0)","v":0},{"$f":"IF(BL18=Keuzelijsten!$A$17,1,0)","v":0},{"$f":"IF(BM18=Keuzelijsten!$A$17,1,0)","v":0},{"$f":"IF(BN18=Keuzelijsten!$A$17,1,0)","v":0},{"$f":"IF(BO18=Keuzelijsten!$A$17,1,0)","v":0},{"$f":"IF(BP18=Keuzelijsten!$A$17,1,0)","v":0},{"$f":"IF(BQ18=Keuzelijsten!$A$17,1,0)","v":0},{"$f":"IF(BR18=Keuzelijsten!$A$17,1,0)","v":0},{"$f":"IF(BS18=Keuzelijsten!$A$17,1,0)","v":0},{"$f":"IF(BT18=Keuzelijsten!$A$17,1,0)","v":0},{"$f":"IF(BU18=Keuzelijsten!$A$17,1,0)","v":0},{"$f":"IF(BV18=Keuzelijsten!$A$17,1,0)","v":0},{"$f":"IF(BW18=Keuzelijsten!$A$17,1,0)","v":0},{"$f":"IF(BX18=Keuzelijsten!$A$17,1,0)","v":0},{"$f":"IF(BY18=Keuzelijsten!$A$17,1,0)","v":0},{"$f":"IF(BZ18=Keuzelijsten!$A$17,1,0)","v":0},{"$f":"IF(CA18=Keuzelijsten!$A$17,1,0)","v":0},{"$f":"IF(CB18=Keuzelijsten!$A$17,1,0)","v":0},{"$f":"IF(CC18=Keuzelijsten!$A$17,1,0)","v":0},{"$f":"IF(CD18=Keuzelijsten!$A$17,1,0)","v":0},{"$f":"IF(CE18=Keuzelijsten!$A$17,1,0)","v":0},{"$f":"IF(CF18=Keuzelijsten!$A$17,1,0)","v":0},{"$f":"IF(CG18=Keuzelijsten!$A$17,1,0)","v":0},{"$f":"IF(CH18=Keuzelijsten!$A$17,1,0)","v":0},{"$f":"IF(CI18=Keuzelijsten!$A$17,1,0)","v":0},{"$f":"IF(CJ18=Keuzelijsten!$A$17,1,0)","v":0},{"$f":"IF(CK18=Keuzelijsten!$A$17,1,0)","v":0},{"$f":"IF(CL18=Keuzelijsten!$A$17,1,0)","v":0},{"$f":"IF(CM18=Keuzelijsten!$A$17,1,0)","v":0},{"$f":"IF(CN18=Keuzelijsten!$A$17,1,0)","v":0},{"$f":"IF(CO18=Keuzelijsten!$A$17,1,0)","v":0},{"$f":"IF(CP18=Keuzelijsten!$A$17,1,0)","v":0},{"$f":"IF(CQ18=Keuzelijsten!$A$17,1,0)","v":0},{"$f":"IF(CR18=Keuzelijsten!$A$17,1,0)","v":0},{"$f":"IF(CS18=Keuzelijsten!$A$17,1,0)","v":0},{"$f":"IF(CT18=Keuzelijsten!$A$17,1,0)","v":0},{"$f":"IF(CU18=Keuzelijsten!$A$17,1,0)","v":0},{"$f":"IF(CV18=Keuzelijsten!$A$17,1,0)","v":0},{"$f":"IF(CW18=Keuzelijsten!$A$17,1,0)","v":0},{"$f":"IF(CX18=Keuzelijsten!$A$17,1,0)","v":0},{"$f":"IF(CY18=Keuzelijsten!$A$17,1,0)","v":0},{"$f":"IF(CZ18=Keuzelijsten!$A$17,1,0)","v":0},{"$f":"IF(DA18=Keuzelijsten!$A$17,1,0)","v":0},{"$f":"IF(DB18=Keuzelijsten!$A$17,1,0)","v":0},{"$f":"IF(DC18=Keuzelijsten!$A$17,1,0)","v":0},{"$f":"IF(DD18=Keuzelijsten!$A$17,1,0)","v":0},{"$f":"IF(DE18=Keuzelijsten!$A$17,1,0)","v":0},{"$f":"IF(DF18=Keuzelijsten!$A$17,1,0)","v":0},{"$f":"IF(DG18=Keuzelijsten!$A$17,1,0)","v":0},{"$f":"IF(DH18=Keuzelijsten!$A$17,1,0)","v":0},{"$f":"IF(DI18=Keuzelijsten!$A$17,1,0)","v":0},{"$f":"IF(DJ18=Keuzelijsten!$A$17,1,0)","v":0},{"$f":"IF(DK18=Keuzelijsten!$A$17,1,0)","v":0},{"$f":"IF(DL18=Keuzelijsten!$A$17,1,0)","v":0},{"$f":"IF(DM18=Keuzelijsten!$A$17,1,0)","v":0},{"$f":"IF(DN18=Keuzelijsten!$A$17,1,0)","v":0},{"$f":"IF(DO18=Keuzelijsten!$A$17,1,0)","v":0},{"$f":"IF(DP18=Keuzelijsten!$A$17,1,0)","v":0},{"$f":"IF(DQ18=Keuzelijsten!$A$17,1,0)","v":0},{"$f":"IF(DR18=Keuzelijsten!$A$17,1,0)","v":0},{"$f":"IF(DS18=Keuzelijsten!$A$17,1,0)","v":0},{"$f":"IF(DT18=Keuzelijsten!$A$17,1,0)","v":0},{"$f":"IF(DU18=Keuzelijsten!$A$17,1,0)","v":0},{"$f":"IF(DV18=Keuzelijsten!$A$17,1,0)","v":0},{"$f":"IF(DW18=Keuzelijsten!$A$17,1,0)","v":0},{"$f":"IF(DX18=Keuzelijsten!$A$17,1,0)","v":0},{"$f":"IF(DY18=Keuzelijsten!$A$17,1,0)","v":0},{"$f":"IF(DZ18=Keuzelijsten!$A$17,1,0)","v":0},{"$f":"IF(EA18=Keuzelijsten!$A$17,1,0)","v":0},{"$f":"IF(EB18=Keuzelijsten!$A$17,1,0)","v":0},{"$f":"IF(EC18=Keuzelijsten!$A$17,1,0)","v":0},{"$f":"IF(ED18=Keuzelijsten!$A$17,1,0)","v":0},{"$f":"IF(EE18=Keuzelijsten!$A$17,1,0)","v":0},{"$f":"IF(EF18=Keuzelijsten!$A$17,1,0)","v":0},{"$f":"IF(EG18=Keuzelijsten!$A$17,1,0)","v":0},{"$f":"IF(EH18=Keuzelijsten!$A$17,1,0)","v":0},{"$f":"IF(EI18=Keuzelijsten!$A$17,1,0)","v":0},{"$f":"IF(EJ18=Keuzelijsten!$A$17,1,0)","v":0},{"$f":"IF(EK18=Keuzelijsten!$A$17,1,0)","v":0},{"$f":"IF(EL18=Keuzelijsten!$A$17,1,0)","v":0},{"$f":"IF(EM18=Keuzelijsten!$A$17,1,0)","v":0},{"$f":"IF(EN18=Keuzelijsten!$A$17,1,0)","v":0},{"$f":"IF(EO18=Keuzelijsten!$A$17,1,0)","v":0},{"$f":"IF(EP18=Keuzelijsten!$A$17,1,0)","v":0},{"$f":"IF(EQ18=Keuzelijsten!$A$17,1,0)","v":0},{"$f":"IF(ER18=Keuzelijsten!$A$17,1,0)","v":0},{"$f":"IF(ES18=Keuzelijsten!$A$17,1,0)","v":0},{"$f":"IF(ET18=Keuzelijsten!$A$17,1,0)","v":0},{"$f":"IF(EU18=Keuzelijsten!$A$17,1,0)","v":0},{"$f":"IF(EV18=Keuzelijsten!$A$17,1,0)","v":0},{"$f":"IF(EW18=Keuzelijsten!$A$17,1,0)","v":0},{"$f":"IF(EX18=Keuzelijsten!$A$17,1,0)","v":0},{"$f":"IF(EY18=Keuzelijsten!$A$17,1,0)","v":0},{"$f":"IF(EZ18=Keuzelijsten!$A$17,1,0)","v":0},{"$f":"IF(FA18=Keuzelijsten!$A$17,1,0)","v":0},{"$f":"IF(FB18=Keuzelijsten!$A$17,1,0)","v":0},{"$f":"IF(FC18=Keuzelijsten!$A$17,1,0)","v":0},{"$f":"IF(FD18=Keuzelijsten!$A$17,1,0)","v":0},{"$f":"IF(FE18=Keuzelijsten!$A$17,1,0)","v":0},{"$f":"IF(FF18=Keuzelijsten!$A$17,1,0)","v":0},{"$f":"IF(FG18=Keuzelijsten!$A$17,1,0)","v":0},{"$f":"IF(FH18=Keuzelijsten!$A$17,1,0)","v":0},{"$f":"IF(FI18=Keuzelijsten!$A$17,1,0)","v":0},{"$f":"IF(FJ18=Keuzelijsten!$A$17,1,0)","v":0},{"$f":"IF(FK18=Keuzelijsten!$A$17,1,0)","v":0},{"$f":"IF(FL18=Keuzelijsten!$A$17,1,0)","v":0},{"$f":"IF(FM18=Keuzelijsten!$A$17,1,0)","v":0},{"$f":"IF(FN18=Keuzelijsten!$A$17,1,0)","v":0},{"$f":"IF(FO18=Keuzelijsten!$A$17,1,0)","v":0},{"$f":"IF(FP18=Keuzelijsten!$A$17,1,0)","v":0},{"$f":"IF(FQ18=Keuzelijsten!$A$17,1,0)","v":0},{"$f":"IF(FR18=Keuzelijsten!$A$17,1,0)","v":0},{"$f":"IF(FS18=Keuzelijsten!$A$17,1,0)","v":0},{"$f":"IF(FT18=Keuzelijsten!$A$17,1,0)","v":0},{"$f":"IF(FU18=Keuzelijsten!$A$17,1,0)","v":0},{"$f":"IF(FV18=Keuzelijsten!$A$17,1,0)","v":0},{"$f":"IF(FW18=Keuzelijsten!$A$17,1,0)","v":0},{"$f":"IF(FX18=Keuzelijsten!$A$17,1,0)","v":0},{"$f":"IF(FY18=Keuzelijsten!$A$17,1,0)","v":0},{"$f":"IF(FZ18=Keuzelijsten!$A$17,1,0)","v":0},{"$f":"IF(GA18=Keuzelijsten!$A$17,1,0)","v":0},{"$f":"IF(GB18=Keuzelijsten!$A$17,1,0)","v":0},{"$f":"IF(GC18=Keuzelijsten!$A$17,1,0)","v":0},{"$f":"IF(GD18=Keuzelijsten!$A$17,1,0)","v":0},{"$f":"IF(GE18=Keuzelijsten!$A$17,1,0)","v":0},{"$f":"IF(GF18=Keuzelijsten!$A$17,1,0)","v":0},{"$f":"IF(GG18=Keuzelijsten!$A$17,1,0)","v":0},{"$f":"IF(GH18=Keuzelijsten!$A$17,1,0)","v":0},{"$f":"IF(GI18=Keuzelijsten!$A$17,1,0)","v":0},{"$f":"IF(GJ18=Keuzelijsten!$A$17,1,0)","v":0},{"$f":"IF(GK18=Keuzelijsten!$A$17,1,0)","v":0},{"$f":"IF(GL18=Keuzelijsten!$A$17,1,0)","v":0},{"$f":"IF(GM18=Keuzelijsten!$A$17,1,0)","v":0},{"$f":"IF(GN18=Keuzelijsten!$A$17,1,0)","v":0},{"$f":"IF(GO18=Keuzelijsten!$A$17,1,0)","v":0},{"$f":"IF(GP18=Keuzelijsten!$A$17,1,0)","v":0},{"$f":"IF(GQ18=Keuzelijsten!$A$17,1,0)","v":0},{"$f":"IF(GR18=Keuzelijsten!$A$17,1,0)","v":0},{"$f":"IF(GS18=Keuzelijsten!$A$17,1,0)","v":0},{"$f":"IF(GT18=Keuzelijsten!$A$17,1,0)","v":0}]
[]
["op basis van het eindenergieverbruik"]
["Index EPB-software","-",2,2,2,2,2,2,2,2,2,2,2,2,2,2,2,2,2,2,2,2,2,2,2,2,2,2,2,2,2,2,2,2,2,2,2,2,2,2,2,2,2,2,2,2,2,2,2,2,2,2,2,2,2,2,2,2,2,2,2,2,2,2,2,2,2,2,2,2,2,2,2,2,2,2,2,2,2,2,2,2,2,2,2,2,2,2,2,2,2,2,2,2,2,2,2,2,2,2,2,2,2,2,2,2,2,2,2,2,2,2,2,2,2,2,2,2,2,2,2,2,2,2,2,2,2,2,2,2,2,2,2,2,2,2,2,2,2,2,2,2,2,2,2,2,2,2,2,2,2,2,2,2,2,2,2,2,2,2,2,2,2,2,2,2,2,2,2,2,2,2,2,2,2,2,2,2,2,2,2,2,2,2,2,2,2,2,2,2,2,2,2,2,2,2,2,2,2,2,2,2]
["Eindenergieverbruik RVW","MJ",{"$f":"IF(C$64=3,IF(C41=1,C$26,0),0)","v":0},{"$f":"IF(D$64=3,IF(D41=1,D$26,0),0)","v":0},{"$f":"IF(E$64=3,IF(E41=1,E$26,0),0)","v":0},{"$f":"IF(F$64=3,IF(F41=1,F$26,0),0)","v":0},0,{"$f":"IF(H$64=3,IF(H41=1,H$26,0),0)","v":0},0,0,0,0,0,0,0,0,0,0,0,0,0,0,0,0,0,0,0,0,0,0,0,0,0,0,0,0,0,0,0,0,0,0,0,0,0,0,0,0,0,0,0,0,0,0,0,0,0,0,0,0,0,0,0,0,0,0,0,0,0,0,0,{"$f":"IF(BT$64=3,IF(BT41=1,BT$26,0),0)","v":0},0,0,0,0,0,0,0,0,0,0,0,0,0,0,0,0,0,0,0,0,0,0,0,0,0,0,0,0,0,0,0,0,0,0,0,0,0,0,0,0,0,0,0,0,0,0,0,0,0,0,0,0,0,0,0,0,0,0,0,0,0,0,0,{"$f":"IF(EF$64=3,IF(EF41=1,EF$26,0),0)","v":0},0,0,0,0,0,0,0,0,0,0,0,0,0,0,0,0,0,0,0,0,0,0,0,0,0,0,0,0,0,0,0,0,0,0,0,0,0,0,0,0,0,0,0,0,0,0,0,0,0,0,0,0,0,0,0,0,0,0,0,0,0,0,0,{"$f":"IF(GR$64=3,IF(GR41=1,GR$26,0),0)","v":0},0,0]
["Eindenergieverbruik SWW alle tappunten","MJ",{"$f":"IF(C$64=3,IF(OR(C40=1,C40=3),IF(C42=1,IF(C47=2,C$27,0),0),0),0)","v":0},{"$f":"IF(D$64=3,IF(OR(D40=1,D40=3),IF(D42=1,IF(D47=2,D$27,0),0),0),0)","v":0},{"$f":"IF(E$64=3,IF(OR(E40=1,E40=3),IF(E42=1,IF(E47=2,E$27,0),0),0),0)","v":0},{"$f":"IF(F$64=3,IF(OR(F40=1,F40=3),IF(F42=1,IF(F47=2,F$27,0),0),0),0)","v":0},0,{"$f":"IF(H$64=3,IF(OR(H40=1,H40=3),IF(H42=1,IF(H47=2,H$27,0),0),0),0)","v":0},0,0,0,0,0,0,0,0,0,0,0,0,0,0,0,0,0,0,0,0,0,0,0,0,0,0,0,0,0,0,0,0,0,0,0,0,0,0,0,0,0,0,0,0,0,0,0,0,0,0,0,0,0,0,0,0,0,0,0,0,0,0,0,{"$f":"IF(BT$64=3,IF(OR(BT40=1,BT40=3),IF(BT42=1,IF(BT47=2,BT$27,0),0),0),0)","v":0},0,0,0,0,0,0,0,0,0,0,0,0,0,0,0,0,0,0,0,0,0,0,0,0,0,0,0,0,0,0,0,0,0,0,0,0,0,0,0,0,0,0,0,0,0,0,0,0,0,0,0,0,0,0,0,0,0,0,0,0,0,0,0,{"$f":"IF(EF$64=3,IF(OR(EF40=1,EF40=3),IF(EF42=1,IF(EF47=2,EF$27,0),0),0),0)","v":0},0,0,0,0,0,0,0,0,0,0,0,0,0,0,0,0,0,0,0,0,0,0,0,0,0,0,0,0,0,0,0,0,0,0,0,0,0,0,0,0,0,0,0,0,0,0,0,0,0,0,0,0,0,0,0,0,0,0,0,0,0,0,0,{"$f":"IF(GR$64=3,IF(OR(GR40=1,GR40=3),IF(GR42=1,IF(GR47=2,GR$27,0),0),0),0)","v":0},0,0]
["Eindenergieverbruik van tappunt 1","MJ",{"$f":"IF(C$64=3,IF(OR(C40=1,C40=3),IF(C42=1,IF(C47=1,C$28,0),0),0),0)","v":0},{"$f":"IF(D$64=3,IF(OR(D40=1,D40=3),IF(D42=1,IF(D47=1,D$28,0),0),0),0)","v":0},{"$f":"IF(E$64=3,IF(OR(E40=1,E40=3),IF(E42=1,IF(E47=1,E$28,0),0),0),0)","v":0},{"$f":"IF(F$64=3,IF(OR(F40=1,F40=3),IF(F42=1,IF(F47=1,F$28,0),0),0),0)","v":0},0,{"$f":"IF(H$64=3,IF(OR(H40=1,H40=3),IF(H42=1,IF(H47=1,H$28,0),0),0),0)","v":0},0,0,0,0,0,0,0,0,0,0,0,0,0,0,0,0,0,0,0,0,0,0,0,0,0,0,0,0,0,0,0,0,0,0,0,0,0,0,0,0,0,0,0,0,0,0,0,0,0,0,0,0,0,0,0,0,0,0,0,0,0,0,0,{"$f":"IF(BT$64=3,IF(OR(BT40=1,BT40=3),IF(BT42=1,IF(BT47=1,BT$28,0),0),0),0)","v":0},0,0,0,0,0,0,0,0,0,0,0,0,0,0,0,0,0,0,0,0,0,0,0,0,0,0,0,0,0,0,0,0,0,0,0,0,0,0,0,0,0,0,0,0,0,0,0,0,0,0,0,0,0,0,0,0,0,0,0,0,0,0,0,{"$f":"IF(EF$64=3,IF(OR(EF40=1,EF40=3),IF(EF42=1,IF(EF47=1,EF$28,0),0),0),0)","v":0},0,0,0,0,0,0,0,0,0,0,0,0,0,0,0,0,0,0,0,0,0,0,0,0,0,0,0,0,0,0,0,0,0,0,0,0,0,0,0,0,0,0,0,0,0,0,0,0,0,0,0,0,0,0,0,0,0,0,0,0,0,0,0,{"$f":"IF(GR$64=3,IF(OR(GR40=1,GR40=3),IF(GR42=1,IF(GR47=1,GR$28,0),0),0),0)","v":0},0,0]
["Eindenergieverbruik van tappunt 2","MJ",{"$f":"IF(C$64=3,IF(OR(C40=1,C40=3),IF(C42=1,IF(C47=1,C$29,0),0),0),0)","v":0},{"$f":"IF(D$64=3,IF(OR(D40=1,D40=3),IF(D42=1,IF(D47=1,D$29,0),0),0),0)","v":0},{"$f":"IF(E$64=3,IF(OR(E40=1,E40=3),IF(E42=1,IF(E47=1,E$29,0),0),0),0)","v":0},{"$f":"IF(F$64=3,IF(OR(F40=1,F40=3),IF(F42=1,IF(F47=1,F$29,0),0),0),0)","v":0},0,{"$f":"IF(H$64=3,IF(OR(H40=1,H40=3),IF(H42=1,IF(H47=1,H$29,0),0),0),0)","v":0},0,0,0,0,0,0,0,0,0,0,0,0,0,0,0,0,0,0,0,0,0,0,0,0,0,0,0,0,0,0,0,0,0,0,0,0,0,0,0,0,0,0,0,0,0,0,0,0,0,0,0,0,0,0,0,0,0,0,0,0,0,0,0,{"$f":"IF(BT$64=3,IF(OR(BT40=1,BT40=3),IF(BT42=1,IF(BT47=1,BT$29,0),0),0),0)","v":0},0,0,0,0,0,0,0,0,0,0,0,0,0,0,0,0,0,0,0,0,0,0,0,0,0,0,0,0,0,0,0,0,0,0,0,0,0,0,0,0,0,0,0,0,0,0,0,0,0,0,0,0,0,0,0,0,0,0,0,0,0,0,0,{"$f":"IF(EF$64=3,IF(OR(EF40=1,EF40=3),IF(EF42=1,IF(EF47=1,EF$29,0),0),0),0)","v":0},0,0,0,0,0,0,0,0,0,0,0,0,0,0,0,0,0,0,0,0,0,0,0,0,0,0,0,0,0,0,0,0,0,0,0,0,0,0,0,0,0,0,0,0,0,0,0,0,0,0,0,0,0,0,0,0,0,0,0,0,0,0,0,{"$f":"IF(GR$64=3,IF(OR(GR40=1,GR40=3),IF(GR42=1,IF(GR47=1,GR$29,0),0),0),0)","v":0},0,0]
["Eindenergieverbruik van tappunt 3","MJ",{"$f":"IF(C$64=3,IF(OR(C40=1,C40=3),IF(C42=1,IF(C47=1,C$30,0),0),0),0)","v":0},{"$f":"IF(D$64=3,IF(OR(D40=1,D40=3),IF(D42=1,IF(D47=1,D$30,0),0),0),0)","v":0},{"$f":"IF(E$64=3,IF(OR(E40=1,E40=3),IF(E42=1,IF(E47=1,E$30,0),0),0),0)","v":0},{"$f":"IF(F$64=3,IF(OR(F40=1,F40=3),IF(F42=1,IF(F47=1,F$30,0),0),0),0)","v":0},0,{"$f":"IF(H$64=3,IF(OR(H40=1,H40=3),IF(H42=1,IF(H47=1,H$30,0),0),0),0)","v":0},0,0,0,0,0,0,0,0,0,0,0,0,0,0,0,0,0,0,0,0,0,0,0,0,0,0,0,0,0,0,0,0,0,0,0,0,0,0,0,0,0,0,0,0,0,0,0,0,0,0,0,0,0,0,0,0,0,0,0,0,0,0,0,{"$f":"IF(BT$64=3,IF(OR(BT40=1,BT40=3),IF(BT42=1,IF(BT47=1,BT$30,0),0),0),0)","v":0},0,0,0,0,0,0,0,0,0,0,0,0,0,0,0,0,0,0,0,0,0,0,0,0,0,0,0,0,0,0,0,0,0,0,0,0,0,0,0,0,0,0,0,0,0,0,0,0,0,0,0,0,0,0,0,0,0,0,0,0,0,0,0,{"$f":"IF(EF$64=3,IF(OR(EF40=1,EF40=3),IF(EF42=1,IF(EF47=1,EF$30,0),0),0),0)","v":0},0,0,0,0,0,0,0,0,0,0,0,0,0,0,0,0,0,0,0,0,0,0,0,0,0,0,0,0,0,0,0,0,0,0,0,0,0,0,0,0,0,0,0,0,0,0,0,0,0,0,0,0,0,0,0,0,0,0,0,0,0,0,0,{"$f":"IF(GR$64=3,IF(OR(GR40=1,GR40=3),IF(GR42=1,IF(GR47=1,GR$30,0),0),0),0)","v":0},0,0]
["Eindenergieverbruik bevochtiging","MJ",{"$f":"IF(C$64=3,IF(OR(C40=2,C40=3),IF(C43=1,C$31,0),0),0)","v":0},{"$f":"IF(D$64=3,IF(OR(D40=2,D40=3),IF(D43=1,D$31,0),0),0)","v":0},{"$f":"IF(E$64=3,IF(OR(E40=2,E40=3),IF(E43=1,E$31,0),0),0)","v":0},{"$f":"IF(F$64=3,IF(OR(F40=2,F40=3),IF(F43=1,F$31,0),0),0)","v":0},0,{"$f":"IF(H$64=3,IF(OR(H40=2,H40=3),IF(H43=1,H$31,0),0),0)","v":0},0,0,0,0,0,0,0,0,0,0,0,0,0,0,0,0,0,0,0,0,0,0,0,0,0,0,0,0,0,0,0,0,0,0,0,0,0,0,0,0,0,0,0,0,0,0,0,0,0,0,0,0,0,0,0,0,0,0,0,0,0,0,0,{"$f":"IF(BT$64=3,IF(OR(BT40=2,BT40=3),IF(BT43=1,BT$31,0),0),0)","v":0},0,0,0,0,0,0,0,0,0,0,0,0,0,0,0,0,0,0,0,0,0,0,0,0,0,0,0,0,0,0,0,0,0,0,0,0,0,0,0,0,0,0,0,0,0,0,0,0,0,0,0,0,0,0,0,0,0,0,0,0,0,0,0,{"$f":"IF(EF$64=3,IF(OR(EF40=2,EF40=3),IF(EF43=1,EF$31,0),0),0)","v":0},0,0,0,0,0,0,0,0,0,0,0,0,0,0,0,0,0,0,0,0,0,0,0,0,0,0,0,0,0,0,0,0,0,0,0,0,0,0,0,0,0,0,0,0,0,0,0,0,0,0,0,0,0,0,0,0,0,0,0,0,0,0,0,{"$f":"IF(GR$64=3,IF(OR(GR40=2,GR40=3),IF(GR43=1,GR$31,0),0),0)","v":0},0,0]
["Eindenergieverbruik koeling","MJ",{"$f":"IF(C$64=3,IF(OR(C40=2,C40=3),IF(C44=1,C$32,0),0),0)","v":0},{"$f":"IF(D$64=3,IF(OR(D40=2,D40=3),IF(D44=1,D$32,0),0),0)","v":0},{"$f":"IF(E$64=3,IF(OR(E40=2,E40=3),IF(E44=1,E$32,0),0),0)","v":0},{"$f":"IF(F$64=3,IF(OR(F40=2,F40=3),IF(F44=1,F$32,0),0),0)","v":0},0,{"$f":"IF(H$64=3,IF(OR(H40=2,H40=3),IF(H44=1,H$32,0),0),0)","v":0},0,0,0,0,0,0,0,0,0,0,0,0,0,0,0,0,0,0,0,0,0,0,0,0,0,0,0,0,0,0,0,0,0,0,0,0,0,0,0,0,0,0,0,0,0,0,0,0,0,0,0,0,0,0,0,0,0,0,0,0,0,0,0,{"$f":"IF(BT$64=3,IF(OR(BT40=2,BT40=3),IF(BT44=1,BT$32,0),0),0)","v":0},0,0,0,0,0,0,0,0,0,0,0,0,0,0,0,0,0,0,0,0,0,0,0,0,0,0,0,0,0,0,0,0,0,0,0,0,0,0,0,0,0,0,0,0,0,0,0,0,0,0,0,0,0,0,0,0,0,0,0,0,0,0,0,{"$f":"IF(EF$64=3,IF(OR(EF40=2,EF40=3),IF(EF44=1,EF$32,0),0),0)","v":0},0,0,0,0,0,0,0,0,0,0,0,0,0,0,0,0,0,0,0,0,0,0,0,0,0,0,0,0,0,0,0,0,0,0,0,0,0,0,0,0,0,0,0,0,0,0,0,0,0,0,0,0,0,0,0,0,0,0,0,0,0,0,0,{"$f":"IF(GR$64=3,IF(OR(GR40=2,GR40=3),IF(GR44=1,GR$32,0),0),0)","v":0},0,0]
["op basis van de bruikbare vloeroppervlakte"]
["Index type warmtevrager","-",{"$f":"IF(C$64=4,IF(C$33=\"\",0,VLOOKUP(C$33,T_TypeWarmtevrager,2,FALSE)),0)","v":0},0,0,0,0,0,0,0,0,0,0,0,0,0,0,0,0,0,0,0,0,0,0,0,0,0,0,0,0,0,0,0,0,0,0,0,0,0,0,0,0,0,0,0,0,0,0,0,0,0,0,0,0,0,0,0,0,0,0,0,0,0,0,0,0,0,0,0,0,0,0,0,0,0,0,0,0,0,0,0,0,0,0,0,0,0,0,0,0,0,0,0,0,0,0,0,0,0,0,0,0,0,0,0,0,0,0,0,0,0,0,0,0,0,0,0,0,0,0,0,0,0,0,0,0,0,0,0,0,0,0,0,0,0,0,0,0,0,0,0,0,0,0,0,0,0,0,0,0,0,0,0,0,0,0,0,0,0,0,0,0,0,0,0,0,0,0,0,0,0,0,0,0,0,0,0,0,0,0,0,0,0,0,0,0,0,0,0,0,0,0,0,0,0,0,0,0,0,0,0]
["Warmtevrager = appartement","MJ",{"$f":"IF(C$56=1,IF(C$34=Keuzelijsten!$A$17,C$35*HLOOKUP(3,Keuzelijsten!$C$53:$E$58,2,FALSE),Keuzelijsten!$M$54*HLOOKUP(3,Keuzelijsten!$C$53:$E$58,2,FALSE)),0)","v":0},{"$f":"IF(D$56=1,IF(D$34=Keuzelijsten!$A$17,D$35*HLOOKUP(3,Keuzelijsten!$C$53:$E$58,2,FALSE),Keuzelijsten!$M$54*HLOOKUP(3,Keuzelijsten!$C$53:$E$58,2,FALSE)),0)","v":0},{"$f":"IF(E$56=1,IF(E$34=Keuzelijsten!$A$17,E$35*HLOOKUP(3,Keuzelijsten!$C$53:$E$58,2,FALSE),Keuzelijsten!$M$54*HLOOKUP(3,Keuzelijsten!$C$53:$E$58,2,FALSE)),0)","v":0},{"$f":"IF(F$56=1,IF(F$34=Keuzelijsten!$A$17,F$35*HLOOKUP(3,Keuzelijsten!$C$53:$E$58,2,FALSE),Keuzelijsten!$M$54*HLOOKUP(3,Keuzelijsten!$C$53:$E$58,2,FALSE)),0)","v":0},{"$f":"IF(G$56=1,IF(G$34=Keuzelijsten!$A$17,G$35*HLOOKUP(3,Keuzelijsten!$C$53:$E$58,2,FALSE),Keuzelijsten!$M$54*HLOOKUP(3,Keuzelijsten!$C$53:$E$58,2,FALSE)),0)","v":0},{"$f":"IF(H$56=1,IF(H$34=Keuzelijsten!$A$17,H$35*HLOOKUP(3,Keuzelijsten!$C$53:$E$58,2,FALSE),Keuzelijsten!$M$54*HLOOKUP(3,Keuzelijsten!$C$53:$E$58,2,FALSE)),0)","v":0},{"$f":"IF(I$56=1,IF(I$34=Keuzelijsten!$A$17,I$35*HLOOKUP(3,Keuzelijsten!$C$53:$E$58,2,FALSE),Keuzelijsten!$M$54*HLOOKUP(3,Keuzelijsten!$C$53:$E$58,2,FALSE)),0)","v":0},{"$f":"IF(J$56=1,IF(J$34=Keuzelijsten!$A$17,J$35*HLOOKUP(3,Keuzelijsten!$C$53:$E$58,2,FALSE),Keuzelijsten!$M$54*HLOOKUP(3,Keuzelijsten!$C$53:$E$58,2,FALSE)),0)","v":0},{"$f":"IF(K$56=1,IF(K$34=Keuzelijsten!$A$17,K$35*HLOOKUP(3,Keuzelijsten!$C$53:$E$58,2,FALSE),Keuzelijsten!$M$54*HLOOKUP(3,Keuzelijsten!$C$53:$E$58,2,FALSE)),0)","v":0},{"$f":"IF(L$56=1,IF(L$34=Keuzelijsten!$A$17,L$35*HLOOKUP(3,Keuzelijsten!$C$53:$E$58,2,FALSE),Keuzelijsten!$M$54*HLOOKUP(3,Keuzelijsten!$C$53:$E$58,2,FALSE)),0)","v":0},{"$f":"IF(M$56=1,IF(M$34=Keuzelijsten!$A$17,M$35*HLOOKUP(3,Keuzelijsten!$C$53:$E$58,2,FALSE),Keuzelijsten!$M$54*HLOOKUP(3,Keuzelijsten!$C$53:$E$58,2,FALSE)),0)","v":0},{"$f":"IF(N$56=1,IF(N$34=Keuzelijsten!$A$17,N$35*HLOOKUP(3,Keuzelijsten!$C$53:$E$58,2,FALSE),Keuzelijsten!$M$54*HLOOKUP(3,Keuzelijsten!$C$53:$E$58,2,FALSE)),0)","v":0},{"$f":"IF(O$56=1,IF(O$34=Keuzelijsten!$A$17,O$35*HLOOKUP(3,Keuzelijsten!$C$53:$E$58,2,FALSE),Keuzelijsten!$M$54*HLOOKUP(3,Keuzelijsten!$C$53:$E$58,2,FALSE)),0)","v":0},{"$f":"IF(P$56=1,IF(P$34=Keuzelijsten!$A$17,P$35*HLOOKUP(3,Keuzelijsten!$C$53:$E$58,2,FALSE),Keuzelijsten!$M$54*HLOOKUP(3,Keuzelijsten!$C$53:$E$58,2,FALSE)),0)","v":0},{"$f":"IF(Q$56=1,IF(Q$34=Keuzelijsten!$A$17,Q$35*HLOOKUP(3,Keuzelijsten!$C$53:$E$58,2,FALSE),Keuzelijsten!$M$54*HLOOKUP(3,Keuzelijsten!$C$53:$E$58,2,FALSE)),0)","v":0},{"$f":"IF(R$56=1,IF(R$34=Keuzelijsten!$A$17,R$35*HLOOKUP(3,Keuzelijsten!$C$53:$E$58,2,FALSE),Keuzelijsten!$M$54*HLOOKUP(3,Keuzelijsten!$C$53:$E$58,2,FALSE)),0)","v":0},{"$f":"IF(S$56=1,IF(S$34=Keuzelijsten!$A$17,S$35*HLOOKUP(3,Keuzelijsten!$C$53:$E$58,2,FALSE),Keuzelijsten!$M$54*HLOOKUP(3,Keuzelijsten!$C$53:$E$58,2,FALSE)),0)","v":0},{"$f":"IF(T$56=1,IF(T$34=Keuzelijsten!$A$17,T$35*HLOOKUP(3,Keuzelijsten!$C$53:$E$58,2,FALSE),Keuzelijsten!$M$54*HLOOKUP(3,Keuzelijsten!$C$53:$E$58,2,FALSE)),0)","v":0},{"$f":"IF(U$56=1,IF(U$34=Keuzelijsten!$A$17,U$35*HLOOKUP(3,Keuzelijsten!$C$53:$E$58,2,FALSE),Keuzelijsten!$M$54*HLOOKUP(3,Keuzelijsten!$C$53:$E$58,2,FALSE)),0)","v":0},{"$f":"IF(V$56=1,IF(V$34=Keuzelijsten!$A$17,V$35*HLOOKUP(3,Keuzelijsten!$C$53:$E$58,2,FALSE),Keuzelijsten!$M$54*HLOOKUP(3,Keuzelijsten!$C$53:$E$58,2,FALSE)),0)","v":0},{"$f":"IF(W$56=1,IF(W$34=Keuzelijsten!$A$17,W$35*HLOOKUP(3,Keuzelijsten!$C$53:$E$58,2,FALSE),Keuzelijsten!$M$54*HLOOKUP(3,Keuzelijsten!$C$53:$E$58,2,FALSE)),0)","v":0},{"$f":"IF(X$56=1,IF(X$34=Keuzelijsten!$A$17,X$35*HLOOKUP(3,Keuzelijsten!$C$53:$E$58,2,FALSE),Keuzelijsten!$M$54*HLOOKUP(3,Keuzelijsten!$C$53:$E$58,2,FALSE)),0)","v":0},{"$f":"IF(Y$56=1,IF(Y$34=Keuzelijsten!$A$17,Y$35*HLOOKUP(3,Keuzelijsten!$C$53:$E$58,2,FALSE),Keuzelijsten!$M$54*HLOOKUP(3,Keuzelijsten!$C$53:$E$58,2,FALSE)),0)","v":0},{"$f":"IF(Z$56=1,IF(Z$34=Keuzelijsten!$A$17,Z$35*HLOOKUP(3,Keuzelijsten!$C$53:$E$58,2,FALSE),Keuzelijsten!$M$54*HLOOKUP(3,Keuzelijsten!$C$53:$E$58,2,FALSE)),0)","v":0},{"$f":"IF(AA$56=1,IF(AA$34=Keuzelijsten!$A$17,AA$35*HLOOKUP(3,Keuzelijsten!$C$53:$E$58,2,FALSE),Keuzelijsten!$M$54*HLOOKUP(3,Keuzelijsten!$C$53:$E$58,2,FALSE)),0)","v":0},{"$f":"IF(AB$56=1,IF(AB$34=Keuzelijsten!$A$17,AB$35*HLOOKUP(3,Keuzelijsten!$C$53:$E$58,2,FALSE),Keuzelijsten!$M$54*HLOOKUP(3,Keuzelijsten!$C$53:$E$58,2,FALSE)),0)","v":0},{"$f":"IF(AC$56=1,IF(AC$34=Keuzelijsten!$A$17,AC$35*HLOOKUP(3,Keuzelijsten!$C$53:$E$58,2,FALSE),Keuzelijsten!$M$54*HLOOKUP(3,Keuzelijsten!$C$53:$E$58,2,FALSE)),0)","v":0},{"$f":"IF(AD$56=1,IF(AD$34=Keuzelijsten!$A$17,AD$35*HLOOKUP(3,Keuzelijsten!$C$53:$E$58,2,FALSE),Keuzelijsten!$M$54*HLOOKUP(3,Keuzelijsten!$C$53:$E$58,2,FALSE)),0)","v":0},{"$f":"IF(AE$56=1,IF(AE$34=Keuzelijsten!$A$17,AE$35*HLOOKUP(3,Keuzelijsten!$C$53:$E$58,2,FALSE),Keuzelijsten!$M$54*HLOOKUP(3,Keuzelijsten!$C$53:$E$58,2,FALSE)),0)","v":0},{"$f":"IF(AF$56=1,IF(AF$34=Keuzelijsten!$A$17,AF$35*HLOOKUP(3,Keuzelijsten!$C$53:$E$58,2,FALSE),Keuzelijsten!$M$54*HLOOKUP(3,Keuzelijsten!$C$53:$E$58,2,FALSE)),0)","v":0},{"$f":"IF(AG$56=1,IF(AG$34=Keuzelijsten!$A$17,AG$35*HLOOKUP(3,Keuzelijsten!$C$53:$E$58,2,FALSE),Keuzelijsten!$M$54*HLOOKUP(3,Keuzelijsten!$C$53:$E$58,2,FALSE)),0)","v":0},{"$f":"IF(AH$56=1,IF(AH$34=Keuzelijsten!$A$17,AH$35*HLOOKUP(3,Keuzelijsten!$C$53:$E$58,2,FALSE),Keuzelijsten!$M$54*HLOOKUP(3,Keuzelijsten!$C$53:$E$58,2,FALSE)),0)","v":0},{"$f":"IF(AI$56=1,IF(AI$34=Keuzelijsten!$A$17,AI$35*HLOOKUP(3,Keuzelijsten!$C$53:$E$58,2,FALSE),Keuzelijsten!$M$54*HLOOKUP(3,Keuzelijsten!$C$53:$E$58,2,FALSE)),0)","v":0},{"$f":"IF(AJ$56=1,IF(AJ$34=Keuzelijsten!$A$17,AJ$35*HLOOKUP(3,Keuzelijsten!$C$53:$E$58,2,FALSE),Keuzelijsten!$M$54*HLOOKUP(3,Keuzelijsten!$C$53:$E$58,2,FALSE)),0)","v":0},{"$f":"IF(AK$56=1,IF(AK$34=Keuzelijsten!$A$17,AK$35*HLOOKUP(3,Keuzelijsten!$C$53:$E$58,2,FALSE),Keuzelijsten!$M$54*HLOOKUP(3,Keuzelijsten!$C$53:$E$58,2,FALSE)),0)","v":0},{"$f":"IF(AL$56=1,IF(AL$34=Keuzelijsten!$A$17,AL$35*HLOOKUP(3,Keuzelijsten!$C$53:$E$58,2,FALSE),Keuzelijsten!$M$54*HLOOKUP(3,Keuzelijsten!$C$53:$E$58,2,FALSE)),0)","v":0},{"$f":"IF(AM$56=1,IF(AM$34=Keuzelijsten!$A$17,AM$35*HLOOKUP(3,Keuzelijsten!$C$53:$E$58,2,FALSE),Keuzelijsten!$M$54*HLOOKUP(3,Keuzelijsten!$C$53:$E$58,2,FALSE)),0)","v":0},{"$f":"IF(AN$56=1,IF(AN$34=Keuzelijsten!$A$17,AN$35*HLOOKUP(3,Keuzelijsten!$C$53:$E$58,2,FALSE),Keuzelijsten!$M$54*HLOOKUP(3,Keuzelijsten!$C$53:$E$58,2,FALSE)),0)","v":0},{"$f":"IF(AO$56=1,IF(AO$34=Keuzelijsten!$A$17,AO$35*HLOOKUP(3,Keuzelijsten!$C$53:$E$58,2,FALSE),Keuzelijsten!$M$54*HLOOKUP(3,Keuzelijsten!$C$53:$E$58,2,FALSE)),0)","v":0},{"$f":"IF(AP$56=1,IF(AP$34=Keuzelijsten!$A$17,AP$35*HLOOKUP(3,Keuzelijsten!$C$53:$E$58,2,FALSE),Keuzelijsten!$M$54*HLOOKUP(3,Keuzelijsten!$C$53:$E$58,2,FALSE)),0)","v":0},{"$f":"IF(AQ$56=1,IF(AQ$34=Keuzelijsten!$A$17,AQ$35*HLOOKUP(3,Keuzelijsten!$C$53:$E$58,2,FALSE),Keuzelijsten!$M$54*HLOOKUP(3,Keuzelijsten!$C$53:$E$58,2,FALSE)),0)","v":0},{"$f":"IF(AR$56=1,IF(AR$34=Keuzelijsten!$A$17,AR$35*HLOOKUP(3,Keuzelijsten!$C$53:$E$58,2,FALSE),Keuzelijsten!$M$54*HLOOKUP(3,Keuzelijsten!$C$53:$E$58,2,FALSE)),0)","v":0},{"$f":"IF(AS$56=1,IF(AS$34=Keuzelijsten!$A$17,AS$35*HLOOKUP(3,Keuzelijsten!$C$53:$E$58,2,FALSE),Keuzelijsten!$M$54*HLOOKUP(3,Keuzelijsten!$C$53:$E$58,2,FALSE)),0)","v":0},{"$f":"IF(AT$56=1,IF(AT$34=Keuzelijsten!$A$17,AT$35*HLOOKUP(3,Keuzelijsten!$C$53:$E$58,2,FALSE),Keuzelijsten!$M$54*HLOOKUP(3,Keuzelijsten!$C$53:$E$58,2,FALSE)),0)","v":0},{"$f":"IF(AU$56=1,IF(AU$34=Keuzelijsten!$A$17,AU$35*HLOOKUP(3,Keuzelijsten!$C$53:$E$58,2,FALSE),Keuzelijsten!$M$54*HLOOKUP(3,Keuzelijsten!$C$53:$E$58,2,FALSE)),0)","v":0},{"$f":"IF(AV$56=1,IF(AV$34=Keuzelijsten!$A$17,AV$35*HLOOKUP(3,Keuzelijsten!$C$53:$E$58,2,FALSE),Keuzelijsten!$M$54*HLOOKUP(3,Keuzelijsten!$C$53:$E$58,2,FALSE)),0)","v":0},{"$f":"IF(AW$56=1,IF(AW$34=Keuzelijsten!$A$17,AW$35*HLOOKUP(3,Keuzelijsten!$C$53:$E$58,2,FALSE),Keuzelijsten!$M$54*HLOOKUP(3,Keuzelijsten!$C$53:$E$58,2,FALSE)),0)","v":0},{"$f":"IF(AX$56=1,IF(AX$34=Keuzelijsten!$A$17,AX$35*HLOOKUP(3,Keuzelijsten!$C$53:$E$58,2,FALSE),Keuzelijsten!$M$54*HLOOKUP(3,Keuzelijsten!$C$53:$E$58,2,FALSE)),0)","v":0},{"$f":"IF(AY$56=1,IF(AY$34=Keuzelijsten!$A$17,AY$35*HLOOKUP(3,Keuzelijsten!$C$53:$E$58,2,FALSE),Keuzelijsten!$M$54*HLOOKUP(3,Keuzelijsten!$C$53:$E$58,2,FALSE)),0)","v":0},{"$f":"IF(AZ$56=1,IF(AZ$34=Keuzelijsten!$A$17,AZ$35*HLOOKUP(3,Keuzelijsten!$C$53:$E$58,2,FALSE),Keuzelijsten!$M$54*HLOOKUP(3,Keuzelijsten!$C$53:$E$58,2,FALSE)),0)","v":0},{"$f":"IF(BA$56=1,IF(BA$34=Keuzelijsten!$A$17,BA$35*HLOOKUP(3,Keuzelijsten!$C$53:$E$58,2,FALSE),Keuzelijsten!$M$54*HLOOKUP(3,Keuzelijsten!$C$53:$E$58,2,FALSE)),0)","v":0},{"$f":"IF(BB$56=1,IF(BB$34=Keuzelijsten!$A$17,BB$35*HLOOKUP(3,Keuzelijsten!$C$53:$E$58,2,FALSE),Keuzelijsten!$M$54*HLOOKUP(3,Keuzelijsten!$C$53:$E$58,2,FALSE)),0)","v":0},{"$f":"IF(BC$56=1,IF(BC$34=Keuzelijsten!$A$17,BC$35*HLOOKUP(3,Keuzelijsten!$C$53:$E$58,2,FALSE),Keuzelijsten!$M$54*HLOOKUP(3,Keuzelijsten!$C$53:$E$58,2,FALSE)),0)","v":0},{"$f":"IF(BD$56=1,IF(BD$34=Keuzelijsten!$A$17,BD$35*HLOOKUP(3,Keuzelijsten!$C$53:$E$58,2,FALSE),Keuzelijsten!$M$54*HLOOKUP(3,Keuzelijsten!$C$53:$E$58,2,FALSE)),0)","v":0},{"$f":"IF(BE$56=1,IF(BE$34=Keuzelijsten!$A$17,BE$35*HLOOKUP(3,Keuzelijsten!$C$53:$E$58,2,FALSE),Keuzelijsten!$M$54*HLOOKUP(3,Keuzelijsten!$C$53:$E$58,2,FALSE)),0)","v":0},{"$f":"IF(BF$56=1,IF(BF$34=Keuzelijsten!$A$17,BF$35*HLOOKUP(3,Keuzelijsten!$C$53:$E$58,2,FALSE),Keuzelijsten!$M$54*HLOOKUP(3,Keuzelijsten!$C$53:$E$58,2,FALSE)),0)","v":0},{"$f":"IF(BG$56=1,IF(BG$34=Keuzelijsten!$A$17,BG$35*HLOOKUP(3,Keuzelijsten!$C$53:$E$58,2,FALSE),Keuzelijsten!$M$54*HLOOKUP(3,Keuzelijsten!$C$53:$E$58,2,FALSE)),0)","v":0},{"$f":"IF(BH$56=1,IF(BH$34=Keuzelijsten!$A$17,BH$35*HLOOKUP(3,Keuzelijsten!$C$53:$E$58,2,FALSE),Keuzelijsten!$M$54*HLOOKUP(3,Keuzelijsten!$C$53:$E$58,2,FALSE)),0)","v":0},{"$f":"IF(BI$56=1,IF(BI$34=Keuzelijsten!$A$17,BI$35*HLOOKUP(3,Keuzelijsten!$C$53:$E$58,2,FALSE),Keuzelijsten!$M$54*HLOOKUP(3,Keuzelijsten!$C$53:$E$58,2,FALSE)),0)","v":0},{"$f":"IF(BJ$56=1,IF(BJ$34=Keuzelijsten!$A$17,BJ$35*HLOOKUP(3,Keuzelijsten!$C$53:$E$58,2,FALSE),Keuzelijsten!$M$54*HLOOKUP(3,Keuzelijsten!$C$53:$E$58,2,FALSE)),0)","v":0},{"$f":"IF(BK$56=1,IF(BK$34=Keuzelijsten!$A$17,BK$35*HLOOKUP(3,Keuzelijsten!$C$53:$E$58,2,FALSE),Keuzelijsten!$M$54*HLOOKUP(3,Keuzelijsten!$C$53:$E$58,2,FALSE)),0)","v":0},{"$f":"IF(BL$56=1,IF(BL$34=Keuzelijsten!$A$17,BL$35*HLOOKUP(3,Keuzelijsten!$C$53:$E$58,2,FALSE),Keuzelijsten!$M$54*HLOOKUP(3,Keuzelijsten!$C$53:$E$58,2,FALSE)),0)","v":0},{"$f":"IF(BM$56=1,IF(BM$34=Keuzelijsten!$A$17,BM$35*HLOOKUP(3,Keuzelijsten!$C$53:$E$58,2,FALSE),Keuzelijsten!$M$54*HLOOKUP(3,Keuzelijsten!$C$53:$E$58,2,FALSE)),0)","v":0},{"$f":"IF(BN$56=1,IF(BN$34=Keuzelijsten!$A$17,BN$35*HLOOKUP(3,Keuzelijsten!$C$53:$E$58,2,FALSE),Keuzelijsten!$M$54*HLOOKUP(3,Keuzelijsten!$C$53:$E$58,2,FALSE)),0)","v":0},{"$f":"IF(BO$56=1,IF(BO$34=Keuzelijsten!$A$17,BO$35*HLOOKUP(3,Keuzelijsten!$C$53:$E$58,2,FALSE),Keuzelijsten!$M$54*HLOOKUP(3,Keuzelijsten!$C$53:$E$58,2,FALSE)),0)","v":0},{"$f":"IF(BP$56=1,IF(BP$34=Keuzelijsten!$A$17,BP$35*HLOOKUP(3,Keuzelijsten!$C$53:$E$58,2,FALSE),Keuzelijsten!$M$54*HLOOKUP(3,Keuzelijsten!$C$53:$E$58,2,FALSE)),0)","v":0},{"$f":"IF(BQ$56=1,IF(BQ$34=Keuzelijsten!$A$17,BQ$35*HLOOKUP(3,Keuzelijsten!$C$53:$E$58,2,FALSE),Keuzelijsten!$M$54*HLOOKUP(3,Keuzelijsten!$C$53:$E$58,2,FALSE)),0)","v":0},{"$f":"IF(BR$56=1,IF(BR$34=Keuzelijsten!$A$17,BR$35*HLOOKUP(3,Keuzelijsten!$C$53:$E$58,2,FALSE),Keuzelijsten!$M$54*HLOOKUP(3,Keuzelijsten!$C$53:$E$58,2,FALSE)),0)","v":0},{"$f":"IF(BS$56=1,IF(BS$34=Keuzelijsten!$A$17,BS$35*HLOOKUP(3,Keuzelijsten!$C$53:$E$58,2,FALSE),Keuzelijsten!$M$54*HLOOKUP(3,Keuzelijsten!$C$53:$E$58,2,FALSE)),0)","v":0},{"$f":"IF(BT$56=1,IF(BT$34=Keuzelijsten!$A$17,BT$35*HLOOKUP(3,Keuzelijsten!$C$53:$E$58,2,FALSE),Keuzelijsten!$M$54*HLOOKUP(3,Keuzelijsten!$C$53:$E$58,2,FALSE)),0)","v":0},{"$f":"IF(BU$56=1,IF(BU$34=Keuzelijsten!$A$17,BU$35*HLOOKUP(3,Keuzelijsten!$C$53:$E$58,2,FALSE),Keuzelijsten!$M$54*HLOOKUP(3,Keuzelijsten!$C$53:$E$58,2,FALSE)),0)","v":0},{"$f":"IF(BV$56=1,IF(BV$34=Keuzelijsten!$A$17,BV$35*HLOOKUP(3,Keuzelijsten!$C$53:$E$58,2,FALSE),Keuzelijsten!$M$54*HLOOKUP(3,Keuzelijsten!$C$53:$E$58,2,FALSE)),0)","v":0},{"$f":"IF(BW$56=1,IF(BW$34=Keuzelijsten!$A$17,BW$35*HLOOKUP(3,Keuzelijsten!$C$53:$E$58,2,FALSE),Keuzelijsten!$M$54*HLOOKUP(3,Keuzelijsten!$C$53:$E$58,2,FALSE)),0)","v":0},{"$f":"IF(BX$56=1,IF(BX$34=Keuzelijsten!$A$17,BX$35*HLOOKUP(3,Keuzelijsten!$C$53:$E$58,2,FALSE),Keuzelijsten!$M$54*HLOOKUP(3,Keuzelijsten!$C$53:$E$58,2,FALSE)),0)","v":0},{"$f":"IF(BY$56=1,IF(BY$34=Keuzelijsten!$A$17,BY$35*HLOOKUP(3,Keuzelijsten!$C$53:$E$58,2,FALSE),Keuzelijsten!$M$54*HLOOKUP(3,Keuzelijsten!$C$53:$E$58,2,FALSE)),0)","v":0},{"$f":"IF(BZ$56=1,IF(BZ$34=Keuzelijsten!$A$17,BZ$35*HLOOKUP(3,Keuzelijsten!$C$53:$E$58,2,FALSE),Keuzelijsten!$M$54*HLOOKUP(3,Keuzelijsten!$C$53:$E$58,2,FALSE)),0)","v":0},{"$f":"IF(CA$56=1,IF(CA$34=Keuzelijsten!$A$17,CA$35*HLOOKUP(3,Keuzelijsten!$C$53:$E$58,2,FALSE),Keuzelijsten!$M$54*HLOOKUP(3,Keuzelijsten!$C$53:$E$58,2,FALSE)),0)","v":0},{"$f":"IF(CB$56=1,IF(CB$34=Keuzelijsten!$A$17,CB$35*HLOOKUP(3,Keuzelijsten!$C$53:$E$58,2,FALSE),Keuzelijsten!$M$54*HLOOKUP(3,Keuzelijsten!$C$53:$E$58,2,FALSE)),0)","v":0},{"$f":"IF(CC$56=1,IF(CC$34=Keuzelijsten!$A$17,CC$35*HLOOKUP(3,Keuzelijsten!$C$53:$E$58,2,FALSE),Keuzelijsten!$M$54*HLOOKUP(3,Keuzelijsten!$C$53:$E$58,2,FALSE)),0)","v":0},{"$f":"IF(CD$56=1,IF(CD$34=Keuzelijsten!$A$17,CD$35*HLOOKUP(3,Keuzelijsten!$C$53:$E$58,2,FALSE),Keuzelijsten!$M$54*HLOOKUP(3,Keuzelijsten!$C$53:$E$58,2,FALSE)),0)","v":0},{"$f":"IF(CE$56=1,IF(CE$34=Keuzelijsten!$A$17,CE$35*HLOOKUP(3,Keuzelijsten!$C$53:$E$58,2,FALSE),Keuzelijsten!$M$54*HLOOKUP(3,Keuzelijsten!$C$53:$E$58,2,FALSE)),0)","v":0},{"$f":"IF(CF$56=1,IF(CF$34=Keuzelijsten!$A$17,CF$35*HLOOKUP(3,Keuzelijsten!$C$53:$E$58,2,FALSE),Keuzelijsten!$M$54*HLOOKUP(3,Keuzelijsten!$C$53:$E$58,2,FALSE)),0)","v":0},{"$f":"IF(CG$56=1,IF(CG$34=Keuzelijsten!$A$17,CG$35*HLOOKUP(3,Keuzelijsten!$C$53:$E$58,2,FALSE),Keuzelijsten!$M$54*HLOOKUP(3,Keuzelijsten!$C$53:$E$58,2,FALSE)),0)","v":0},{"$f":"IF(CH$56=1,IF(CH$34=Keuzelijsten!$A$17,CH$35*HLOOKUP(3,Keuzelijsten!$C$53:$E$58,2,FALSE),Keuzelijsten!$M$54*HLOOKUP(3,Keuzelijsten!$C$53:$E$58,2,FALSE)),0)","v":0},{"$f":"IF(CI$56=1,IF(CI$34=Keuzelijsten!$A$17,CI$35*HLOOKUP(3,Keuzelijsten!$C$53:$E$58,2,FALSE),Keuzelijsten!$M$54*HLOOKUP(3,Keuzelijsten!$C$53:$E$58,2,FALSE)),0)","v":0},{"$f":"IF(CJ$56=1,IF(CJ$34=Keuzelijsten!$A$17,CJ$35*HLOOKUP(3,Keuzelijsten!$C$53:$E$58,2,FALSE),Keuzelijsten!$M$54*HLOOKUP(3,Keuzelijsten!$C$53:$E$58,2,FALSE)),0)","v":0},{"$f":"IF(CK$56=1,IF(CK$34=Keuzelijsten!$A$17,CK$35*HLOOKUP(3,Keuzelijsten!$C$53:$E$58,2,FALSE),Keuzelijsten!$M$54*HLOOKUP(3,Keuzelijsten!$C$53:$E$58,2,FALSE)),0)","v":0},{"$f":"IF(CL$56=1,IF(CL$34=Keuzelijsten!$A$17,CL$35*HLOOKUP(3,Keuzelijsten!$C$53:$E$58,2,FALSE),Keuzelijsten!$M$54*HLOOKUP(3,Keuzelijsten!$C$53:$E$58,2,FALSE)),0)","v":0},{"$f":"IF(CM$56=1,IF(CM$34=Keuzelijsten!$A$17,CM$35*HLOOKUP(3,Keuzelijsten!$C$53:$E$58,2,FALSE),Keuzelijsten!$M$54*HLOOKUP(3,Keuzelijsten!$C$53:$E$58,2,FALSE)),0)","v":0},{"$f":"IF(CN$56=1,IF(CN$34=Keuzelijsten!$A$17,CN$35*HLOOKUP(3,Keuzelijsten!$C$53:$E$58,2,FALSE),Keuzelijsten!$M$54*HLOOKUP(3,Keuzelijsten!$C$53:$E$58,2,FALSE)),0)","v":0},{"$f":"IF(CO$56=1,IF(CO$34=Keuzelijsten!$A$17,CO$35*HLOOKUP(3,Keuzelijsten!$C$53:$E$58,2,FALSE),Keuzelijsten!$M$54*HLOOKUP(3,Keuzelijsten!$C$53:$E$58,2,FALSE)),0)","v":0},{"$f":"IF(CP$56=1,IF(CP$34=Keuzelijsten!$A$17,CP$35*HLOOKUP(3,Keuzelijsten!$C$53:$E$58,2,FALSE),Keuzelijsten!$M$54*HLOOKUP(3,Keuzelijsten!$C$53:$E$58,2,FALSE)),0)","v":0},{"$f":"IF(CQ$56=1,IF(CQ$34=Keuzelijsten!$A$17,CQ$35*HLOOKUP(3,Keuzelijsten!$C$53:$E$58,2,FALSE),Keuzelijsten!$M$54*HLOOKUP(3,Keuzelijsten!$C$53:$E$58,2,FALSE)),0)","v":0},{"$f":"IF(CR$56=1,IF(CR$34=Keuzelijsten!$A$17,CR$35*HLOOKUP(3,Keuzelijsten!$C$53:$E$58,2,FALSE),Keuzelijsten!$M$54*HLOOKUP(3,Keuzelijsten!$C$53:$E$58,2,FALSE)),0)","v":0},{"$f":"IF(CS$56=1,IF(CS$34=Keuzelijsten!$A$17,CS$35*HLOOKUP(3,Keuzelijsten!$C$53:$E$58,2,FALSE),Keuzelijsten!$M$54*HLOOKUP(3,Keuzelijsten!$C$53:$E$58,2,FALSE)),0)","v":0},{"$f":"IF(CT$56=1,IF(CT$34=Keuzelijsten!$A$17,CT$35*HLOOKUP(3,Keuzelijsten!$C$53:$E$58,2,FALSE),Keuzelijsten!$M$54*HLOOKUP(3,Keuzelijsten!$C$53:$E$58,2,FALSE)),0)","v":0},{"$f":"IF(CU$56=1,IF(CU$34=Keuzelijsten!$A$17,CU$35*HLOOKUP(3,Keuzelijsten!$C$53:$E$58,2,FALSE),Keuzelijsten!$M$54*HLOOKUP(3,Keuzelijsten!$C$53:$E$58,2,FALSE)),0)","v":0},{"$f":"IF(CV$56=1,IF(CV$34=Keuzelijsten!$A$17,CV$35*HLOOKUP(3,Keuzelijsten!$C$53:$E$58,2,FALSE),Keuzelijsten!$M$54*HLOOKUP(3,Keuzelijsten!$C$53:$E$58,2,FALSE)),0)","v":0},{"$f":"IF(CW$56=1,IF(CW$34=Keuzelijsten!$A$17,CW$35*HLOOKUP(3,Keuzelijsten!$C$53:$E$58,2,FALSE),Keuzelijsten!$M$54*HLOOKUP(3,Keuzelijsten!$C$53:$E$58,2,FALSE)),0)","v":0},{"$f":"IF(CX$56=1,IF(CX$34=Keuzelijsten!$A$17,CX$35*HLOOKUP(3,Keuzelijsten!$C$53:$E$58,2,FALSE),Keuzelijsten!$M$54*HLOOKUP(3,Keuzelijsten!$C$53:$E$58,2,FALSE)),0)","v":0},{"$f":"IF(CY$56=1,IF(CY$34=Keuzelijsten!$A$17,CY$35*HLOOKUP(3,Keuzelijsten!$C$53:$E$58,2,FALSE),Keuzelijsten!$M$54*HLOOKUP(3,Keuzelijsten!$C$53:$E$58,2,FALSE)),0)","v":0},{"$f":"IF(CZ$56=1,IF(CZ$34=Keuzelijsten!$A$17,CZ$35*HLOOKUP(3,Keuzelijsten!$C$53:$E$58,2,FALSE),Keuzelijsten!$M$54*HLOOKUP(3,Keuzelijsten!$C$53:$E$58,2,FALSE)),0)","v":0},{"$f":"IF(DA$56=1,IF(DA$34=Keuzelijsten!$A$17,DA$35*HLOOKUP(3,Keuzelijsten!$C$53:$E$58,2,FALSE),Keuzelijsten!$M$54*HLOOKUP(3,Keuzelijsten!$C$53:$E$58,2,FALSE)),0)","v":0},{"$f":"IF(DB$56=1,IF(DB$34=Keuzelijsten!$A$17,DB$35*HLOOKUP(3,Keuzelijsten!$C$53:$E$58,2,FALSE),Keuzelijsten!$M$54*HLOOKUP(3,Keuzelijsten!$C$53:$E$58,2,FALSE)),0)","v":0},{"$f":"IF(DC$56=1,IF(DC$34=Keuzelijsten!$A$17,DC$35*HLOOKUP(3,Keuzelijsten!$C$53:$E$58,2,FALSE),Keuzelijsten!$M$54*HLOOKUP(3,Keuzelijsten!$C$53:$E$58,2,FALSE)),0)","v":0},{"$f":"IF(DD$56=1,IF(DD$34=Keuzelijsten!$A$17,DD$35*HLOOKUP(3,Keuzelijsten!$C$53:$E$58,2,FALSE),Keuzelijsten!$M$54*HLOOKUP(3,Keuzelijsten!$C$53:$E$58,2,FALSE)),0)","v":0},{"$f":"IF(DE$56=1,IF(DE$34=Keuzelijsten!$A$17,DE$35*HLOOKUP(3,Keuzelijsten!$C$53:$E$58,2,FALSE),Keuzelijsten!$M$54*HLOOKUP(3,Keuzelijsten!$C$53:$E$58,2,FALSE)),0)","v":0},{"$f":"IF(DF$56=1,IF(DF$34=Keuzelijsten!$A$17,DF$35*HLOOKUP(3,Keuzelijsten!$C$53:$E$58,2,FALSE),Keuzelijsten!$M$54*HLOOKUP(3,Keuzelijsten!$C$53:$E$58,2,FALSE)),0)","v":0},{"$f":"IF(DG$56=1,IF(DG$34=Keuzelijsten!$A$17,DG$35*HLOOKUP(3,Keuzelijsten!$C$53:$E$58,2,FALSE),Keuzelijsten!$M$54*HLOOKUP(3,Keuzelijsten!$C$53:$E$58,2,FALSE)),0)","v":0},{"$f":"IF(DH$56=1,IF(DH$34=Keuzelijsten!$A$17,DH$35*HLOOKUP(3,Keuzelijsten!$C$53:$E$58,2,FALSE),Keuzelijsten!$M$54*HLOOKUP(3,Keuzelijsten!$C$53:$E$58,2,FALSE)),0)","v":0},{"$f":"IF(DI$56=1,IF(DI$34=Keuzelijsten!$A$17,DI$35*HLOOKUP(3,Keuzelijsten!$C$53:$E$58,2,FALSE),Keuzelijsten!$M$54*HLOOKUP(3,Keuzelijsten!$C$53:$E$58,2,FALSE)),0)","v":0},{"$f":"IF(DJ$56=1,IF(DJ$34=Keuzelijsten!$A$17,DJ$35*HLOOKUP(3,Keuzelijsten!$C$53:$E$58,2,FALSE),Keuzelijsten!$M$54*HLOOKUP(3,Keuzelijsten!$C$53:$E$58,2,FALSE)),0)","v":0},{"$f":"IF(DK$56=1,IF(DK$34=Keuzelijsten!$A$17,DK$35*HLOOKUP(3,Keuzelijsten!$C$53:$E$58,2,FALSE),Keuzelijsten!$M$54*HLOOKUP(3,Keuzelijsten!$C$53:$E$58,2,FALSE)),0)","v":0},{"$f":"IF(DL$56=1,IF(DL$34=Keuzelijsten!$A$17,DL$35*HLOOKUP(3,Keuzelijsten!$C$53:$E$58,2,FALSE),Keuzelijsten!$M$54*HLOOKUP(3,Keuzelijsten!$C$53:$E$58,2,FALSE)),0)","v":0},{"$f":"IF(DM$56=1,IF(DM$34=Keuzelijsten!$A$17,DM$35*HLOOKUP(3,Keuzelijsten!$C$53:$E$58,2,FALSE),Keuzelijsten!$M$54*HLOOKUP(3,Keuzelijsten!$C$53:$E$58,2,FALSE)),0)","v":0},{"$f":"IF(DN$56=1,IF(DN$34=Keuzelijsten!$A$17,DN$35*HLOOKUP(3,Keuzelijsten!$C$53:$E$58,2,FALSE),Keuzelijsten!$M$54*HLOOKUP(3,Keuzelijsten!$C$53:$E$58,2,FALSE)),0)","v":0},{"$f":"IF(DO$56=1,IF(DO$34=Keuzelijsten!$A$17,DO$35*HLOOKUP(3,Keuzelijsten!$C$53:$E$58,2,FALSE),Keuzelijsten!$M$54*HLOOKUP(3,Keuzelijsten!$C$53:$E$58,2,FALSE)),0)","v":0},{"$f":"IF(DP$56=1,IF(DP$34=Keuzelijsten!$A$17,DP$35*HLOOKUP(3,Keuzelijsten!$C$53:$E$58,2,FALSE),Keuzelijsten!$M$54*HLOOKUP(3,Keuzelijsten!$C$53:$E$58,2,FALSE)),0)","v":0},{"$f":"IF(DQ$56=1,IF(DQ$34=Keuzelijsten!$A$17,DQ$35*HLOOKUP(3,Keuzelijsten!$C$53:$E$58,2,FALSE),Keuzelijsten!$M$54*HLOOKUP(3,Keuzelijsten!$C$53:$E$58,2,FALSE)),0)","v":0},{"$f":"IF(DR$56=1,IF(DR$34=Keuzelijsten!$A$17,DR$35*HLOOKUP(3,Keuzelijsten!$C$53:$E$58,2,FALSE),Keuzelijsten!$M$54*HLOOKUP(3,Keuzelijsten!$C$53:$E$58,2,FALSE)),0)","v":0},{"$f":"IF(DS$56=1,IF(DS$34=Keuzelijsten!$A$17,DS$35*HLOOKUP(3,Keuzelijsten!$C$53:$E$58,2,FALSE),Keuzelijsten!$M$54*HLOOKUP(3,Keuzelijsten!$C$53:$E$58,2,FALSE)),0)","v":0},{"$f":"IF(DT$56=1,IF(DT$34=Keuzelijsten!$A$17,DT$35*HLOOKUP(3,Keuzelijsten!$C$53:$E$58,2,FALSE),Keuzelijsten!$M$54*HLOOKUP(3,Keuzelijsten!$C$53:$E$58,2,FALSE)),0)","v":0},{"$f":"IF(DU$56=1,IF(DU$34=Keuzelijsten!$A$17,DU$35*HLOOKUP(3,Keuzelijsten!$C$53:$E$58,2,FALSE),Keuzelijsten!$M$54*HLOOKUP(3,Keuzelijsten!$C$53:$E$58,2,FALSE)),0)","v":0},{"$f":"IF(DV$56=1,IF(DV$34=Keuzelijsten!$A$17,DV$35*HLOOKUP(3,Keuzelijsten!$C$53:$E$58,2,FALSE),Keuzelijsten!$M$54*HLOOKUP(3,Keuzelijsten!$C$53:$E$58,2,FALSE)),0)","v":0},{"$f":"IF(DW$56=1,IF(DW$34=Keuzelijsten!$A$17,DW$35*HLOOKUP(3,Keuzelijsten!$C$53:$E$58,2,FALSE),Keuzelijsten!$M$54*HLOOKUP(3,Keuzelijsten!$C$53:$E$58,2,FALSE)),0)","v":0},{"$f":"IF(DX$56=1,IF(DX$34=Keuzelijsten!$A$17,DX$35*HLOOKUP(3,Keuzelijsten!$C$53:$E$58,2,FALSE),Keuzelijsten!$M$54*HLOOKUP(3,Keuzelijsten!$C$53:$E$58,2,FALSE)),0)","v":0},{"$f":"IF(DY$56=1,IF(DY$34=Keuzelijsten!$A$17,DY$35*HLOOKUP(3,Keuzelijsten!$C$53:$E$58,2,FALSE),Keuzelijsten!$M$54*HLOOKUP(3,Keuzelijsten!$C$53:$E$58,2,FALSE)),0)","v":0},{"$f":"IF(DZ$56=1,IF(DZ$34=Keuzelijsten!$A$17,DZ$35*HLOOKUP(3,Keuzelijsten!$C$53:$E$58,2,FALSE),Keuzelijsten!$M$54*HLOOKUP(3,Keuzelijsten!$C$53:$E$58,2,FALSE)),0)","v":0},{"$f":"IF(EA$56=1,IF(EA$34=Keuzelijsten!$A$17,EA$35*HLOOKUP(3,Keuzelijsten!$C$53:$E$58,2,FALSE),Keuzelijsten!$M$54*HLOOKUP(3,Keuzelijsten!$C$53:$E$58,2,FALSE)),0)","v":0},{"$f":"IF(EB$56=1,IF(EB$34=Keuzelijsten!$A$17,EB$35*HLOOKUP(3,Keuzelijsten!$C$53:$E$58,2,FALSE),Keuzelijsten!$M$54*HLOOKUP(3,Keuzelijsten!$C$53:$E$58,2,FALSE)),0)","v":0},{"$f":"IF(EC$56=1,IF(EC$34=Keuzelijsten!$A$17,EC$35*HLOOKUP(3,Keuzelijsten!$C$53:$E$58,2,FALSE),Keuzelijsten!$M$54*HLOOKUP(3,Keuzelijsten!$C$53:$E$58,2,FALSE)),0)","v":0},{"$f":"IF(ED$56=1,IF(ED$34=Keuzelijsten!$A$17,ED$35*HLOOKUP(3,Keuzelijsten!$C$53:$E$58,2,FALSE),Keuzelijsten!$M$54*HLOOKUP(3,Keuzelijsten!$C$53:$E$58,2,FALSE)),0)","v":0},{"$f":"IF(EE$56=1,IF(EE$34=Keuzelijsten!$A$17,EE$35*HLOOKUP(3,Keuzelijsten!$C$53:$E$58,2,FALSE),Keuzelijsten!$M$54*HLOOKUP(3,Keuzelijsten!$C$53:$E$58,2,FALSE)),0)","v":0},{"$f":"IF(EF$56=1,IF(EF$34=Keuzelijsten!$A$17,EF$35*HLOOKUP(3,Keuzelijsten!$C$53:$E$58,2,FALSE),Keuzelijsten!$M$54*HLOOKUP(3,Keuzelijsten!$C$53:$E$58,2,FALSE)),0)","v":0},{"$f":"IF(EG$56=1,IF(EG$34=Keuzelijsten!$A$17,EG$35*HLOOKUP(3,Keuzelijsten!$C$53:$E$58,2,FALSE),Keuzelijsten!$M$54*HLOOKUP(3,Keuzelijsten!$C$53:$E$58,2,FALSE)),0)","v":0},{"$f":"IF(EH$56=1,IF(EH$34=Keuzelijsten!$A$17,EH$35*HLOOKUP(3,Keuzelijsten!$C$53:$E$58,2,FALSE),Keuzelijsten!$M$54*HLOOKUP(3,Keuzelijsten!$C$53:$E$58,2,FALSE)),0)","v":0},{"$f":"IF(EI$56=1,IF(EI$34=Keuzelijsten!$A$17,EI$35*HLOOKUP(3,Keuzelijsten!$C$53:$E$58,2,FALSE),Keuzelijsten!$M$54*HLOOKUP(3,Keuzelijsten!$C$53:$E$58,2,FALSE)),0)","v":0},{"$f":"IF(EJ$56=1,IF(EJ$34=Keuzelijsten!$A$17,EJ$35*HLOOKUP(3,Keuzelijsten!$C$53:$E$58,2,FALSE),Keuzelijsten!$M$54*HLOOKUP(3,Keuzelijsten!$C$53:$E$58,2,FALSE)),0)","v":0},{"$f":"IF(EK$56=1,IF(EK$34=Keuzelijsten!$A$17,EK$35*HLOOKUP(3,Keuzelijsten!$C$53:$E$58,2,FALSE),Keuzelijsten!$M$54*HLOOKUP(3,Keuzelijsten!$C$53:$E$58,2,FALSE)),0)","v":0},{"$f":"IF(EL$56=1,IF(EL$34=Keuzelijsten!$A$17,EL$35*HLOOKUP(3,Keuzelijsten!$C$53:$E$58,2,FALSE),Keuzelijsten!$M$54*HLOOKUP(3,Keuzelijsten!$C$53:$E$58,2,FALSE)),0)","v":0},{"$f":"IF(EM$56=1,IF(EM$34=Keuzelijsten!$A$17,EM$35*HLOOKUP(3,Keuzelijsten!$C$53:$E$58,2,FALSE),Keuzelijsten!$M$54*HLOOKUP(3,Keuzelijsten!$C$53:$E$58,2,FALSE)),0)","v":0},{"$f":"IF(EN$56=1,IF(EN$34=Keuzelijsten!$A$17,EN$35*HLOOKUP(3,Keuzelijsten!$C$53:$E$58,2,FALSE),Keuzelijsten!$M$54*HLOOKUP(3,Keuzelijsten!$C$53:$E$58,2,FALSE)),0)","v":0},{"$f":"IF(EO$56=1,IF(EO$34=Keuzelijsten!$A$17,EO$35*HLOOKUP(3,Keuzelijsten!$C$53:$E$58,2,FALSE),Keuzelijsten!$M$54*HLOOKUP(3,Keuzelijsten!$C$53:$E$58,2,FALSE)),0)","v":0},{"$f":"IF(EP$56=1,IF(EP$34=Keuzelijsten!$A$17,EP$35*HLOOKUP(3,Keuzelijsten!$C$53:$E$58,2,FALSE),Keuzelijsten!$M$54*HLOOKUP(3,Keuzelijsten!$C$53:$E$58,2,FALSE)),0)","v":0},{"$f":"IF(EQ$56=1,IF(EQ$34=Keuzelijsten!$A$17,EQ$35*HLOOKUP(3,Keuzelijsten!$C$53:$E$58,2,FALSE),Keuzelijsten!$M$54*HLOOKUP(3,Keuzelijsten!$C$53:$E$58,2,FALSE)),0)","v":0},{"$f":"IF(ER$56=1,IF(ER$34=Keuzelijsten!$A$17,ER$35*HLOOKUP(3,Keuzelijsten!$C$53:$E$58,2,FALSE),Keuzelijsten!$M$54*HLOOKUP(3,Keuzelijsten!$C$53:$E$58,2,FALSE)),0)","v":0},{"$f":"IF(ES$56=1,IF(ES$34=Keuzelijsten!$A$17,ES$35*HLOOKUP(3,Keuzelijsten!$C$53:$E$58,2,FALSE),Keuzelijsten!$M$54*HLOOKUP(3,Keuzelijsten!$C$53:$E$58,2,FALSE)),0)","v":0},{"$f":"IF(ET$56=1,IF(ET$34=Keuzelijsten!$A$17,ET$35*HLOOKUP(3,Keuzelijsten!$C$53:$E$58,2,FALSE),Keuzelijsten!$M$54*HLOOKUP(3,Keuzelijsten!$C$53:$E$58,2,FALSE)),0)","v":0},{"$f":"IF(EU$56=1,IF(EU$34=Keuzelijsten!$A$17,EU$35*HLOOKUP(3,Keuzelijsten!$C$53:$E$58,2,FALSE),Keuzelijsten!$M$54*HLOOKUP(3,Keuzelijsten!$C$53:$E$58,2,FALSE)),0)","v":0},{"$f":"IF(EV$56=1,IF(EV$34=Keuzelijsten!$A$17,EV$35*HLOOKUP(3,Keuzelijsten!$C$53:$E$58,2,FALSE),Keuzelijsten!$M$54*HLOOKUP(3,Keuzelijsten!$C$53:$E$58,2,FALSE)),0)","v":0},{"$f":"IF(EW$56=1,IF(EW$34=Keuzelijsten!$A$17,EW$35*HLOOKUP(3,Keuzelijsten!$C$53:$E$58,2,FALSE),Keuzelijsten!$M$54*HLOOKUP(3,Keuzelijsten!$C$53:$E$58,2,FALSE)),0)","v":0},{"$f":"IF(EX$56=1,IF(EX$34=Keuzelijsten!$A$17,EX$35*HLOOKUP(3,Keuzelijsten!$C$53:$E$58,2,FALSE),Keuzelijsten!$M$54*HLOOKUP(3,Keuzelijsten!$C$53:$E$58,2,FALSE)),0)","v":0},{"$f":"IF(EY$56=1,IF(EY$34=Keuzelijsten!$A$17,EY$35*HLOOKUP(3,Keuzelijsten!$C$53:$E$58,2,FALSE),Keuzelijsten!$M$54*HLOOKUP(3,Keuzelijsten!$C$53:$E$58,2,FALSE)),0)","v":0},{"$f":"IF(EZ$56=1,IF(EZ$34=Keuzelijsten!$A$17,EZ$35*HLOOKUP(3,Keuzelijsten!$C$53:$E$58,2,FALSE),Keuzelijsten!$M$54*HLOOKUP(3,Keuzelijsten!$C$53:$E$58,2,FALSE)),0)","v":0},{"$f":"IF(FA$56=1,IF(FA$34=Keuzelijsten!$A$17,FA$35*HLOOKUP(3,Keuzelijsten!$C$53:$E$58,2,FALSE),Keuzelijsten!$M$54*HLOOKUP(3,Keuzelijsten!$C$53:$E$58,2,FALSE)),0)","v":0},{"$f":"IF(FB$56=1,IF(FB$34=Keuzelijsten!$A$17,FB$35*HLOOKUP(3,Keuzelijsten!$C$53:$E$58,2,FALSE),Keuzelijsten!$M$54*HLOOKUP(3,Keuzelijsten!$C$53:$E$58,2,FALSE)),0)","v":0},{"$f":"IF(FC$56=1,IF(FC$34=Keuzelijsten!$A$17,FC$35*HLOOKUP(3,Keuzelijsten!$C$53:$E$58,2,FALSE),Keuzelijsten!$M$54*HLOOKUP(3,Keuzelijsten!$C$53:$E$58,2,FALSE)),0)","v":0},{"$f":"IF(FD$56=1,IF(FD$34=Keuzelijsten!$A$17,FD$35*HLOOKUP(3,Keuzelijsten!$C$53:$E$58,2,FALSE),Keuzelijsten!$M$54*HLOOKUP(3,Keuzelijsten!$C$53:$E$58,2,FALSE)),0)","v":0},{"$f":"IF(FE$56=1,IF(FE$34=Keuzelijsten!$A$17,FE$35*HLOOKUP(3,Keuzelijsten!$C$53:$E$58,2,FALSE),Keuzelijsten!$M$54*HLOOKUP(3,Keuzelijsten!$C$53:$E$58,2,FALSE)),0)","v":0},{"$f":"IF(FF$56=1,IF(FF$34=Keuzelijsten!$A$17,FF$35*HLOOKUP(3,Keuzelijsten!$C$53:$E$58,2,FALSE),Keuzelijsten!$M$54*HLOOKUP(3,Keuzelijsten!$C$53:$E$58,2,FALSE)),0)","v":0},{"$f":"IF(FG$56=1,IF(FG$34=Keuzelijsten!$A$17,FG$35*HLOOKUP(3,Keuzelijsten!$C$53:$E$58,2,FALSE),Keuzelijsten!$M$54*HLOOKUP(3,Keuzelijsten!$C$53:$E$58,2,FALSE)),0)","v":0},{"$f":"IF(FH$56=1,IF(FH$34=Keuzelijsten!$A$17,FH$35*HLOOKUP(3,Keuzelijsten!$C$53:$E$58,2,FALSE),Keuzelijsten!$M$54*HLOOKUP(3,Keuzelijsten!$C$53:$E$58,2,FALSE)),0)","v":0},{"$f":"IF(FI$56=1,IF(FI$34=Keuzelijsten!$A$17,FI$35*HLOOKUP(3,Keuzelijsten!$C$53:$E$58,2,FALSE),Keuzelijsten!$M$54*HLOOKUP(3,Keuzelijsten!$C$53:$E$58,2,FALSE)),0)","v":0},{"$f":"IF(FJ$56=1,IF(FJ$34=Keuzelijsten!$A$17,FJ$35*HLOOKUP(3,Keuzelijsten!$C$53:$E$58,2,FALSE),Keuzelijsten!$M$54*HLOOKUP(3,Keuzelijsten!$C$53:$E$58,2,FALSE)),0)","v":0},{"$f":"IF(FK$56=1,IF(FK$34=Keuzelijsten!$A$17,FK$35*HLOOKUP(3,Keuzelijsten!$C$53:$E$58,2,FALSE),Keuzelijsten!$M$54*HLOOKUP(3,Keuzelijsten!$C$53:$E$58,2,FALSE)),0)","v":0},{"$f":"IF(FL$56=1,IF(FL$34=Keuzelijsten!$A$17,FL$35*HLOOKUP(3,Keuzelijsten!$C$53:$E$58,2,FALSE),Keuzelijsten!$M$54*HLOOKUP(3,Keuzelijsten!$C$53:$E$58,2,FALSE)),0)","v":0},{"$f":"IF(FM$56=1,IF(FM$34=Keuzelijsten!$A$17,FM$35*HLOOKUP(3,Keuzelijsten!$C$53:$E$58,2,FALSE),Keuzelijsten!$M$54*HLOOKUP(3,Keuzelijsten!$C$53:$E$58,2,FALSE)),0)","v":0},{"$f":"IF(FN$56=1,IF(FN$34=Keuzelijsten!$A$17,FN$35*HLOOKUP(3,Keuzelijsten!$C$53:$E$58,2,FALSE),Keuzelijsten!$M$54*HLOOKUP(3,Keuzelijsten!$C$53:$E$58,2,FALSE)),0)","v":0},{"$f":"IF(FO$56=1,IF(FO$34=Keuzelijsten!$A$17,FO$35*HLOOKUP(3,Keuzelijsten!$C$53:$E$58,2,FALSE),Keuzelijsten!$M$54*HLOOKUP(3,Keuzelijsten!$C$53:$E$58,2,FALSE)),0)","v":0},{"$f":"IF(FP$56=1,IF(FP$34=Keuzelijsten!$A$17,FP$35*HLOOKUP(3,Keuzelijsten!$C$53:$E$58,2,FALSE),Keuzelijsten!$M$54*HLOOKUP(3,Keuzelijsten!$C$53:$E$58,2,FALSE)),0)","v":0},{"$f":"IF(FQ$56=1,IF(FQ$34=Keuzelijsten!$A$17,FQ$35*HLOOKUP(3,Keuzelijsten!$C$53:$E$58,2,FALSE),Keuzelijsten!$M$54*HLOOKUP(3,Keuzelijsten!$C$53:$E$58,2,FALSE)),0)","v":0},{"$f":"IF(FR$56=1,IF(FR$34=Keuzelijsten!$A$17,FR$35*HLOOKUP(3,Keuzelijsten!$C$53:$E$58,2,FALSE),Keuzelijsten!$M$54*HLOOKUP(3,Keuzelijsten!$C$53:$E$58,2,FALSE)),0)","v":0},{"$f":"IF(FS$56=1,IF(FS$34=Keuzelijsten!$A$17,FS$35*HLOOKUP(3,Keuzelijsten!$C$53:$E$58,2,FALSE),Keuzelijsten!$M$54*HLOOKUP(3,Keuzelijsten!$C$53:$E$58,2,FALSE)),0)","v":0},{"$f":"IF(FT$56=1,IF(FT$34=Keuzelijsten!$A$17,FT$35*HLOOKUP(3,Keuzelijsten!$C$53:$E$58,2,FALSE),Keuzelijsten!$M$54*HLOOKUP(3,Keuzelijsten!$C$53:$E$58,2,FALSE)),0)","v":0},{"$f":"IF(FU$56=1,IF(FU$34=Keuzelijsten!$A$17,FU$35*HLOOKUP(3,Keuzelijsten!$C$53:$E$58,2,FALSE),Keuzelijsten!$M$54*HLOOKUP(3,Keuzelijsten!$C$53:$E$58,2,FALSE)),0)","v":0},{"$f":"IF(FV$56=1,IF(FV$34=Keuzelijsten!$A$17,FV$35*HLOOKUP(3,Keuzelijsten!$C$53:$E$58,2,FALSE),Keuzelijsten!$M$54*HLOOKUP(3,Keuzelijsten!$C$53:$E$58,2,FALSE)),0)","v":0},{"$f":"IF(FW$56=1,IF(FW$34=Keuzelijsten!$A$17,FW$35*HLOOKUP(3,Keuzelijsten!$C$53:$E$58,2,FALSE),Keuzelijsten!$M$54*HLOOKUP(3,Keuzelijsten!$C$53:$E$58,2,FALSE)),0)","v":0},{"$f":"IF(FX$56=1,IF(FX$34=Keuzelijsten!$A$17,FX$35*HLOOKUP(3,Keuzelijsten!$C$53:$E$58,2,FALSE),Keuzelijsten!$M$54*HLOOKUP(3,Keuzelijsten!$C$53:$E$58,2,FALSE)),0)","v":0},{"$f":"IF(FY$56=1,IF(FY$34=Keuzelijsten!$A$17,FY$35*HLOOKUP(3,Keuzelijsten!$C$53:$E$58,2,FALSE),Keuzelijsten!$M$54*HLOOKUP(3,Keuzelijsten!$C$53:$E$58,2,FALSE)),0)","v":0},{"$f":"IF(FZ$56=1,IF(FZ$34=Keuzelijsten!$A$17,FZ$35*HLOOKUP(3,Keuzelijsten!$C$53:$E$58,2,FALSE),Keuzelijsten!$M$54*HLOOKUP(3,Keuzelijsten!$C$53:$E$58,2,FALSE)),0)","v":0},{"$f":"IF(GA$56=1,IF(GA$34=Keuzelijsten!$A$17,GA$35*HLOOKUP(3,Keuzelijsten!$C$53:$E$58,2,FALSE),Keuzelijsten!$M$54*HLOOKUP(3,Keuzelijsten!$C$53:$E$58,2,FALSE)),0)","v":0},{"$f":"IF(GB$56=1,IF(GB$34=Keuzelijsten!$A$17,GB$35*HLOOKUP(3,Keuzelijsten!$C$53:$E$58,2,FALSE),Keuzelijsten!$M$54*HLOOKUP(3,Keuzelijsten!$C$53:$E$58,2,FALSE)),0)","v":0},{"$f":"IF(GC$56=1,IF(GC$34=Keuzelijsten!$A$17,GC$35*HLOOKUP(3,Keuzelijsten!$C$53:$E$58,2,FALSE),Keuzelijsten!$M$54*HLOOKUP(3,Keuzelijsten!$C$53:$E$58,2,FALSE)),0)","v":0},{"$f":"IF(GD$56=1,IF(GD$34=Keuzelijsten!$A$17,GD$35*HLOOKUP(3,Keuzelijsten!$C$53:$E$58,2,FALSE),Keuzelijsten!$M$54*HLOOKUP(3,Keuzelijsten!$C$53:$E$58,2,FALSE)),0)","v":0},{"$f":"IF(GE$56=1,IF(GE$34=Keuzelijsten!$A$17,GE$35*HLOOKUP(3,Keuzelijsten!$C$53:$E$58,2,FALSE),Keuzelijsten!$M$54*HLOOKUP(3,Keuzelijsten!$C$53:$E$58,2,FALSE)),0)","v":0},{"$f":"IF(GF$56=1,IF(GF$34=Keuzelijsten!$A$17,GF$35*HLOOKUP(3,Keuzelijsten!$C$53:$E$58,2,FALSE),Keuzelijsten!$M$54*HLOOKUP(3,Keuzelijsten!$C$53:$E$58,2,FALSE)),0)","v":0},{"$f":"IF(GG$56=1,IF(GG$34=Keuzelijsten!$A$17,GG$35*HLOOKUP(3,Keuzelijsten!$C$53:$E$58,2,FALSE),Keuzelijsten!$M$54*HLOOKUP(3,Keuzelijsten!$C$53:$E$58,2,FALSE)),0)","v":0},{"$f":"IF(GH$56=1,IF(GH$34=Keuzelijsten!$A$17,GH$35*HLOOKUP(3,Keuzelijsten!$C$53:$E$58,2,FALSE),Keuzelijsten!$M$54*HLOOKUP(3,Keuzelijsten!$C$53:$E$58,2,FALSE)),0)","v":0},{"$f":"IF(GI$56=1,IF(GI$34=Keuzelijsten!$A$17,GI$35*HLOOKUP(3,Keuzelijsten!$C$53:$E$58,2,FALSE),Keuzelijsten!$M$54*HLOOKUP(3,Keuzelijsten!$C$53:$E$58,2,FALSE)),0)","v":0},{"$f":"IF(GJ$56=1,IF(GJ$34=Keuzelijsten!$A$17,GJ$35*HLOOKUP(3,Keuzelijsten!$C$53:$E$58,2,FALSE),Keuzelijsten!$M$54*HLOOKUP(3,Keuzelijsten!$C$53:$E$58,2,FALSE)),0)","v":0},{"$f":"IF(GK$56=1,IF(GK$34=Keuzelijsten!$A$17,GK$35*HLOOKUP(3,Keuzelijsten!$C$53:$E$58,2,FALSE),Keuzelijsten!$M$54*HLOOKUP(3,Keuzelijsten!$C$53:$E$58,2,FALSE)),0)","v":0},{"$f":"IF(GL$56=1,IF(GL$34=Keuzelijsten!$A$17,GL$35*HLOOKUP(3,Keuzelijsten!$C$53:$E$58,2,FALSE),Keuzelijsten!$M$54*HLOOKUP(3,Keuzelijsten!$C$53:$E$58,2,FALSE)),0)","v":0},{"$f":"IF(GM$56=1,IF(GM$34=Keuzelijsten!$A$17,GM$35*HLOOKUP(3,Keuzelijsten!$C$53:$E$58,2,FALSE),Keuzelijsten!$M$54*HLOOKUP(3,Keuzelijsten!$C$53:$E$58,2,FALSE)),0)","v":0},{"$f":"IF(GN$56=1,IF(GN$34=Keuzelijsten!$A$17,GN$35*HLOOKUP(3,Keuzelijsten!$C$53:$E$58,2,FALSE),Keuzelijsten!$M$54*HLOOKUP(3,Keuzelijsten!$C$53:$E$58,2,FALSE)),0)","v":0},{"$f":"IF(GO$56=1,IF(GO$34=Keuzelijsten!$A$17,GO$35*HLOOKUP(3,Keuzelijsten!$C$53:$E$58,2,FALSE),Keuzelijsten!$M$54*HLOOKUP(3,Keuzelijsten!$C$53:$E$58,2,FALSE)),0)","v":0},{"$f":"IF(GP$56=1,IF(GP$34=Keuzelijsten!$A$17,GP$35*HLOOKUP(3,Keuzelijsten!$C$53:$E$58,2,FALSE),Keuzelijsten!$M$54*HLOOKUP(3,Keuzelijsten!$C$53:$E$58,2,FALSE)),0)","v":0},{"$f":"IF(GQ$56=1,IF(GQ$34=Keuzelijsten!$A$17,GQ$35*HLOOKUP(3,Keuzelijsten!$C$53:$E$58,2,FALSE),Keuzelijsten!$M$54*HLOOKUP(3,Keuzelijsten!$C$53:$E$58,2,FALSE)),0)","v":0},{"$f":"IF(GR$56=1,IF(GR$34=Keuzelijsten!$A$17,GR$35*HLOOKUP(3,Keuzelijsten!$C$53:$E$58,2,FALSE),Keuzelijsten!$M$54*HLOOKUP(3,Keuzelijsten!$C$53:$E$58,2,FALSE)),0)","v":0},{"$f":"IF(GS$56=1,IF(GS$34=Keuzelijsten!$A$17,GS$35*HLOOKUP(3,Keuzelijsten!$C$53:$E$58,2,FALSE),Keuzelijsten!$M$54*HLOOKUP(3,Keuzelijsten!$C$53:$E$58,2,FALSE)),0)","v":0},{"$f":"IF(GT$56=1,IF(GT$34=Keuzelijsten!$A$17,GT$35*HLOOKUP(3,Keuzelijsten!$C$53:$E$58,2,FALSE),Keuzelijsten!$M$54*HLOOKUP(3,Keuzelijsten!$C$53:$E$58,2,FALSE)),0)","v":0}]
["Warmtevrager = rijwoning","MJ",{"$f":"IF(C$56=2,IF(C$34=Keuzelijsten!$A$17,C$35*HLOOKUP(3,Keuzelijsten!$C$53:$E$58,3,FALSE),Keuzelijsten!$M$55*HLOOKUP(3,Keuzelijsten!$C$53:$E$58,3,FALSE)),0)","v":0},{"$f":"IF(D$56=2,IF(D$34=Keuzelijsten!$A$17,D$35*HLOOKUP(3,Keuzelijsten!$C$53:$E$58,3,FALSE),Keuzelijsten!$M$55*HLOOKUP(3,Keuzelijsten!$C$53:$E$58,3,FALSE)),0)","v":0},{"$f":"IF(E$56=2,IF(E$34=Keuzelijsten!$A$17,E$35*HLOOKUP(3,Keuzelijsten!$C$53:$E$58,3,FALSE),Keuzelijsten!$M$55*HLOOKUP(3,Keuzelijsten!$C$53:$E$58,3,FALSE)),0)","v":0},{"$f":"IF(F$56=2,IF(F$34=Keuzelijsten!$A$17,F$35*HLOOKUP(3,Keuzelijsten!$C$53:$E$58,3,FALSE),Keuzelijsten!$M$55*HLOOKUP(3,Keuzelijsten!$C$53:$E$58,3,FALSE)),0)","v":0},{"$f":"IF(G$56=2,IF(G$34=Keuzelijsten!$A$17,G$35*HLOOKUP(3,Keuzelijsten!$C$53:$E$58,3,FALSE),Keuzelijsten!$M$55*HLOOKUP(3,Keuzelijsten!$C$53:$E$58,3,FALSE)),0)","v":0},{"$f":"IF(H$56=2,IF(H$34=Keuzelijsten!$A$17,H$35*HLOOKUP(3,Keuzelijsten!$C$53:$E$58,3,FALSE),Keuzelijsten!$M$55*HLOOKUP(3,Keuzelijsten!$C$53:$E$58,3,FALSE)),0)","v":0},{"$f":"IF(I$56=2,IF(I$34=Keuzelijsten!$A$17,I$35*HLOOKUP(3,Keuzelijsten!$C$53:$E$58,3,FALSE),Keuzelijsten!$M$55*HLOOKUP(3,Keuzelijsten!$C$53:$E$58,3,FALSE)),0)","v":0},{"$f":"IF(J$56=2,IF(J$34=Keuzelijsten!$A$17,J$35*HLOOKUP(3,Keuzelijsten!$C$53:$E$58,3,FALSE),Keuzelijsten!$M$55*HLOOKUP(3,Keuzelijsten!$C$53:$E$58,3,FALSE)),0)","v":0},{"$f":"IF(K$56=2,IF(K$34=Keuzelijsten!$A$17,K$35*HLOOKUP(3,Keuzelijsten!$C$53:$E$58,3,FALSE),Keuzelijsten!$M$55*HLOOKUP(3,Keuzelijsten!$C$53:$E$58,3,FALSE)),0)","v":0},{"$f":"IF(L$56=2,IF(L$34=Keuzelijsten!$A$17,L$35*HLOOKUP(3,Keuzelijsten!$C$53:$E$58,3,FALSE),Keuzelijsten!$M$55*HLOOKUP(3,Keuzelijsten!$C$53:$E$58,3,FALSE)),0)","v":0},{"$f":"IF(M$56=2,IF(M$34=Keuzelijsten!$A$17,M$35*HLOOKUP(3,Keuzelijsten!$C$53:$E$58,3,FALSE),Keuzelijsten!$M$55*HLOOKUP(3,Keuzelijsten!$C$53:$E$58,3,FALSE)),0)","v":0},{"$f":"IF(N$56=2,IF(N$34=Keuzelijsten!$A$17,N$35*HLOOKUP(3,Keuzelijsten!$C$53:$E$58,3,FALSE),Keuzelijsten!$M$55*HLOOKUP(3,Keuzelijsten!$C$53:$E$58,3,FALSE)),0)","v":0},{"$f":"IF(O$56=2,IF(O$34=Keuzelijsten!$A$17,O$35*HLOOKUP(3,Keuzelijsten!$C$53:$E$58,3,FALSE),Keuzelijsten!$M$55*HLOOKUP(3,Keuzelijsten!$C$53:$E$58,3,FALSE)),0)","v":0},{"$f":"IF(P$56=2,IF(P$34=Keuzelijsten!$A$17,P$35*HLOOKUP(3,Keuzelijsten!$C$53:$E$58,3,FALSE),Keuzelijsten!$M$55*HLOOKUP(3,Keuzelijsten!$C$53:$E$58,3,FALSE)),0)","v":0},{"$f":"IF(Q$56=2,IF(Q$34=Keuzelijsten!$A$17,Q$35*HLOOKUP(3,Keuzelijsten!$C$53:$E$58,3,FALSE),Keuzelijsten!$M$55*HLOOKUP(3,Keuzelijsten!$C$53:$E$58,3,FALSE)),0)","v":0},{"$f":"IF(R$56=2,IF(R$34=Keuzelijsten!$A$17,R$35*HLOOKUP(3,Keuzelijsten!$C$53:$E$58,3,FALSE),Keuzelijsten!$M$55*HLOOKUP(3,Keuzelijsten!$C$53:$E$58,3,FALSE)),0)","v":0},{"$f":"IF(S$56=2,IF(S$34=Keuzelijsten!$A$17,S$35*HLOOKUP(3,Keuzelijsten!$C$53:$E$58,3,FALSE),Keuzelijsten!$M$55*HLOOKUP(3,Keuzelijsten!$C$53:$E$58,3,FALSE)),0)","v":0},{"$f":"IF(T$56=2,IF(T$34=Keuzelijsten!$A$17,T$35*HLOOKUP(3,Keuzelijsten!$C$53:$E$58,3,FALSE),Keuzelijsten!$M$55*HLOOKUP(3,Keuzelijsten!$C$53:$E$58,3,FALSE)),0)","v":0},{"$f":"IF(U$56=2,IF(U$34=Keuzelijsten!$A$17,U$35*HLOOKUP(3,Keuzelijsten!$C$53:$E$58,3,FALSE),Keuzelijsten!$M$55*HLOOKUP(3,Keuzelijsten!$C$53:$E$58,3,FALSE)),0)","v":0},{"$f":"IF(V$56=2,IF(V$34=Keuzelijsten!$A$17,V$35*HLOOKUP(3,Keuzelijsten!$C$53:$E$58,3,FALSE),Keuzelijsten!$M$55*HLOOKUP(3,Keuzelijsten!$C$53:$E$58,3,FALSE)),0)","v":0},{"$f":"IF(W$56=2,IF(W$34=Keuzelijsten!$A$17,W$35*HLOOKUP(3,Keuzelijsten!$C$53:$E$58,3,FALSE),Keuzelijsten!$M$55*HLOOKUP(3,Keuzelijsten!$C$53:$E$58,3,FALSE)),0)","v":0},{"$f":"IF(X$56=2,IF(X$34=Keuzelijsten!$A$17,X$35*HLOOKUP(3,Keuzelijsten!$C$53:$E$58,3,FALSE),Keuzelijsten!$M$55*HLOOKUP(3,Keuzelijsten!$C$53:$E$58,3,FALSE)),0)","v":0},{"$f":"IF(Y$56=2,IF(Y$34=Keuzelijsten!$A$17,Y$35*HLOOKUP(3,Keuzelijsten!$C$53:$E$58,3,FALSE),Keuzelijsten!$M$55*HLOOKUP(3,Keuzelijsten!$C$53:$E$58,3,FALSE)),0)","v":0},{"$f":"IF(Z$56=2,IF(Z$34=Keuzelijsten!$A$17,Z$35*HLOOKUP(3,Keuzelijsten!$C$53:$E$58,3,FALSE),Keuzelijsten!$M$55*HLOOKUP(3,Keuzelijsten!$C$53:$E$58,3,FALSE)),0)","v":0},{"$f":"IF(AA$56=2,IF(AA$34=Keuzelijsten!$A$17,AA$35*HLOOKUP(3,Keuzelijsten!$C$53:$E$58,3,FALSE),Keuzelijsten!$M$55*HLOOKUP(3,Keuzelijsten!$C$53:$E$58,3,FALSE)),0)","v":0},{"$f":"IF(AB$56=2,IF(AB$34=Keuzelijsten!$A$17,AB$35*HLOOKUP(3,Keuzelijsten!$C$53:$E$58,3,FALSE),Keuzelijsten!$M$55*HLOOKUP(3,Keuzelijsten!$C$53:$E$58,3,FALSE)),0)","v":0},{"$f":"IF(AC$56=2,IF(AC$34=Keuzelijsten!$A$17,AC$35*HLOOKUP(3,Keuzelijsten!$C$53:$E$58,3,FALSE),Keuzelijsten!$M$55*HLOOKUP(3,Keuzelijsten!$C$53:$E$58,3,FALSE)),0)","v":0},{"$f":"IF(AD$56=2,IF(AD$34=Keuzelijsten!$A$17,AD$35*HLOOKUP(3,Keuzelijsten!$C$53:$E$58,3,FALSE),Keuzelijsten!$M$55*HLOOKUP(3,Keuzelijsten!$C$53:$E$58,3,FALSE)),0)","v":0},{"$f":"IF(AE$56=2,IF(AE$34=Keuzelijsten!$A$17,AE$35*HLOOKUP(3,Keuzelijsten!$C$53:$E$58,3,FALSE),Keuzelijsten!$M$55*HLOOKUP(3,Keuzelijsten!$C$53:$E$58,3,FALSE)),0)","v":0},{"$f":"IF(AF$56=2,IF(AF$34=Keuzelijsten!$A$17,AF$35*HLOOKUP(3,Keuzelijsten!$C$53:$E$58,3,FALSE),Keuzelijsten!$M$55*HLOOKUP(3,Keuzelijsten!$C$53:$E$58,3,FALSE)),0)","v":0},{"$f":"IF(AG$56=2,IF(AG$34=Keuzelijsten!$A$17,AG$35*HLOOKUP(3,Keuzelijsten!$C$53:$E$58,3,FALSE),Keuzelijsten!$M$55*HLOOKUP(3,Keuzelijsten!$C$53:$E$58,3,FALSE)),0)","v":0},{"$f":"IF(AH$56=2,IF(AH$34=Keuzelijsten!$A$17,AH$35*HLOOKUP(3,Keuzelijsten!$C$53:$E$58,3,FALSE),Keuzelijsten!$M$55*HLOOKUP(3,Keuzelijsten!$C$53:$E$58,3,FALSE)),0)","v":0},{"$f":"IF(AI$56=2,IF(AI$34=Keuzelijsten!$A$17,AI$35*HLOOKUP(3,Keuzelijsten!$C$53:$E$58,3,FALSE),Keuzelijsten!$M$55*HLOOKUP(3,Keuzelijsten!$C$53:$E$58,3,FALSE)),0)","v":0},{"$f":"IF(AJ$56=2,IF(AJ$34=Keuzelijsten!$A$17,AJ$35*HLOOKUP(3,Keuzelijsten!$C$53:$E$58,3,FALSE),Keuzelijsten!$M$55*HLOOKUP(3,Keuzelijsten!$C$53:$E$58,3,FALSE)),0)","v":0},{"$f":"IF(AK$56=2,IF(AK$34=Keuzelijsten!$A$17,AK$35*HLOOKUP(3,Keuzelijsten!$C$53:$E$58,3,FALSE),Keuzelijsten!$M$55*HLOOKUP(3,Keuzelijsten!$C$53:$E$58,3,FALSE)),0)","v":0},{"$f":"IF(AL$56=2,IF(AL$34=Keuzelijsten!$A$17,AL$35*HLOOKUP(3,Keuzelijsten!$C$53:$E$58,3,FALSE),Keuzelijsten!$M$55*HLOOKUP(3,Keuzelijsten!$C$53:$E$58,3,FALSE)),0)","v":0},{"$f":"IF(AM$56=2,IF(AM$34=Keuzelijsten!$A$17,AM$35*HLOOKUP(3,Keuzelijsten!$C$53:$E$58,3,FALSE),Keuzelijsten!$M$55*HLOOKUP(3,Keuzelijsten!$C$53:$E$58,3,FALSE)),0)","v":0},{"$f":"IF(AN$56=2,IF(AN$34=Keuzelijsten!$A$17,AN$35*HLOOKUP(3,Keuzelijsten!$C$53:$E$58,3,FALSE),Keuzelijsten!$M$55*HLOOKUP(3,Keuzelijsten!$C$53:$E$58,3,FALSE)),0)","v":0},{"$f":"IF(AO$56=2,IF(AO$34=Keuzelijsten!$A$17,AO$35*HLOOKUP(3,Keuzelijsten!$C$53:$E$58,3,FALSE),Keuzelijsten!$M$55*HLOOKUP(3,Keuzelijsten!$C$53:$E$58,3,FALSE)),0)","v":0},{"$f":"IF(AP$56=2,IF(AP$34=Keuzelijsten!$A$17,AP$35*HLOOKUP(3,Keuzelijsten!$C$53:$E$58,3,FALSE),Keuzelijsten!$M$55*HLOOKUP(3,Keuzelijsten!$C$53:$E$58,3,FALSE)),0)","v":0},{"$f":"IF(AQ$56=2,IF(AQ$34=Keuzelijsten!$A$17,AQ$35*HLOOKUP(3,Keuzelijsten!$C$53:$E$58,3,FALSE),Keuzelijsten!$M$55*HLOOKUP(3,Keuzelijsten!$C$53:$E$58,3,FALSE)),0)","v":0},{"$f":"IF(AR$56=2,IF(AR$34=Keuzelijsten!$A$17,AR$35*HLOOKUP(3,Keuzelijsten!$C$53:$E$58,3,FALSE),Keuzelijsten!$M$55*HLOOKUP(3,Keuzelijsten!$C$53:$E$58,3,FALSE)),0)","v":0},{"$f":"IF(AS$56=2,IF(AS$34=Keuzelijsten!$A$17,AS$35*HLOOKUP(3,Keuzelijsten!$C$53:$E$58,3,FALSE),Keuzelijsten!$M$55*HLOOKUP(3,Keuzelijsten!$C$53:$E$58,3,FALSE)),0)","v":0},{"$f":"IF(AT$56=2,IF(AT$34=Keuzelijsten!$A$17,AT$35*HLOOKUP(3,Keuzelijsten!$C$53:$E$58,3,FALSE),Keuzelijsten!$M$55*HLOOKUP(3,Keuzelijsten!$C$53:$E$58,3,FALSE)),0)","v":0},{"$f":"IF(AU$56=2,IF(AU$34=Keuzelijsten!$A$17,AU$35*HLOOKUP(3,Keuzelijsten!$C$53:$E$58,3,FALSE),Keuzelijsten!$M$55*HLOOKUP(3,Keuzelijsten!$C$53:$E$58,3,FALSE)),0)","v":0},{"$f":"IF(AV$56=2,IF(AV$34=Keuzelijsten!$A$17,AV$35*HLOOKUP(3,Keuzelijsten!$C$53:$E$58,3,FALSE),Keuzelijsten!$M$55*HLOOKUP(3,Keuzelijsten!$C$53:$E$58,3,FALSE)),0)","v":0},{"$f":"IF(AW$56=2,IF(AW$34=Keuzelijsten!$A$17,AW$35*HLOOKUP(3,Keuzelijsten!$C$53:$E$58,3,FALSE),Keuzelijsten!$M$55*HLOOKUP(3,Keuzelijsten!$C$53:$E$58,3,FALSE)),0)","v":0},{"$f":"IF(AX$56=2,IF(AX$34=Keuzelijsten!$A$17,AX$35*HLOOKUP(3,Keuzelijsten!$C$53:$E$58,3,FALSE),Keuzelijsten!$M$55*HLOOKUP(3,Keuzelijsten!$C$53:$E$58,3,FALSE)),0)","v":0},{"$f":"IF(AY$56=2,IF(AY$34=Keuzelijsten!$A$17,AY$35*HLOOKUP(3,Keuzelijsten!$C$53:$E$58,3,FALSE),Keuzelijsten!$M$55*HLOOKUP(3,Keuzelijsten!$C$53:$E$58,3,FALSE)),0)","v":0},{"$f":"IF(AZ$56=2,IF(AZ$34=Keuzelijsten!$A$17,AZ$35*HLOOKUP(3,Keuzelijsten!$C$53:$E$58,3,FALSE),Keuzelijsten!$M$55*HLOOKUP(3,Keuzelijsten!$C$53:$E$58,3,FALSE)),0)","v":0},{"$f":"IF(BA$56=2,IF(BA$34=Keuzelijsten!$A$17,BA$35*HLOOKUP(3,Keuzelijsten!$C$53:$E$58,3,FALSE),Keuzelijsten!$M$55*HLOOKUP(3,Keuzelijsten!$C$53:$E$58,3,FALSE)),0)","v":0},{"$f":"IF(BB$56=2,IF(BB$34=Keuzelijsten!$A$17,BB$35*HLOOKUP(3,Keuzelijsten!$C$53:$E$58,3,FALSE),Keuzelijsten!$M$55*HLOOKUP(3,Keuzelijsten!$C$53:$E$58,3,FALSE)),0)","v":0},{"$f":"IF(BC$56=2,IF(BC$34=Keuzelijsten!$A$17,BC$35*HLOOKUP(3,Keuzelijsten!$C$53:$E$58,3,FALSE),Keuzelijsten!$M$55*HLOOKUP(3,Keuzelijsten!$C$53:$E$58,3,FALSE)),0)","v":0},{"$f":"IF(BD$56=2,IF(BD$34=Keuzelijsten!$A$17,BD$35*HLOOKUP(3,Keuzelijsten!$C$53:$E$58,3,FALSE),Keuzelijsten!$M$55*HLOOKUP(3,Keuzelijsten!$C$53:$E$58,3,FALSE)),0)","v":0},{"$f":"IF(BE$56=2,IF(BE$34=Keuzelijsten!$A$17,BE$35*HLOOKUP(3,Keuzelijsten!$C$53:$E$58,3,FALSE),Keuzelijsten!$M$55*HLOOKUP(3,Keuzelijsten!$C$53:$E$58,3,FALSE)),0)","v":0},{"$f":"IF(BF$56=2,IF(BF$34=Keuzelijsten!$A$17,BF$35*HLOOKUP(3,Keuzelijsten!$C$53:$E$58,3,FALSE),Keuzelijsten!$M$55*HLOOKUP(3,Keuzelijsten!$C$53:$E$58,3,FALSE)),0)","v":0},{"$f":"IF(BG$56=2,IF(BG$34=Keuzelijsten!$A$17,BG$35*HLOOKUP(3,Keuzelijsten!$C$53:$E$58,3,FALSE),Keuzelijsten!$M$55*HLOOKUP(3,Keuzelijsten!$C$53:$E$58,3,FALSE)),0)","v":0},{"$f":"IF(BH$56=2,IF(BH$34=Keuzelijsten!$A$17,BH$35*HLOOKUP(3,Keuzelijsten!$C$53:$E$58,3,FALSE),Keuzelijsten!$M$55*HLOOKUP(3,Keuzelijsten!$C$53:$E$58,3,FALSE)),0)","v":0},{"$f":"IF(BI$56=2,IF(BI$34=Keuzelijsten!$A$17,BI$35*HLOOKUP(3,Keuzelijsten!$C$53:$E$58,3,FALSE),Keuzelijsten!$M$55*HLOOKUP(3,Keuzelijsten!$C$53:$E$58,3,FALSE)),0)","v":0},{"$f":"IF(BJ$56=2,IF(BJ$34=Keuzelijsten!$A$17,BJ$35*HLOOKUP(3,Keuzelijsten!$C$53:$E$58,3,FALSE),Keuzelijsten!$M$55*HLOOKUP(3,Keuzelijsten!$C$53:$E$58,3,FALSE)),0)","v":0},{"$f":"IF(BK$56=2,IF(BK$34=Keuzelijsten!$A$17,BK$35*HLOOKUP(3,Keuzelijsten!$C$53:$E$58,3,FALSE),Keuzelijsten!$M$55*HLOOKUP(3,Keuzelijsten!$C$53:$E$58,3,FALSE)),0)","v":0},{"$f":"IF(BL$56=2,IF(BL$34=Keuzelijsten!$A$17,BL$35*HLOOKUP(3,Keuzelijsten!$C$53:$E$58,3,FALSE),Keuzelijsten!$M$55*HLOOKUP(3,Keuzelijsten!$C$53:$E$58,3,FALSE)),0)","v":0},{"$f":"IF(BM$56=2,IF(BM$34=Keuzelijsten!$A$17,BM$35*HLOOKUP(3,Keuzelijsten!$C$53:$E$58,3,FALSE),Keuzelijsten!$M$55*HLOOKUP(3,Keuzelijsten!$C$53:$E$58,3,FALSE)),0)","v":0},{"$f":"IF(BN$56=2,IF(BN$34=Keuzelijsten!$A$17,BN$35*HLOOKUP(3,Keuzelijsten!$C$53:$E$58,3,FALSE),Keuzelijsten!$M$55*HLOOKUP(3,Keuzelijsten!$C$53:$E$58,3,FALSE)),0)","v":0},{"$f":"IF(BO$56=2,IF(BO$34=Keuzelijsten!$A$17,BO$35*HLOOKUP(3,Keuzelijsten!$C$53:$E$58,3,FALSE),Keuzelijsten!$M$55*HLOOKUP(3,Keuzelijsten!$C$53:$E$58,3,FALSE)),0)","v":0},{"$f":"IF(BP$56=2,IF(BP$34=Keuzelijsten!$A$17,BP$35*HLOOKUP(3,Keuzelijsten!$C$53:$E$58,3,FALSE),Keuzelijsten!$M$55*HLOOKUP(3,Keuzelijsten!$C$53:$E$58,3,FALSE)),0)","v":0},{"$f":"IF(BQ$56=2,IF(BQ$34=Keuzelijsten!$A$17,BQ$35*HLOOKUP(3,Keuzelijsten!$C$53:$E$58,3,FALSE),Keuzelijsten!$M$55*HLOOKUP(3,Keuzelijsten!$C$53:$E$58,3,FALSE)),0)","v":0},{"$f":"IF(BR$56=2,IF(BR$34=Keuzelijsten!$A$17,BR$35*HLOOKUP(3,Keuzelijsten!$C$53:$E$58,3,FALSE),Keuzelijsten!$M$55*HLOOKUP(3,Keuzelijsten!$C$53:$E$58,3,FALSE)),0)","v":0},{"$f":"IF(BS$56=2,IF(BS$34=Keuzelijsten!$A$17,BS$35*HLOOKUP(3,Keuzelijsten!$C$53:$E$58,3,FALSE),Keuzelijsten!$M$55*HLOOKUP(3,Keuzelijsten!$C$53:$E$58,3,FALSE)),0)","v":0},{"$f":"IF(BT$56=2,IF(BT$34=Keuzelijsten!$A$17,BT$35*HLOOKUP(3,Keuzelijsten!$C$53:$E$58,3,FALSE),Keuzelijsten!$M$55*HLOOKUP(3,Keuzelijsten!$C$53:$E$58,3,FALSE)),0)","v":0},{"$f":"IF(BU$56=2,IF(BU$34=Keuzelijsten!$A$17,BU$35*HLOOKUP(3,Keuzelijsten!$C$53:$E$58,3,FALSE),Keuzelijsten!$M$55*HLOOKUP(3,Keuzelijsten!$C$53:$E$58,3,FALSE)),0)","v":0},{"$f":"IF(BV$56=2,IF(BV$34=Keuzelijsten!$A$17,BV$35*HLOOKUP(3,Keuzelijsten!$C$53:$E$58,3,FALSE),Keuzelijsten!$M$55*HLOOKUP(3,Keuzelijsten!$C$53:$E$58,3,FALSE)),0)","v":0},{"$f":"IF(BW$56=2,IF(BW$34=Keuzelijsten!$A$17,BW$35*HLOOKUP(3,Keuzelijsten!$C$53:$E$58,3,FALSE),Keuzelijsten!$M$55*HLOOKUP(3,Keuzelijsten!$C$53:$E$58,3,FALSE)),0)","v":0},{"$f":"IF(BX$56=2,IF(BX$34=Keuzelijsten!$A$17,BX$35*HLOOKUP(3,Keuzelijsten!$C$53:$E$58,3,FALSE),Keuzelijsten!$M$55*HLOOKUP(3,Keuzelijsten!$C$53:$E$58,3,FALSE)),0)","v":0},{"$f":"IF(BY$56=2,IF(BY$34=Keuzelijsten!$A$17,BY$35*HLOOKUP(3,Keuzelijsten!$C$53:$E$58,3,FALSE),Keuzelijsten!$M$55*HLOOKUP(3,Keuzelijsten!$C$53:$E$58,3,FALSE)),0)","v":0},{"$f":"IF(BZ$56=2,IF(BZ$34=Keuzelijsten!$A$17,BZ$35*HLOOKUP(3,Keuzelijsten!$C$53:$E$58,3,FALSE),Keuzelijsten!$M$55*HLOOKUP(3,Keuzelijsten!$C$53:$E$58,3,FALSE)),0)","v":0},{"$f":"IF(CA$56=2,IF(CA$34=Keuzelijsten!$A$17,CA$35*HLOOKUP(3,Keuzelijsten!$C$53:$E$58,3,FALSE),Keuzelijsten!$M$55*HLOOKUP(3,Keuzelijsten!$C$53:$E$58,3,FALSE)),0)","v":0},{"$f":"IF(CB$56=2,IF(CB$34=Keuzelijsten!$A$17,CB$35*HLOOKUP(3,Keuzelijsten!$C$53:$E$58,3,FALSE),Keuzelijsten!$M$55*HLOOKUP(3,Keuzelijsten!$C$53:$E$58,3,FALSE)),0)","v":0},{"$f":"IF(CC$56=2,IF(CC$34=Keuzelijsten!$A$17,CC$35*HLOOKUP(3,Keuzelijsten!$C$53:$E$58,3,FALSE),Keuzelijsten!$M$55*HLOOKUP(3,Keuzelijsten!$C$53:$E$58,3,FALSE)),0)","v":0},{"$f":"IF(CD$56=2,IF(CD$34=Keuzelijsten!$A$17,CD$35*HLOOKUP(3,Keuzelijsten!$C$53:$E$58,3,FALSE),Keuzelijsten!$M$55*HLOOKUP(3,Keuzelijsten!$C$53:$E$58,3,FALSE)),0)","v":0},{"$f":"IF(CE$56=2,IF(CE$34=Keuzelijsten!$A$17,CE$35*HLOOKUP(3,Keuzelijsten!$C$53:$E$58,3,FALSE),Keuzelijsten!$M$55*HLOOKUP(3,Keuzelijsten!$C$53:$E$58,3,FALSE)),0)","v":0},{"$f":"IF(CF$56=2,IF(CF$34=Keuzelijsten!$A$17,CF$35*HLOOKUP(3,Keuzelijsten!$C$53:$E$58,3,FALSE),Keuzelijsten!$M$55*HLOOKUP(3,Keuzelijsten!$C$53:$E$58,3,FALSE)),0)","v":0},{"$f":"IF(CG$56=2,IF(CG$34=Keuzelijsten!$A$17,CG$35*HLOOKUP(3,Keuzelijsten!$C$53:$E$58,3,FALSE),Keuzelijsten!$M$55*HLOOKUP(3,Keuzelijsten!$C$53:$E$58,3,FALSE)),0)","v":0},{"$f":"IF(CH$56=2,IF(CH$34=Keuzelijsten!$A$17,CH$35*HLOOKUP(3,Keuzelijsten!$C$53:$E$58,3,FALSE),Keuzelijsten!$M$55*HLOOKUP(3,Keuzelijsten!$C$53:$E$58,3,FALSE)),0)","v":0},{"$f":"IF(CI$56=2,IF(CI$34=Keuzelijsten!$A$17,CI$35*HLOOKUP(3,Keuzelijsten!$C$53:$E$58,3,FALSE),Keuzelijsten!$M$55*HLOOKUP(3,Keuzelijsten!$C$53:$E$58,3,FALSE)),0)","v":0},{"$f":"IF(CJ$56=2,IF(CJ$34=Keuzelijsten!$A$17,CJ$35*HLOOKUP(3,Keuzelijsten!$C$53:$E$58,3,FALSE),Keuzelijsten!$M$55*HLOOKUP(3,Keuzelijsten!$C$53:$E$58,3,FALSE)),0)","v":0},{"$f":"IF(CK$56=2,IF(CK$34=Keuzelijsten!$A$17,CK$35*HLOOKUP(3,Keuzelijsten!$C$53:$E$58,3,FALSE),Keuzelijsten!$M$55*HLOOKUP(3,Keuzelijsten!$C$53:$E$58,3,FALSE)),0)","v":0},{"$f":"IF(CL$56=2,IF(CL$34=Keuzelijsten!$A$17,CL$35*HLOOKUP(3,Keuzelijsten!$C$53:$E$58,3,FALSE),Keuzelijsten!$M$55*HLOOKUP(3,Keuzelijsten!$C$53:$E$58,3,FALSE)),0)","v":0},{"$f":"IF(CM$56=2,IF(CM$34=Keuzelijsten!$A$17,CM$35*HLOOKUP(3,Keuzelijsten!$C$53:$E$58,3,FALSE),Keuzelijsten!$M$55*HLOOKUP(3,Keuzelijsten!$C$53:$E$58,3,FALSE)),0)","v":0},{"$f":"IF(CN$56=2,IF(CN$34=Keuzelijsten!$A$17,CN$35*HLOOKUP(3,Keuzelijsten!$C$53:$E$58,3,FALSE),Keuzelijsten!$M$55*HLOOKUP(3,Keuzelijsten!$C$53:$E$58,3,FALSE)),0)","v":0},{"$f":"IF(CO$56=2,IF(CO$34=Keuzelijsten!$A$17,CO$35*HLOOKUP(3,Keuzelijsten!$C$53:$E$58,3,FALSE),Keuzelijsten!$M$55*HLOOKUP(3,Keuzelijsten!$C$53:$E$58,3,FALSE)),0)","v":0},{"$f":"IF(CP$56=2,IF(CP$34=Keuzelijsten!$A$17,CP$35*HLOOKUP(3,Keuzelijsten!$C$53:$E$58,3,FALSE),Keuzelijsten!$M$55*HLOOKUP(3,Keuzelijsten!$C$53:$E$58,3,FALSE)),0)","v":0},{"$f":"IF(CQ$56=2,IF(CQ$34=Keuzelijsten!$A$17,CQ$35*HLOOKUP(3,Keuzelijsten!$C$53:$E$58,3,FALSE),Keuzelijsten!$M$55*HLOOKUP(3,Keuzelijsten!$C$53:$E$58,3,FALSE)),0)","v":0},{"$f":"IF(CR$56=2,IF(CR$34=Keuzelijsten!$A$17,CR$35*HLOOKUP(3,Keuzelijsten!$C$53:$E$58,3,FALSE),Keuzelijsten!$M$55*HLOOKUP(3,Keuzelijsten!$C$53:$E$58,3,FALSE)),0)","v":0},{"$f":"IF(CS$56=2,IF(CS$34=Keuzelijsten!$A$17,CS$35*HLOOKUP(3,Keuzelijsten!$C$53:$E$58,3,FALSE),Keuzelijsten!$M$55*HLOOKUP(3,Keuzelijsten!$C$53:$E$58,3,FALSE)),0)","v":0},{"$f":"IF(CT$56=2,IF(CT$34=Keuzelijsten!$A$17,CT$35*HLOOKUP(3,Keuzelijsten!$C$53:$E$58,3,FALSE),Keuzelijsten!$M$55*HLOOKUP(3,Keuzelijsten!$C$53:$E$58,3,FALSE)),0)","v":0},{"$f":"IF(CU$56=2,IF(CU$34=Keuzelijsten!$A$17,CU$35*HLOOKUP(3,Keuzelijsten!$C$53:$E$58,3,FALSE),Keuzelijsten!$M$55*HLOOKUP(3,Keuzelijsten!$C$53:$E$58,3,FALSE)),0)","v":0},{"$f":"IF(CV$56=2,IF(CV$34=Keuzelijsten!$A$17,CV$35*HLOOKUP(3,Keuzelijsten!$C$53:$E$58,3,FALSE),Keuzelijsten!$M$55*HLOOKUP(3,Keuzelijsten!$C$53:$E$58,3,FALSE)),0)","v":0},{"$f":"IF(CW$56=2,IF(CW$34=Keuzelijsten!$A$17,CW$35*HLOOKUP(3,Keuzelijsten!$C$53:$E$58,3,FALSE),Keuzelijsten!$M$55*HLOOKUP(3,Keuzelijsten!$C$53:$E$58,3,FALSE)),0)","v":0},{"$f":"IF(CX$56=2,IF(CX$34=Keuzelijsten!$A$17,CX$35*HLOOKUP(3,Keuzelijsten!$C$53:$E$58,3,FALSE),Keuzelijsten!$M$55*HLOOKUP(3,Keuzelijsten!$C$53:$E$58,3,FALSE)),0)","v":0},{"$f":"IF(CY$56=2,IF(CY$34=Keuzelijsten!$A$17,CY$35*HLOOKUP(3,Keuzelijsten!$C$53:$E$58,3,FALSE),Keuzelijsten!$M$55*HLOOKUP(3,Keuzelijsten!$C$53:$E$58,3,FALSE)),0)","v":0},{"$f":"IF(CZ$56=2,IF(CZ$34=Keuzelijsten!$A$17,CZ$35*HLOOKUP(3,Keuzelijsten!$C$53:$E$58,3,FALSE),Keuzelijsten!$M$55*HLOOKUP(3,Keuzelijsten!$C$53:$E$58,3,FALSE)),0)","v":0},{"$f":"IF(DA$56=2,IF(DA$34=Keuzelijsten!$A$17,DA$35*HLOOKUP(3,Keuzelijsten!$C$53:$E$58,3,FALSE),Keuzelijsten!$M$55*HLOOKUP(3,Keuzelijsten!$C$53:$E$58,3,FALSE)),0)","v":0},{"$f":"IF(DB$56=2,IF(DB$34=Keuzelijsten!$A$17,DB$35*HLOOKUP(3,Keuzelijsten!$C$53:$E$58,3,FALSE),Keuzelijsten!$M$55*HLOOKUP(3,Keuzelijsten!$C$53:$E$58,3,FALSE)),0)","v":0},{"$f":"IF(DC$56=2,IF(DC$34=Keuzelijsten!$A$17,DC$35*HLOOKUP(3,Keuzelijsten!$C$53:$E$58,3,FALSE),Keuzelijsten!$M$55*HLOOKUP(3,Keuzelijsten!$C$53:$E$58,3,FALSE)),0)","v":0},{"$f":"IF(DD$56=2,IF(DD$34=Keuzelijsten!$A$17,DD$35*HLOOKUP(3,Keuzelijsten!$C$53:$E$58,3,FALSE),Keuzelijsten!$M$55*HLOOKUP(3,Keuzelijsten!$C$53:$E$58,3,FALSE)),0)","v":0},{"$f":"IF(DE$56=2,IF(DE$34=Keuzelijsten!$A$17,DE$35*HLOOKUP(3,Keuzelijsten!$C$53:$E$58,3,FALSE),Keuzelijsten!$M$55*HLOOKUP(3,Keuzelijsten!$C$53:$E$58,3,FALSE)),0)","v":0},{"$f":"IF(DF$56=2,IF(DF$34=Keuzelijsten!$A$17,DF$35*HLOOKUP(3,Keuzelijsten!$C$53:$E$58,3,FALSE),Keuzelijsten!$M$55*HLOOKUP(3,Keuzelijsten!$C$53:$E$58,3,FALSE)),0)","v":0},{"$f":"IF(DG$56=2,IF(DG$34=Keuzelijsten!$A$17,DG$35*HLOOKUP(3,Keuzelijsten!$C$53:$E$58,3,FALSE),Keuzelijsten!$M$55*HLOOKUP(3,Keuzelijsten!$C$53:$E$58,3,FALSE)),0)","v":0},{"$f":"IF(DH$56=2,IF(DH$34=Keuzelijsten!$A$17,DH$35*HLOOKUP(3,Keuzelijsten!$C$53:$E$58,3,FALSE),Keuzelijsten!$M$55*HLOOKUP(3,Keuzelijsten!$C$53:$E$58,3,FALSE)),0)","v":0},{"$f":"IF(DI$56=2,IF(DI$34=Keuzelijsten!$A$17,DI$35*HLOOKUP(3,Keuzelijsten!$C$53:$E$58,3,FALSE),Keuzelijsten!$M$55*HLOOKUP(3,Keuzelijsten!$C$53:$E$58,3,FALSE)),0)","v":0},{"$f":"IF(DJ$56=2,IF(DJ$34=Keuzelijsten!$A$17,DJ$35*HLOOKUP(3,Keuzelijsten!$C$53:$E$58,3,FALSE),Keuzelijsten!$M$55*HLOOKUP(3,Keuzelijsten!$C$53:$E$58,3,FALSE)),0)","v":0},{"$f":"IF(DK$56=2,IF(DK$34=Keuzelijsten!$A$17,DK$35*HLOOKUP(3,Keuzelijsten!$C$53:$E$58,3,FALSE),Keuzelijsten!$M$55*HLOOKUP(3,Keuzelijsten!$C$53:$E$58,3,FALSE)),0)","v":0},{"$f":"IF(DL$56=2,IF(DL$34=Keuzelijsten!$A$17,DL$35*HLOOKUP(3,Keuzelijsten!$C$53:$E$58,3,FALSE),Keuzelijsten!$M$55*HLOOKUP(3,Keuzelijsten!$C$53:$E$58,3,FALSE)),0)","v":0},{"$f":"IF(DM$56=2,IF(DM$34=Keuzelijsten!$A$17,DM$35*HLOOKUP(3,Keuzelijsten!$C$53:$E$58,3,FALSE),Keuzelijsten!$M$55*HLOOKUP(3,Keuzelijsten!$C$53:$E$58,3,FALSE)),0)","v":0},{"$f":"IF(DN$56=2,IF(DN$34=Keuzelijsten!$A$17,DN$35*HLOOKUP(3,Keuzelijsten!$C$53:$E$58,3,FALSE),Keuzelijsten!$M$55*HLOOKUP(3,Keuzelijsten!$C$53:$E$58,3,FALSE)),0)","v":0},{"$f":"IF(DO$56=2,IF(DO$34=Keuzelijsten!$A$17,DO$35*HLOOKUP(3,Keuzelijsten!$C$53:$E$58,3,FALSE),Keuzelijsten!$M$55*HLOOKUP(3,Keuzelijsten!$C$53:$E$58,3,FALSE)),0)","v":0},{"$f":"IF(DP$56=2,IF(DP$34=Keuzelijsten!$A$17,DP$35*HLOOKUP(3,Keuzelijsten!$C$53:$E$58,3,FALSE),Keuzelijsten!$M$55*HLOOKUP(3,Keuzelijsten!$C$53:$E$58,3,FALSE)),0)","v":0},{"$f":"IF(DQ$56=2,IF(DQ$34=Keuzelijsten!$A$17,DQ$35*HLOOKUP(3,Keuzelijsten!$C$53:$E$58,3,FALSE),Keuzelijsten!$M$55*HLOOKUP(3,Keuzelijsten!$C$53:$E$58,3,FALSE)),0)","v":0},{"$f":"IF(DR$56=2,IF(DR$34=Keuzelijsten!$A$17,DR$35*HLOOKUP(3,Keuzelijsten!$C$53:$E$58,3,FALSE),Keuzelijsten!$M$55*HLOOKUP(3,Keuzelijsten!$C$53:$E$58,3,FALSE)),0)","v":0},{"$f":"IF(DS$56=2,IF(DS$34=Keuzelijsten!$A$17,DS$35*HLOOKUP(3,Keuzelijsten!$C$53:$E$58,3,FALSE),Keuzelijsten!$M$55*HLOOKUP(3,Keuzelijsten!$C$53:$E$58,3,FALSE)),0)","v":0},{"$f":"IF(DT$56=2,IF(DT$34=Keuzelijsten!$A$17,DT$35*HLOOKUP(3,Keuzelijsten!$C$53:$E$58,3,FALSE),Keuzelijsten!$M$55*HLOOKUP(3,Keuzelijsten!$C$53:$E$58,3,FALSE)),0)","v":0},{"$f":"IF(DU$56=2,IF(DU$34=Keuzelijsten!$A$17,DU$35*HLOOKUP(3,Keuzelijsten!$C$53:$E$58,3,FALSE),Keuzelijsten!$M$55*HLOOKUP(3,Keuzelijsten!$C$53:$E$58,3,FALSE)),0)","v":0},{"$f":"IF(DV$56=2,IF(DV$34=Keuzelijsten!$A$17,DV$35*HLOOKUP(3,Keuzelijsten!$C$53:$E$58,3,FALSE),Keuzelijsten!$M$55*HLOOKUP(3,Keuzelijsten!$C$53:$E$58,3,FALSE)),0)","v":0},{"$f":"IF(DW$56=2,IF(DW$34=Keuzelijsten!$A$17,DW$35*HLOOKUP(3,Keuzelijsten!$C$53:$E$58,3,FALSE),Keuzelijsten!$M$55*HLOOKUP(3,Keuzelijsten!$C$53:$E$58,3,FALSE)),0)","v":0},{"$f":"IF(DX$56=2,IF(DX$34=Keuzelijsten!$A$17,DX$35*HLOOKUP(3,Keuzelijsten!$C$53:$E$58,3,FALSE),Keuzelijsten!$M$55*HLOOKUP(3,Keuzelijsten!$C$53:$E$58,3,FALSE)),0)","v":0},{"$f":"IF(DY$56=2,IF(DY$34=Keuzelijsten!$A$17,DY$35*HLOOKUP(3,Keuzelijsten!$C$53:$E$58,3,FALSE),Keuzelijsten!$M$55*HLOOKUP(3,Keuzelijsten!$C$53:$E$58,3,FALSE)),0)","v":0},{"$f":"IF(DZ$56=2,IF(DZ$34=Keuzelijsten!$A$17,DZ$35*HLOOKUP(3,Keuzelijsten!$C$53:$E$58,3,FALSE),Keuzelijsten!$M$55*HLOOKUP(3,Keuzelijsten!$C$53:$E$58,3,FALSE)),0)","v":0},{"$f":"IF(EA$56=2,IF(EA$34=Keuzelijsten!$A$17,EA$35*HLOOKUP(3,Keuzelijsten!$C$53:$E$58,3,FALSE),Keuzelijsten!$M$55*HLOOKUP(3,Keuzelijsten!$C$53:$E$58,3,FALSE)),0)","v":0},{"$f":"IF(EB$56=2,IF(EB$34=Keuzelijsten!$A$17,EB$35*HLOOKUP(3,Keuzelijsten!$C$53:$E$58,3,FALSE),Keuzelijsten!$M$55*HLOOKUP(3,Keuzelijsten!$C$53:$E$58,3,FALSE)),0)","v":0},{"$f":"IF(EC$56=2,IF(EC$34=Keuzelijsten!$A$17,EC$35*HLOOKUP(3,Keuzelijsten!$C$53:$E$58,3,FALSE),Keuzelijsten!$M$55*HLOOKUP(3,Keuzelijsten!$C$53:$E$58,3,FALSE)),0)","v":0},{"$f":"IF(ED$56=2,IF(ED$34=Keuzelijsten!$A$17,ED$35*HLOOKUP(3,Keuzelijsten!$C$53:$E$58,3,FALSE),Keuzelijsten!$M$55*HLOOKUP(3,Keuzelijsten!$C$53:$E$58,3,FALSE)),0)","v":0},{"$f":"IF(EE$56=2,IF(EE$34=Keuzelijsten!$A$17,EE$35*HLOOKUP(3,Keuzelijsten!$C$53:$E$58,3,FALSE),Keuzelijsten!$M$55*HLOOKUP(3,Keuzelijsten!$C$53:$E$58,3,FALSE)),0)","v":0},{"$f":"IF(EF$56=2,IF(EF$34=Keuzelijsten!$A$17,EF$35*HLOOKUP(3,Keuzelijsten!$C$53:$E$58,3,FALSE),Keuzelijsten!$M$55*HLOOKUP(3,Keuzelijsten!$C$53:$E$58,3,FALSE)),0)","v":0},{"$f":"IF(EG$56=2,IF(EG$34=Keuzelijsten!$A$17,EG$35*HLOOKUP(3,Keuzelijsten!$C$53:$E$58,3,FALSE),Keuzelijsten!$M$55*HLOOKUP(3,Keuzelijsten!$C$53:$E$58,3,FALSE)),0)","v":0},{"$f":"IF(EH$56=2,IF(EH$34=Keuzelijsten!$A$17,EH$35*HLOOKUP(3,Keuzelijsten!$C$53:$E$58,3,FALSE),Keuzelijsten!$M$55*HLOOKUP(3,Keuzelijsten!$C$53:$E$58,3,FALSE)),0)","v":0},{"$f":"IF(EI$56=2,IF(EI$34=Keuzelijsten!$A$17,EI$35*HLOOKUP(3,Keuzelijsten!$C$53:$E$58,3,FALSE),Keuzelijsten!$M$55*HLOOKUP(3,Keuzelijsten!$C$53:$E$58,3,FALSE)),0)","v":0},{"$f":"IF(EJ$56=2,IF(EJ$34=Keuzelijsten!$A$17,EJ$35*HLOOKUP(3,Keuzelijsten!$C$53:$E$58,3,FALSE),Keuzelijsten!$M$55*HLOOKUP(3,Keuzelijsten!$C$53:$E$58,3,FALSE)),0)","v":0},{"$f":"IF(EK$56=2,IF(EK$34=Keuzelijsten!$A$17,EK$35*HLOOKUP(3,Keuzelijsten!$C$53:$E$58,3,FALSE),Keuzelijsten!$M$55*HLOOKUP(3,Keuzelijsten!$C$53:$E$58,3,FALSE)),0)","v":0},{"$f":"IF(EL$56=2,IF(EL$34=Keuzelijsten!$A$17,EL$35*HLOOKUP(3,Keuzelijsten!$C$53:$E$58,3,FALSE),Keuzelijsten!$M$55*HLOOKUP(3,Keuzelijsten!$C$53:$E$58,3,FALSE)),0)","v":0},{"$f":"IF(EM$56=2,IF(EM$34=Keuzelijsten!$A$17,EM$35*HLOOKUP(3,Keuzelijsten!$C$53:$E$58,3,FALSE),Keuzelijsten!$M$55*HLOOKUP(3,Keuzelijsten!$C$53:$E$58,3,FALSE)),0)","v":0},{"$f":"IF(EN$56=2,IF(EN$34=Keuzelijsten!$A$17,EN$35*HLOOKUP(3,Keuzelijsten!$C$53:$E$58,3,FALSE),Keuzelijsten!$M$55*HLOOKUP(3,Keuzelijsten!$C$53:$E$58,3,FALSE)),0)","v":0},{"$f":"IF(EO$56=2,IF(EO$34=Keuzelijsten!$A$17,EO$35*HLOOKUP(3,Keuzelijsten!$C$53:$E$58,3,FALSE),Keuzelijsten!$M$55*HLOOKUP(3,Keuzelijsten!$C$53:$E$58,3,FALSE)),0)","v":0},{"$f":"IF(EP$56=2,IF(EP$34=Keuzelijsten!$A$17,EP$35*HLOOKUP(3,Keuzelijsten!$C$53:$E$58,3,FALSE),Keuzelijsten!$M$55*HLOOKUP(3,Keuzelijsten!$C$53:$E$58,3,FALSE)),0)","v":0},{"$f":"IF(EQ$56=2,IF(EQ$34=Keuzelijsten!$A$17,EQ$35*HLOOKUP(3,Keuzelijsten!$C$53:$E$58,3,FALSE),Keuzelijsten!$M$55*HLOOKUP(3,Keuzelijsten!$C$53:$E$58,3,FALSE)),0)","v":0},{"$f":"IF(ER$56=2,IF(ER$34=Keuzelijsten!$A$17,ER$35*HLOOKUP(3,Keuzelijsten!$C$53:$E$58,3,FALSE),Keuzelijsten!$M$55*HLOOKUP(3,Keuzelijsten!$C$53:$E$58,3,FALSE)),0)","v":0},{"$f":"IF(ES$56=2,IF(ES$34=Keuzelijsten!$A$17,ES$35*HLOOKUP(3,Keuzelijsten!$C$53:$E$58,3,FALSE),Keuzelijsten!$M$55*HLOOKUP(3,Keuzelijsten!$C$53:$E$58,3,FALSE)),0)","v":0},{"$f":"IF(ET$56=2,IF(ET$34=Keuzelijsten!$A$17,ET$35*HLOOKUP(3,Keuzelijsten!$C$53:$E$58,3,FALSE),Keuzelijsten!$M$55*HLOOKUP(3,Keuzelijsten!$C$53:$E$58,3,FALSE)),0)","v":0},{"$f":"IF(EU$56=2,IF(EU$34=Keuzelijsten!$A$17,EU$35*HLOOKUP(3,Keuzelijsten!$C$53:$E$58,3,FALSE),Keuzelijsten!$M$55*HLOOKUP(3,Keuzelijsten!$C$53:$E$58,3,FALSE)),0)","v":0},{"$f":"IF(EV$56=2,IF(EV$34=Keuzelijsten!$A$17,EV$35*HLOOKUP(3,Keuzelijsten!$C$53:$E$58,3,FALSE),Keuzelijsten!$M$55*HLOOKUP(3,Keuzelijsten!$C$53:$E$58,3,FALSE)),0)","v":0},{"$f":"IF(EW$56=2,IF(EW$34=Keuzelijsten!$A$17,EW$35*HLOOKUP(3,Keuzelijsten!$C$53:$E$58,3,FALSE),Keuzelijsten!$M$55*HLOOKUP(3,Keuzelijsten!$C$53:$E$58,3,FALSE)),0)","v":0},{"$f":"IF(EX$56=2,IF(EX$34=Keuzelijsten!$A$17,EX$35*HLOOKUP(3,Keuzelijsten!$C$53:$E$58,3,FALSE),Keuzelijsten!$M$55*HLOOKUP(3,Keuzelijsten!$C$53:$E$58,3,FALSE)),0)","v":0},{"$f":"IF(EY$56=2,IF(EY$34=Keuzelijsten!$A$17,EY$35*HLOOKUP(3,Keuzelijsten!$C$53:$E$58,3,FALSE),Keuzelijsten!$M$55*HLOOKUP(3,Keuzelijsten!$C$53:$E$58,3,FALSE)),0)","v":0},{"$f":"IF(EZ$56=2,IF(EZ$34=Keuzelijsten!$A$17,EZ$35*HLOOKUP(3,Keuzelijsten!$C$53:$E$58,3,FALSE),Keuzelijsten!$M$55*HLOOKUP(3,Keuzelijsten!$C$53:$E$58,3,FALSE)),0)","v":0},{"$f":"IF(FA$56=2,IF(FA$34=Keuzelijsten!$A$17,FA$35*HLOOKUP(3,Keuzelijsten!$C$53:$E$58,3,FALSE),Keuzelijsten!$M$55*HLOOKUP(3,Keuzelijsten!$C$53:$E$58,3,FALSE)),0)","v":0},{"$f":"IF(FB$56=2,IF(FB$34=Keuzelijsten!$A$17,FB$35*HLOOKUP(3,Keuzelijsten!$C$53:$E$58,3,FALSE),Keuzelijsten!$M$55*HLOOKUP(3,Keuzelijsten!$C$53:$E$58,3,FALSE)),0)","v":0},{"$f":"IF(FC$56=2,IF(FC$34=Keuzelijsten!$A$17,FC$35*HLOOKUP(3,Keuzelijsten!$C$53:$E$58,3,FALSE),Keuzelijsten!$M$55*HLOOKUP(3,Keuzelijsten!$C$53:$E$58,3,FALSE)),0)","v":0},{"$f":"IF(FD$56=2,IF(FD$34=Keuzelijsten!$A$17,FD$35*HLOOKUP(3,Keuzelijsten!$C$53:$E$58,3,FALSE),Keuzelijsten!$M$55*HLOOKUP(3,Keuzelijsten!$C$53:$E$58,3,FALSE)),0)","v":0},{"$f":"IF(FE$56=2,IF(FE$34=Keuzelijsten!$A$17,FE$35*HLOOKUP(3,Keuzelijsten!$C$53:$E$58,3,FALSE),Keuzelijsten!$M$55*HLOOKUP(3,Keuzelijsten!$C$53:$E$58,3,FALSE)),0)","v":0},{"$f":"IF(FF$56=2,IF(FF$34=Keuzelijsten!$A$17,FF$35*HLOOKUP(3,Keuzelijsten!$C$53:$E$58,3,FALSE),Keuzelijsten!$M$55*HLOOKUP(3,Keuzelijsten!$C$53:$E$58,3,FALSE)),0)","v":0},{"$f":"IF(FG$56=2,IF(FG$34=Keuzelijsten!$A$17,FG$35*HLOOKUP(3,Keuzelijsten!$C$53:$E$58,3,FALSE),Keuzelijsten!$M$55*HLOOKUP(3,Keuzelijsten!$C$53:$E$58,3,FALSE)),0)","v":0},{"$f":"IF(FH$56=2,IF(FH$34=Keuzelijsten!$A$17,FH$35*HLOOKUP(3,Keuzelijsten!$C$53:$E$58,3,FALSE),Keuzelijsten!$M$55*HLOOKUP(3,Keuzelijsten!$C$53:$E$58,3,FALSE)),0)","v":0},{"$f":"IF(FI$56=2,IF(FI$34=Keuzelijsten!$A$17,FI$35*HLOOKUP(3,Keuzelijsten!$C$53:$E$58,3,FALSE),Keuzelijsten!$M$55*HLOOKUP(3,Keuzelijsten!$C$53:$E$58,3,FALSE)),0)","v":0},{"$f":"IF(FJ$56=2,IF(FJ$34=Keuzelijsten!$A$17,FJ$35*HLOOKUP(3,Keuzelijsten!$C$53:$E$58,3,FALSE),Keuzelijsten!$M$55*HLOOKUP(3,Keuzelijsten!$C$53:$E$58,3,FALSE)),0)","v":0},{"$f":"IF(FK$56=2,IF(FK$34=Keuzelijsten!$A$17,FK$35*HLOOKUP(3,Keuzelijsten!$C$53:$E$58,3,FALSE),Keuzelijsten!$M$55*HLOOKUP(3,Keuzelijsten!$C$53:$E$58,3,FALSE)),0)","v":0},{"$f":"IF(FL$56=2,IF(FL$34=Keuzelijsten!$A$17,FL$35*HLOOKUP(3,Keuzelijsten!$C$53:$E$58,3,FALSE),Keuzelijsten!$M$55*HLOOKUP(3,Keuzelijsten!$C$53:$E$58,3,FALSE)),0)","v":0},{"$f":"IF(FM$56=2,IF(FM$34=Keuzelijsten!$A$17,FM$35*HLOOKUP(3,Keuzelijsten!$C$53:$E$58,3,FALSE),Keuzelijsten!$M$55*HLOOKUP(3,Keuzelijsten!$C$53:$E$58,3,FALSE)),0)","v":0},{"$f":"IF(FN$56=2,IF(FN$34=Keuzelijsten!$A$17,FN$35*HLOOKUP(3,Keuzelijsten!$C$53:$E$58,3,FALSE),Keuzelijsten!$M$55*HLOOKUP(3,Keuzelijsten!$C$53:$E$58,3,FALSE)),0)","v":0},{"$f":"IF(FO$56=2,IF(FO$34=Keuzelijsten!$A$17,FO$35*HLOOKUP(3,Keuzelijsten!$C$53:$E$58,3,FALSE),Keuzelijsten!$M$55*HLOOKUP(3,Keuzelijsten!$C$53:$E$58,3,FALSE)),0)","v":0},{"$f":"IF(FP$56=2,IF(FP$34=Keuzelijsten!$A$17,FP$35*HLOOKUP(3,Keuzelijsten!$C$53:$E$58,3,FALSE),Keuzelijsten!$M$55*HLOOKUP(3,Keuzelijsten!$C$53:$E$58,3,FALSE)),0)","v":0},{"$f":"IF(FQ$56=2,IF(FQ$34=Keuzelijsten!$A$17,FQ$35*HLOOKUP(3,Keuzelijsten!$C$53:$E$58,3,FALSE),Keuzelijsten!$M$55*HLOOKUP(3,Keuzelijsten!$C$53:$E$58,3,FALSE)),0)","v":0},{"$f":"IF(FR$56=2,IF(FR$34=Keuzelijsten!$A$17,FR$35*HLOOKUP(3,Keuzelijsten!$C$53:$E$58,3,FALSE),Keuzelijsten!$M$55*HLOOKUP(3,Keuzelijsten!$C$53:$E$58,3,FALSE)),0)","v":0},{"$f":"IF(FS$56=2,IF(FS$34=Keuzelijsten!$A$17,FS$35*HLOOKUP(3,Keuzelijsten!$C$53:$E$58,3,FALSE),Keuzelijsten!$M$55*HLOOKUP(3,Keuzelijsten!$C$53:$E$58,3,FALSE)),0)","v":0},{"$f":"IF(FT$56=2,IF(FT$34=Keuzelijsten!$A$17,FT$35*HLOOKUP(3,Keuzelijsten!$C$53:$E$58,3,FALSE),Keuzelijsten!$M$55*HLOOKUP(3,Keuzelijsten!$C$53:$E$58,3,FALSE)),0)","v":0},{"$f":"IF(FU$56=2,IF(FU$34=Keuzelijsten!$A$17,FU$35*HLOOKUP(3,Keuzelijsten!$C$53:$E$58,3,FALSE),Keuzelijsten!$M$55*HLOOKUP(3,Keuzelijsten!$C$53:$E$58,3,FALSE)),0)","v":0},{"$f":"IF(FV$56=2,IF(FV$34=Keuzelijsten!$A$17,FV$35*HLOOKUP(3,Keuzelijsten!$C$53:$E$58,3,FALSE),Keuzelijsten!$M$55*HLOOKUP(3,Keuzelijsten!$C$53:$E$58,3,FALSE)),0)","v":0},{"$f":"IF(FW$56=2,IF(FW$34=Keuzelijsten!$A$17,FW$35*HLOOKUP(3,Keuzelijsten!$C$53:$E$58,3,FALSE),Keuzelijsten!$M$55*HLOOKUP(3,Keuzelijsten!$C$53:$E$58,3,FALSE)),0)","v":0},{"$f":"IF(FX$56=2,IF(FX$34=Keuzelijsten!$A$17,FX$35*HLOOKUP(3,Keuzelijsten!$C$53:$E$58,3,FALSE),Keuzelijsten!$M$55*HLOOKUP(3,Keuzelijsten!$C$53:$E$58,3,FALSE)),0)","v":0},{"$f":"IF(FY$56=2,IF(FY$34=Keuzelijsten!$A$17,FY$35*HLOOKUP(3,Keuzelijsten!$C$53:$E$58,3,FALSE),Keuzelijsten!$M$55*HLOOKUP(3,Keuzelijsten!$C$53:$E$58,3,FALSE)),0)","v":0},{"$f":"IF(FZ$56=2,IF(FZ$34=Keuzelijsten!$A$17,FZ$35*HLOOKUP(3,Keuzelijsten!$C$53:$E$58,3,FALSE),Keuzelijsten!$M$55*HLOOKUP(3,Keuzelijsten!$C$53:$E$58,3,FALSE)),0)","v":0},{"$f":"IF(GA$56=2,IF(GA$34=Keuzelijsten!$A$17,GA$35*HLOOKUP(3,Keuzelijsten!$C$53:$E$58,3,FALSE),Keuzelijsten!$M$55*HLOOKUP(3,Keuzelijsten!$C$53:$E$58,3,FALSE)),0)","v":0},{"$f":"IF(GB$56=2,IF(GB$34=Keuzelijsten!$A$17,GB$35*HLOOKUP(3,Keuzelijsten!$C$53:$E$58,3,FALSE),Keuzelijsten!$M$55*HLOOKUP(3,Keuzelijsten!$C$53:$E$58,3,FALSE)),0)","v":0},{"$f":"IF(GC$56=2,IF(GC$34=Keuzelijsten!$A$17,GC$35*HLOOKUP(3,Keuzelijsten!$C$53:$E$58,3,FALSE),Keuzelijsten!$M$55*HLOOKUP(3,Keuzelijsten!$C$53:$E$58,3,FALSE)),0)","v":0},{"$f":"IF(GD$56=2,IF(GD$34=Keuzelijsten!$A$17,GD$35*HLOOKUP(3,Keuzelijsten!$C$53:$E$58,3,FALSE),Keuzelijsten!$M$55*HLOOKUP(3,Keuzelijsten!$C$53:$E$58,3,FALSE)),0)","v":0},{"$f":"IF(GE$56=2,IF(GE$34=Keuzelijsten!$A$17,GE$35*HLOOKUP(3,Keuzelijsten!$C$53:$E$58,3,FALSE),Keuzelijsten!$M$55*HLOOKUP(3,Keuzelijsten!$C$53:$E$58,3,FALSE)),0)","v":0},{"$f":"IF(GF$56=2,IF(GF$34=Keuzelijsten!$A$17,GF$35*HLOOKUP(3,Keuzelijsten!$C$53:$E$58,3,FALSE),Keuzelijsten!$M$55*HLOOKUP(3,Keuzelijsten!$C$53:$E$58,3,FALSE)),0)","v":0},{"$f":"IF(GG$56=2,IF(GG$34=Keuzelijsten!$A$17,GG$35*HLOOKUP(3,Keuzelijsten!$C$53:$E$58,3,FALSE),Keuzelijsten!$M$55*HLOOKUP(3,Keuzelijsten!$C$53:$E$58,3,FALSE)),0)","v":0},{"$f":"IF(GH$56=2,IF(GH$34=Keuzelijsten!$A$17,GH$35*HLOOKUP(3,Keuzelijsten!$C$53:$E$58,3,FALSE),Keuzelijsten!$M$55*HLOOKUP(3,Keuzelijsten!$C$53:$E$58,3,FALSE)),0)","v":0},{"$f":"IF(GI$56=2,IF(GI$34=Keuzelijsten!$A$17,GI$35*HLOOKUP(3,Keuzelijsten!$C$53:$E$58,3,FALSE),Keuzelijsten!$M$55*HLOOKUP(3,Keuzelijsten!$C$53:$E$58,3,FALSE)),0)","v":0},{"$f":"IF(GJ$56=2,IF(GJ$34=Keuzelijsten!$A$17,GJ$35*HLOOKUP(3,Keuzelijsten!$C$53:$E$58,3,FALSE),Keuzelijsten!$M$55*HLOOKUP(3,Keuzelijsten!$C$53:$E$58,3,FALSE)),0)","v":0},{"$f":"IF(GK$56=2,IF(GK$34=Keuzelijsten!$A$17,GK$35*HLOOKUP(3,Keuzelijsten!$C$53:$E$58,3,FALSE),Keuzelijsten!$M$55*HLOOKUP(3,Keuzelijsten!$C$53:$E$58,3,FALSE)),0)","v":0},{"$f":"IF(GL$56=2,IF(GL$34=Keuzelijsten!$A$17,GL$35*HLOOKUP(3,Keuzelijsten!$C$53:$E$58,3,FALSE),Keuzelijsten!$M$55*HLOOKUP(3,Keuzelijsten!$C$53:$E$58,3,FALSE)),0)","v":0},{"$f":"IF(GM$56=2,IF(GM$34=Keuzelijsten!$A$17,GM$35*HLOOKUP(3,Keuzelijsten!$C$53:$E$58,3,FALSE),Keuzelijsten!$M$55*HLOOKUP(3,Keuzelijsten!$C$53:$E$58,3,FALSE)),0)","v":0},{"$f":"IF(GN$56=2,IF(GN$34=Keuzelijsten!$A$17,GN$35*HLOOKUP(3,Keuzelijsten!$C$53:$E$58,3,FALSE),Keuzelijsten!$M$55*HLOOKUP(3,Keuzelijsten!$C$53:$E$58,3,FALSE)),0)","v":0},{"$f":"IF(GO$56=2,IF(GO$34=Keuzelijsten!$A$17,GO$35*HLOOKUP(3,Keuzelijsten!$C$53:$E$58,3,FALSE),Keuzelijsten!$M$55*HLOOKUP(3,Keuzelijsten!$C$53:$E$58,3,FALSE)),0)","v":0},{"$f":"IF(GP$56=2,IF(GP$34=Keuzelijsten!$A$17,GP$35*HLOOKUP(3,Keuzelijsten!$C$53:$E$58,3,FALSE),Keuzelijsten!$M$55*HLOOKUP(3,Keuzelijsten!$C$53:$E$58,3,FALSE)),0)","v":0},{"$f":"IF(GQ$56=2,IF(GQ$34=Keuzelijsten!$A$17,GQ$35*HLOOKUP(3,Keuzelijsten!$C$53:$E$58,3,FALSE),Keuzelijsten!$M$55*HLOOKUP(3,Keuzelijsten!$C$53:$E$58,3,FALSE)),0)","v":0},{"$f":"IF(GR$56=2,IF(GR$34=Keuzelijsten!$A$17,GR$35*HLOOKUP(3,Keuzelijsten!$C$53:$E$58,3,FALSE),Keuzelijsten!$M$55*HLOOKUP(3,Keuzelijsten!$C$53:$E$58,3,FALSE)),0)","v":0},{"$f":"IF(GS$56=2,IF(GS$34=Keuzelijsten!$A$17,GS$35*HLOOKUP(3,Keuzelijsten!$C$53:$E$58,3,FALSE),Keuzelijsten!$M$55*HLOOKUP(3,Keuzelijsten!$C$53:$E$58,3,FALSE)),0)","v":0},{"$f":"IF(GT$56=2,IF(GT$34=Keuzelijsten!$A$17,GT$35*HLOOKUP(3,Keuzelijsten!$C$53:$E$58,3,FALSE),Keuzelijsten!$M$55*HLOOKUP(3,Keuzelijsten!$C$53:$E$58,3,FALSE)),0)","v":0}]
["Warmtevrager = halfopen bebouwing","MJ",{"$f":"IF(C$56=3,IF(C$34=Keuzelijsten!$A$17,C$35*HLOOKUP(3,Keuzelijsten!$C$53:$E$58,4,FALSE),Keuzelijsten!$M$56*HLOOKUP(3,Keuzelijsten!$C$53:$E$58,4,FALSE)),0)","v":0},{"$f":"IF(D$56=3,IF(D$34=Keuzelijsten!$A$17,D$35*HLOOKUP(3,Keuzelijsten!$C$53:$E$58,4,FALSE),Keuzelijsten!$M$56*HLOOKUP(3,Keuzelijsten!$C$53:$E$58,4,FALSE)),0)","v":0},{"$f":"IF(E$56=3,IF(E$34=Keuzelijsten!$A$17,E$35*HLOOKUP(3,Keuzelijsten!$C$53:$E$58,4,FALSE),Keuzelijsten!$M$56*HLOOKUP(3,Keuzelijsten!$C$53:$E$58,4,FALSE)),0)","v":0},{"$f":"IF(F$56=3,IF(F$34=Keuzelijsten!$A$17,F$35*HLOOKUP(3,Keuzelijsten!$C$53:$E$58,4,FALSE),Keuzelijsten!$M$56*HLOOKUP(3,Keuzelijsten!$C$53:$E$58,4,FALSE)),0)","v":0},{"$f":"IF(G$56=3,IF(G$34=Keuzelijsten!$A$17,G$35*HLOOKUP(3,Keuzelijsten!$C$53:$E$58,4,FALSE),Keuzelijsten!$M$56*HLOOKUP(3,Keuzelijsten!$C$53:$E$58,4,FALSE)),0)","v":0},{"$f":"IF(H$56=3,IF(H$34=Keuzelijsten!$A$17,H$35*HLOOKUP(3,Keuzelijsten!$C$53:$E$58,4,FALSE),Keuzelijsten!$M$56*HLOOKUP(3,Keuzelijsten!$C$53:$E$58,4,FALSE)),0)","v":0},{"$f":"IF(I$56=3,IF(I$34=Keuzelijsten!$A$17,I$35*HLOOKUP(3,Keuzelijsten!$C$53:$E$58,4,FALSE),Keuzelijsten!$M$56*HLOOKUP(3,Keuzelijsten!$C$53:$E$58,4,FALSE)),0)","v":0},{"$f":"IF(J$56=3,IF(J$34=Keuzelijsten!$A$17,J$35*HLOOKUP(3,Keuzelijsten!$C$53:$E$58,4,FALSE),Keuzelijsten!$M$56*HLOOKUP(3,Keuzelijsten!$C$53:$E$58,4,FALSE)),0)","v":0},{"$f":"IF(K$56=3,IF(K$34=Keuzelijsten!$A$17,K$35*HLOOKUP(3,Keuzelijsten!$C$53:$E$58,4,FALSE),Keuzelijsten!$M$56*HLOOKUP(3,Keuzelijsten!$C$53:$E$58,4,FALSE)),0)","v":0},{"$f":"IF(L$56=3,IF(L$34=Keuzelijsten!$A$17,L$35*HLOOKUP(3,Keuzelijsten!$C$53:$E$58,4,FALSE),Keuzelijsten!$M$56*HLOOKUP(3,Keuzelijsten!$C$53:$E$58,4,FALSE)),0)","v":0},{"$f":"IF(M$56=3,IF(M$34=Keuzelijsten!$A$17,M$35*HLOOKUP(3,Keuzelijsten!$C$53:$E$58,4,FALSE),Keuzelijsten!$M$56*HLOOKUP(3,Keuzelijsten!$C$53:$E$58,4,FALSE)),0)","v":0},{"$f":"IF(N$56=3,IF(N$34=Keuzelijsten!$A$17,N$35*HLOOKUP(3,Keuzelijsten!$C$53:$E$58,4,FALSE),Keuzelijsten!$M$56*HLOOKUP(3,Keuzelijsten!$C$53:$E$58,4,FALSE)),0)","v":0},{"$f":"IF(O$56=3,IF(O$34=Keuzelijsten!$A$17,O$35*HLOOKUP(3,Keuzelijsten!$C$53:$E$58,4,FALSE),Keuzelijsten!$M$56*HLOOKUP(3,Keuzelijsten!$C$53:$E$58,4,FALSE)),0)","v":0},{"$f":"IF(P$56=3,IF(P$34=Keuzelijsten!$A$17,P$35*HLOOKUP(3,Keuzelijsten!$C$53:$E$58,4,FALSE),Keuzelijsten!$M$56*HLOOKUP(3,Keuzelijsten!$C$53:$E$58,4,FALSE)),0)","v":0},{"$f":"IF(Q$56=3,IF(Q$34=Keuzelijsten!$A$17,Q$35*HLOOKUP(3,Keuzelijsten!$C$53:$E$58,4,FALSE),Keuzelijsten!$M$56*HLOOKUP(3,Keuzelijsten!$C$53:$E$58,4,FALSE)),0)","v":0},{"$f":"IF(R$56=3,IF(R$34=Keuzelijsten!$A$17,R$35*HLOOKUP(3,Keuzelijsten!$C$53:$E$58,4,FALSE),Keuzelijsten!$M$56*HLOOKUP(3,Keuzelijsten!$C$53:$E$58,4,FALSE)),0)","v":0},{"$f":"IF(S$56=3,IF(S$34=Keuzelijsten!$A$17,S$35*HLOOKUP(3,Keuzelijsten!$C$53:$E$58,4,FALSE),Keuzelijsten!$M$56*HLOOKUP(3,Keuzelijsten!$C$53:$E$58,4,FALSE)),0)","v":0},{"$f":"IF(T$56=3,IF(T$34=Keuzelijsten!$A$17,T$35*HLOOKUP(3,Keuzelijsten!$C$53:$E$58,4,FALSE),Keuzelijsten!$M$56*HLOOKUP(3,Keuzelijsten!$C$53:$E$58,4,FALSE)),0)","v":0},{"$f":"IF(U$56=3,IF(U$34=Keuzelijsten!$A$17,U$35*HLOOKUP(3,Keuzelijsten!$C$53:$E$58,4,FALSE),Keuzelijsten!$M$56*HLOOKUP(3,Keuzelijsten!$C$53:$E$58,4,FALSE)),0)","v":0},{"$f":"IF(V$56=3,IF(V$34=Keuzelijsten!$A$17,V$35*HLOOKUP(3,Keuzelijsten!$C$53:$E$58,4,FALSE),Keuzelijsten!$M$56*HLOOKUP(3,Keuzelijsten!$C$53:$E$58,4,FALSE)),0)","v":0},{"$f":"IF(W$56=3,IF(W$34=Keuzelijsten!$A$17,W$35*HLOOKUP(3,Keuzelijsten!$C$53:$E$58,4,FALSE),Keuzelijsten!$M$56*HLOOKUP(3,Keuzelijsten!$C$53:$E$58,4,FALSE)),0)","v":0},{"$f":"IF(X$56=3,IF(X$34=Keuzelijsten!$A$17,X$35*HLOOKUP(3,Keuzelijsten!$C$53:$E$58,4,FALSE),Keuzelijsten!$M$56*HLOOKUP(3,Keuzelijsten!$C$53:$E$58,4,FALSE)),0)","v":0},{"$f":"IF(Y$56=3,IF(Y$34=Keuzelijsten!$A$17,Y$35*HLOOKUP(3,Keuzelijsten!$C$53:$E$58,4,FALSE),Keuzelijsten!$M$56*HLOOKUP(3,Keuzelijsten!$C$53:$E$58,4,FALSE)),0)","v":0},{"$f":"IF(Z$56=3,IF(Z$34=Keuzelijsten!$A$17,Z$35*HLOOKUP(3,Keuzelijsten!$C$53:$E$58,4,FALSE),Keuzelijsten!$M$56*HLOOKUP(3,Keuzelijsten!$C$53:$E$58,4,FALSE)),0)","v":0},{"$f":"IF(AA$56=3,IF(AA$34=Keuzelijsten!$A$17,AA$35*HLOOKUP(3,Keuzelijsten!$C$53:$E$58,4,FALSE),Keuzelijsten!$M$56*HLOOKUP(3,Keuzelijsten!$C$53:$E$58,4,FALSE)),0)","v":0},{"$f":"IF(AB$56=3,IF(AB$34=Keuzelijsten!$A$17,AB$35*HLOOKUP(3,Keuzelijsten!$C$53:$E$58,4,FALSE),Keuzelijsten!$M$56*HLOOKUP(3,Keuzelijsten!$C$53:$E$58,4,FALSE)),0)","v":0},{"$f":"IF(AC$56=3,IF(AC$34=Keuzelijsten!$A$17,AC$35*HLOOKUP(3,Keuzelijsten!$C$53:$E$58,4,FALSE),Keuzelijsten!$M$56*HLOOKUP(3,Keuzelijsten!$C$53:$E$58,4,FALSE)),0)","v":0},{"$f":"IF(AD$56=3,IF(AD$34=Keuzelijsten!$A$17,AD$35*HLOOKUP(3,Keuzelijsten!$C$53:$E$58,4,FALSE),Keuzelijsten!$M$56*HLOOKUP(3,Keuzelijsten!$C$53:$E$58,4,FALSE)),0)","v":0},{"$f":"IF(AE$56=3,IF(AE$34=Keuzelijsten!$A$17,AE$35*HLOOKUP(3,Keuzelijsten!$C$53:$E$58,4,FALSE),Keuzelijsten!$M$56*HLOOKUP(3,Keuzelijsten!$C$53:$E$58,4,FALSE)),0)","v":0},{"$f":"IF(AF$56=3,IF(AF$34=Keuzelijsten!$A$17,AF$35*HLOOKUP(3,Keuzelijsten!$C$53:$E$58,4,FALSE),Keuzelijsten!$M$56*HLOOKUP(3,Keuzelijsten!$C$53:$E$58,4,FALSE)),0)","v":0},{"$f":"IF(AG$56=3,IF(AG$34=Keuzelijsten!$A$17,AG$35*HLOOKUP(3,Keuzelijsten!$C$53:$E$58,4,FALSE),Keuzelijsten!$M$56*HLOOKUP(3,Keuzelijsten!$C$53:$E$58,4,FALSE)),0)","v":0},{"$f":"IF(AH$56=3,IF(AH$34=Keuzelijsten!$A$17,AH$35*HLOOKUP(3,Keuzelijsten!$C$53:$E$58,4,FALSE),Keuzelijsten!$M$56*HLOOKUP(3,Keuzelijsten!$C$53:$E$58,4,FALSE)),0)","v":0},{"$f":"IF(AI$56=3,IF(AI$34=Keuzelijsten!$A$17,AI$35*HLOOKUP(3,Keuzelijsten!$C$53:$E$58,4,FALSE),Keuzelijsten!$M$56*HLOOKUP(3,Keuzelijsten!$C$53:$E$58,4,FALSE)),0)","v":0},{"$f":"IF(AJ$56=3,IF(AJ$34=Keuzelijsten!$A$17,AJ$35*HLOOKUP(3,Keuzelijsten!$C$53:$E$58,4,FALSE),Keuzelijsten!$M$56*HLOOKUP(3,Keuzelijsten!$C$53:$E$58,4,FALSE)),0)","v":0},{"$f":"IF(AK$56=3,IF(AK$34=Keuzelijsten!$A$17,AK$35*HLOOKUP(3,Keuzelijsten!$C$53:$E$58,4,FALSE),Keuzelijsten!$M$56*HLOOKUP(3,Keuzelijsten!$C$53:$E$58,4,FALSE)),0)","v":0},{"$f":"IF(AL$56=3,IF(AL$34=Keuzelijsten!$A$17,AL$35*HLOOKUP(3,Keuzelijsten!$C$53:$E$58,4,FALSE),Keuzelijsten!$M$56*HLOOKUP(3,Keuzelijsten!$C$53:$E$58,4,FALSE)),0)","v":0},{"$f":"IF(AM$56=3,IF(AM$34=Keuzelijsten!$A$17,AM$35*HLOOKUP(3,Keuzelijsten!$C$53:$E$58,4,FALSE),Keuzelijsten!$M$56*HLOOKUP(3,Keuzelijsten!$C$53:$E$58,4,FALSE)),0)","v":0},{"$f":"IF(AN$56=3,IF(AN$34=Keuzelijsten!$A$17,AN$35*HLOOKUP(3,Keuzelijsten!$C$53:$E$58,4,FALSE),Keuzelijsten!$M$56*HLOOKUP(3,Keuzelijsten!$C$53:$E$58,4,FALSE)),0)","v":0},{"$f":"IF(AO$56=3,IF(AO$34=Keuzelijsten!$A$17,AO$35*HLOOKUP(3,Keuzelijsten!$C$53:$E$58,4,FALSE),Keuzelijsten!$M$56*HLOOKUP(3,Keuzelijsten!$C$53:$E$58,4,FALSE)),0)","v":0},{"$f":"IF(AP$56=3,IF(AP$34=Keuzelijsten!$A$17,AP$35*HLOOKUP(3,Keuzelijsten!$C$53:$E$58,4,FALSE),Keuzelijsten!$M$56*HLOOKUP(3,Keuzelijsten!$C$53:$E$58,4,FALSE)),0)","v":0},{"$f":"IF(AQ$56=3,IF(AQ$34=Keuzelijsten!$A$17,AQ$35*HLOOKUP(3,Keuzelijsten!$C$53:$E$58,4,FALSE),Keuzelijsten!$M$56*HLOOKUP(3,Keuzelijsten!$C$53:$E$58,4,FALSE)),0)","v":0},{"$f":"IF(AR$56=3,IF(AR$34=Keuzelijsten!$A$17,AR$35*HLOOKUP(3,Keuzelijsten!$C$53:$E$58,4,FALSE),Keuzelijsten!$M$56*HLOOKUP(3,Keuzelijsten!$C$53:$E$58,4,FALSE)),0)","v":0},{"$f":"IF(AS$56=3,IF(AS$34=Keuzelijsten!$A$17,AS$35*HLOOKUP(3,Keuzelijsten!$C$53:$E$58,4,FALSE),Keuzelijsten!$M$56*HLOOKUP(3,Keuzelijsten!$C$53:$E$58,4,FALSE)),0)","v":0},{"$f":"IF(AT$56=3,IF(AT$34=Keuzelijsten!$A$17,AT$35*HLOOKUP(3,Keuzelijsten!$C$53:$E$58,4,FALSE),Keuzelijsten!$M$56*HLOOKUP(3,Keuzelijsten!$C$53:$E$58,4,FALSE)),0)","v":0},{"$f":"IF(AU$56=3,IF(AU$34=Keuzelijsten!$A$17,AU$35*HLOOKUP(3,Keuzelijsten!$C$53:$E$58,4,FALSE),Keuzelijsten!$M$56*HLOOKUP(3,Keuzelijsten!$C$53:$E$58,4,FALSE)),0)","v":0},{"$f":"IF(AV$56=3,IF(AV$34=Keuzelijsten!$A$17,AV$35*HLOOKUP(3,Keuzelijsten!$C$53:$E$58,4,FALSE),Keuzelijsten!$M$56*HLOOKUP(3,Keuzelijsten!$C$53:$E$58,4,FALSE)),0)","v":0},{"$f":"IF(AW$56=3,IF(AW$34=Keuzelijsten!$A$17,AW$35*HLOOKUP(3,Keuzelijsten!$C$53:$E$58,4,FALSE),Keuzelijsten!$M$56*HLOOKUP(3,Keuzelijsten!$C$53:$E$58,4,FALSE)),0)","v":0},{"$f":"IF(AX$56=3,IF(AX$34=Keuzelijsten!$A$17,AX$35*HLOOKUP(3,Keuzelijsten!$C$53:$E$58,4,FALSE),Keuzelijsten!$M$56*HLOOKUP(3,Keuzelijsten!$C$53:$E$58,4,FALSE)),0)","v":0},{"$f":"IF(AY$56=3,IF(AY$34=Keuzelijsten!$A$17,AY$35*HLOOKUP(3,Keuzelijsten!$C$53:$E$58,4,FALSE),Keuzelijsten!$M$56*HLOOKUP(3,Keuzelijsten!$C$53:$E$58,4,FALSE)),0)","v":0},{"$f":"IF(AZ$56=3,IF(AZ$34=Keuzelijsten!$A$17,AZ$35*HLOOKUP(3,Keuzelijsten!$C$53:$E$58,4,FALSE),Keuzelijsten!$M$56*HLOOKUP(3,Keuzelijsten!$C$53:$E$58,4,FALSE)),0)","v":0},{"$f":"IF(BA$56=3,IF(BA$34=Keuzelijsten!$A$17,BA$35*HLOOKUP(3,Keuzelijsten!$C$53:$E$58,4,FALSE),Keuzelijsten!$M$56*HLOOKUP(3,Keuzelijsten!$C$53:$E$58,4,FALSE)),0)","v":0},{"$f":"IF(BB$56=3,IF(BB$34=Keuzelijsten!$A$17,BB$35*HLOOKUP(3,Keuzelijsten!$C$53:$E$58,4,FALSE),Keuzelijsten!$M$56*HLOOKUP(3,Keuzelijsten!$C$53:$E$58,4,FALSE)),0)","v":0},{"$f":"IF(BC$56=3,IF(BC$34=Keuzelijsten!$A$17,BC$35*HLOOKUP(3,Keuzelijsten!$C$53:$E$58,4,FALSE),Keuzelijsten!$M$56*HLOOKUP(3,Keuzelijsten!$C$53:$E$58,4,FALSE)),0)","v":0},{"$f":"IF(BD$56=3,IF(BD$34=Keuzelijsten!$A$17,BD$35*HLOOKUP(3,Keuzelijsten!$C$53:$E$58,4,FALSE),Keuzelijsten!$M$56*HLOOKUP(3,Keuzelijsten!$C$53:$E$58,4,FALSE)),0)","v":0},{"$f":"IF(BE$56=3,IF(BE$34=Keuzelijsten!$A$17,BE$35*HLOOKUP(3,Keuzelijsten!$C$53:$E$58,4,FALSE),Keuzelijsten!$M$56*HLOOKUP(3,Keuzelijsten!$C$53:$E$58,4,FALSE)),0)","v":0},{"$f":"IF(BF$56=3,IF(BF$34=Keuzelijsten!$A$17,BF$35*HLOOKUP(3,Keuzelijsten!$C$53:$E$58,4,FALSE),Keuzelijsten!$M$56*HLOOKUP(3,Keuzelijsten!$C$53:$E$58,4,FALSE)),0)","v":0},{"$f":"IF(BG$56=3,IF(BG$34=Keuzelijsten!$A$17,BG$35*HLOOKUP(3,Keuzelijsten!$C$53:$E$58,4,FALSE),Keuzelijsten!$M$56*HLOOKUP(3,Keuzelijsten!$C$53:$E$58,4,FALSE)),0)","v":0},{"$f":"IF(BH$56=3,IF(BH$34=Keuzelijsten!$A$17,BH$35*HLOOKUP(3,Keuzelijsten!$C$53:$E$58,4,FALSE),Keuzelijsten!$M$56*HLOOKUP(3,Keuzelijsten!$C$53:$E$58,4,FALSE)),0)","v":0},{"$f":"IF(BI$56=3,IF(BI$34=Keuzelijsten!$A$17,BI$35*HLOOKUP(3,Keuzelijsten!$C$53:$E$58,4,FALSE),Keuzelijsten!$M$56*HLOOKUP(3,Keuzelijsten!$C$53:$E$58,4,FALSE)),0)","v":0},{"$f":"IF(BJ$56=3,IF(BJ$34=Keuzelijsten!$A$17,BJ$35*HLOOKUP(3,Keuzelijsten!$C$53:$E$58,4,FALSE),Keuzelijsten!$M$56*HLOOKUP(3,Keuzelijsten!$C$53:$E$58,4,FALSE)),0)","v":0},{"$f":"IF(BK$56=3,IF(BK$34=Keuzelijsten!$A$17,BK$35*HLOOKUP(3,Keuzelijsten!$C$53:$E$58,4,FALSE),Keuzelijsten!$M$56*HLOOKUP(3,Keuzelijsten!$C$53:$E$58,4,FALSE)),0)","v":0},{"$f":"IF(BL$56=3,IF(BL$34=Keuzelijsten!$A$17,BL$35*HLOOKUP(3,Keuzelijsten!$C$53:$E$58,4,FALSE),Keuzelijsten!$M$56*HLOOKUP(3,Keuzelijsten!$C$53:$E$58,4,FALSE)),0)","v":0},{"$f":"IF(BM$56=3,IF(BM$34=Keuzelijsten!$A$17,BM$35*HLOOKUP(3,Keuzelijsten!$C$53:$E$58,4,FALSE),Keuzelijsten!$M$56*HLOOKUP(3,Keuzelijsten!$C$53:$E$58,4,FALSE)),0)","v":0},{"$f":"IF(BN$56=3,IF(BN$34=Keuzelijsten!$A$17,BN$35*HLOOKUP(3,Keuzelijsten!$C$53:$E$58,4,FALSE),Keuzelijsten!$M$56*HLOOKUP(3,Keuzelijsten!$C$53:$E$58,4,FALSE)),0)","v":0},{"$f":"IF(BO$56=3,IF(BO$34=Keuzelijsten!$A$17,BO$35*HLOOKUP(3,Keuzelijsten!$C$53:$E$58,4,FALSE),Keuzelijsten!$M$56*HLOOKUP(3,Keuzelijsten!$C$53:$E$58,4,FALSE)),0)","v":0},{"$f":"IF(BP$56=3,IF(BP$34=Keuzelijsten!$A$17,BP$35*HLOOKUP(3,Keuzelijsten!$C$53:$E$58,4,FALSE),Keuzelijsten!$M$56*HLOOKUP(3,Keuzelijsten!$C$53:$E$58,4,FALSE)),0)","v":0},{"$f":"IF(BQ$56=3,IF(BQ$34=Keuzelijsten!$A$17,BQ$35*HLOOKUP(3,Keuzelijsten!$C$53:$E$58,4,FALSE),Keuzelijsten!$M$56*HLOOKUP(3,Keuzelijsten!$C$53:$E$58,4,FALSE)),0)","v":0},{"$f":"IF(BR$56=3,IF(BR$34=Keuzelijsten!$A$17,BR$35*HLOOKUP(3,Keuzelijsten!$C$53:$E$58,4,FALSE),Keuzelijsten!$M$56*HLOOKUP(3,Keuzelijsten!$C$53:$E$58,4,FALSE)),0)","v":0},{"$f":"IF(BS$56=3,IF(BS$34=Keuzelijsten!$A$17,BS$35*HLOOKUP(3,Keuzelijsten!$C$53:$E$58,4,FALSE),Keuzelijsten!$M$56*HLOOKUP(3,Keuzelijsten!$C$53:$E$58,4,FALSE)),0)","v":0},{"$f":"IF(BT$56=3,IF(BT$34=Keuzelijsten!$A$17,BT$35*HLOOKUP(3,Keuzelijsten!$C$53:$E$58,4,FALSE),Keuzelijsten!$M$56*HLOOKUP(3,Keuzelijsten!$C$53:$E$58,4,FALSE)),0)","v":0},{"$f":"IF(BU$56=3,IF(BU$34=Keuzelijsten!$A$17,BU$35*HLOOKUP(3,Keuzelijsten!$C$53:$E$58,4,FALSE),Keuzelijsten!$M$56*HLOOKUP(3,Keuzelijsten!$C$53:$E$58,4,FALSE)),0)","v":0},{"$f":"IF(BV$56=3,IF(BV$34=Keuzelijsten!$A$17,BV$35*HLOOKUP(3,Keuzelijsten!$C$53:$E$58,4,FALSE),Keuzelijsten!$M$56*HLOOKUP(3,Keuzelijsten!$C$53:$E$58,4,FALSE)),0)","v":0},{"$f":"IF(BW$56=3,IF(BW$34=Keuzelijsten!$A$17,BW$35*HLOOKUP(3,Keuzelijsten!$C$53:$E$58,4,FALSE),Keuzelijsten!$M$56*HLOOKUP(3,Keuzelijsten!$C$53:$E$58,4,FALSE)),0)","v":0},{"$f":"IF(BX$56=3,IF(BX$34=Keuzelijsten!$A$17,BX$35*HLOOKUP(3,Keuzelijsten!$C$53:$E$58,4,FALSE),Keuzelijsten!$M$56*HLOOKUP(3,Keuzelijsten!$C$53:$E$58,4,FALSE)),0)","v":0},{"$f":"IF(BY$56=3,IF(BY$34=Keuzelijsten!$A$17,BY$35*HLOOKUP(3,Keuzelijsten!$C$53:$E$58,4,FALSE),Keuzelijsten!$M$56*HLOOKUP(3,Keuzelijsten!$C$53:$E$58,4,FALSE)),0)","v":0},{"$f":"IF(BZ$56=3,IF(BZ$34=Keuzelijsten!$A$17,BZ$35*HLOOKUP(3,Keuzelijsten!$C$53:$E$58,4,FALSE),Keuzelijsten!$M$56*HLOOKUP(3,Keuzelijsten!$C$53:$E$58,4,FALSE)),0)","v":0},{"$f":"IF(CA$56=3,IF(CA$34=Keuzelijsten!$A$17,CA$35*HLOOKUP(3,Keuzelijsten!$C$53:$E$58,4,FALSE),Keuzelijsten!$M$56*HLOOKUP(3,Keuzelijsten!$C$53:$E$58,4,FALSE)),0)","v":0},{"$f":"IF(CB$56=3,IF(CB$34=Keuzelijsten!$A$17,CB$35*HLOOKUP(3,Keuzelijsten!$C$53:$E$58,4,FALSE),Keuzelijsten!$M$56*HLOOKUP(3,Keuzelijsten!$C$53:$E$58,4,FALSE)),0)","v":0},{"$f":"IF(CC$56=3,IF(CC$34=Keuzelijsten!$A$17,CC$35*HLOOKUP(3,Keuzelijsten!$C$53:$E$58,4,FALSE),Keuzelijsten!$M$56*HLOOKUP(3,Keuzelijsten!$C$53:$E$58,4,FALSE)),0)","v":0},{"$f":"IF(CD$56=3,IF(CD$34=Keuzelijsten!$A$17,CD$35*HLOOKUP(3,Keuzelijsten!$C$53:$E$58,4,FALSE),Keuzelijsten!$M$56*HLOOKUP(3,Keuzelijsten!$C$53:$E$58,4,FALSE)),0)","v":0},{"$f":"IF(CE$56=3,IF(CE$34=Keuzelijsten!$A$17,CE$35*HLOOKUP(3,Keuzelijsten!$C$53:$E$58,4,FALSE),Keuzelijsten!$M$56*HLOOKUP(3,Keuzelijsten!$C$53:$E$58,4,FALSE)),0)","v":0},{"$f":"IF(CF$56=3,IF(CF$34=Keuzelijsten!$A$17,CF$35*HLOOKUP(3,Keuzelijsten!$C$53:$E$58,4,FALSE),Keuzelijsten!$M$56*HLOOKUP(3,Keuzelijsten!$C$53:$E$58,4,FALSE)),0)","v":0},{"$f":"IF(CG$56=3,IF(CG$34=Keuzelijsten!$A$17,CG$35*HLOOKUP(3,Keuzelijsten!$C$53:$E$58,4,FALSE),Keuzelijsten!$M$56*HLOOKUP(3,Keuzelijsten!$C$53:$E$58,4,FALSE)),0)","v":0},{"$f":"IF(CH$56=3,IF(CH$34=Keuzelijsten!$A$17,CH$35*HLOOKUP(3,Keuzelijsten!$C$53:$E$58,4,FALSE),Keuzelijsten!$M$56*HLOOKUP(3,Keuzelijsten!$C$53:$E$58,4,FALSE)),0)","v":0},{"$f":"IF(CI$56=3,IF(CI$34=Keuzelijsten!$A$17,CI$35*HLOOKUP(3,Keuzelijsten!$C$53:$E$58,4,FALSE),Keuzelijsten!$M$56*HLOOKUP(3,Keuzelijsten!$C$53:$E$58,4,FALSE)),0)","v":0},{"$f":"IF(CJ$56=3,IF(CJ$34=Keuzelijsten!$A$17,CJ$35*HLOOKUP(3,Keuzelijsten!$C$53:$E$58,4,FALSE),Keuzelijsten!$M$56*HLOOKUP(3,Keuzelijsten!$C$53:$E$58,4,FALSE)),0)","v":0},{"$f":"IF(CK$56=3,IF(CK$34=Keuzelijsten!$A$17,CK$35*HLOOKUP(3,Keuzelijsten!$C$53:$E$58,4,FALSE),Keuzelijsten!$M$56*HLOOKUP(3,Keuzelijsten!$C$53:$E$58,4,FALSE)),0)","v":0},{"$f":"IF(CL$56=3,IF(CL$34=Keuzelijsten!$A$17,CL$35*HLOOKUP(3,Keuzelijsten!$C$53:$E$58,4,FALSE),Keuzelijsten!$M$56*HLOOKUP(3,Keuzelijsten!$C$53:$E$58,4,FALSE)),0)","v":0},{"$f":"IF(CM$56=3,IF(CM$34=Keuzelijsten!$A$17,CM$35*HLOOKUP(3,Keuzelijsten!$C$53:$E$58,4,FALSE),Keuzelijsten!$M$56*HLOOKUP(3,Keuzelijsten!$C$53:$E$58,4,FALSE)),0)","v":0},{"$f":"IF(CN$56=3,IF(CN$34=Keuzelijsten!$A$17,CN$35*HLOOKUP(3,Keuzelijsten!$C$53:$E$58,4,FALSE),Keuzelijsten!$M$56*HLOOKUP(3,Keuzelijsten!$C$53:$E$58,4,FALSE)),0)","v":0},{"$f":"IF(CO$56=3,IF(CO$34=Keuzelijsten!$A$17,CO$35*HLOOKUP(3,Keuzelijsten!$C$53:$E$58,4,FALSE),Keuzelijsten!$M$56*HLOOKUP(3,Keuzelijsten!$C$53:$E$58,4,FALSE)),0)","v":0},{"$f":"IF(CP$56=3,IF(CP$34=Keuzelijsten!$A$17,CP$35*HLOOKUP(3,Keuzelijsten!$C$53:$E$58,4,FALSE),Keuzelijsten!$M$56*HLOOKUP(3,Keuzelijsten!$C$53:$E$58,4,FALSE)),0)","v":0},{"$f":"IF(CQ$56=3,IF(CQ$34=Keuzelijsten!$A$17,CQ$35*HLOOKUP(3,Keuzelijsten!$C$53:$E$58,4,FALSE),Keuzelijsten!$M$56*HLOOKUP(3,Keuzelijsten!$C$53:$E$58,4,FALSE)),0)","v":0},{"$f":"IF(CR$56=3,IF(CR$34=Keuzelijsten!$A$17,CR$35*HLOOKUP(3,Keuzelijsten!$C$53:$E$58,4,FALSE),Keuzelijsten!$M$56*HLOOKUP(3,Keuzelijsten!$C$53:$E$58,4,FALSE)),0)","v":0},{"$f":"IF(CS$56=3,IF(CS$34=Keuzelijsten!$A$17,CS$35*HLOOKUP(3,Keuzelijsten!$C$53:$E$58,4,FALSE),Keuzelijsten!$M$56*HLOOKUP(3,Keuzelijsten!$C$53:$E$58,4,FALSE)),0)","v":0},{"$f":"IF(CT$56=3,IF(CT$34=Keuzelijsten!$A$17,CT$35*HLOOKUP(3,Keuzelijsten!$C$53:$E$58,4,FALSE),Keuzelijsten!$M$56*HLOOKUP(3,Keuzelijsten!$C$53:$E$58,4,FALSE)),0)","v":0},{"$f":"IF(CU$56=3,IF(CU$34=Keuzelijsten!$A$17,CU$35*HLOOKUP(3,Keuzelijsten!$C$53:$E$58,4,FALSE),Keuzelijsten!$M$56*HLOOKUP(3,Keuzelijsten!$C$53:$E$58,4,FALSE)),0)","v":0},{"$f":"IF(CV$56=3,IF(CV$34=Keuzelijsten!$A$17,CV$35*HLOOKUP(3,Keuzelijsten!$C$53:$E$58,4,FALSE),Keuzelijsten!$M$56*HLOOKUP(3,Keuzelijsten!$C$53:$E$58,4,FALSE)),0)","v":0},{"$f":"IF(CW$56=3,IF(CW$34=Keuzelijsten!$A$17,CW$35*HLOOKUP(3,Keuzelijsten!$C$53:$E$58,4,FALSE),Keuzelijsten!$M$56*HLOOKUP(3,Keuzelijsten!$C$53:$E$58,4,FALSE)),0)","v":0},{"$f":"IF(CX$56=3,IF(CX$34=Keuzelijsten!$A$17,CX$35*HLOOKUP(3,Keuzelijsten!$C$53:$E$58,4,FALSE),Keuzelijsten!$M$56*HLOOKUP(3,Keuzelijsten!$C$53:$E$58,4,FALSE)),0)","v":0},{"$f":"IF(CY$56=3,IF(CY$34=Keuzelijsten!$A$17,CY$35*HLOOKUP(3,Keuzelijsten!$C$53:$E$58,4,FALSE),Keuzelijsten!$M$56*HLOOKUP(3,Keuzelijsten!$C$53:$E$58,4,FALSE)),0)","v":0},{"$f":"IF(CZ$56=3,IF(CZ$34=Keuzelijsten!$A$17,CZ$35*HLOOKUP(3,Keuzelijsten!$C$53:$E$58,4,FALSE),Keuzelijsten!$M$56*HLOOKUP(3,Keuzelijsten!$C$53:$E$58,4,FALSE)),0)","v":0},{"$f":"IF(DA$56=3,IF(DA$34=Keuzelijsten!$A$17,DA$35*HLOOKUP(3,Keuzelijsten!$C$53:$E$58,4,FALSE),Keuzelijsten!$M$56*HLOOKUP(3,Keuzelijsten!$C$53:$E$58,4,FALSE)),0)","v":0},{"$f":"IF(DB$56=3,IF(DB$34=Keuzelijsten!$A$17,DB$35*HLOOKUP(3,Keuzelijsten!$C$53:$E$58,4,FALSE),Keuzelijsten!$M$56*HLOOKUP(3,Keuzelijsten!$C$53:$E$58,4,FALSE)),0)","v":0},{"$f":"IF(DC$56=3,IF(DC$34=Keuzelijsten!$A$17,DC$35*HLOOKUP(3,Keuzelijsten!$C$53:$E$58,4,FALSE),Keuzelijsten!$M$56*HLOOKUP(3,Keuzelijsten!$C$53:$E$58,4,FALSE)),0)","v":0},{"$f":"IF(DD$56=3,IF(DD$34=Keuzelijsten!$A$17,DD$35*HLOOKUP(3,Keuzelijsten!$C$53:$E$58,4,FALSE),Keuzelijsten!$M$56*HLOOKUP(3,Keuzelijsten!$C$53:$E$58,4,FALSE)),0)","v":0},{"$f":"IF(DE$56=3,IF(DE$34=Keuzelijsten!$A$17,DE$35*HLOOKUP(3,Keuzelijsten!$C$53:$E$58,4,FALSE),Keuzelijsten!$M$56*HLOOKUP(3,Keuzelijsten!$C$53:$E$58,4,FALSE)),0)","v":0},{"$f":"IF(DF$56=3,IF(DF$34=Keuzelijsten!$A$17,DF$35*HLOOKUP(3,Keuzelijsten!$C$53:$E$58,4,FALSE),Keuzelijsten!$M$56*HLOOKUP(3,Keuzelijsten!$C$53:$E$58,4,FALSE)),0)","v":0},{"$f":"IF(DG$56=3,IF(DG$34=Keuzelijsten!$A$17,DG$35*HLOOKUP(3,Keuzelijsten!$C$53:$E$58,4,FALSE),Keuzelijsten!$M$56*HLOOKUP(3,Keuzelijsten!$C$53:$E$58,4,FALSE)),0)","v":0},{"$f":"IF(DH$56=3,IF(DH$34=Keuzelijsten!$A$17,DH$35*HLOOKUP(3,Keuzelijsten!$C$53:$E$58,4,FALSE),Keuzelijsten!$M$56*HLOOKUP(3,Keuzelijsten!$C$53:$E$58,4,FALSE)),0)","v":0},{"$f":"IF(DI$56=3,IF(DI$34=Keuzelijsten!$A$17,DI$35*HLOOKUP(3,Keuzelijsten!$C$53:$E$58,4,FALSE),Keuzelijsten!$M$56*HLOOKUP(3,Keuzelijsten!$C$53:$E$58,4,FALSE)),0)","v":0},{"$f":"IF(DJ$56=3,IF(DJ$34=Keuzelijsten!$A$17,DJ$35*HLOOKUP(3,Keuzelijsten!$C$53:$E$58,4,FALSE),Keuzelijsten!$M$56*HLOOKUP(3,Keuzelijsten!$C$53:$E$58,4,FALSE)),0)","v":0},{"$f":"IF(DK$56=3,IF(DK$34=Keuzelijsten!$A$17,DK$35*HLOOKUP(3,Keuzelijsten!$C$53:$E$58,4,FALSE),Keuzelijsten!$M$56*HLOOKUP(3,Keuzelijsten!$C$53:$E$58,4,FALSE)),0)","v":0},{"$f":"IF(DL$56=3,IF(DL$34=Keuzelijsten!$A$17,DL$35*HLOOKUP(3,Keuzelijsten!$C$53:$E$58,4,FALSE),Keuzelijsten!$M$56*HLOOKUP(3,Keuzelijsten!$C$53:$E$58,4,FALSE)),0)","v":0},{"$f":"IF(DM$56=3,IF(DM$34=Keuzelijsten!$A$17,DM$35*HLOOKUP(3,Keuzelijsten!$C$53:$E$58,4,FALSE),Keuzelijsten!$M$56*HLOOKUP(3,Keuzelijsten!$C$53:$E$58,4,FALSE)),0)","v":0},{"$f":"IF(DN$56=3,IF(DN$34=Keuzelijsten!$A$17,DN$35*HLOOKUP(3,Keuzelijsten!$C$53:$E$58,4,FALSE),Keuzelijsten!$M$56*HLOOKUP(3,Keuzelijsten!$C$53:$E$58,4,FALSE)),0)","v":0},{"$f":"IF(DO$56=3,IF(DO$34=Keuzelijsten!$A$17,DO$35*HLOOKUP(3,Keuzelijsten!$C$53:$E$58,4,FALSE),Keuzelijsten!$M$56*HLOOKUP(3,Keuzelijsten!$C$53:$E$58,4,FALSE)),0)","v":0},{"$f":"IF(DP$56=3,IF(DP$34=Keuzelijsten!$A$17,DP$35*HLOOKUP(3,Keuzelijsten!$C$53:$E$58,4,FALSE),Keuzelijsten!$M$56*HLOOKUP(3,Keuzelijsten!$C$53:$E$58,4,FALSE)),0)","v":0},{"$f":"IF(DQ$56=3,IF(DQ$34=Keuzelijsten!$A$17,DQ$35*HLOOKUP(3,Keuzelijsten!$C$53:$E$58,4,FALSE),Keuzelijsten!$M$56*HLOOKUP(3,Keuzelijsten!$C$53:$E$58,4,FALSE)),0)","v":0},{"$f":"IF(DR$56=3,IF(DR$34=Keuzelijsten!$A$17,DR$35*HLOOKUP(3,Keuzelijsten!$C$53:$E$58,4,FALSE),Keuzelijsten!$M$56*HLOOKUP(3,Keuzelijsten!$C$53:$E$58,4,FALSE)),0)","v":0},{"$f":"IF(DS$56=3,IF(DS$34=Keuzelijsten!$A$17,DS$35*HLOOKUP(3,Keuzelijsten!$C$53:$E$58,4,FALSE),Keuzelijsten!$M$56*HLOOKUP(3,Keuzelijsten!$C$53:$E$58,4,FALSE)),0)","v":0},{"$f":"IF(DT$56=3,IF(DT$34=Keuzelijsten!$A$17,DT$35*HLOOKUP(3,Keuzelijsten!$C$53:$E$58,4,FALSE),Keuzelijsten!$M$56*HLOOKUP(3,Keuzelijsten!$C$53:$E$58,4,FALSE)),0)","v":0},{"$f":"IF(DU$56=3,IF(DU$34=Keuzelijsten!$A$17,DU$35*HLOOKUP(3,Keuzelijsten!$C$53:$E$58,4,FALSE),Keuzelijsten!$M$56*HLOOKUP(3,Keuzelijsten!$C$53:$E$58,4,FALSE)),0)","v":0},{"$f":"IF(DV$56=3,IF(DV$34=Keuzelijsten!$A$17,DV$35*HLOOKUP(3,Keuzelijsten!$C$53:$E$58,4,FALSE),Keuzelijsten!$M$56*HLOOKUP(3,Keuzelijsten!$C$53:$E$58,4,FALSE)),0)","v":0},{"$f":"IF(DW$56=3,IF(DW$34=Keuzelijsten!$A$17,DW$35*HLOOKUP(3,Keuzelijsten!$C$53:$E$58,4,FALSE),Keuzelijsten!$M$56*HLOOKUP(3,Keuzelijsten!$C$53:$E$58,4,FALSE)),0)","v":0},{"$f":"IF(DX$56=3,IF(DX$34=Keuzelijsten!$A$17,DX$35*HLOOKUP(3,Keuzelijsten!$C$53:$E$58,4,FALSE),Keuzelijsten!$M$56*HLOOKUP(3,Keuzelijsten!$C$53:$E$58,4,FALSE)),0)","v":0},{"$f":"IF(DY$56=3,IF(DY$34=Keuzelijsten!$A$17,DY$35*HLOOKUP(3,Keuzelijsten!$C$53:$E$58,4,FALSE),Keuzelijsten!$M$56*HLOOKUP(3,Keuzelijsten!$C$53:$E$58,4,FALSE)),0)","v":0},{"$f":"IF(DZ$56=3,IF(DZ$34=Keuzelijsten!$A$17,DZ$35*HLOOKUP(3,Keuzelijsten!$C$53:$E$58,4,FALSE),Keuzelijsten!$M$56*HLOOKUP(3,Keuzelijsten!$C$53:$E$58,4,FALSE)),0)","v":0},{"$f":"IF(EA$56=3,IF(EA$34=Keuzelijsten!$A$17,EA$35*HLOOKUP(3,Keuzelijsten!$C$53:$E$58,4,FALSE),Keuzelijsten!$M$56*HLOOKUP(3,Keuzelijsten!$C$53:$E$58,4,FALSE)),0)","v":0},{"$f":"IF(EB$56=3,IF(EB$34=Keuzelijsten!$A$17,EB$35*HLOOKUP(3,Keuzelijsten!$C$53:$E$58,4,FALSE),Keuzelijsten!$M$56*HLOOKUP(3,Keuzelijsten!$C$53:$E$58,4,FALSE)),0)","v":0},{"$f":"IF(EC$56=3,IF(EC$34=Keuzelijsten!$A$17,EC$35*HLOOKUP(3,Keuzelijsten!$C$53:$E$58,4,FALSE),Keuzelijsten!$M$56*HLOOKUP(3,Keuzelijsten!$C$53:$E$58,4,FALSE)),0)","v":0},{"$f":"IF(ED$56=3,IF(ED$34=Keuzelijsten!$A$17,ED$35*HLOOKUP(3,Keuzelijsten!$C$53:$E$58,4,FALSE),Keuzelijsten!$M$56*HLOOKUP(3,Keuzelijsten!$C$53:$E$58,4,FALSE)),0)","v":0},{"$f":"IF(EE$56=3,IF(EE$34=Keuzelijsten!$A$17,EE$35*HLOOKUP(3,Keuzelijsten!$C$53:$E$58,4,FALSE),Keuzelijsten!$M$56*HLOOKUP(3,Keuzelijsten!$C$53:$E$58,4,FALSE)),0)","v":0},{"$f":"IF(EF$56=3,IF(EF$34=Keuzelijsten!$A$17,EF$35*HLOOKUP(3,Keuzelijsten!$C$53:$E$58,4,FALSE),Keuzelijsten!$M$56*HLOOKUP(3,Keuzelijsten!$C$53:$E$58,4,FALSE)),0)","v":0},{"$f":"IF(EG$56=3,IF(EG$34=Keuzelijsten!$A$17,EG$35*HLOOKUP(3,Keuzelijsten!$C$53:$E$58,4,FALSE),Keuzelijsten!$M$56*HLOOKUP(3,Keuzelijsten!$C$53:$E$58,4,FALSE)),0)","v":0},{"$f":"IF(EH$56=3,IF(EH$34=Keuzelijsten!$A$17,EH$35*HLOOKUP(3,Keuzelijsten!$C$53:$E$58,4,FALSE),Keuzelijsten!$M$56*HLOOKUP(3,Keuzelijsten!$C$53:$E$58,4,FALSE)),0)","v":0},{"$f":"IF(EI$56=3,IF(EI$34=Keuzelijsten!$A$17,EI$35*HLOOKUP(3,Keuzelijsten!$C$53:$E$58,4,FALSE),Keuzelijsten!$M$56*HLOOKUP(3,Keuzelijsten!$C$53:$E$58,4,FALSE)),0)","v":0},{"$f":"IF(EJ$56=3,IF(EJ$34=Keuzelijsten!$A$17,EJ$35*HLOOKUP(3,Keuzelijsten!$C$53:$E$58,4,FALSE),Keuzelijsten!$M$56*HLOOKUP(3,Keuzelijsten!$C$53:$E$58,4,FALSE)),0)","v":0},{"$f":"IF(EK$56=3,IF(EK$34=Keuzelijsten!$A$17,EK$35*HLOOKUP(3,Keuzelijsten!$C$53:$E$58,4,FALSE),Keuzelijsten!$M$56*HLOOKUP(3,Keuzelijsten!$C$53:$E$58,4,FALSE)),0)","v":0},{"$f":"IF(EL$56=3,IF(EL$34=Keuzelijsten!$A$17,EL$35*HLOOKUP(3,Keuzelijsten!$C$53:$E$58,4,FALSE),Keuzelijsten!$M$56*HLOOKUP(3,Keuzelijsten!$C$53:$E$58,4,FALSE)),0)","v":0},{"$f":"IF(EM$56=3,IF(EM$34=Keuzelijsten!$A$17,EM$35*HLOOKUP(3,Keuzelijsten!$C$53:$E$58,4,FALSE),Keuzelijsten!$M$56*HLOOKUP(3,Keuzelijsten!$C$53:$E$58,4,FALSE)),0)","v":0},{"$f":"IF(EN$56=3,IF(EN$34=Keuzelijsten!$A$17,EN$35*HLOOKUP(3,Keuzelijsten!$C$53:$E$58,4,FALSE),Keuzelijsten!$M$56*HLOOKUP(3,Keuzelijsten!$C$53:$E$58,4,FALSE)),0)","v":0},{"$f":"IF(EO$56=3,IF(EO$34=Keuzelijsten!$A$17,EO$35*HLOOKUP(3,Keuzelijsten!$C$53:$E$58,4,FALSE),Keuzelijsten!$M$56*HLOOKUP(3,Keuzelijsten!$C$53:$E$58,4,FALSE)),0)","v":0},{"$f":"IF(EP$56=3,IF(EP$34=Keuzelijsten!$A$17,EP$35*HLOOKUP(3,Keuzelijsten!$C$53:$E$58,4,FALSE),Keuzelijsten!$M$56*HLOOKUP(3,Keuzelijsten!$C$53:$E$58,4,FALSE)),0)","v":0},{"$f":"IF(EQ$56=3,IF(EQ$34=Keuzelijsten!$A$17,EQ$35*HLOOKUP(3,Keuzelijsten!$C$53:$E$58,4,FALSE),Keuzelijsten!$M$56*HLOOKUP(3,Keuzelijsten!$C$53:$E$58,4,FALSE)),0)","v":0},{"$f":"IF(ER$56=3,IF(ER$34=Keuzelijsten!$A$17,ER$35*HLOOKUP(3,Keuzelijsten!$C$53:$E$58,4,FALSE),Keuzelijsten!$M$56*HLOOKUP(3,Keuzelijsten!$C$53:$E$58,4,FALSE)),0)","v":0},{"$f":"IF(ES$56=3,IF(ES$34=Keuzelijsten!$A$17,ES$35*HLOOKUP(3,Keuzelijsten!$C$53:$E$58,4,FALSE),Keuzelijsten!$M$56*HLOOKUP(3,Keuzelijsten!$C$53:$E$58,4,FALSE)),0)","v":0},{"$f":"IF(ET$56=3,IF(ET$34=Keuzelijsten!$A$17,ET$35*HLOOKUP(3,Keuzelijsten!$C$53:$E$58,4,FALSE),Keuzelijsten!$M$56*HLOOKUP(3,Keuzelijsten!$C$53:$E$58,4,FALSE)),0)","v":0},{"$f":"IF(EU$56=3,IF(EU$34=Keuzelijsten!$A$17,EU$35*HLOOKUP(3,Keuzelijsten!$C$53:$E$58,4,FALSE),Keuzelijsten!$M$56*HLOOKUP(3,Keuzelijsten!$C$53:$E$58,4,FALSE)),0)","v":0},{"$f":"IF(EV$56=3,IF(EV$34=Keuzelijsten!$A$17,EV$35*HLOOKUP(3,Keuzelijsten!$C$53:$E$58,4,FALSE),Keuzelijsten!$M$56*HLOOKUP(3,Keuzelijsten!$C$53:$E$58,4,FALSE)),0)","v":0},{"$f":"IF(EW$56=3,IF(EW$34=Keuzelijsten!$A$17,EW$35*HLOOKUP(3,Keuzelijsten!$C$53:$E$58,4,FALSE),Keuzelijsten!$M$56*HLOOKUP(3,Keuzelijsten!$C$53:$E$58,4,FALSE)),0)","v":0},{"$f":"IF(EX$56=3,IF(EX$34=Keuzelijsten!$A$17,EX$35*HLOOKUP(3,Keuzelijsten!$C$53:$E$58,4,FALSE),Keuzelijsten!$M$56*HLOOKUP(3,Keuzelijsten!$C$53:$E$58,4,FALSE)),0)","v":0},{"$f":"IF(EY$56=3,IF(EY$34=Keuzelijsten!$A$17,EY$35*HLOOKUP(3,Keuzelijsten!$C$53:$E$58,4,FALSE),Keuzelijsten!$M$56*HLOOKUP(3,Keuzelijsten!$C$53:$E$58,4,FALSE)),0)","v":0},{"$f":"IF(EZ$56=3,IF(EZ$34=Keuzelijsten!$A$17,EZ$35*HLOOKUP(3,Keuzelijsten!$C$53:$E$58,4,FALSE),Keuzelijsten!$M$56*HLOOKUP(3,Keuzelijsten!$C$53:$E$58,4,FALSE)),0)","v":0},{"$f":"IF(FA$56=3,IF(FA$34=Keuzelijsten!$A$17,FA$35*HLOOKUP(3,Keuzelijsten!$C$53:$E$58,4,FALSE),Keuzelijsten!$M$56*HLOOKUP(3,Keuzelijsten!$C$53:$E$58,4,FALSE)),0)","v":0},{"$f":"IF(FB$56=3,IF(FB$34=Keuzelijsten!$A$17,FB$35*HLOOKUP(3,Keuzelijsten!$C$53:$E$58,4,FALSE),Keuzelijsten!$M$56*HLOOKUP(3,Keuzelijsten!$C$53:$E$58,4,FALSE)),0)","v":0},{"$f":"IF(FC$56=3,IF(FC$34=Keuzelijsten!$A$17,FC$35*HLOOKUP(3,Keuzelijsten!$C$53:$E$58,4,FALSE),Keuzelijsten!$M$56*HLOOKUP(3,Keuzelijsten!$C$53:$E$58,4,FALSE)),0)","v":0},{"$f":"IF(FD$56=3,IF(FD$34=Keuzelijsten!$A$17,FD$35*HLOOKUP(3,Keuzelijsten!$C$53:$E$58,4,FALSE),Keuzelijsten!$M$56*HLOOKUP(3,Keuzelijsten!$C$53:$E$58,4,FALSE)),0)","v":0},{"$f":"IF(FE$56=3,IF(FE$34=Keuzelijsten!$A$17,FE$35*HLOOKUP(3,Keuzelijsten!$C$53:$E$58,4,FALSE),Keuzelijsten!$M$56*HLOOKUP(3,Keuzelijsten!$C$53:$E$58,4,FALSE)),0)","v":0},{"$f":"IF(FF$56=3,IF(FF$34=Keuzelijsten!$A$17,FF$35*HLOOKUP(3,Keuzelijsten!$C$53:$E$58,4,FALSE),Keuzelijsten!$M$56*HLOOKUP(3,Keuzelijsten!$C$53:$E$58,4,FALSE)),0)","v":0},{"$f":"IF(FG$56=3,IF(FG$34=Keuzelijsten!$A$17,FG$35*HLOOKUP(3,Keuzelijsten!$C$53:$E$58,4,FALSE),Keuzelijsten!$M$56*HLOOKUP(3,Keuzelijsten!$C$53:$E$58,4,FALSE)),0)","v":0},{"$f":"IF(FH$56=3,IF(FH$34=Keuzelijsten!$A$17,FH$35*HLOOKUP(3,Keuzelijsten!$C$53:$E$58,4,FALSE),Keuzelijsten!$M$56*HLOOKUP(3,Keuzelijsten!$C$53:$E$58,4,FALSE)),0)","v":0},{"$f":"IF(FI$56=3,IF(FI$34=Keuzelijsten!$A$17,FI$35*HLOOKUP(3,Keuzelijsten!$C$53:$E$58,4,FALSE),Keuzelijsten!$M$56*HLOOKUP(3,Keuzelijsten!$C$53:$E$58,4,FALSE)),0)","v":0},{"$f":"IF(FJ$56=3,IF(FJ$34=Keuzelijsten!$A$17,FJ$35*HLOOKUP(3,Keuzelijsten!$C$53:$E$58,4,FALSE),Keuzelijsten!$M$56*HLOOKUP(3,Keuzelijsten!$C$53:$E$58,4,FALSE)),0)","v":0},{"$f":"IF(FK$56=3,IF(FK$34=Keuzelijsten!$A$17,FK$35*HLOOKUP(3,Keuzelijsten!$C$53:$E$58,4,FALSE),Keuzelijsten!$M$56*HLOOKUP(3,Keuzelijsten!$C$53:$E$58,4,FALSE)),0)","v":0},{"$f":"IF(FL$56=3,IF(FL$34=Keuzelijsten!$A$17,FL$35*HLOOKUP(3,Keuzelijsten!$C$53:$E$58,4,FALSE),Keuzelijsten!$M$56*HLOOKUP(3,Keuzelijsten!$C$53:$E$58,4,FALSE)),0)","v":0},{"$f":"IF(FM$56=3,IF(FM$34=Keuzelijsten!$A$17,FM$35*HLOOKUP(3,Keuzelijsten!$C$53:$E$58,4,FALSE),Keuzelijsten!$M$56*HLOOKUP(3,Keuzelijsten!$C$53:$E$58,4,FALSE)),0)","v":0},{"$f":"IF(FN$56=3,IF(FN$34=Keuzelijsten!$A$17,FN$35*HLOOKUP(3,Keuzelijsten!$C$53:$E$58,4,FALSE),Keuzelijsten!$M$56*HLOOKUP(3,Keuzelijsten!$C$53:$E$58,4,FALSE)),0)","v":0},{"$f":"IF(FO$56=3,IF(FO$34=Keuzelijsten!$A$17,FO$35*HLOOKUP(3,Keuzelijsten!$C$53:$E$58,4,FALSE),Keuzelijsten!$M$56*HLOOKUP(3,Keuzelijsten!$C$53:$E$58,4,FALSE)),0)","v":0},{"$f":"IF(FP$56=3,IF(FP$34=Keuzelijsten!$A$17,FP$35*HLOOKUP(3,Keuzelijsten!$C$53:$E$58,4,FALSE),Keuzelijsten!$M$56*HLOOKUP(3,Keuzelijsten!$C$53:$E$58,4,FALSE)),0)","v":0},{"$f":"IF(FQ$56=3,IF(FQ$34=Keuzelijsten!$A$17,FQ$35*HLOOKUP(3,Keuzelijsten!$C$53:$E$58,4,FALSE),Keuzelijsten!$M$56*HLOOKUP(3,Keuzelijsten!$C$53:$E$58,4,FALSE)),0)","v":0},{"$f":"IF(FR$56=3,IF(FR$34=Keuzelijsten!$A$17,FR$35*HLOOKUP(3,Keuzelijsten!$C$53:$E$58,4,FALSE),Keuzelijsten!$M$56*HLOOKUP(3,Keuzelijsten!$C$53:$E$58,4,FALSE)),0)","v":0},{"$f":"IF(FS$56=3,IF(FS$34=Keuzelijsten!$A$17,FS$35*HLOOKUP(3,Keuzelijsten!$C$53:$E$58,4,FALSE),Keuzelijsten!$M$56*HLOOKUP(3,Keuzelijsten!$C$53:$E$58,4,FALSE)),0)","v":0},{"$f":"IF(FT$56=3,IF(FT$34=Keuzelijsten!$A$17,FT$35*HLOOKUP(3,Keuzelijsten!$C$53:$E$58,4,FALSE),Keuzelijsten!$M$56*HLOOKUP(3,Keuzelijsten!$C$53:$E$58,4,FALSE)),0)","v":0},{"$f":"IF(FU$56=3,IF(FU$34=Keuzelijsten!$A$17,FU$35*HLOOKUP(3,Keuzelijsten!$C$53:$E$58,4,FALSE),Keuzelijsten!$M$56*HLOOKUP(3,Keuzelijsten!$C$53:$E$58,4,FALSE)),0)","v":0},{"$f":"IF(FV$56=3,IF(FV$34=Keuzelijsten!$A$17,FV$35*HLOOKUP(3,Keuzelijsten!$C$53:$E$58,4,FALSE),Keuzelijsten!$M$56*HLOOKUP(3,Keuzelijsten!$C$53:$E$58,4,FALSE)),0)","v":0},{"$f":"IF(FW$56=3,IF(FW$34=Keuzelijsten!$A$17,FW$35*HLOOKUP(3,Keuzelijsten!$C$53:$E$58,4,FALSE),Keuzelijsten!$M$56*HLOOKUP(3,Keuzelijsten!$C$53:$E$58,4,FALSE)),0)","v":0},{"$f":"IF(FX$56=3,IF(FX$34=Keuzelijsten!$A$17,FX$35*HLOOKUP(3,Keuzelijsten!$C$53:$E$58,4,FALSE),Keuzelijsten!$M$56*HLOOKUP(3,Keuzelijsten!$C$53:$E$58,4,FALSE)),0)","v":0},{"$f":"IF(FY$56=3,IF(FY$34=Keuzelijsten!$A$17,FY$35*HLOOKUP(3,Keuzelijsten!$C$53:$E$58,4,FALSE),Keuzelijsten!$M$56*HLOOKUP(3,Keuzelijsten!$C$53:$E$58,4,FALSE)),0)","v":0},{"$f":"IF(FZ$56=3,IF(FZ$34=Keuzelijsten!$A$17,FZ$35*HLOOKUP(3,Keuzelijsten!$C$53:$E$58,4,FALSE),Keuzelijsten!$M$56*HLOOKUP(3,Keuzelijsten!$C$53:$E$58,4,FALSE)),0)","v":0},{"$f":"IF(GA$56=3,IF(GA$34=Keuzelijsten!$A$17,GA$35*HLOOKUP(3,Keuzelijsten!$C$53:$E$58,4,FALSE),Keuzelijsten!$M$56*HLOOKUP(3,Keuzelijsten!$C$53:$E$58,4,FALSE)),0)","v":0},{"$f":"IF(GB$56=3,IF(GB$34=Keuzelijsten!$A$17,GB$35*HLOOKUP(3,Keuzelijsten!$C$53:$E$58,4,FALSE),Keuzelijsten!$M$56*HLOOKUP(3,Keuzelijsten!$C$53:$E$58,4,FALSE)),0)","v":0},{"$f":"IF(GC$56=3,IF(GC$34=Keuzelijsten!$A$17,GC$35*HLOOKUP(3,Keuzelijsten!$C$53:$E$58,4,FALSE),Keuzelijsten!$M$56*HLOOKUP(3,Keuzelijsten!$C$53:$E$58,4,FALSE)),0)","v":0},{"$f":"IF(GD$56=3,IF(GD$34=Keuzelijsten!$A$17,GD$35*HLOOKUP(3,Keuzelijsten!$C$53:$E$58,4,FALSE),Keuzelijsten!$M$56*HLOOKUP(3,Keuzelijsten!$C$53:$E$58,4,FALSE)),0)","v":0},{"$f":"IF(GE$56=3,IF(GE$34=Keuzelijsten!$A$17,GE$35*HLOOKUP(3,Keuzelijsten!$C$53:$E$58,4,FALSE),Keuzelijsten!$M$56*HLOOKUP(3,Keuzelijsten!$C$53:$E$58,4,FALSE)),0)","v":0},{"$f":"IF(GF$56=3,IF(GF$34=Keuzelijsten!$A$17,GF$35*HLOOKUP(3,Keuzelijsten!$C$53:$E$58,4,FALSE),Keuzelijsten!$M$56*HLOOKUP(3,Keuzelijsten!$C$53:$E$58,4,FALSE)),0)","v":0},{"$f":"IF(GG$56=3,IF(GG$34=Keuzelijsten!$A$17,GG$35*HLOOKUP(3,Keuzelijsten!$C$53:$E$58,4,FALSE),Keuzelijsten!$M$56*HLOOKUP(3,Keuzelijsten!$C$53:$E$58,4,FALSE)),0)","v":0},{"$f":"IF(GH$56=3,IF(GH$34=Keuzelijsten!$A$17,GH$35*HLOOKUP(3,Keuzelijsten!$C$53:$E$58,4,FALSE),Keuzelijsten!$M$56*HLOOKUP(3,Keuzelijsten!$C$53:$E$58,4,FALSE)),0)","v":0},{"$f":"IF(GI$56=3,IF(GI$34=Keuzelijsten!$A$17,GI$35*HLOOKUP(3,Keuzelijsten!$C$53:$E$58,4,FALSE),Keuzelijsten!$M$56*HLOOKUP(3,Keuzelijsten!$C$53:$E$58,4,FALSE)),0)","v":0},{"$f":"IF(GJ$56=3,IF(GJ$34=Keuzelijsten!$A$17,GJ$35*HLOOKUP(3,Keuzelijsten!$C$53:$E$58,4,FALSE),Keuzelijsten!$M$56*HLOOKUP(3,Keuzelijsten!$C$53:$E$58,4,FALSE)),0)","v":0},{"$f":"IF(GK$56=3,IF(GK$34=Keuzelijsten!$A$17,GK$35*HLOOKUP(3,Keuzelijsten!$C$53:$E$58,4,FALSE),Keuzelijsten!$M$56*HLOOKUP(3,Keuzelijsten!$C$53:$E$58,4,FALSE)),0)","v":0},{"$f":"IF(GL$56=3,IF(GL$34=Keuzelijsten!$A$17,GL$35*HLOOKUP(3,Keuzelijsten!$C$53:$E$58,4,FALSE),Keuzelijsten!$M$56*HLOOKUP(3,Keuzelijsten!$C$53:$E$58,4,FALSE)),0)","v":0},{"$f":"IF(GM$56=3,IF(GM$34=Keuzelijsten!$A$17,GM$35*HLOOKUP(3,Keuzelijsten!$C$53:$E$58,4,FALSE),Keuzelijsten!$M$56*HLOOKUP(3,Keuzelijsten!$C$53:$E$58,4,FALSE)),0)","v":0},{"$f":"IF(GN$56=3,IF(GN$34=Keuzelijsten!$A$17,GN$35*HLOOKUP(3,Keuzelijsten!$C$53:$E$58,4,FALSE),Keuzelijsten!$M$56*HLOOKUP(3,Keuzelijsten!$C$53:$E$58,4,FALSE)),0)","v":0},{"$f":"IF(GO$56=3,IF(GO$34=Keuzelijsten!$A$17,GO$35*HLOOKUP(3,Keuzelijsten!$C$53:$E$58,4,FALSE),Keuzelijsten!$M$56*HLOOKUP(3,Keuzelijsten!$C$53:$E$58,4,FALSE)),0)","v":0},{"$f":"IF(GP$56=3,IF(GP$34=Keuzelijsten!$A$17,GP$35*HLOOKUP(3,Keuzelijsten!$C$53:$E$58,4,FALSE),Keuzelijsten!$M$56*HLOOKUP(3,Keuzelijsten!$C$53:$E$58,4,FALSE)),0)","v":0},{"$f":"IF(GQ$56=3,IF(GQ$34=Keuzelijsten!$A$17,GQ$35*HLOOKUP(3,Keuzelijsten!$C$53:$E$58,4,FALSE),Keuzelijsten!$M$56*HLOOKUP(3,Keuzelijsten!$C$53:$E$58,4,FALSE)),0)","v":0},{"$f":"IF(GR$56=3,IF(GR$34=Keuzelijsten!$A$17,GR$35*HLOOKUP(3,Keuzelijsten!$C$53:$E$58,4,FALSE),Keuzelijsten!$M$56*HLOOKUP(3,Keuzelijsten!$C$53:$E$58,4,FALSE)),0)","v":0},{"$f":"IF(GS$56=3,IF(GS$34=Keuzelijsten!$A$17,GS$35*HLOOKUP(3,Keuzelijsten!$C$53:$E$58,4,FALSE),Keuzelijsten!$M$56*HLOOKUP(3,Keuzelijsten!$C$53:$E$58,4,FALSE)),0)","v":0},{"$f":"IF(GT$56=3,IF(GT$34=Keuzelijsten!$A$17,GT$35*HLOOKUP(3,Keuzelijsten!$C$53:$E$58,4,FALSE),Keuzelijsten!$M$56*HLOOKUP(3,Keuzelijsten!$C$53:$E$58,4,FALSE)),0)","v":0}]
["Warmtevrager = open bebouwing","MJ",{"$f":"IF(C$56=4,IF(C$34=Keuzelijsten!$A$17,C$35*HLOOKUP(3,Keuzelijsten!$C$53:$E$58,5,FALSE),Keuzelijsten!$M$57*HLOOKUP(3,Keuzelijsten!$C$53:$E$58,5,FALSE)),0)","v":0},{"$f":"IF(D$56=4,IF(D$34=Keuzelijsten!$A$17,D$35*HLOOKUP(3,Keuzelijsten!$C$53:$E$58,5,FALSE),Keuzelijsten!$M$57*HLOOKUP(3,Keuzelijsten!$C$53:$E$58,5,FALSE)),0)","v":0},{"$f":"IF(E$56=4,IF(E$34=Keuzelijsten!$A$17,E$35*HLOOKUP(3,Keuzelijsten!$C$53:$E$58,5,FALSE),Keuzelijsten!$M$57*HLOOKUP(3,Keuzelijsten!$C$53:$E$58,5,FALSE)),0)","v":0},{"$f":"IF(F$56=4,IF(F$34=Keuzelijsten!$A$17,F$35*HLOOKUP(3,Keuzelijsten!$C$53:$E$58,5,FALSE),Keuzelijsten!$M$57*HLOOKUP(3,Keuzelijsten!$C$53:$E$58,5,FALSE)),0)","v":0},{"$f":"IF(G$56=4,IF(G$34=Keuzelijsten!$A$17,G$35*HLOOKUP(3,Keuzelijsten!$C$53:$E$58,5,FALSE),Keuzelijsten!$M$57*HLOOKUP(3,Keuzelijsten!$C$53:$E$58,5,FALSE)),0)","v":0},{"$f":"IF(H$56=4,IF(H$34=Keuzelijsten!$A$17,H$35*HLOOKUP(3,Keuzelijsten!$C$53:$E$58,5,FALSE),Keuzelijsten!$M$57*HLOOKUP(3,Keuzelijsten!$C$53:$E$58,5,FALSE)),0)","v":0},{"$f":"IF(I$56=4,IF(I$34=Keuzelijsten!$A$17,I$35*HLOOKUP(3,Keuzelijsten!$C$53:$E$58,5,FALSE),Keuzelijsten!$M$57*HLOOKUP(3,Keuzelijsten!$C$53:$E$58,5,FALSE)),0)","v":0},{"$f":"IF(J$56=4,IF(J$34=Keuzelijsten!$A$17,J$35*HLOOKUP(3,Keuzelijsten!$C$53:$E$58,5,FALSE),Keuzelijsten!$M$57*HLOOKUP(3,Keuzelijsten!$C$53:$E$58,5,FALSE)),0)","v":0},{"$f":"IF(K$56=4,IF(K$34=Keuzelijsten!$A$17,K$35*HLOOKUP(3,Keuzelijsten!$C$53:$E$58,5,FALSE),Keuzelijsten!$M$57*HLOOKUP(3,Keuzelijsten!$C$53:$E$58,5,FALSE)),0)","v":0},{"$f":"IF(L$56=4,IF(L$34=Keuzelijsten!$A$17,L$35*HLOOKUP(3,Keuzelijsten!$C$53:$E$58,5,FALSE),Keuzelijsten!$M$57*HLOOKUP(3,Keuzelijsten!$C$53:$E$58,5,FALSE)),0)","v":0},{"$f":"IF(M$56=4,IF(M$34=Keuzelijsten!$A$17,M$35*HLOOKUP(3,Keuzelijsten!$C$53:$E$58,5,FALSE),Keuzelijsten!$M$57*HLOOKUP(3,Keuzelijsten!$C$53:$E$58,5,FALSE)),0)","v":0},{"$f":"IF(N$56=4,IF(N$34=Keuzelijsten!$A$17,N$35*HLOOKUP(3,Keuzelijsten!$C$53:$E$58,5,FALSE),Keuzelijsten!$M$57*HLOOKUP(3,Keuzelijsten!$C$53:$E$58,5,FALSE)),0)","v":0},{"$f":"IF(O$56=4,IF(O$34=Keuzelijsten!$A$17,O$35*HLOOKUP(3,Keuzelijsten!$C$53:$E$58,5,FALSE),Keuzelijsten!$M$57*HLOOKUP(3,Keuzelijsten!$C$53:$E$58,5,FALSE)),0)","v":0},{"$f":"IF(P$56=4,IF(P$34=Keuzelijsten!$A$17,P$35*HLOOKUP(3,Keuzelijsten!$C$53:$E$58,5,FALSE),Keuzelijsten!$M$57*HLOOKUP(3,Keuzelijsten!$C$53:$E$58,5,FALSE)),0)","v":0},{"$f":"IF(Q$56=4,IF(Q$34=Keuzelijsten!$A$17,Q$35*HLOOKUP(3,Keuzelijsten!$C$53:$E$58,5,FALSE),Keuzelijsten!$M$57*HLOOKUP(3,Keuzelijsten!$C$53:$E$58,5,FALSE)),0)","v":0},{"$f":"IF(R$56=4,IF(R$34=Keuzelijsten!$A$17,R$35*HLOOKUP(3,Keuzelijsten!$C$53:$E$58,5,FALSE),Keuzelijsten!$M$57*HLOOKUP(3,Keuzelijsten!$C$53:$E$58,5,FALSE)),0)","v":0},{"$f":"IF(S$56=4,IF(S$34=Keuzelijsten!$A$17,S$35*HLOOKUP(3,Keuzelijsten!$C$53:$E$58,5,FALSE),Keuzelijsten!$M$57*HLOOKUP(3,Keuzelijsten!$C$53:$E$58,5,FALSE)),0)","v":0},{"$f":"IF(T$56=4,IF(T$34=Keuzelijsten!$A$17,T$35*HLOOKUP(3,Keuzelijsten!$C$53:$E$58,5,FALSE),Keuzelijsten!$M$57*HLOOKUP(3,Keuzelijsten!$C$53:$E$58,5,FALSE)),0)","v":0},{"$f":"IF(U$56=4,IF(U$34=Keuzelijsten!$A$17,U$35*HLOOKUP(3,Keuzelijsten!$C$53:$E$58,5,FALSE),Keuzelijsten!$M$57*HLOOKUP(3,Keuzelijsten!$C$53:$E$58,5,FALSE)),0)","v":0},{"$f":"IF(V$56=4,IF(V$34=Keuzelijsten!$A$17,V$35*HLOOKUP(3,Keuzelijsten!$C$53:$E$58,5,FALSE),Keuzelijsten!$M$57*HLOOKUP(3,Keuzelijsten!$C$53:$E$58,5,FALSE)),0)","v":0},{"$f":"IF(W$56=4,IF(W$34=Keuzelijsten!$A$17,W$35*HLOOKUP(3,Keuzelijsten!$C$53:$E$58,5,FALSE),Keuzelijsten!$M$57*HLOOKUP(3,Keuzelijsten!$C$53:$E$58,5,FALSE)),0)","v":0},{"$f":"IF(X$56=4,IF(X$34=Keuzelijsten!$A$17,X$35*HLOOKUP(3,Keuzelijsten!$C$53:$E$58,5,FALSE),Keuzelijsten!$M$57*HLOOKUP(3,Keuzelijsten!$C$53:$E$58,5,FALSE)),0)","v":0},{"$f":"IF(Y$56=4,IF(Y$34=Keuzelijsten!$A$17,Y$35*HLOOKUP(3,Keuzelijsten!$C$53:$E$58,5,FALSE),Keuzelijsten!$M$57*HLOOKUP(3,Keuzelijsten!$C$53:$E$58,5,FALSE)),0)","v":0},{"$f":"IF(Z$56=4,IF(Z$34=Keuzelijsten!$A$17,Z$35*HLOOKUP(3,Keuzelijsten!$C$53:$E$58,5,FALSE),Keuzelijsten!$M$57*HLOOKUP(3,Keuzelijsten!$C$53:$E$58,5,FALSE)),0)","v":0},{"$f":"IF(AA$56=4,IF(AA$34=Keuzelijsten!$A$17,AA$35*HLOOKUP(3,Keuzelijsten!$C$53:$E$58,5,FALSE),Keuzelijsten!$M$57*HLOOKUP(3,Keuzelijsten!$C$53:$E$58,5,FALSE)),0)","v":0},{"$f":"IF(AB$56=4,IF(AB$34=Keuzelijsten!$A$17,AB$35*HLOOKUP(3,Keuzelijsten!$C$53:$E$58,5,FALSE),Keuzelijsten!$M$57*HLOOKUP(3,Keuzelijsten!$C$53:$E$58,5,FALSE)),0)","v":0},{"$f":"IF(AC$56=4,IF(AC$34=Keuzelijsten!$A$17,AC$35*HLOOKUP(3,Keuzelijsten!$C$53:$E$58,5,FALSE),Keuzelijsten!$M$57*HLOOKUP(3,Keuzelijsten!$C$53:$E$58,5,FALSE)),0)","v":0},{"$f":"IF(AD$56=4,IF(AD$34=Keuzelijsten!$A$17,AD$35*HLOOKUP(3,Keuzelijsten!$C$53:$E$58,5,FALSE),Keuzelijsten!$M$57*HLOOKUP(3,Keuzelijsten!$C$53:$E$58,5,FALSE)),0)","v":0},{"$f":"IF(AE$56=4,IF(AE$34=Keuzelijsten!$A$17,AE$35*HLOOKUP(3,Keuzelijsten!$C$53:$E$58,5,FALSE),Keuzelijsten!$M$57*HLOOKUP(3,Keuzelijsten!$C$53:$E$58,5,FALSE)),0)","v":0},{"$f":"IF(AF$56=4,IF(AF$34=Keuzelijsten!$A$17,AF$35*HLOOKUP(3,Keuzelijsten!$C$53:$E$58,5,FALSE),Keuzelijsten!$M$57*HLOOKUP(3,Keuzelijsten!$C$53:$E$58,5,FALSE)),0)","v":0},{"$f":"IF(AG$56=4,IF(AG$34=Keuzelijsten!$A$17,AG$35*HLOOKUP(3,Keuzelijsten!$C$53:$E$58,5,FALSE),Keuzelijsten!$M$57*HLOOKUP(3,Keuzelijsten!$C$53:$E$58,5,FALSE)),0)","v":0},{"$f":"IF(AH$56=4,IF(AH$34=Keuzelijsten!$A$17,AH$35*HLOOKUP(3,Keuzelijsten!$C$53:$E$58,5,FALSE),Keuzelijsten!$M$57*HLOOKUP(3,Keuzelijsten!$C$53:$E$58,5,FALSE)),0)","v":0},{"$f":"IF(AI$56=4,IF(AI$34=Keuzelijsten!$A$17,AI$35*HLOOKUP(3,Keuzelijsten!$C$53:$E$58,5,FALSE),Keuzelijsten!$M$57*HLOOKUP(3,Keuzelijsten!$C$53:$E$58,5,FALSE)),0)","v":0},{"$f":"IF(AJ$56=4,IF(AJ$34=Keuzelijsten!$A$17,AJ$35*HLOOKUP(3,Keuzelijsten!$C$53:$E$58,5,FALSE),Keuzelijsten!$M$57*HLOOKUP(3,Keuzelijsten!$C$53:$E$58,5,FALSE)),0)","v":0},{"$f":"IF(AK$56=4,IF(AK$34=Keuzelijsten!$A$17,AK$35*HLOOKUP(3,Keuzelijsten!$C$53:$E$58,5,FALSE),Keuzelijsten!$M$57*HLOOKUP(3,Keuzelijsten!$C$53:$E$58,5,FALSE)),0)","v":0},{"$f":"IF(AL$56=4,IF(AL$34=Keuzelijsten!$A$17,AL$35*HLOOKUP(3,Keuzelijsten!$C$53:$E$58,5,FALSE),Keuzelijsten!$M$57*HLOOKUP(3,Keuzelijsten!$C$53:$E$58,5,FALSE)),0)","v":0},{"$f":"IF(AM$56=4,IF(AM$34=Keuzelijsten!$A$17,AM$35*HLOOKUP(3,Keuzelijsten!$C$53:$E$58,5,FALSE),Keuzelijsten!$M$57*HLOOKUP(3,Keuzelijsten!$C$53:$E$58,5,FALSE)),0)","v":0},{"$f":"IF(AN$56=4,IF(AN$34=Keuzelijsten!$A$17,AN$35*HLOOKUP(3,Keuzelijsten!$C$53:$E$58,5,FALSE),Keuzelijsten!$M$57*HLOOKUP(3,Keuzelijsten!$C$53:$E$58,5,FALSE)),0)","v":0},{"$f":"IF(AO$56=4,IF(AO$34=Keuzelijsten!$A$17,AO$35*HLOOKUP(3,Keuzelijsten!$C$53:$E$58,5,FALSE),Keuzelijsten!$M$57*HLOOKUP(3,Keuzelijsten!$C$53:$E$58,5,FALSE)),0)","v":0},{"$f":"IF(AP$56=4,IF(AP$34=Keuzelijsten!$A$17,AP$35*HLOOKUP(3,Keuzelijsten!$C$53:$E$58,5,FALSE),Keuzelijsten!$M$57*HLOOKUP(3,Keuzelijsten!$C$53:$E$58,5,FALSE)),0)","v":0},{"$f":"IF(AQ$56=4,IF(AQ$34=Keuzelijsten!$A$17,AQ$35*HLOOKUP(3,Keuzelijsten!$C$53:$E$58,5,FALSE),Keuzelijsten!$M$57*HLOOKUP(3,Keuzelijsten!$C$53:$E$58,5,FALSE)),0)","v":0},{"$f":"IF(AR$56=4,IF(AR$34=Keuzelijsten!$A$17,AR$35*HLOOKUP(3,Keuzelijsten!$C$53:$E$58,5,FALSE),Keuzelijsten!$M$57*HLOOKUP(3,Keuzelijsten!$C$53:$E$58,5,FALSE)),0)","v":0},{"$f":"IF(AS$56=4,IF(AS$34=Keuzelijsten!$A$17,AS$35*HLOOKUP(3,Keuzelijsten!$C$53:$E$58,5,FALSE),Keuzelijsten!$M$57*HLOOKUP(3,Keuzelijsten!$C$53:$E$58,5,FALSE)),0)","v":0},{"$f":"IF(AT$56=4,IF(AT$34=Keuzelijsten!$A$17,AT$35*HLOOKUP(3,Keuzelijsten!$C$53:$E$58,5,FALSE),Keuzelijsten!$M$57*HLOOKUP(3,Keuzelijsten!$C$53:$E$58,5,FALSE)),0)","v":0},{"$f":"IF(AU$56=4,IF(AU$34=Keuzelijsten!$A$17,AU$35*HLOOKUP(3,Keuzelijsten!$C$53:$E$58,5,FALSE),Keuzelijsten!$M$57*HLOOKUP(3,Keuzelijsten!$C$53:$E$58,5,FALSE)),0)","v":0},{"$f":"IF(AV$56=4,IF(AV$34=Keuzelijsten!$A$17,AV$35*HLOOKUP(3,Keuzelijsten!$C$53:$E$58,5,FALSE),Keuzelijsten!$M$57*HLOOKUP(3,Keuzelijsten!$C$53:$E$58,5,FALSE)),0)","v":0},{"$f":"IF(AW$56=4,IF(AW$34=Keuzelijsten!$A$17,AW$35*HLOOKUP(3,Keuzelijsten!$C$53:$E$58,5,FALSE),Keuzelijsten!$M$57*HLOOKUP(3,Keuzelijsten!$C$53:$E$58,5,FALSE)),0)","v":0},{"$f":"IF(AX$56=4,IF(AX$34=Keuzelijsten!$A$17,AX$35*HLOOKUP(3,Keuzelijsten!$C$53:$E$58,5,FALSE),Keuzelijsten!$M$57*HLOOKUP(3,Keuzelijsten!$C$53:$E$58,5,FALSE)),0)","v":0},{"$f":"IF(AY$56=4,IF(AY$34=Keuzelijsten!$A$17,AY$35*HLOOKUP(3,Keuzelijsten!$C$53:$E$58,5,FALSE),Keuzelijsten!$M$57*HLOOKUP(3,Keuzelijsten!$C$53:$E$58,5,FALSE)),0)","v":0},{"$f":"IF(AZ$56=4,IF(AZ$34=Keuzelijsten!$A$17,AZ$35*HLOOKUP(3,Keuzelijsten!$C$53:$E$58,5,FALSE),Keuzelijsten!$M$57*HLOOKUP(3,Keuzelijsten!$C$53:$E$58,5,FALSE)),0)","v":0},{"$f":"IF(BA$56=4,IF(BA$34=Keuzelijsten!$A$17,BA$35*HLOOKUP(3,Keuzelijsten!$C$53:$E$58,5,FALSE),Keuzelijsten!$M$57*HLOOKUP(3,Keuzelijsten!$C$53:$E$58,5,FALSE)),0)","v":0},{"$f":"IF(BB$56=4,IF(BB$34=Keuzelijsten!$A$17,BB$35*HLOOKUP(3,Keuzelijsten!$C$53:$E$58,5,FALSE),Keuzelijsten!$M$57*HLOOKUP(3,Keuzelijsten!$C$53:$E$58,5,FALSE)),0)","v":0},{"$f":"IF(BC$56=4,IF(BC$34=Keuzelijsten!$A$17,BC$35*HLOOKUP(3,Keuzelijsten!$C$53:$E$58,5,FALSE),Keuzelijsten!$M$57*HLOOKUP(3,Keuzelijsten!$C$53:$E$58,5,FALSE)),0)","v":0},{"$f":"IF(BD$56=4,IF(BD$34=Keuzelijsten!$A$17,BD$35*HLOOKUP(3,Keuzelijsten!$C$53:$E$58,5,FALSE),Keuzelijsten!$M$57*HLOOKUP(3,Keuzelijsten!$C$53:$E$58,5,FALSE)),0)","v":0},{"$f":"IF(BE$56=4,IF(BE$34=Keuzelijsten!$A$17,BE$35*HLOOKUP(3,Keuzelijsten!$C$53:$E$58,5,FALSE),Keuzelijsten!$M$57*HLOOKUP(3,Keuzelijsten!$C$53:$E$58,5,FALSE)),0)","v":0},{"$f":"IF(BF$56=4,IF(BF$34=Keuzelijsten!$A$17,BF$35*HLOOKUP(3,Keuzelijsten!$C$53:$E$58,5,FALSE),Keuzelijsten!$M$57*HLOOKUP(3,Keuzelijsten!$C$53:$E$58,5,FALSE)),0)","v":0},{"$f":"IF(BG$56=4,IF(BG$34=Keuzelijsten!$A$17,BG$35*HLOOKUP(3,Keuzelijsten!$C$53:$E$58,5,FALSE),Keuzelijsten!$M$57*HLOOKUP(3,Keuzelijsten!$C$53:$E$58,5,FALSE)),0)","v":0},{"$f":"IF(BH$56=4,IF(BH$34=Keuzelijsten!$A$17,BH$35*HLOOKUP(3,Keuzelijsten!$C$53:$E$58,5,FALSE),Keuzelijsten!$M$57*HLOOKUP(3,Keuzelijsten!$C$53:$E$58,5,FALSE)),0)","v":0},{"$f":"IF(BI$56=4,IF(BI$34=Keuzelijsten!$A$17,BI$35*HLOOKUP(3,Keuzelijsten!$C$53:$E$58,5,FALSE),Keuzelijsten!$M$57*HLOOKUP(3,Keuzelijsten!$C$53:$E$58,5,FALSE)),0)","v":0},{"$f":"IF(BJ$56=4,IF(BJ$34=Keuzelijsten!$A$17,BJ$35*HLOOKUP(3,Keuzelijsten!$C$53:$E$58,5,FALSE),Keuzelijsten!$M$57*HLOOKUP(3,Keuzelijsten!$C$53:$E$58,5,FALSE)),0)","v":0},{"$f":"IF(BK$56=4,IF(BK$34=Keuzelijsten!$A$17,BK$35*HLOOKUP(3,Keuzelijsten!$C$53:$E$58,5,FALSE),Keuzelijsten!$M$57*HLOOKUP(3,Keuzelijsten!$C$53:$E$58,5,FALSE)),0)","v":0},{"$f":"IF(BL$56=4,IF(BL$34=Keuzelijsten!$A$17,BL$35*HLOOKUP(3,Keuzelijsten!$C$53:$E$58,5,FALSE),Keuzelijsten!$M$57*HLOOKUP(3,Keuzelijsten!$C$53:$E$58,5,FALSE)),0)","v":0},{"$f":"IF(BM$56=4,IF(BM$34=Keuzelijsten!$A$17,BM$35*HLOOKUP(3,Keuzelijsten!$C$53:$E$58,5,FALSE),Keuzelijsten!$M$57*HLOOKUP(3,Keuzelijsten!$C$53:$E$58,5,FALSE)),0)","v":0},{"$f":"IF(BN$56=4,IF(BN$34=Keuzelijsten!$A$17,BN$35*HLOOKUP(3,Keuzelijsten!$C$53:$E$58,5,FALSE),Keuzelijsten!$M$57*HLOOKUP(3,Keuzelijsten!$C$53:$E$58,5,FALSE)),0)","v":0},{"$f":"IF(BO$56=4,IF(BO$34=Keuzelijsten!$A$17,BO$35*HLOOKUP(3,Keuzelijsten!$C$53:$E$58,5,FALSE),Keuzelijsten!$M$57*HLOOKUP(3,Keuzelijsten!$C$53:$E$58,5,FALSE)),0)","v":0},{"$f":"IF(BP$56=4,IF(BP$34=Keuzelijsten!$A$17,BP$35*HLOOKUP(3,Keuzelijsten!$C$53:$E$58,5,FALSE),Keuzelijsten!$M$57*HLOOKUP(3,Keuzelijsten!$C$53:$E$58,5,FALSE)),0)","v":0},{"$f":"IF(BQ$56=4,IF(BQ$34=Keuzelijsten!$A$17,BQ$35*HLOOKUP(3,Keuzelijsten!$C$53:$E$58,5,FALSE),Keuzelijsten!$M$57*HLOOKUP(3,Keuzelijsten!$C$53:$E$58,5,FALSE)),0)","v":0},{"$f":"IF(BR$56=4,IF(BR$34=Keuzelijsten!$A$17,BR$35*HLOOKUP(3,Keuzelijsten!$C$53:$E$58,5,FALSE),Keuzelijsten!$M$57*HLOOKUP(3,Keuzelijsten!$C$53:$E$58,5,FALSE)),0)","v":0},{"$f":"IF(BS$56=4,IF(BS$34=Keuzelijsten!$A$17,BS$35*HLOOKUP(3,Keuzelijsten!$C$53:$E$58,5,FALSE),Keuzelijsten!$M$57*HLOOKUP(3,Keuzelijsten!$C$53:$E$58,5,FALSE)),0)","v":0},{"$f":"IF(BT$56=4,IF(BT$34=Keuzelijsten!$A$17,BT$35*HLOOKUP(3,Keuzelijsten!$C$53:$E$58,5,FALSE),Keuzelijsten!$M$57*HLOOKUP(3,Keuzelijsten!$C$53:$E$58,5,FALSE)),0)","v":0},{"$f":"IF(BU$56=4,IF(BU$34=Keuzelijsten!$A$17,BU$35*HLOOKUP(3,Keuzelijsten!$C$53:$E$58,5,FALSE),Keuzelijsten!$M$57*HLOOKUP(3,Keuzelijsten!$C$53:$E$58,5,FALSE)),0)","v":0},{"$f":"IF(BV$56=4,IF(BV$34=Keuzelijsten!$A$17,BV$35*HLOOKUP(3,Keuzelijsten!$C$53:$E$58,5,FALSE),Keuzelijsten!$M$57*HLOOKUP(3,Keuzelijsten!$C$53:$E$58,5,FALSE)),0)","v":0},{"$f":"IF(BW$56=4,IF(BW$34=Keuzelijsten!$A$17,BW$35*HLOOKUP(3,Keuzelijsten!$C$53:$E$58,5,FALSE),Keuzelijsten!$M$57*HLOOKUP(3,Keuzelijsten!$C$53:$E$58,5,FALSE)),0)","v":0},{"$f":"IF(BX$56=4,IF(BX$34=Keuzelijsten!$A$17,BX$35*HLOOKUP(3,Keuzelijsten!$C$53:$E$58,5,FALSE),Keuzelijsten!$M$57*HLOOKUP(3,Keuzelijsten!$C$53:$E$58,5,FALSE)),0)","v":0},{"$f":"IF(BY$56=4,IF(BY$34=Keuzelijsten!$A$17,BY$35*HLOOKUP(3,Keuzelijsten!$C$53:$E$58,5,FALSE),Keuzelijsten!$M$57*HLOOKUP(3,Keuzelijsten!$C$53:$E$58,5,FALSE)),0)","v":0},{"$f":"IF(BZ$56=4,IF(BZ$34=Keuzelijsten!$A$17,BZ$35*HLOOKUP(3,Keuzelijsten!$C$53:$E$58,5,FALSE),Keuzelijsten!$M$57*HLOOKUP(3,Keuzelijsten!$C$53:$E$58,5,FALSE)),0)","v":0},{"$f":"IF(CA$56=4,IF(CA$34=Keuzelijsten!$A$17,CA$35*HLOOKUP(3,Keuzelijsten!$C$53:$E$58,5,FALSE),Keuzelijsten!$M$57*HLOOKUP(3,Keuzelijsten!$C$53:$E$58,5,FALSE)),0)","v":0},{"$f":"IF(CB$56=4,IF(CB$34=Keuzelijsten!$A$17,CB$35*HLOOKUP(3,Keuzelijsten!$C$53:$E$58,5,FALSE),Keuzelijsten!$M$57*HLOOKUP(3,Keuzelijsten!$C$53:$E$58,5,FALSE)),0)","v":0},{"$f":"IF(CC$56=4,IF(CC$34=Keuzelijsten!$A$17,CC$35*HLOOKUP(3,Keuzelijsten!$C$53:$E$58,5,FALSE),Keuzelijsten!$M$57*HLOOKUP(3,Keuzelijsten!$C$53:$E$58,5,FALSE)),0)","v":0},{"$f":"IF(CD$56=4,IF(CD$34=Keuzelijsten!$A$17,CD$35*HLOOKUP(3,Keuzelijsten!$C$53:$E$58,5,FALSE),Keuzelijsten!$M$57*HLOOKUP(3,Keuzelijsten!$C$53:$E$58,5,FALSE)),0)","v":0},{"$f":"IF(CE$56=4,IF(CE$34=Keuzelijsten!$A$17,CE$35*HLOOKUP(3,Keuzelijsten!$C$53:$E$58,5,FALSE),Keuzelijsten!$M$57*HLOOKUP(3,Keuzelijsten!$C$53:$E$58,5,FALSE)),0)","v":0},{"$f":"IF(CF$56=4,IF(CF$34=Keuzelijsten!$A$17,CF$35*HLOOKUP(3,Keuzelijsten!$C$53:$E$58,5,FALSE),Keuzelijsten!$M$57*HLOOKUP(3,Keuzelijsten!$C$53:$E$58,5,FALSE)),0)","v":0},{"$f":"IF(CG$56=4,IF(CG$34=Keuzelijsten!$A$17,CG$35*HLOOKUP(3,Keuzelijsten!$C$53:$E$58,5,FALSE),Keuzelijsten!$M$57*HLOOKUP(3,Keuzelijsten!$C$53:$E$58,5,FALSE)),0)","v":0},{"$f":"IF(CH$56=4,IF(CH$34=Keuzelijsten!$A$17,CH$35*HLOOKUP(3,Keuzelijsten!$C$53:$E$58,5,FALSE),Keuzelijsten!$M$57*HLOOKUP(3,Keuzelijsten!$C$53:$E$58,5,FALSE)),0)","v":0},{"$f":"IF(CI$56=4,IF(CI$34=Keuzelijsten!$A$17,CI$35*HLOOKUP(3,Keuzelijsten!$C$53:$E$58,5,FALSE),Keuzelijsten!$M$57*HLOOKUP(3,Keuzelijsten!$C$53:$E$58,5,FALSE)),0)","v":0},{"$f":"IF(CJ$56=4,IF(CJ$34=Keuzelijsten!$A$17,CJ$35*HLOOKUP(3,Keuzelijsten!$C$53:$E$58,5,FALSE),Keuzelijsten!$M$57*HLOOKUP(3,Keuzelijsten!$C$53:$E$58,5,FALSE)),0)","v":0},{"$f":"IF(CK$56=4,IF(CK$34=Keuzelijsten!$A$17,CK$35*HLOOKUP(3,Keuzelijsten!$C$53:$E$58,5,FALSE),Keuzelijsten!$M$57*HLOOKUP(3,Keuzelijsten!$C$53:$E$58,5,FALSE)),0)","v":0},{"$f":"IF(CL$56=4,IF(CL$34=Keuzelijsten!$A$17,CL$35*HLOOKUP(3,Keuzelijsten!$C$53:$E$58,5,FALSE),Keuzelijsten!$M$57*HLOOKUP(3,Keuzelijsten!$C$53:$E$58,5,FALSE)),0)","v":0},{"$f":"IF(CM$56=4,IF(CM$34=Keuzelijsten!$A$17,CM$35*HLOOKUP(3,Keuzelijsten!$C$53:$E$58,5,FALSE),Keuzelijsten!$M$57*HLOOKUP(3,Keuzelijsten!$C$53:$E$58,5,FALSE)),0)","v":0},{"$f":"IF(CN$56=4,IF(CN$34=Keuzelijsten!$A$17,CN$35*HLOOKUP(3,Keuzelijsten!$C$53:$E$58,5,FALSE),Keuzelijsten!$M$57*HLOOKUP(3,Keuzelijsten!$C$53:$E$58,5,FALSE)),0)","v":0},{"$f":"IF(CO$56=4,IF(CO$34=Keuzelijsten!$A$17,CO$35*HLOOKUP(3,Keuzelijsten!$C$53:$E$58,5,FALSE),Keuzelijsten!$M$57*HLOOKUP(3,Keuzelijsten!$C$53:$E$58,5,FALSE)),0)","v":0},{"$f":"IF(CP$56=4,IF(CP$34=Keuzelijsten!$A$17,CP$35*HLOOKUP(3,Keuzelijsten!$C$53:$E$58,5,FALSE),Keuzelijsten!$M$57*HLOOKUP(3,Keuzelijsten!$C$53:$E$58,5,FALSE)),0)","v":0},{"$f":"IF(CQ$56=4,IF(CQ$34=Keuzelijsten!$A$17,CQ$35*HLOOKUP(3,Keuzelijsten!$C$53:$E$58,5,FALSE),Keuzelijsten!$M$57*HLOOKUP(3,Keuzelijsten!$C$53:$E$58,5,FALSE)),0)","v":0},{"$f":"IF(CR$56=4,IF(CR$34=Keuzelijsten!$A$17,CR$35*HLOOKUP(3,Keuzelijsten!$C$53:$E$58,5,FALSE),Keuzelijsten!$M$57*HLOOKUP(3,Keuzelijsten!$C$53:$E$58,5,FALSE)),0)","v":0},{"$f":"IF(CS$56=4,IF(CS$34=Keuzelijsten!$A$17,CS$35*HLOOKUP(3,Keuzelijsten!$C$53:$E$58,5,FALSE),Keuzelijsten!$M$57*HLOOKUP(3,Keuzelijsten!$C$53:$E$58,5,FALSE)),0)","v":0},{"$f":"IF(CT$56=4,IF(CT$34=Keuzelijsten!$A$17,CT$35*HLOOKUP(3,Keuzelijsten!$C$53:$E$58,5,FALSE),Keuzelijsten!$M$57*HLOOKUP(3,Keuzelijsten!$C$53:$E$58,5,FALSE)),0)","v":0},{"$f":"IF(CU$56=4,IF(CU$34=Keuzelijsten!$A$17,CU$35*HLOOKUP(3,Keuzelijsten!$C$53:$E$58,5,FALSE),Keuzelijsten!$M$57*HLOOKUP(3,Keuzelijsten!$C$53:$E$58,5,FALSE)),0)","v":0},{"$f":"IF(CV$56=4,IF(CV$34=Keuzelijsten!$A$17,CV$35*HLOOKUP(3,Keuzelijsten!$C$53:$E$58,5,FALSE),Keuzelijsten!$M$57*HLOOKUP(3,Keuzelijsten!$C$53:$E$58,5,FALSE)),0)","v":0},{"$f":"IF(CW$56=4,IF(CW$34=Keuzelijsten!$A$17,CW$35*HLOOKUP(3,Keuzelijsten!$C$53:$E$58,5,FALSE),Keuzelijsten!$M$57*HLOOKUP(3,Keuzelijsten!$C$53:$E$58,5,FALSE)),0)","v":0},{"$f":"IF(CX$56=4,IF(CX$34=Keuzelijsten!$A$17,CX$35*HLOOKUP(3,Keuzelijsten!$C$53:$E$58,5,FALSE),Keuzelijsten!$M$57*HLOOKUP(3,Keuzelijsten!$C$53:$E$58,5,FALSE)),0)","v":0},{"$f":"IF(CY$56=4,IF(CY$34=Keuzelijsten!$A$17,CY$35*HLOOKUP(3,Keuzelijsten!$C$53:$E$58,5,FALSE),Keuzelijsten!$M$57*HLOOKUP(3,Keuzelijsten!$C$53:$E$58,5,FALSE)),0)","v":0},{"$f":"IF(CZ$56=4,IF(CZ$34=Keuzelijsten!$A$17,CZ$35*HLOOKUP(3,Keuzelijsten!$C$53:$E$58,5,FALSE),Keuzelijsten!$M$57*HLOOKUP(3,Keuzelijsten!$C$53:$E$58,5,FALSE)),0)","v":0},{"$f":"IF(DA$56=4,IF(DA$34=Keuzelijsten!$A$17,DA$35*HLOOKUP(3,Keuzelijsten!$C$53:$E$58,5,FALSE),Keuzelijsten!$M$57*HLOOKUP(3,Keuzelijsten!$C$53:$E$58,5,FALSE)),0)","v":0},{"$f":"IF(DB$56=4,IF(DB$34=Keuzelijsten!$A$17,DB$35*HLOOKUP(3,Keuzelijsten!$C$53:$E$58,5,FALSE),Keuzelijsten!$M$57*HLOOKUP(3,Keuzelijsten!$C$53:$E$58,5,FALSE)),0)","v":0},{"$f":"IF(DC$56=4,IF(DC$34=Keuzelijsten!$A$17,DC$35*HLOOKUP(3,Keuzelijsten!$C$53:$E$58,5,FALSE),Keuzelijsten!$M$57*HLOOKUP(3,Keuzelijsten!$C$53:$E$58,5,FALSE)),0)","v":0},{"$f":"IF(DD$56=4,IF(DD$34=Keuzelijsten!$A$17,DD$35*HLOOKUP(3,Keuzelijsten!$C$53:$E$58,5,FALSE),Keuzelijsten!$M$57*HLOOKUP(3,Keuzelijsten!$C$53:$E$58,5,FALSE)),0)","v":0},{"$f":"IF(DE$56=4,IF(DE$34=Keuzelijsten!$A$17,DE$35*HLOOKUP(3,Keuzelijsten!$C$53:$E$58,5,FALSE),Keuzelijsten!$M$57*HLOOKUP(3,Keuzelijsten!$C$53:$E$58,5,FALSE)),0)","v":0},{"$f":"IF(DF$56=4,IF(DF$34=Keuzelijsten!$A$17,DF$35*HLOOKUP(3,Keuzelijsten!$C$53:$E$58,5,FALSE),Keuzelijsten!$M$57*HLOOKUP(3,Keuzelijsten!$C$53:$E$58,5,FALSE)),0)","v":0},{"$f":"IF(DG$56=4,IF(DG$34=Keuzelijsten!$A$17,DG$35*HLOOKUP(3,Keuzelijsten!$C$53:$E$58,5,FALSE),Keuzelijsten!$M$57*HLOOKUP(3,Keuzelijsten!$C$53:$E$58,5,FALSE)),0)","v":0},{"$f":"IF(DH$56=4,IF(DH$34=Keuzelijsten!$A$17,DH$35*HLOOKUP(3,Keuzelijsten!$C$53:$E$58,5,FALSE),Keuzelijsten!$M$57*HLOOKUP(3,Keuzelijsten!$C$53:$E$58,5,FALSE)),0)","v":0},{"$f":"IF(DI$56=4,IF(DI$34=Keuzelijsten!$A$17,DI$35*HLOOKUP(3,Keuzelijsten!$C$53:$E$58,5,FALSE),Keuzelijsten!$M$57*HLOOKUP(3,Keuzelijsten!$C$53:$E$58,5,FALSE)),0)","v":0},{"$f":"IF(DJ$56=4,IF(DJ$34=Keuzelijsten!$A$17,DJ$35*HLOOKUP(3,Keuzelijsten!$C$53:$E$58,5,FALSE),Keuzelijsten!$M$57*HLOOKUP(3,Keuzelijsten!$C$53:$E$58,5,FALSE)),0)","v":0},{"$f":"IF(DK$56=4,IF(DK$34=Keuzelijsten!$A$17,DK$35*HLOOKUP(3,Keuzelijsten!$C$53:$E$58,5,FALSE),Keuzelijsten!$M$57*HLOOKUP(3,Keuzelijsten!$C$53:$E$58,5,FALSE)),0)","v":0},{"$f":"IF(DL$56=4,IF(DL$34=Keuzelijsten!$A$17,DL$35*HLOOKUP(3,Keuzelijsten!$C$53:$E$58,5,FALSE),Keuzelijsten!$M$57*HLOOKUP(3,Keuzelijsten!$C$53:$E$58,5,FALSE)),0)","v":0},{"$f":"IF(DM$56=4,IF(DM$34=Keuzelijsten!$A$17,DM$35*HLOOKUP(3,Keuzelijsten!$C$53:$E$58,5,FALSE),Keuzelijsten!$M$57*HLOOKUP(3,Keuzelijsten!$C$53:$E$58,5,FALSE)),0)","v":0},{"$f":"IF(DN$56=4,IF(DN$34=Keuzelijsten!$A$17,DN$35*HLOOKUP(3,Keuzelijsten!$C$53:$E$58,5,FALSE),Keuzelijsten!$M$57*HLOOKUP(3,Keuzelijsten!$C$53:$E$58,5,FALSE)),0)","v":0},{"$f":"IF(DO$56=4,IF(DO$34=Keuzelijsten!$A$17,DO$35*HLOOKUP(3,Keuzelijsten!$C$53:$E$58,5,FALSE),Keuzelijsten!$M$57*HLOOKUP(3,Keuzelijsten!$C$53:$E$58,5,FALSE)),0)","v":0},{"$f":"IF(DP$56=4,IF(DP$34=Keuzelijsten!$A$17,DP$35*HLOOKUP(3,Keuzelijsten!$C$53:$E$58,5,FALSE),Keuzelijsten!$M$57*HLOOKUP(3,Keuzelijsten!$C$53:$E$58,5,FALSE)),0)","v":0},{"$f":"IF(DQ$56=4,IF(DQ$34=Keuzelijsten!$A$17,DQ$35*HLOOKUP(3,Keuzelijsten!$C$53:$E$58,5,FALSE),Keuzelijsten!$M$57*HLOOKUP(3,Keuzelijsten!$C$53:$E$58,5,FALSE)),0)","v":0},{"$f":"IF(DR$56=4,IF(DR$34=Keuzelijsten!$A$17,DR$35*HLOOKUP(3,Keuzelijsten!$C$53:$E$58,5,FALSE),Keuzelijsten!$M$57*HLOOKUP(3,Keuzelijsten!$C$53:$E$58,5,FALSE)),0)","v":0},{"$f":"IF(DS$56=4,IF(DS$34=Keuzelijsten!$A$17,DS$35*HLOOKUP(3,Keuzelijsten!$C$53:$E$58,5,FALSE),Keuzelijsten!$M$57*HLOOKUP(3,Keuzelijsten!$C$53:$E$58,5,FALSE)),0)","v":0},{"$f":"IF(DT$56=4,IF(DT$34=Keuzelijsten!$A$17,DT$35*HLOOKUP(3,Keuzelijsten!$C$53:$E$58,5,FALSE),Keuzelijsten!$M$57*HLOOKUP(3,Keuzelijsten!$C$53:$E$58,5,FALSE)),0)","v":0},{"$f":"IF(DU$56=4,IF(DU$34=Keuzelijsten!$A$17,DU$35*HLOOKUP(3,Keuzelijsten!$C$53:$E$58,5,FALSE),Keuzelijsten!$M$57*HLOOKUP(3,Keuzelijsten!$C$53:$E$58,5,FALSE)),0)","v":0},{"$f":"IF(DV$56=4,IF(DV$34=Keuzelijsten!$A$17,DV$35*HLOOKUP(3,Keuzelijsten!$C$53:$E$58,5,FALSE),Keuzelijsten!$M$57*HLOOKUP(3,Keuzelijsten!$C$53:$E$58,5,FALSE)),0)","v":0},{"$f":"IF(DW$56=4,IF(DW$34=Keuzelijsten!$A$17,DW$35*HLOOKUP(3,Keuzelijsten!$C$53:$E$58,5,FALSE),Keuzelijsten!$M$57*HLOOKUP(3,Keuzelijsten!$C$53:$E$58,5,FALSE)),0)","v":0},{"$f":"IF(DX$56=4,IF(DX$34=Keuzelijsten!$A$17,DX$35*HLOOKUP(3,Keuzelijsten!$C$53:$E$58,5,FALSE),Keuzelijsten!$M$57*HLOOKUP(3,Keuzelijsten!$C$53:$E$58,5,FALSE)),0)","v":0},{"$f":"IF(DY$56=4,IF(DY$34=Keuzelijsten!$A$17,DY$35*HLOOKUP(3,Keuzelijsten!$C$53:$E$58,5,FALSE),Keuzelijsten!$M$57*HLOOKUP(3,Keuzelijsten!$C$53:$E$58,5,FALSE)),0)","v":0},{"$f":"IF(DZ$56=4,IF(DZ$34=Keuzelijsten!$A$17,DZ$35*HLOOKUP(3,Keuzelijsten!$C$53:$E$58,5,FALSE),Keuzelijsten!$M$57*HLOOKUP(3,Keuzelijsten!$C$53:$E$58,5,FALSE)),0)","v":0},{"$f":"IF(EA$56=4,IF(EA$34=Keuzelijsten!$A$17,EA$35*HLOOKUP(3,Keuzelijsten!$C$53:$E$58,5,FALSE),Keuzelijsten!$M$57*HLOOKUP(3,Keuzelijsten!$C$53:$E$58,5,FALSE)),0)","v":0},{"$f":"IF(EB$56=4,IF(EB$34=Keuzelijsten!$A$17,EB$35*HLOOKUP(3,Keuzelijsten!$C$53:$E$58,5,FALSE),Keuzelijsten!$M$57*HLOOKUP(3,Keuzelijsten!$C$53:$E$58,5,FALSE)),0)","v":0},{"$f":"IF(EC$56=4,IF(EC$34=Keuzelijsten!$A$17,EC$35*HLOOKUP(3,Keuzelijsten!$C$53:$E$58,5,FALSE),Keuzelijsten!$M$57*HLOOKUP(3,Keuzelijsten!$C$53:$E$58,5,FALSE)),0)","v":0},{"$f":"IF(ED$56=4,IF(ED$34=Keuzelijsten!$A$17,ED$35*HLOOKUP(3,Keuzelijsten!$C$53:$E$58,5,FALSE),Keuzelijsten!$M$57*HLOOKUP(3,Keuzelijsten!$C$53:$E$58,5,FALSE)),0)","v":0},{"$f":"IF(EE$56=4,IF(EE$34=Keuzelijsten!$A$17,EE$35*HLOOKUP(3,Keuzelijsten!$C$53:$E$58,5,FALSE),Keuzelijsten!$M$57*HLOOKUP(3,Keuzelijsten!$C$53:$E$58,5,FALSE)),0)","v":0},{"$f":"IF(EF$56=4,IF(EF$34=Keuzelijsten!$A$17,EF$35*HLOOKUP(3,Keuzelijsten!$C$53:$E$58,5,FALSE),Keuzelijsten!$M$57*HLOOKUP(3,Keuzelijsten!$C$53:$E$58,5,FALSE)),0)","v":0},{"$f":"IF(EG$56=4,IF(EG$34=Keuzelijsten!$A$17,EG$35*HLOOKUP(3,Keuzelijsten!$C$53:$E$58,5,FALSE),Keuzelijsten!$M$57*HLOOKUP(3,Keuzelijsten!$C$53:$E$58,5,FALSE)),0)","v":0},{"$f":"IF(EH$56=4,IF(EH$34=Keuzelijsten!$A$17,EH$35*HLOOKUP(3,Keuzelijsten!$C$53:$E$58,5,FALSE),Keuzelijsten!$M$57*HLOOKUP(3,Keuzelijsten!$C$53:$E$58,5,FALSE)),0)","v":0},{"$f":"IF(EI$56=4,IF(EI$34=Keuzelijsten!$A$17,EI$35*HLOOKUP(3,Keuzelijsten!$C$53:$E$58,5,FALSE),Keuzelijsten!$M$57*HLOOKUP(3,Keuzelijsten!$C$53:$E$58,5,FALSE)),0)","v":0},{"$f":"IF(EJ$56=4,IF(EJ$34=Keuzelijsten!$A$17,EJ$35*HLOOKUP(3,Keuzelijsten!$C$53:$E$58,5,FALSE),Keuzelijsten!$M$57*HLOOKUP(3,Keuzelijsten!$C$53:$E$58,5,FALSE)),0)","v":0},{"$f":"IF(EK$56=4,IF(EK$34=Keuzelijsten!$A$17,EK$35*HLOOKUP(3,Keuzelijsten!$C$53:$E$58,5,FALSE),Keuzelijsten!$M$57*HLOOKUP(3,Keuzelijsten!$C$53:$E$58,5,FALSE)),0)","v":0},{"$f":"IF(EL$56=4,IF(EL$34=Keuzelijsten!$A$17,EL$35*HLOOKUP(3,Keuzelijsten!$C$53:$E$58,5,FALSE),Keuzelijsten!$M$57*HLOOKUP(3,Keuzelijsten!$C$53:$E$58,5,FALSE)),0)","v":0},{"$f":"IF(EM$56=4,IF(EM$34=Keuzelijsten!$A$17,EM$35*HLOOKUP(3,Keuzelijsten!$C$53:$E$58,5,FALSE),Keuzelijsten!$M$57*HLOOKUP(3,Keuzelijsten!$C$53:$E$58,5,FALSE)),0)","v":0},{"$f":"IF(EN$56=4,IF(EN$34=Keuzelijsten!$A$17,EN$35*HLOOKUP(3,Keuzelijsten!$C$53:$E$58,5,FALSE),Keuzelijsten!$M$57*HLOOKUP(3,Keuzelijsten!$C$53:$E$58,5,FALSE)),0)","v":0},{"$f":"IF(EO$56=4,IF(EO$34=Keuzelijsten!$A$17,EO$35*HLOOKUP(3,Keuzelijsten!$C$53:$E$58,5,FALSE),Keuzelijsten!$M$57*HLOOKUP(3,Keuzelijsten!$C$53:$E$58,5,FALSE)),0)","v":0},{"$f":"IF(EP$56=4,IF(EP$34=Keuzelijsten!$A$17,EP$35*HLOOKUP(3,Keuzelijsten!$C$53:$E$58,5,FALSE),Keuzelijsten!$M$57*HLOOKUP(3,Keuzelijsten!$C$53:$E$58,5,FALSE)),0)","v":0},{"$f":"IF(EQ$56=4,IF(EQ$34=Keuzelijsten!$A$17,EQ$35*HLOOKUP(3,Keuzelijsten!$C$53:$E$58,5,FALSE),Keuzelijsten!$M$57*HLOOKUP(3,Keuzelijsten!$C$53:$E$58,5,FALSE)),0)","v":0},{"$f":"IF(ER$56=4,IF(ER$34=Keuzelijsten!$A$17,ER$35*HLOOKUP(3,Keuzelijsten!$C$53:$E$58,5,FALSE),Keuzelijsten!$M$57*HLOOKUP(3,Keuzelijsten!$C$53:$E$58,5,FALSE)),0)","v":0},{"$f":"IF(ES$56=4,IF(ES$34=Keuzelijsten!$A$17,ES$35*HLOOKUP(3,Keuzelijsten!$C$53:$E$58,5,FALSE),Keuzelijsten!$M$57*HLOOKUP(3,Keuzelijsten!$C$53:$E$58,5,FALSE)),0)","v":0},{"$f":"IF(ET$56=4,IF(ET$34=Keuzelijsten!$A$17,ET$35*HLOOKUP(3,Keuzelijsten!$C$53:$E$58,5,FALSE),Keuzelijsten!$M$57*HLOOKUP(3,Keuzelijsten!$C$53:$E$58,5,FALSE)),0)","v":0},{"$f":"IF(EU$56=4,IF(EU$34=Keuzelijsten!$A$17,EU$35*HLOOKUP(3,Keuzelijsten!$C$53:$E$58,5,FALSE),Keuzelijsten!$M$57*HLOOKUP(3,Keuzelijsten!$C$53:$E$58,5,FALSE)),0)","v":0},{"$f":"IF(EV$56=4,IF(EV$34=Keuzelijsten!$A$17,EV$35*HLOOKUP(3,Keuzelijsten!$C$53:$E$58,5,FALSE),Keuzelijsten!$M$57*HLOOKUP(3,Keuzelijsten!$C$53:$E$58,5,FALSE)),0)","v":0},{"$f":"IF(EW$56=4,IF(EW$34=Keuzelijsten!$A$17,EW$35*HLOOKUP(3,Keuzelijsten!$C$53:$E$58,5,FALSE),Keuzelijsten!$M$57*HLOOKUP(3,Keuzelijsten!$C$53:$E$58,5,FALSE)),0)","v":0},{"$f":"IF(EX$56=4,IF(EX$34=Keuzelijsten!$A$17,EX$35*HLOOKUP(3,Keuzelijsten!$C$53:$E$58,5,FALSE),Keuzelijsten!$M$57*HLOOKUP(3,Keuzelijsten!$C$53:$E$58,5,FALSE)),0)","v":0},{"$f":"IF(EY$56=4,IF(EY$34=Keuzelijsten!$A$17,EY$35*HLOOKUP(3,Keuzelijsten!$C$53:$E$58,5,FALSE),Keuzelijsten!$M$57*HLOOKUP(3,Keuzelijsten!$C$53:$E$58,5,FALSE)),0)","v":0},{"$f":"IF(EZ$56=4,IF(EZ$34=Keuzelijsten!$A$17,EZ$35*HLOOKUP(3,Keuzelijsten!$C$53:$E$58,5,FALSE),Keuzelijsten!$M$57*HLOOKUP(3,Keuzelijsten!$C$53:$E$58,5,FALSE)),0)","v":0},{"$f":"IF(FA$56=4,IF(FA$34=Keuzelijsten!$A$17,FA$35*HLOOKUP(3,Keuzelijsten!$C$53:$E$58,5,FALSE),Keuzelijsten!$M$57*HLOOKUP(3,Keuzelijsten!$C$53:$E$58,5,FALSE)),0)","v":0},{"$f":"IF(FB$56=4,IF(FB$34=Keuzelijsten!$A$17,FB$35*HLOOKUP(3,Keuzelijsten!$C$53:$E$58,5,FALSE),Keuzelijsten!$M$57*HLOOKUP(3,Keuzelijsten!$C$53:$E$58,5,FALSE)),0)","v":0},{"$f":"IF(FC$56=4,IF(FC$34=Keuzelijsten!$A$17,FC$35*HLOOKUP(3,Keuzelijsten!$C$53:$E$58,5,FALSE),Keuzelijsten!$M$57*HLOOKUP(3,Keuzelijsten!$C$53:$E$58,5,FALSE)),0)","v":0},{"$f":"IF(FD$56=4,IF(FD$34=Keuzelijsten!$A$17,FD$35*HLOOKUP(3,Keuzelijsten!$C$53:$E$58,5,FALSE),Keuzelijsten!$M$57*HLOOKUP(3,Keuzelijsten!$C$53:$E$58,5,FALSE)),0)","v":0},{"$f":"IF(FE$56=4,IF(FE$34=Keuzelijsten!$A$17,FE$35*HLOOKUP(3,Keuzelijsten!$C$53:$E$58,5,FALSE),Keuzelijsten!$M$57*HLOOKUP(3,Keuzelijsten!$C$53:$E$58,5,FALSE)),0)","v":0},{"$f":"IF(FF$56=4,IF(FF$34=Keuzelijsten!$A$17,FF$35*HLOOKUP(3,Keuzelijsten!$C$53:$E$58,5,FALSE),Keuzelijsten!$M$57*HLOOKUP(3,Keuzelijsten!$C$53:$E$58,5,FALSE)),0)","v":0},{"$f":"IF(FG$56=4,IF(FG$34=Keuzelijsten!$A$17,FG$35*HLOOKUP(3,Keuzelijsten!$C$53:$E$58,5,FALSE),Keuzelijsten!$M$57*HLOOKUP(3,Keuzelijsten!$C$53:$E$58,5,FALSE)),0)","v":0},{"$f":"IF(FH$56=4,IF(FH$34=Keuzelijsten!$A$17,FH$35*HLOOKUP(3,Keuzelijsten!$C$53:$E$58,5,FALSE),Keuzelijsten!$M$57*HLOOKUP(3,Keuzelijsten!$C$53:$E$58,5,FALSE)),0)","v":0},{"$f":"IF(FI$56=4,IF(FI$34=Keuzelijsten!$A$17,FI$35*HLOOKUP(3,Keuzelijsten!$C$53:$E$58,5,FALSE),Keuzelijsten!$M$57*HLOOKUP(3,Keuzelijsten!$C$53:$E$58,5,FALSE)),0)","v":0},{"$f":"IF(FJ$56=4,IF(FJ$34=Keuzelijsten!$A$17,FJ$35*HLOOKUP(3,Keuzelijsten!$C$53:$E$58,5,FALSE),Keuzelijsten!$M$57*HLOOKUP(3,Keuzelijsten!$C$53:$E$58,5,FALSE)),0)","v":0},{"$f":"IF(FK$56=4,IF(FK$34=Keuzelijsten!$A$17,FK$35*HLOOKUP(3,Keuzelijsten!$C$53:$E$58,5,FALSE),Keuzelijsten!$M$57*HLOOKUP(3,Keuzelijsten!$C$53:$E$58,5,FALSE)),0)","v":0},{"$f":"IF(FL$56=4,IF(FL$34=Keuzelijsten!$A$17,FL$35*HLOOKUP(3,Keuzelijsten!$C$53:$E$58,5,FALSE),Keuzelijsten!$M$57*HLOOKUP(3,Keuzelijsten!$C$53:$E$58,5,FALSE)),0)","v":0},{"$f":"IF(FM$56=4,IF(FM$34=Keuzelijsten!$A$17,FM$35*HLOOKUP(3,Keuzelijsten!$C$53:$E$58,5,FALSE),Keuzelijsten!$M$57*HLOOKUP(3,Keuzelijsten!$C$53:$E$58,5,FALSE)),0)","v":0},{"$f":"IF(FN$56=4,IF(FN$34=Keuzelijsten!$A$17,FN$35*HLOOKUP(3,Keuzelijsten!$C$53:$E$58,5,FALSE),Keuzelijsten!$M$57*HLOOKUP(3,Keuzelijsten!$C$53:$E$58,5,FALSE)),0)","v":0},{"$f":"IF(FO$56=4,IF(FO$34=Keuzelijsten!$A$17,FO$35*HLOOKUP(3,Keuzelijsten!$C$53:$E$58,5,FALSE),Keuzelijsten!$M$57*HLOOKUP(3,Keuzelijsten!$C$53:$E$58,5,FALSE)),0)","v":0},{"$f":"IF(FP$56=4,IF(FP$34=Keuzelijsten!$A$17,FP$35*HLOOKUP(3,Keuzelijsten!$C$53:$E$58,5,FALSE),Keuzelijsten!$M$57*HLOOKUP(3,Keuzelijsten!$C$53:$E$58,5,FALSE)),0)","v":0},{"$f":"IF(FQ$56=4,IF(FQ$34=Keuzelijsten!$A$17,FQ$35*HLOOKUP(3,Keuzelijsten!$C$53:$E$58,5,FALSE),Keuzelijsten!$M$57*HLOOKUP(3,Keuzelijsten!$C$53:$E$58,5,FALSE)),0)","v":0},{"$f":"IF(FR$56=4,IF(FR$34=Keuzelijsten!$A$17,FR$35*HLOOKUP(3,Keuzelijsten!$C$53:$E$58,5,FALSE),Keuzelijsten!$M$57*HLOOKUP(3,Keuzelijsten!$C$53:$E$58,5,FALSE)),0)","v":0},{"$f":"IF(FS$56=4,IF(FS$34=Keuzelijsten!$A$17,FS$35*HLOOKUP(3,Keuzelijsten!$C$53:$E$58,5,FALSE),Keuzelijsten!$M$57*HLOOKUP(3,Keuzelijsten!$C$53:$E$58,5,FALSE)),0)","v":0},{"$f":"IF(FT$56=4,IF(FT$34=Keuzelijsten!$A$17,FT$35*HLOOKUP(3,Keuzelijsten!$C$53:$E$58,5,FALSE),Keuzelijsten!$M$57*HLOOKUP(3,Keuzelijsten!$C$53:$E$58,5,FALSE)),0)","v":0},{"$f":"IF(FU$56=4,IF(FU$34=Keuzelijsten!$A$17,FU$35*HLOOKUP(3,Keuzelijsten!$C$53:$E$58,5,FALSE),Keuzelijsten!$M$57*HLOOKUP(3,Keuzelijsten!$C$53:$E$58,5,FALSE)),0)","v":0},{"$f":"IF(FV$56=4,IF(FV$34=Keuzelijsten!$A$17,FV$35*HLOOKUP(3,Keuzelijsten!$C$53:$E$58,5,FALSE),Keuzelijsten!$M$57*HLOOKUP(3,Keuzelijsten!$C$53:$E$58,5,FALSE)),0)","v":0},{"$f":"IF(FW$56=4,IF(FW$34=Keuzelijsten!$A$17,FW$35*HLOOKUP(3,Keuzelijsten!$C$53:$E$58,5,FALSE),Keuzelijsten!$M$57*HLOOKUP(3,Keuzelijsten!$C$53:$E$58,5,FALSE)),0)","v":0},{"$f":"IF(FX$56=4,IF(FX$34=Keuzelijsten!$A$17,FX$35*HLOOKUP(3,Keuzelijsten!$C$53:$E$58,5,FALSE),Keuzelijsten!$M$57*HLOOKUP(3,Keuzelijsten!$C$53:$E$58,5,FALSE)),0)","v":0},{"$f":"IF(FY$56=4,IF(FY$34=Keuzelijsten!$A$17,FY$35*HLOOKUP(3,Keuzelijsten!$C$53:$E$58,5,FALSE),Keuzelijsten!$M$57*HLOOKUP(3,Keuzelijsten!$C$53:$E$58,5,FALSE)),0)","v":0},{"$f":"IF(FZ$56=4,IF(FZ$34=Keuzelijsten!$A$17,FZ$35*HLOOKUP(3,Keuzelijsten!$C$53:$E$58,5,FALSE),Keuzelijsten!$M$57*HLOOKUP(3,Keuzelijsten!$C$53:$E$58,5,FALSE)),0)","v":0},{"$f":"IF(GA$56=4,IF(GA$34=Keuzelijsten!$A$17,GA$35*HLOOKUP(3,Keuzelijsten!$C$53:$E$58,5,FALSE),Keuzelijsten!$M$57*HLOOKUP(3,Keuzelijsten!$C$53:$E$58,5,FALSE)),0)","v":0},{"$f":"IF(GB$56=4,IF(GB$34=Keuzelijsten!$A$17,GB$35*HLOOKUP(3,Keuzelijsten!$C$53:$E$58,5,FALSE),Keuzelijsten!$M$57*HLOOKUP(3,Keuzelijsten!$C$53:$E$58,5,FALSE)),0)","v":0},{"$f":"IF(GC$56=4,IF(GC$34=Keuzelijsten!$A$17,GC$35*HLOOKUP(3,Keuzelijsten!$C$53:$E$58,5,FALSE),Keuzelijsten!$M$57*HLOOKUP(3,Keuzelijsten!$C$53:$E$58,5,FALSE)),0)","v":0},{"$f":"IF(GD$56=4,IF(GD$34=Keuzelijsten!$A$17,GD$35*HLOOKUP(3,Keuzelijsten!$C$53:$E$58,5,FALSE),Keuzelijsten!$M$57*HLOOKUP(3,Keuzelijsten!$C$53:$E$58,5,FALSE)),0)","v":0},{"$f":"IF(GE$56=4,IF(GE$34=Keuzelijsten!$A$17,GE$35*HLOOKUP(3,Keuzelijsten!$C$53:$E$58,5,FALSE),Keuzelijsten!$M$57*HLOOKUP(3,Keuzelijsten!$C$53:$E$58,5,FALSE)),0)","v":0},{"$f":"IF(GF$56=4,IF(GF$34=Keuzelijsten!$A$17,GF$35*HLOOKUP(3,Keuzelijsten!$C$53:$E$58,5,FALSE),Keuzelijsten!$M$57*HLOOKUP(3,Keuzelijsten!$C$53:$E$58,5,FALSE)),0)","v":0},{"$f":"IF(GG$56=4,IF(GG$34=Keuzelijsten!$A$17,GG$35*HLOOKUP(3,Keuzelijsten!$C$53:$E$58,5,FALSE),Keuzelijsten!$M$57*HLOOKUP(3,Keuzelijsten!$C$53:$E$58,5,FALSE)),0)","v":0},{"$f":"IF(GH$56=4,IF(GH$34=Keuzelijsten!$A$17,GH$35*HLOOKUP(3,Keuzelijsten!$C$53:$E$58,5,FALSE),Keuzelijsten!$M$57*HLOOKUP(3,Keuzelijsten!$C$53:$E$58,5,FALSE)),0)","v":0},{"$f":"IF(GI$56=4,IF(GI$34=Keuzelijsten!$A$17,GI$35*HLOOKUP(3,Keuzelijsten!$C$53:$E$58,5,FALSE),Keuzelijsten!$M$57*HLOOKUP(3,Keuzelijsten!$C$53:$E$58,5,FALSE)),0)","v":0},{"$f":"IF(GJ$56=4,IF(GJ$34=Keuzelijsten!$A$17,GJ$35*HLOOKUP(3,Keuzelijsten!$C$53:$E$58,5,FALSE),Keuzelijsten!$M$57*HLOOKUP(3,Keuzelijsten!$C$53:$E$58,5,FALSE)),0)","v":0},{"$f":"IF(GK$56=4,IF(GK$34=Keuzelijsten!$A$17,GK$35*HLOOKUP(3,Keuzelijsten!$C$53:$E$58,5,FALSE),Keuzelijsten!$M$57*HLOOKUP(3,Keuzelijsten!$C$53:$E$58,5,FALSE)),0)","v":0},{"$f":"IF(GL$56=4,IF(GL$34=Keuzelijsten!$A$17,GL$35*HLOOKUP(3,Keuzelijsten!$C$53:$E$58,5,FALSE),Keuzelijsten!$M$57*HLOOKUP(3,Keuzelijsten!$C$53:$E$58,5,FALSE)),0)","v":0},{"$f":"IF(GM$56=4,IF(GM$34=Keuzelijsten!$A$17,GM$35*HLOOKUP(3,Keuzelijsten!$C$53:$E$58,5,FALSE),Keuzelijsten!$M$57*HLOOKUP(3,Keuzelijsten!$C$53:$E$58,5,FALSE)),0)","v":0},{"$f":"IF(GN$56=4,IF(GN$34=Keuzelijsten!$A$17,GN$35*HLOOKUP(3,Keuzelijsten!$C$53:$E$58,5,FALSE),Keuzelijsten!$M$57*HLOOKUP(3,Keuzelijsten!$C$53:$E$58,5,FALSE)),0)","v":0},{"$f":"IF(GO$56=4,IF(GO$34=Keuzelijsten!$A$17,GO$35*HLOOKUP(3,Keuzelijsten!$C$53:$E$58,5,FALSE),Keuzelijsten!$M$57*HLOOKUP(3,Keuzelijsten!$C$53:$E$58,5,FALSE)),0)","v":0},{"$f":"IF(GP$56=4,IF(GP$34=Keuzelijsten!$A$17,GP$35*HLOOKUP(3,Keuzelijsten!$C$53:$E$58,5,FALSE),Keuzelijsten!$M$57*HLOOKUP(3,Keuzelijsten!$C$53:$E$58,5,FALSE)),0)","v":0},{"$f":"IF(GQ$56=4,IF(GQ$34=Keuzelijsten!$A$17,GQ$35*HLOOKUP(3,Keuzelijsten!$C$53:$E$58,5,FALSE),Keuzelijsten!$M$57*HLOOKUP(3,Keuzelijsten!$C$53:$E$58,5,FALSE)),0)","v":0},{"$f":"IF(GR$56=4,IF(GR$34=Keuzelijsten!$A$17,GR$35*HLOOKUP(3,Keuzelijsten!$C$53:$E$58,5,FALSE),Keuzelijsten!$M$57*HLOOKUP(3,Keuzelijsten!$C$53:$E$58,5,FALSE)),0)","v":0},{"$f":"IF(GS$56=4,IF(GS$34=Keuzelijsten!$A$17,GS$35*HLOOKUP(3,Keuzelijsten!$C$53:$E$58,5,FALSE),Keuzelijsten!$M$57*HLOOKUP(3,Keuzelijsten!$C$53:$E$58,5,FALSE)),0)","v":0},{"$f":"IF(GT$56=4,IF(GT$34=Keuzelijsten!$A$17,GT$35*HLOOKUP(3,Keuzelijsten!$C$53:$E$58,5,FALSE),Keuzelijsten!$M$57*HLOOKUP(3,Keuzelijsten!$C$53:$E$58,5,FALSE)),0)","v":0}]
["Warmtevrager = overige eenheid","MJ",{"$f":"IF(C$56=5,C$35*HLOOKUP(3,Keuzelijsten!$C$53:$E$58,6,FALSE),0)","v":0},{"$f":"IF(D$56=5,D$35*HLOOKUP(1,Keuzelijsten!$F$53:$L$58,6,FALSE),0)","v":0},{"$f":"IF(E$56=5,E$35*HLOOKUP(1,Keuzelijsten!$F$53:$L$58,6,FALSE),0)","v":0},{"$f":"IF(F$56=5,F$35*HLOOKUP(1,Keuzelijsten!$F$53:$L$58,6,FALSE),0)","v":0},{"$f":"IF(G$56=5,G$35*HLOOKUP(1,Keuzelijsten!$F$53:$L$58,6,FALSE),0)","v":0},{"$f":"IF(H$56=5,H$35*HLOOKUP(1,Keuzelijsten!$F$53:$L$58,6,FALSE),0)","v":0},{"$f":"IF(I$56=5,I$35*HLOOKUP(1,Keuzelijsten!$F$53:$L$58,6,FALSE),0)","v":0},{"$f":"IF(J$56=5,J$35*HLOOKUP(1,Keuzelijsten!$F$53:$L$58,6,FALSE),0)","v":0},{"$f":"IF(K$56=5,K$35*HLOOKUP(1,Keuzelijsten!$F$53:$L$58,6,FALSE),0)","v":0},{"$f":"IF(L$56=5,L$35*HLOOKUP(1,Keuzelijsten!$F$53:$L$58,6,FALSE),0)","v":0},{"$f":"IF(M$56=5,M$35*HLOOKUP(1,Keuzelijsten!$F$53:$L$58,6,FALSE),0)","v":0},{"$f":"IF(N$56=5,N$35*HLOOKUP(1,Keuzelijsten!$F$53:$L$58,6,FALSE),0)","v":0},{"$f":"IF(O$56=5,O$35*HLOOKUP(1,Keuzelijsten!$F$53:$L$58,6,FALSE),0)","v":0},{"$f":"IF(P$56=5,P$35*HLOOKUP(1,Keuzelijsten!$F$53:$L$58,6,FALSE),0)","v":0},{"$f":"IF(Q$56=5,Q$35*HLOOKUP(1,Keuzelijsten!$F$53:$L$58,6,FALSE),0)","v":0},{"$f":"IF(R$56=5,R$35*HLOOKUP(1,Keuzelijsten!$F$53:$L$58,6,FALSE),0)","v":0},{"$f":"IF(S$56=5,S$35*HLOOKUP(1,Keuzelijsten!$F$53:$L$58,6,FALSE),0)","v":0},{"$f":"IF(T$56=5,T$35*HLOOKUP(1,Keuzelijsten!$F$53:$L$58,6,FALSE),0)","v":0},{"$f":"IF(U$56=5,U$35*HLOOKUP(1,Keuzelijsten!$F$53:$L$58,6,FALSE),0)","v":0},{"$f":"IF(V$56=5,V$35*HLOOKUP(1,Keuzelijsten!$F$53:$L$58,6,FALSE),0)","v":0},{"$f":"IF(W$56=5,W$35*HLOOKUP(1,Keuzelijsten!$F$53:$L$58,6,FALSE),0)","v":0},{"$f":"IF(X$56=5,X$35*HLOOKUP(1,Keuzelijsten!$F$53:$L$58,6,FALSE),0)","v":0},{"$f":"IF(Y$56=5,Y$35*HLOOKUP(1,Keuzelijsten!$F$53:$L$58,6,FALSE),0)","v":0},{"$f":"IF(Z$56=5,Z$35*HLOOKUP(1,Keuzelijsten!$F$53:$L$58,6,FALSE),0)","v":0},{"$f":"IF(AA$56=5,AA$35*HLOOKUP(1,Keuzelijsten!$F$53:$L$58,6,FALSE),0)","v":0},{"$f":"IF(AB$56=5,AB$35*HLOOKUP(1,Keuzelijsten!$F$53:$L$58,6,FALSE),0)","v":0},{"$f":"IF(AC$56=5,AC$35*HLOOKUP(1,Keuzelijsten!$F$53:$L$58,6,FALSE),0)","v":0},{"$f":"IF(AD$56=5,AD$35*HLOOKUP(1,Keuzelijsten!$F$53:$L$58,6,FALSE),0)","v":0},{"$f":"IF(AE$56=5,AE$35*HLOOKUP(1,Keuzelijsten!$F$53:$L$58,6,FALSE),0)","v":0},{"$f":"IF(AF$56=5,AF$35*HLOOKUP(1,Keuzelijsten!$F$53:$L$58,6,FALSE),0)","v":0},{"$f":"IF(AG$56=5,AG$35*HLOOKUP(1,Keuzelijsten!$F$53:$L$58,6,FALSE),0)","v":0},{"$f":"IF(AH$56=5,AH$35*HLOOKUP(1,Keuzelijsten!$F$53:$L$58,6,FALSE),0)","v":0},{"$f":"IF(AI$56=5,AI$35*HLOOKUP(1,Keuzelijsten!$F$53:$L$58,6,FALSE),0)","v":0},{"$f":"IF(AJ$56=5,AJ$35*HLOOKUP(1,Keuzelijsten!$F$53:$L$58,6,FALSE),0)","v":0},{"$f":"IF(AK$56=5,AK$35*HLOOKUP(1,Keuzelijsten!$F$53:$L$58,6,FALSE),0)","v":0},{"$f":"IF(AL$56=5,AL$35*HLOOKUP(1,Keuzelijsten!$F$53:$L$58,6,FALSE),0)","v":0},{"$f":"IF(AM$56=5,AM$35*HLOOKUP(1,Keuzelijsten!$F$53:$L$58,6,FALSE),0)","v":0},{"$f":"IF(AN$56=5,AN$35*HLOOKUP(1,Keuzelijsten!$F$53:$L$58,6,FALSE),0)","v":0},{"$f":"IF(AO$56=5,AO$35*HLOOKUP(1,Keuzelijsten!$F$53:$L$58,6,FALSE),0)","v":0},{"$f":"IF(AP$56=5,AP$35*HLOOKUP(1,Keuzelijsten!$F$53:$L$58,6,FALSE),0)","v":0},{"$f":"IF(AQ$56=5,AQ$35*HLOOKUP(1,Keuzelijsten!$F$53:$L$58,6,FALSE),0)","v":0},{"$f":"IF(AR$56=5,AR$35*HLOOKUP(1,Keuzelijsten!$F$53:$L$58,6,FALSE),0)","v":0},{"$f":"IF(AS$56=5,AS$35*HLOOKUP(1,Keuzelijsten!$F$53:$L$58,6,FALSE),0)","v":0},{"$f":"IF(AT$56=5,AT$35*HLOOKUP(1,Keuzelijsten!$F$53:$L$58,6,FALSE),0)","v":0},{"$f":"IF(AU$56=5,AU$35*HLOOKUP(1,Keuzelijsten!$F$53:$L$58,6,FALSE),0)","v":0},{"$f":"IF(AV$56=5,AV$35*HLOOKUP(1,Keuzelijsten!$F$53:$L$58,6,FALSE),0)","v":0},{"$f":"IF(AW$56=5,AW$35*HLOOKUP(1,Keuzelijsten!$F$53:$L$58,6,FALSE),0)","v":0},{"$f":"IF(AX$56=5,AX$35*HLOOKUP(1,Keuzelijsten!$F$53:$L$58,6,FALSE),0)","v":0},{"$f":"IF(AY$56=5,AY$35*HLOOKUP(1,Keuzelijsten!$F$53:$L$58,6,FALSE),0)","v":0},{"$f":"IF(AZ$56=5,AZ$35*HLOOKUP(1,Keuzelijsten!$F$53:$L$58,6,FALSE),0)","v":0},{"$f":"IF(BA$56=5,BA$35*HLOOKUP(1,Keuzelijsten!$F$53:$L$58,6,FALSE),0)","v":0},{"$f":"IF(BB$56=5,BB$35*HLOOKUP(1,Keuzelijsten!$F$53:$L$58,6,FALSE),0)","v":0},{"$f":"IF(BC$56=5,BC$35*HLOOKUP(1,Keuzelijsten!$F$53:$L$58,6,FALSE),0)","v":0},{"$f":"IF(BD$56=5,BD$35*HLOOKUP(1,Keuzelijsten!$F$53:$L$58,6,FALSE),0)","v":0},{"$f":"IF(BE$56=5,BE$35*HLOOKUP(1,Keuzelijsten!$F$53:$L$58,6,FALSE),0)","v":0},{"$f":"IF(BF$56=5,BF$35*HLOOKUP(1,Keuzelijsten!$F$53:$L$58,6,FALSE),0)","v":0},{"$f":"IF(BG$56=5,BG$35*HLOOKUP(1,Keuzelijsten!$F$53:$L$58,6,FALSE),0)","v":0},{"$f":"IF(BH$56=5,BH$35*HLOOKUP(1,Keuzelijsten!$F$53:$L$58,6,FALSE),0)","v":0},{"$f":"IF(BI$56=5,BI$35*HLOOKUP(1,Keuzelijsten!$F$53:$L$58,6,FALSE),0)","v":0},{"$f":"IF(BJ$56=5,BJ$35*HLOOKUP(1,Keuzelijsten!$F$53:$L$58,6,FALSE),0)","v":0},{"$f":"IF(BK$56=5,BK$35*HLOOKUP(1,Keuzelijsten!$F$53:$L$58,6,FALSE),0)","v":0},{"$f":"IF(BL$56=5,BL$35*HLOOKUP(1,Keuzelijsten!$F$53:$L$58,6,FALSE),0)","v":0},{"$f":"IF(BM$56=5,BM$35*HLOOKUP(1,Keuzelijsten!$F$53:$L$58,6,FALSE),0)","v":0},{"$f":"IF(BN$56=5,BN$35*HLOOKUP(1,Keuzelijsten!$F$53:$L$58,6,FALSE),0)","v":0},{"$f":"IF(BO$56=5,BO$35*HLOOKUP(1,Keuzelijsten!$F$53:$L$58,6,FALSE),0)","v":0},{"$f":"IF(BP$56=5,BP$35*HLOOKUP(1,Keuzelijsten!$F$53:$L$58,6,FALSE),0)","v":0},{"$f":"IF(BQ$56=5,BQ$35*HLOOKUP(1,Keuzelijsten!$F$53:$L$58,6,FALSE),0)","v":0},{"$f":"IF(BR$56=5,BR$35*HLOOKUP(1,Keuzelijsten!$F$53:$L$58,6,FALSE),0)","v":0},{"$f":"IF(BS$56=5,BS$35*HLOOKUP(1,Keuzelijsten!$F$53:$L$58,6,FALSE),0)","v":0},{"$f":"IF(BT$56=5,BT$35*HLOOKUP(1,Keuzelijsten!$F$53:$L$58,6,FALSE),0)","v":0},{"$f":"IF(BU$56=5,BU$35*HLOOKUP(1,Keuzelijsten!$F$53:$L$58,6,FALSE),0)","v":0},{"$f":"IF(BV$56=5,BV$35*HLOOKUP(1,Keuzelijsten!$F$53:$L$58,6,FALSE),0)","v":0},{"$f":"IF(BW$56=5,BW$35*HLOOKUP(1,Keuzelijsten!$F$53:$L$58,6,FALSE),0)","v":0},{"$f":"IF(BX$56=5,BX$35*HLOOKUP(1,Keuzelijsten!$F$53:$L$58,6,FALSE),0)","v":0},{"$f":"IF(BY$56=5,BY$35*HLOOKUP(1,Keuzelijsten!$F$53:$L$58,6,FALSE),0)","v":0},{"$f":"IF(BZ$56=5,BZ$35*HLOOKUP(1,Keuzelijsten!$F$53:$L$58,6,FALSE),0)","v":0},{"$f":"IF(CA$56=5,CA$35*HLOOKUP(1,Keuzelijsten!$F$53:$L$58,6,FALSE),0)","v":0},{"$f":"IF(CB$56=5,CB$35*HLOOKUP(1,Keuzelijsten!$F$53:$L$58,6,FALSE),0)","v":0},{"$f":"IF(CC$56=5,CC$35*HLOOKUP(1,Keuzelijsten!$F$53:$L$58,6,FALSE),0)","v":0},{"$f":"IF(CD$56=5,CD$35*HLOOKUP(1,Keuzelijsten!$F$53:$L$58,6,FALSE),0)","v":0},{"$f":"IF(CE$56=5,CE$35*HLOOKUP(1,Keuzelijsten!$F$53:$L$58,6,FALSE),0)","v":0},{"$f":"IF(CF$56=5,CF$35*HLOOKUP(1,Keuzelijsten!$F$53:$L$58,6,FALSE),0)","v":0},{"$f":"IF(CG$56=5,CG$35*HLOOKUP(1,Keuzelijsten!$F$53:$L$58,6,FALSE),0)","v":0},{"$f":"IF(CH$56=5,CH$35*HLOOKUP(1,Keuzelijsten!$F$53:$L$58,6,FALSE),0)","v":0},{"$f":"IF(CI$56=5,CI$35*HLOOKUP(1,Keuzelijsten!$F$53:$L$58,6,FALSE),0)","v":0},{"$f":"IF(CJ$56=5,CJ$35*HLOOKUP(1,Keuzelijsten!$F$53:$L$58,6,FALSE),0)","v":0},{"$f":"IF(CK$56=5,CK$35*HLOOKUP(1,Keuzelijsten!$F$53:$L$58,6,FALSE),0)","v":0},{"$f":"IF(CL$56=5,CL$35*HLOOKUP(1,Keuzelijsten!$F$53:$L$58,6,FALSE),0)","v":0},{"$f":"IF(CM$56=5,CM$35*HLOOKUP(1,Keuzelijsten!$F$53:$L$58,6,FALSE),0)","v":0},{"$f":"IF(CN$56=5,CN$35*HLOOKUP(1,Keuzelijsten!$F$53:$L$58,6,FALSE),0)","v":0},{"$f":"IF(CO$56=5,CO$35*HLOOKUP(1,Keuzelijsten!$F$53:$L$58,6,FALSE),0)","v":0},{"$f":"IF(CP$56=5,CP$35*HLOOKUP(1,Keuzelijsten!$F$53:$L$58,6,FALSE),0)","v":0},{"$f":"IF(CQ$56=5,CQ$35*HLOOKUP(1,Keuzelijsten!$F$53:$L$58,6,FALSE),0)","v":0},{"$f":"IF(CR$56=5,CR$35*HLOOKUP(1,Keuzelijsten!$F$53:$L$58,6,FALSE),0)","v":0},{"$f":"IF(CS$56=5,CS$35*HLOOKUP(1,Keuzelijsten!$F$53:$L$58,6,FALSE),0)","v":0},{"$f":"IF(CT$56=5,CT$35*HLOOKUP(1,Keuzelijsten!$F$53:$L$58,6,FALSE),0)","v":0},{"$f":"IF(CU$56=5,CU$35*HLOOKUP(1,Keuzelijsten!$F$53:$L$58,6,FALSE),0)","v":0},{"$f":"IF(CV$56=5,CV$35*HLOOKUP(1,Keuzelijsten!$F$53:$L$58,6,FALSE),0)","v":0},{"$f":"IF(CW$56=5,CW$35*HLOOKUP(1,Keuzelijsten!$F$53:$L$58,6,FALSE),0)","v":0},{"$f":"IF(CX$56=5,CX$35*HLOOKUP(1,Keuzelijsten!$F$53:$L$58,6,FALSE),0)","v":0},{"$f":"IF(CY$56=5,CY$35*HLOOKUP(1,Keuzelijsten!$F$53:$L$58,6,FALSE),0)","v":0},{"$f":"IF(CZ$56=5,CZ$35*HLOOKUP(1,Keuzelijsten!$F$53:$L$58,6,FALSE),0)","v":0},{"$f":"IF(DA$56=5,DA$35*HLOOKUP(1,Keuzelijsten!$F$53:$L$58,6,FALSE),0)","v":0},{"$f":"IF(DB$56=5,DB$35*HLOOKUP(1,Keuzelijsten!$F$53:$L$58,6,FALSE),0)","v":0},{"$f":"IF(DC$56=5,DC$35*HLOOKUP(1,Keuzelijsten!$F$53:$L$58,6,FALSE),0)","v":0},{"$f":"IF(DD$56=5,DD$35*HLOOKUP(1,Keuzelijsten!$F$53:$L$58,6,FALSE),0)","v":0},{"$f":"IF(DE$56=5,DE$35*HLOOKUP(1,Keuzelijsten!$F$53:$L$58,6,FALSE),0)","v":0},{"$f":"IF(DF$56=5,DF$35*HLOOKUP(1,Keuzelijsten!$F$53:$L$58,6,FALSE),0)","v":0},{"$f":"IF(DG$56=5,DG$35*HLOOKUP(1,Keuzelijsten!$F$53:$L$58,6,FALSE),0)","v":0},{"$f":"IF(DH$56=5,DH$35*HLOOKUP(1,Keuzelijsten!$F$53:$L$58,6,FALSE),0)","v":0},{"$f":"IF(DI$56=5,DI$35*HLOOKUP(1,Keuzelijsten!$F$53:$L$58,6,FALSE),0)","v":0},{"$f":"IF(DJ$56=5,DJ$35*HLOOKUP(1,Keuzelijsten!$F$53:$L$58,6,FALSE),0)","v":0},{"$f":"IF(DK$56=5,DK$35*HLOOKUP(1,Keuzelijsten!$F$53:$L$58,6,FALSE),0)","v":0},{"$f":"IF(DL$56=5,DL$35*HLOOKUP(1,Keuzelijsten!$F$53:$L$58,6,FALSE),0)","v":0},{"$f":"IF(DM$56=5,DM$35*HLOOKUP(1,Keuzelijsten!$F$53:$L$58,6,FALSE),0)","v":0},{"$f":"IF(DN$56=5,DN$35*HLOOKUP(1,Keuzelijsten!$F$53:$L$58,6,FALSE),0)","v":0},{"$f":"IF(DO$56=5,DO$35*HLOOKUP(1,Keuzelijsten!$F$53:$L$58,6,FALSE),0)","v":0},{"$f":"IF(DP$56=5,DP$35*HLOOKUP(1,Keuzelijsten!$F$53:$L$58,6,FALSE),0)","v":0},{"$f":"IF(DQ$56=5,DQ$35*HLOOKUP(1,Keuzelijsten!$F$53:$L$58,6,FALSE),0)","v":0},{"$f":"IF(DR$56=5,DR$35*HLOOKUP(1,Keuzelijsten!$F$53:$L$58,6,FALSE),0)","v":0},{"$f":"IF(DS$56=5,DS$35*HLOOKUP(1,Keuzelijsten!$F$53:$L$58,6,FALSE),0)","v":0},{"$f":"IF(DT$56=5,DT$35*HLOOKUP(1,Keuzelijsten!$F$53:$L$58,6,FALSE),0)","v":0},{"$f":"IF(DU$56=5,DU$35*HLOOKUP(1,Keuzelijsten!$F$53:$L$58,6,FALSE),0)","v":0},{"$f":"IF(DV$56=5,DV$35*HLOOKUP(1,Keuzelijsten!$F$53:$L$58,6,FALSE),0)","v":0},{"$f":"IF(DW$56=5,DW$35*HLOOKUP(1,Keuzelijsten!$F$53:$L$58,6,FALSE),0)","v":0},{"$f":"IF(DX$56=5,DX$35*HLOOKUP(1,Keuzelijsten!$F$53:$L$58,6,FALSE),0)","v":0},{"$f":"IF(DY$56=5,DY$35*HLOOKUP(1,Keuzelijsten!$F$53:$L$58,6,FALSE),0)","v":0},{"$f":"IF(DZ$56=5,DZ$35*HLOOKUP(1,Keuzelijsten!$F$53:$L$58,6,FALSE),0)","v":0},{"$f":"IF(EA$56=5,EA$35*HLOOKUP(1,Keuzelijsten!$F$53:$L$58,6,FALSE),0)","v":0},{"$f":"IF(EB$56=5,EB$35*HLOOKUP(1,Keuzelijsten!$F$53:$L$58,6,FALSE),0)","v":0},{"$f":"IF(EC$56=5,EC$35*HLOOKUP(1,Keuzelijsten!$F$53:$L$58,6,FALSE),0)","v":0},{"$f":"IF(ED$56=5,ED$35*HLOOKUP(1,Keuzelijsten!$F$53:$L$58,6,FALSE),0)","v":0},{"$f":"IF(EE$56=5,EE$35*HLOOKUP(1,Keuzelijsten!$F$53:$L$58,6,FALSE),0)","v":0},{"$f":"IF(EF$56=5,EF$35*HLOOKUP(1,Keuzelijsten!$F$53:$L$58,6,FALSE),0)","v":0},{"$f":"IF(EG$56=5,EG$35*HLOOKUP(1,Keuzelijsten!$F$53:$L$58,6,FALSE),0)","v":0},{"$f":"IF(EH$56=5,EH$35*HLOOKUP(1,Keuzelijsten!$F$53:$L$58,6,FALSE),0)","v":0},{"$f":"IF(EI$56=5,EI$35*HLOOKUP(1,Keuzelijsten!$F$53:$L$58,6,FALSE),0)","v":0},{"$f":"IF(EJ$56=5,EJ$35*HLOOKUP(1,Keuzelijsten!$F$53:$L$58,6,FALSE),0)","v":0},{"$f":"IF(EK$56=5,EK$35*HLOOKUP(1,Keuzelijsten!$F$53:$L$58,6,FALSE),0)","v":0},{"$f":"IF(EL$56=5,EL$35*HLOOKUP(1,Keuzelijsten!$F$53:$L$58,6,FALSE),0)","v":0},{"$f":"IF(EM$56=5,EM$35*HLOOKUP(1,Keuzelijsten!$F$53:$L$58,6,FALSE),0)","v":0},{"$f":"IF(EN$56=5,EN$35*HLOOKUP(1,Keuzelijsten!$F$53:$L$58,6,FALSE),0)","v":0},{"$f":"IF(EO$56=5,EO$35*HLOOKUP(1,Keuzelijsten!$F$53:$L$58,6,FALSE),0)","v":0},{"$f":"IF(EP$56=5,EP$35*HLOOKUP(1,Keuzelijsten!$F$53:$L$58,6,FALSE),0)","v":0},{"$f":"IF(EQ$56=5,EQ$35*HLOOKUP(1,Keuzelijsten!$F$53:$L$58,6,FALSE),0)","v":0},{"$f":"IF(ER$56=5,ER$35*HLOOKUP(1,Keuzelijsten!$F$53:$L$58,6,FALSE),0)","v":0},{"$f":"IF(ES$56=5,ES$35*HLOOKUP(1,Keuzelijsten!$F$53:$L$58,6,FALSE),0)","v":0},{"$f":"IF(ET$56=5,ET$35*HLOOKUP(1,Keuzelijsten!$F$53:$L$58,6,FALSE),0)","v":0},{"$f":"IF(EU$56=5,EU$35*HLOOKUP(1,Keuzelijsten!$F$53:$L$58,6,FALSE),0)","v":0},{"$f":"IF(EV$56=5,EV$35*HLOOKUP(1,Keuzelijsten!$F$53:$L$58,6,FALSE),0)","v":0},{"$f":"IF(EW$56=5,EW$35*HLOOKUP(1,Keuzelijsten!$F$53:$L$58,6,FALSE),0)","v":0},{"$f":"IF(EX$56=5,EX$35*HLOOKUP(1,Keuzelijsten!$F$53:$L$58,6,FALSE),0)","v":0},{"$f":"IF(EY$56=5,EY$35*HLOOKUP(1,Keuzelijsten!$F$53:$L$58,6,FALSE),0)","v":0},{"$f":"IF(EZ$56=5,EZ$35*HLOOKUP(1,Keuzelijsten!$F$53:$L$58,6,FALSE),0)","v":0},{"$f":"IF(FA$56=5,FA$35*HLOOKUP(1,Keuzelijsten!$F$53:$L$58,6,FALSE),0)","v":0},{"$f":"IF(FB$56=5,FB$35*HLOOKUP(1,Keuzelijsten!$F$53:$L$58,6,FALSE),0)","v":0},{"$f":"IF(FC$56=5,FC$35*HLOOKUP(1,Keuzelijsten!$F$53:$L$58,6,FALSE),0)","v":0},{"$f":"IF(FD$56=5,FD$35*HLOOKUP(1,Keuzelijsten!$F$53:$L$58,6,FALSE),0)","v":0},{"$f":"IF(FE$56=5,FE$35*HLOOKUP(1,Keuzelijsten!$F$53:$L$58,6,FALSE),0)","v":0},{"$f":"IF(FF$56=5,FF$35*HLOOKUP(1,Keuzelijsten!$F$53:$L$58,6,FALSE),0)","v":0},{"$f":"IF(FG$56=5,FG$35*HLOOKUP(1,Keuzelijsten!$F$53:$L$58,6,FALSE),0)","v":0},{"$f":"IF(FH$56=5,FH$35*HLOOKUP(1,Keuzelijsten!$F$53:$L$58,6,FALSE),0)","v":0},{"$f":"IF(FI$56=5,FI$35*HLOOKUP(1,Keuzelijsten!$F$53:$L$58,6,FALSE),0)","v":0},{"$f":"IF(FJ$56=5,FJ$35*HLOOKUP(1,Keuzelijsten!$F$53:$L$58,6,FALSE),0)","v":0},{"$f":"IF(FK$56=5,FK$35*HLOOKUP(1,Keuzelijsten!$F$53:$L$58,6,FALSE),0)","v":0},{"$f":"IF(FL$56=5,FL$35*HLOOKUP(1,Keuzelijsten!$F$53:$L$58,6,FALSE),0)","v":0},{"$f":"IF(FM$56=5,FM$35*HLOOKUP(1,Keuzelijsten!$F$53:$L$58,6,FALSE),0)","v":0},{"$f":"IF(FN$56=5,FN$35*HLOOKUP(1,Keuzelijsten!$F$53:$L$58,6,FALSE),0)","v":0},{"$f":"IF(FO$56=5,FO$35*HLOOKUP(1,Keuzelijsten!$F$53:$L$58,6,FALSE),0)","v":0},{"$f":"IF(FP$56=5,FP$35*HLOOKUP(1,Keuzelijsten!$F$53:$L$58,6,FALSE),0)","v":0},{"$f":"IF(FQ$56=5,FQ$35*HLOOKUP(1,Keuzelijsten!$F$53:$L$58,6,FALSE),0)","v":0},{"$f":"IF(FR$56=5,FR$35*HLOOKUP(1,Keuzelijsten!$F$53:$L$58,6,FALSE),0)","v":0},{"$f":"IF(FS$56=5,FS$35*HLOOKUP(1,Keuzelijsten!$F$53:$L$58,6,FALSE),0)","v":0},{"$f":"IF(FT$56=5,FT$35*HLOOKUP(1,Keuzelijsten!$F$53:$L$58,6,FALSE),0)","v":0},{"$f":"IF(FU$56=5,FU$35*HLOOKUP(1,Keuzelijsten!$F$53:$L$58,6,FALSE),0)","v":0},{"$f":"IF(FV$56=5,FV$35*HLOOKUP(1,Keuzelijsten!$F$53:$L$58,6,FALSE),0)","v":0},{"$f":"IF(FW$56=5,FW$35*HLOOKUP(1,Keuzelijsten!$F$53:$L$58,6,FALSE),0)","v":0},{"$f":"IF(FX$56=5,FX$35*HLOOKUP(1,Keuzelijsten!$F$53:$L$58,6,FALSE),0)","v":0},{"$f":"IF(FY$56=5,FY$35*HLOOKUP(1,Keuzelijsten!$F$53:$L$58,6,FALSE),0)","v":0},{"$f":"IF(FZ$56=5,FZ$35*HLOOKUP(1,Keuzelijsten!$F$53:$L$58,6,FALSE),0)","v":0},{"$f":"IF(GA$56=5,GA$35*HLOOKUP(1,Keuzelijsten!$F$53:$L$58,6,FALSE),0)","v":0},{"$f":"IF(GB$56=5,GB$35*HLOOKUP(1,Keuzelijsten!$F$53:$L$58,6,FALSE),0)","v":0},{"$f":"IF(GC$56=5,GC$35*HLOOKUP(1,Keuzelijsten!$F$53:$L$58,6,FALSE),0)","v":0},{"$f":"IF(GD$56=5,GD$35*HLOOKUP(1,Keuzelijsten!$F$53:$L$58,6,FALSE),0)","v":0},{"$f":"IF(GE$56=5,GE$35*HLOOKUP(1,Keuzelijsten!$F$53:$L$58,6,FALSE),0)","v":0},{"$f":"IF(GF$56=5,GF$35*HLOOKUP(1,Keuzelijsten!$F$53:$L$58,6,FALSE),0)","v":0},{"$f":"IF(GG$56=5,GG$35*HLOOKUP(1,Keuzelijsten!$F$53:$L$58,6,FALSE),0)","v":0},{"$f":"IF(GH$56=5,GH$35*HLOOKUP(1,Keuzelijsten!$F$53:$L$58,6,FALSE),0)","v":0},{"$f":"IF(GI$56=5,GI$35*HLOOKUP(1,Keuzelijsten!$F$53:$L$58,6,FALSE),0)","v":0},{"$f":"IF(GJ$56=5,GJ$35*HLOOKUP(1,Keuzelijsten!$F$53:$L$58,6,FALSE),0)","v":0},{"$f":"IF(GK$56=5,GK$35*HLOOKUP(1,Keuzelijsten!$F$53:$L$58,6,FALSE),0)","v":0},{"$f":"IF(GL$56=5,GL$35*HLOOKUP(1,Keuzelijsten!$F$53:$L$58,6,FALSE),0)","v":0},{"$f":"IF(GM$56=5,GM$35*HLOOKUP(1,Keuzelijsten!$F$53:$L$58,6,FALSE),0)","v":0},{"$f":"IF(GN$56=5,GN$35*HLOOKUP(1,Keuzelijsten!$F$53:$L$58,6,FALSE),0)","v":0},{"$f":"IF(GO$56=5,GO$35*HLOOKUP(1,Keuzelijsten!$F$53:$L$58,6,FALSE),0)","v":0},{"$f":"IF(GP$56=5,GP$35*HLOOKUP(1,Keuzelijsten!$F$53:$L$58,6,FALSE),0)","v":0},{"$f":"IF(GQ$56=5,GQ$35*HLOOKUP(1,Keuzelijsten!$F$53:$L$58,6,FALSE),0)","v":0},{"$f":"IF(GR$56=5,GR$35*HLOOKUP(1,Keuzelijsten!$F$53:$L$58,6,FALSE),0)","v":0},{"$f":"IF(GS$56=5,GS$35*HLOOKUP(1,Keuzelijsten!$F$53:$L$58,6,FALSE),0)","v":0},{"$f":"IF(GT$56=5,GT$35*HLOOKUP(1,Keuzelijsten!$F$53:$L$58,6,FALSE),0)","v":0}]
[]
["4. Berekening inschatting warmtevraag"]
["Index rekenmethode ",null,{"$f":"IF(C$23=\"\",0,VLOOKUP(C$23,T_berekeningwarmtevrager,2,FALSE))","v":0},0,0,0,0,0,0,0,0,0,0,0,0,0,0,0,0,0,0,0,0,0,0,0,0,0,0,0,0,0,0,0,0,0,0,0,0,0,0,0,0,0,0,0,0,0,0,0,0,0,0,0,0,0,0,0,0,0,0,0,0,0,0,0,0,0,0,0,0,0,0,0,0,0,0,0,0,0,0,0,0,0,0,0,0,0,0,0,0,0,0,0,0,0,0,0,0,0,0,0,0,0,0,0,0,0,0,0,0,0,0,0,0,0,0,0,0,0,0,0,0,0,0,0,0,0,0,0,0,0,0,0,0,0,0,0,0,0,0,0,0,0,0,0,0,0,0,0,0,0,0,0,0,0,0,0,0,0,0,0,0,0,0,0,0,0,0,0,0,0,0,0,0,0,0,0,0,0,0,0,0,0,0,0,0,0,0,0,0,0,0,0,0,0,0,0,0,0,0,0]
[]
["De afgeleverde warmte aan de warmtevrager op basis van meetwaarden [MJ]",null,{"$f":"IF(C$64=1,C$24,0)","v":0},0,0,0,0,0,0,0,0,0,0,0,0,0,0,0,0,0,0,0,0,0,0,0,0,0,0,0,0,0,0,0,{"$f":"IF(AI$64=1,AI$24,0)","v":0},0,0,0,0,0,0,0,0,0,0,0,0,0,0,0,0,0,0,0,0,0,0,0,0,0,0,0,0,0,0,0,{"$f":"IF(BO$64=1,BO$24,0)","v":0},0,0,0,0,0,0,0,0,0,0,0,0,0,0,0,0,0,0,0,0,0,0,0,0,0,0,0,0,0,0,0,{"$f":"IF(CU$64=1,CU$24,0)","v":0},0,0,0,0,0,0,0,0,0,0,0,0,0,0,0,0,0,0,0,0,0,0,0,0,0,0,0,0,0,0,0,{"$f":"IF(EA$64=1,EA$24,0)","v":0},0,0,0,0,0,0,0,0,0,0,0,0,0,0,0,0,0,0,0,0,0,0,0,0,0,0,0,0,0,0,0,{"$f":"IF(FG$64=1,FG$24,0)","v":0},0,0,0,0,0,0,0,0,0,0,0,0,0,0,0,0,0,0,0,0,0,0,0,0,0,0,0,0,0,0,0,{"$f":"IF(GM$64=1,GM$24,0)","v":0},0,0,0,0,0,0,0]
["De afgeleverde warmte aan de warmtevrager op basis van factuurwaarden [MJ]",null,{"$f":"IF(C$64=2,C$25,0)","v":0},0,0,0,0,0,0,0,0,0,0,0,0,0,0,0,0,0,0,0,0,0,0,0,0,0,0,0,0,0,0,0,{"$f":"IF(AI$64=2,AI$25,0)","v":0},0,0,0,0,0,0,0,0,0,0,0,0,0,0,0,0,0,0,0,0,0,0,0,0,0,0,0,0,0,0,0,{"$f":"IF(BO$64=2,BO$25,0)","v":0},0,0,0,0,0,0,0,0,0,0,0,0,0,0,0,0,0,0,0,0,0,0,0,0,0,0,0,0,0,0,0,{"$f":"IF(CU$64=2,CU$25,0)","v":0},0,0,0,0,0,0,0,0,0,0,0,0,0,0,0,0,0,0,0,0,0,0,0,0,0,0,0,0,0,0,0,{"$f":"IF(EA$64=2,EA$25,0)","v":0},0,0,0,0,0,0,0,0,0,0,0,0,0,0,0,0,0,0,0,0,0,0,0,0,0,0,0,0,0,0,0,{"$f":"IF(FG$64=2,FG$25,0)","v":0},0,0,0,0,0,0,0,0,0,0,0,0,0,0,0,0,0,0,0,0,0,0,0,0,0,0,0,0,0,0,0,{"$f":"IF(GM$64=2,GM$25,0)","v":0},0,0,0,0,0,0,0]
["De afgeleverde warmte aan de EPB-eenheid [MJ]",null,{"$f":"IF(C$64=3,SUM(C$48:C$54),0)","v":0},{"$f":"IF(D$64=3,SUM(D$48:D$54),0)","v":0},{"$f":"IF(E$64=3,SUM(E$48:E$54),0)","v":0},{"$f":"IF(F$64=3,SUM(F$48:F$54),0)","v":0},{"$f":"IF(G$64=3,SUM(G$48:G$54),0)","v":0},0,0,0,0,0,0,0,0,0,0,0,0,0,0,0,0,0,0,0,0,0,0,0,0,0,0,0,0,0,0,0,0,0,0,0,0,0,0,0,0,0,0,0,0,0,0,0,0,0,0,0,0,0,0,0,0,0,0,0,0,0,0,0,0,0,0,0,0,0,0,0,0,0,0,0,0,0,0,0,0,0,0,0,0,0,0,0,0,0,0,0,0,0,0,0,0,0,0,0,0,0,0,0,0,0,0,0,0,0,0,0,0,0,0,0,0,0,0,0,0,0,0,0,0,0,0,0,0,0,0,0,0,0,0,0,0,0,0,0,0,0,0,0,0,0,0,0,0,0,0,0,0,0,0,0,0,0,0,0,0,0,0,0,0,0,0,0,0,0,0,0,0,0,0,0,0,0,0,0,0,0,0,0,0,0,0,0,0,0,0,0,0,0,0,0]
["De afgeleverde warmte aan de warmtevrager op basis van de bruikbare vloeroppervlakte [MJ]",null,{"$f":"IF(C$64=4,SUM(C$57:C$61),0)","v":0},{"$f":"IF(D$64=4,SUM(D$57:D$61),0)","v":0},{"$f":"IF(E$64=4,SUM(E$57:E$61),0)","v":0},{"$f":"IF(F$64=4,SUM(F$57:F$61),0)","v":0},0,0,0,0,0,0,0,0,0,0,0,0,0,0,0,0,0,0,0,0,0,0,0,0,0,0,0,0,0,0,0,0,0,0,0,0,0,0,0,0,0,0,0,0,0,0,0,0,0,0,0,0,0,0,0,0,0,0,0,0,0,0,0,0,0,0,0,0,0,0,0,0,0,0,0,0,0,0,0,0,0,0,0,0,0,0,0,0,0,0,0,0,0,0,0,0,0,0,0,0,0,0,0,0,0,0,0,0,0,0,0,0,0,0,0,0,0,0,0,0,0,0,0,0,0,0,0,0,0,0,0,0,0,0,0,0,0,0,0,0,0,0,0,0,0,0,0,0,0,0,0,0,0,0,0,0,0,0,0,0,0,0,0,0,0,0,0,0,0,0,0,0,0,0,0,0,0,0,0,0,0,0,0,0,0,0,0,0,0,0,0,0,0,0,0,0]
["De afgeleverde warmte aan de warmtevrager op basis van de waarde bij ontstentenis [MJ]",null,{"$f":"IF(C$64=5,0,0)","v":0},{"$f":"IF(D$64=5,0,0)","v":0},{"$f":"IF(E$64=5,0,0)","v":0},{"$f":"IF(F$64=5,0,0)","v":0},{"$f":"IF(G$64=5,0,0)","v":0},0,0,0,0,0,0,0,0,0,0,0,0,0,0,0,0,0,0,0,0,0,0,0,0,0,0,0,0,0,0,0,0,0,0,0,0,0,0,0,0,0,0,0,0,0,0,0,0,0,0,0,0,0,0,0,0,0,0,0,0,0,0,0,0,0,0,0,0,0,0,0,0,0,0,0,0,0,0,0,0,0,0,0,0,0,0,0,0,0,0,0,0,0,0,0,0,0,0,0,0,0,0,0,0,0,0,0,0,0,0,0,0,0,0,0,0,0,0,0,0,0,0,0,0,0,0,0,0,0,0,0,0,0,0,0,0,0,0,0,0,0,0,0,0,0,0,0,0,0,0,0,0,0,0,0,0,0,0,0,0,0,0,0,0,0,0,0,0,0,0,0,0,0,0,0,0,0,0,0,0,0,0,0,0,0,0,0,0,0,0,0,0,0,0,0]
[]
["nummering warmtevrager",null,1,2,3,4,5,6,7,8,9,10,11,12,13,14,15,16,17,18,19,20,21,22,23,24,25,26,27,28,29,30,31,32,33,34,35,36,37,38,39,40,41,42,43,44,45,46,47,48,49,50,51,52,53,54,55,56,57,58,59,60,61,62,63,64,65,66,67,68,69,70,71,72,73,74,75,76,77,78,79,80,81,82,83,84,85,86,87,88,89,90,91,92,93,94,95,96,97,98,99,100,101,102,103,104,105,106,107,108,109,110,111,112,113,114,115,116,117,118,119,120,121,122,123,124,125,126,127,128,129,130,131,132,133,134,135,136,137,138,139,140,141,142,143,144,145,146,147,148,149,150,151,152,153,154,155,156,157,158,159,160,161,162,163,164,165,166,167,168,169,170,171,172,173,174,175,176,177,178,179,180,181,182,183,184,185,186,187,188,189,190,191,192,193,194,195,196,197,198,199,200]

{"sheet":"Warmteverliezen lineair","index":6,"n_rows":91,"n_cols":52,"rows_kept":91,"cut":false,"hidden":true,"merged":[[17,0,17,1],[21,0,21,1],[23,0,23,1],[16,0,16,1],[2,0,2,1],[4,0,4,1],[5,0,5,1],[6,0,6,1],[7,0,7,1],[10,0,10,1],[11,0,11,1],[13,0,13,1],[14,0,14,1],[15,0,15,1],[9,0,9,1],[8,0,8,1],[36,0,36,1],[24,0,24,1],[25,0,25,1],[26,0,26,1],[28,0,28,1],[31,0,31,1],[32,0,32,1],[33,0,33,1],[34,0,34,1],[35,0,35,1],[27,0,27,1],[61,0,61,1],[62,0,62,1],[48,0,48,1],[37,0,37,1],[38,0,38,1],[39,0,39,1],[40,0,40,1],[41,0,41,1],[42,0,42,1],[43,0,43,1],[44,0,44,1],[45,0,45,1],[46,0,46,1],[47,0,47,1],[60,0,60,1],[49,0,49,1],[50,0,50,1],[51,0,51,1],[52,0,52,1],[53,0,53,1],[54,0,54,1],[55,0,55,1],[56,0,56,1],[57,0,57,1],[58,0,58,1],[59,0,59,1],[69,0,69,1],[70,0,70,1],[71,0,71,1],[87,0,87,1],[63,0,63,1],[64,0,64,1],[65,0,65,1],[66,0,66,1],[67,0,67,1],[75,0,75,1],[72,0,72,1],[88,0,88,1],[0,0,0,1],[1,0,1,1],[81,0,81,1],[82,0,82,1],[83,0,83,1],[84,0,84,1],[85,0,85,1],[86,0,86,1],[73,0,73,1],[76,0,76,1],[77,0,77,1],[78,0,78,1],[79,0,79,1],[80,0,80,1],[68,0,68,1]]}
["Lineaire warmteverliezen"]
[]
["1. De hoeveelheid warmte die jaarlijks verloren gaat in het systeem van externe warmtelevering te wijten aan lineaire warmteverliezen"]
["Qlossdist,dh [MJ]",{"$f":"SUM(C25:AZ25)","v":0}]
[]
["2. Het maandelijkse verdeelverlies van leidingsegment j"]
["Eigenschappen",null,{"$f":"\"Leidingsegment \"&C91","v":"Leidingsegment 1"},{"$f":"\"Leidingsegment \"&D91","v":"Leidingsegment 2"},{"$f":"\"Leidingsegment \"&E91","v":"Leidingsegment 3"},"Leidingsegment 4","Leidingsegment 5","Leidingsegment 6","Leidingsegment 7","Leidingsegment 8",{"$f":"\"Leidingsegment \"&K91","v":"Leidingsegment 9"},"Leidingsegment 10","Leidingsegment 11","Leidingsegment 12","Leidingsegment 13","Leidingsegment 14","Leidingsegment 15","Leidingsegment 16","Leidingsegment 17","Leidingsegment 18","Leidingsegment 19","Leidingsegment 20","Leidingsegment 21","Leidingsegment 22","Leidingsegment 23","Leidingsegment 24","Leidingsegment 25","Leidingsegment 26","Leidingsegment 27","Leidingsegment 28","Leidingsegment 29","Leidingsegment 30","Leidingsegment 31","Leidingsegment 32","Leidingsegment 33","Leidingsegment 34","Leidingsegment 35","Leidingsegment 36","Leidingsegment 37","Leidingsegment 38","Leidingsegment 39","Leidingsegment 40","Leidingsegment 41","Leidingsegment 42","Leidingsegment 43","Leidingsegment 44","Leidingsegment 45","Leidingsegment 46","Leidingsegment 47","Leidingsegment 48","Leidingsegment 49","Leidingsegment 50"]
["Naam /beschrijving"]
["Bestaand leidingsegment of nieuw te realiseren?"]
["Bij nieuw leidingsegment: timing van realisatie"]
["Leiding ondergronds?"]
["Uitvoeringswijze ondergrondse leiding"]
["Type bovengrondse leiding"]
["Ligging bovengrondse leiding"]
["Lengte lj [m]"]
["Warmtegeleidingscoëfficiënt isolatie λinsul,j [W/mK]"]
["Buitendiameter van geïsoleerde leiding De,j [m]"]
["Buitendiameter van ongeïsoleerde leiding Di,j [m]"]
["Dikte van de warmte-isolatie rond het kanaal dinsul,j [m]"]
["Hoogte van het geïsoleerd kanaal (buitenafmeting) Hj [m]"]
["Breedte van het geïsoleerd kanaal (buitenafmeting) Bj [m]"]
["Afstand tussen middelpunt leiding en grondoppervlak HE,j [m]"]
["Correctiefactor impact koudebruggen finsul,netw n [-] (bepaald volgens bijlage EPR  §9.3.2.2)"]
["Werkingstemperatuur van het fluidum θc,netw n,m [°C]"]
["Resultaat Qdistr,heat,netw,n,a [MJ]",null,{"$f":"IF(C8=\"\",0,IF(OR(C$24=\"\",C$23=\"\"),\"#N/B\",SUM(C$78:C$89)))","v":0},{"$f":"IF(D8=\"\",0,IF(OR(D$24=\"\",D$23=\"\"),\"#N/B\",SUM(D$78:D$89)))","v":0},0,0,0,0,0,0,0,0,0,0,0,0,0,0,0,0,0,0,0,0,0,0,0,0,0,0,0,0,0,0,0,0,0,0,0,0,0,0,0,0,0,0,0,0,0,0,0,0]
[]
["3. Berekeningen - vanaf hier verbergen",null,{"$f":"\"Leidingsegment \"&C91","v":"Leidingsegment 1"},{"$f":"\"Leidingsegment \"&D91","v":"Leidingsegment 2"},"Leidingsegment 3","Leidingsegment 4","Leidingsegment 5","Leidingsegment 6","Leidingsegment 7","Leidingsegment 8","Leidingsegment 9","Leidingsegment 10","Leidingsegment 11","Leidingsegment 12","Leidingsegment 13","Leidingsegment 14","Leidingsegment 15","Leidingsegment 16","Leidingsegment 17","Leidingsegment 18","Leidingsegment 19","Leidingsegment 20","Leidingsegment 21","Leidingsegment 22","Leidingsegment 23","Leidingsegment 24","Leidingsegment 25","Leidingsegment 26","Leidingsegment 27","Leidingsegment 28","Leidingsegment 29","Leidingsegment 30","Leidingsegment 31","Leidingsegment 32","Leidingsegment 33","Leidingsegment 34","Leidingsegment 35","Leidingsegment 36","Leidingsegment 37","Leidingsegment 38","Leidingsegment 39","Leidingsegment 40","Leidingsegment 41","Leidingsegment 42","Leidingsegment 43","Leidingsegment 44","Leidingsegment 45","Leidingsegment 46","Leidingsegment 47","Leidingsegment 48","Leidingsegment 49","Leidingsegment 50"]
["Leiding ondergronds?",null,{"$f":"IF(C11=\"\",0,VLOOKUP(C11,T_JaNee,2,FALSE))","v":0},0,0,0,0,0,0,0,0,0,0,0,0,0,0,0,0,0,0,0,0,0,0,0,0,0,0,0,0,0,0,0,{"$f":"IF(AI11=\"\",0,VLOOKUP(AI11,T_JaNee,2,FALSE))","v":0},0,0,0,0,0,0,0,0,0,0,0,0,0,0,0,0,0]
["Uitvoeringswijze",null,{"$f":"IF(C$28=1,IF(C11=\"\",0,IF(VLOOKUP(C$11,T_JaNee,2,FALSE)=1,VLOOKUP(C$12,T_UitvoeringOndergrondseLeiding,2,FALSE),4)),VLOOKUP(C13,Keuzelijsten!$A$207:$B$208,2,FALSE))","v":{"$error":"#N/A"}},{"$f":"IF(D$28=1,IF(D11=\"\",0,IF(VLOOKUP(D$11,T_JaNee,2,FALSE)=1,VLOOKUP(D$12,T_UitvoeringOndergrondseLeiding,2,FALSE),4)),VLOOKUP(D13,Keuzelijsten!$A$207:$B$208,2,FALSE))","v":{"$error":"#N/A"}},{"$f":"IF(E$28=1,IF(E11=\"\",0,IF(VLOOKUP(E$11,T_JaNee,2,FALSE)=1,VLOOKUP(E$12,T_UitvoeringOndergrondseLeiding,2,FALSE),4)),VLOOKUP(E13,Keuzelijsten!$A$207:$B$208,2,FALSE))","v":{"$error":"#N/A"}},{"$f":"IF(F$28=1,IF(F11=\"\",0,IF(VLOOKUP(F$11,T_JaNee,2,FALSE)=1,VLOOKUP(F$12,T_UitvoeringOndergrondseLeiding,2,FALSE),4)),VLOOKUP(F13,Keuzelijsten!$A$207:$B$208,2,FALSE))","v":{"$error":"#N/A"}},{"$f":"IF(G$28=1,IF(G11=\"\",0,IF(VLOOKUP(G$11,T_JaNee,2,FALSE)=1,VLOOKUP(G$12,T_UitvoeringOndergrondseLeiding,2,FALSE),4)),VLOOKUP(G13,Keuzelijsten!$A$207:$B$208,2,FALSE))","v":{"$error":"#N/A"}},{"$f":"IF(H$28=1,IF(H11=\"\",0,IF(VLOOKUP(H$11,T_JaNee,2,FALSE)=1,VLOOKUP(H$12,T_UitvoeringOndergrondseLeiding,2,FALSE),4)),VLOOKUP(H13,Keuzelijsten!$A$207:$B$208,2,FALSE))","v":{"$error":"#N/A"}},{"$f":"IF(I$28=1,IF(I11=\"\",0,IF(VLOOKUP(I$11,T_JaNee,2,FALSE)=1,VLOOKUP(I$12,T_UitvoeringOndergrondseLeiding,2,FALSE),4)),VLOOKUP(I13,Keuzelijsten!$A$207:$B$208,2,FALSE))","v":{"$error":"#N/A"}},{"$f":"IF(J$28=1,IF(J11=\"\",0,IF(VLOOKUP(J$11,T_JaNee,2,FALSE)=1,VLOOKUP(J$12,T_UitvoeringOndergrondseLeiding,2,FALSE),4)),VLOOKUP(J13,Keuzelijsten!$A$207:$B$208,2,FALSE))","v":{"$error":"#N/A"}},{"$f":"IF(K$28=1,IF(K11=\"\",0,IF(VLOOKUP(K$11,T_JaNee,2,FALSE)=1,VLOOKUP(K$12,T_UitvoeringOndergrondseLeiding,2,FALSE),4)),VLOOKUP(K13,Keuzelijsten!$A$207:$B$208,2,FALSE))","v":{"$error":"#N/A"}},{"$f":"IF(L$28=1,IF(L11=\"\",0,IF(VLOOKUP(L$11,T_JaNee,2,FALSE)=1,VLOOKUP(L$12,T_UitvoeringOndergrondseLeiding,2,FALSE),4)),VLOOKUP(L13,Keuzelijsten!$A$207:$B$208,2,FALSE))","v":{"$error":"#N/A"}},{"$f":"IF(M$28=1,IF(M11=\"\",0,IF(VLOOKUP(M$11,T_JaNee,2,FALSE)=1,VLOOKUP(M$12,T_UitvoeringOndergrondseLeiding,2,FALSE),4)),VLOOKUP(M13,Keuzelijsten!$A$207:$B$208,2,FALSE))","v":{"$error":"#N/A"}},{"$f":"IF(N$28=1,IF(N11=\"\",0,IF(VLOOKUP(N$11,T_JaNee,2,FALSE)=1,VLOOKUP(N$12,T_UitvoeringOndergrondseLeiding,2,FALSE),4)),VLOOKUP(N13,Keuzelijsten!$A$207:$B$208,2,FALSE))","v":{"$error":"#N/A"}},{"$f":"IF(O$28=1,IF(O11=\"\",0,IF(VLOOKUP(O$11,T_JaNee,2,FALSE)=1,VLOOKUP(O$12,T_UitvoeringOndergrondseLeiding,2,FALSE),4)),VLOOKUP(O13,Keuzelijsten!$A$207:$B$208,2,FALSE))","v":{"$error":"#N/A"}},{"$f":"IF(P$28=1,IF(P11=\"\",0,IF(VLOOKUP(P$11,T_JaNee,2,FALSE)=1,VLOOKUP(P$12,T_UitvoeringOndergrondseLeiding,2,FALSE),4)),VLOOKUP(P13,Keuzelijsten!$A$207:$B$208,2,FALSE))","v":{"$error":"#N/A"}},{"$f":"IF(Q$28=1,IF(Q11=\"\",0,IF(VLOOKUP(Q$11,T_JaNee,2,FALSE)=1,VLOOKUP(Q$12,T_UitvoeringOndergrondseLeiding,2,FALSE),4)),VLOOKUP(Q13,Keuzelijsten!$A$207:$B$208,2,FALSE))","v":{"$error":"#N/A"}},{"$f":"IF(R$28=1,IF(R11=\"\",0,IF(VLOOKUP(R$11,T_JaNee,2,FALSE)=1,VLOOKUP(R$12,T_UitvoeringOndergrondseLeiding,2,FALSE),4)),VLOOKUP(R13,Keuzelijsten!$A$207:$B$208,2,FALSE))","v":{"$error":"#N/A"}},{"$f":"IF(S$28=1,IF(S11=\"\",0,IF(VLOOKUP(S$11,T_JaNee,2,FALSE)=1,VLOOKUP(S$12,T_UitvoeringOndergrondseLeiding,2,FALSE),4)),VLOOKUP(S13,Keuzelijsten!$A$207:$B$208,2,FALSE))","v":{"$error":"#N/A"}},{"$f":"IF(T$28=1,IF(T11=\"\",0,IF(VLOOKUP(T$11,T_JaNee,2,FALSE)=1,VLOOKUP(T$12,T_UitvoeringOndergrondseLeiding,2,FALSE),4)),VLOOKUP(T13,Keuzelijsten!$A$207:$B$208,2,FALSE))","v":{"$error":"#N/A"}},{"$f":"IF(U$28=1,IF(U11=\"\",0,IF(VLOOKUP(U$11,T_JaNee,2,FALSE)=1,VLOOKUP(U$12,T_UitvoeringOndergrondseLeiding,2,FALSE),4)),VLOOKUP(U13,Keuzelijsten!$A$207:$B$208,2,FALSE))","v":{"$error":"#N/A"}},{"$f":"IF(V$28=1,IF(V11=\"\",0,IF(VLOOKUP(V$11,T_JaNee,2,FALSE)=1,VLOOKUP(V$12,T_UitvoeringOndergrondseLeiding,2,FALSE),4)),VLOOKUP(V13,Keuzelijsten!$A$207:$B$208,2,FALSE))","v":{"$error":"#N/A"}},{"$f":"IF(W$28=1,IF(W11=\"\",0,IF(VLOOKUP(W$11,T_JaNee,2,FALSE)=1,VLOOKUP(W$12,T_UitvoeringOndergrondseLeiding,2,FALSE),4)),VLOOKUP(W13,Keuzelijsten!$A$207:$B$208,2,FALSE))","v":{"$error":"#N/A"}},{"$f":"IF(X$28=1,IF(X11=\"\",0,IF(VLOOKUP(X$11,T_JaNee,2,FALSE)=1,VLOOKUP(X$12,T_UitvoeringOndergrondseLeiding,2,FALSE),4)),VLOOKUP(X13,Keuzelijsten!$A$207:$B$208,2,FALSE))","v":{"$error":"#N/A"}},{"$f":"IF(Y$28=1,IF(Y11=\"\",0,IF(VLOOKUP(Y$11,T_JaNee,2,FALSE)=1,VLOOKUP(Y$12,T_UitvoeringOndergrondseLeiding,2,FALSE),4)),VLOOKUP(Y13,Keuzelijsten!$A$207:$B$208,2,FALSE))","v":{"$error":"#N/A"}},{"$f":"IF(Z$28=1,IF(Z11=\"\",0,IF(VLOOKUP(Z$11,T_JaNee,2,FALSE)=1,VLOOKUP(Z$12,T_UitvoeringOndergrondseLeiding,2,FALSE),4)),VLOOKUP(Z13,Keuzelijsten!$A$207:$B$208,2,FALSE))","v":{"$error":"#N/A"}},{"$f":"IF(AA$28=1,IF(AA11=\"\",0,IF(VLOOKUP(AA$11,T_JaNee,2,FALSE)=1,VLOOKUP(AA$12,T_UitvoeringOndergrondseLeiding,2,FALSE),4)),VLOOKUP(AA13,Keuzelijsten!$A$207:$B$208,2,FALSE))","v":{"$error":"#N/A"}},{"$f":"IF(AB$28=1,IF(AB11=\"\",0,IF(VLOOKUP(AB$11,T_JaNee,2,FALSE)=1,VLOOKUP(AB$12,T_UitvoeringOndergrondseLeiding,2,FALSE),4)),VLOOKUP(AB13,Keuzelijsten!$A$207:$B$208,2,FALSE))","v":{"$error":"#N/A"}},{"$f":"IF(AC$28=1,IF(AC11=\"\",0,IF(VLOOKUP(AC$11,T_JaNee,2,FALSE)=1,VLOOKUP(AC$12,T_UitvoeringOndergrondseLeiding,2,FALSE),4)),VLOOKUP(AC13,Keuzelijsten!$A$207:$B$208,2,FALSE))","v":{"$error":"#N/A"}},{"$f":"IF(AD$28=1,IF(AD11=\"\",0,IF(VLOOKUP(AD$11,T_JaNee,2,FALSE)=1,VLOOKUP(AD$12,T_UitvoeringOndergrondseLeiding,2,FALSE),4)),VLOOKUP(AD13,Keuzelijsten!$A$207:$B$208,2,FALSE))","v":{"$error":"#N/A"}},{"$f":"IF(AE$28=1,IF(AE11=\"\",0,IF(VLOOKUP(AE$11,T_JaNee,2,FALSE)=1,VLOOKUP(AE$12,T_UitvoeringOndergrondseLeiding,2,FALSE),4)),VLOOKUP(AE13,Keuzelijsten!$A$207:$B$208,2,FALSE))","v":{"$error":"#N/A"}},{"$f":"IF(AF$28=1,IF(AF11=\"\",0,IF(VLOOKUP(AF$11,T_JaNee,2,FALSE)=1,VLOOKUP(AF$12,T_UitvoeringOndergrondseLeiding,2,FALSE),4)),VLOOKUP(AF13,Keuzelijsten!$A$207:$B$208,2,FALSE))","v":{"$error":"#N/A"}},{"$f":"IF(AG$28=1,IF(AG11=\"\",0,IF(VLOOKUP(AG$11,T_JaNee,2,FALSE)=1,VLOOKUP(AG$12,T_UitvoeringOndergrondseLeiding,2,FALSE),4)),VLOOKUP(AG13,Keuzelijsten!$A$207:$B$208,2,FALSE))","v":{"$error":"#N/A"}},{"$f":"IF(AH$28=1,IF(AH11=\"\",0,IF(VLOOKUP(AH$11,T_JaNee,2,FALSE)=1,VLOOKUP(AH$12,T_UitvoeringOndergrondseLeiding,2,FALSE),4)),VLOOKUP(AH13,Keuzelijsten!$A$207:$B$208,2,FALSE))","v":{"$error":"#N/A"}},{"$f":"IF(AI$28=1,IF(AI11=\"\",0,IF(VLOOKUP(AI$11,T_JaNee,2,FALSE)=1,VLOOKUP(AI$12,T_UitvoeringOndergrondseLeiding,2,FALSE),4)),VLOOKUP(AI13,Keuzelijsten!$A$207:$B$208,2,FALSE))","v":{"$error":"#N/A"}},{"$f":"IF(AJ$28=1,IF(AJ11=\"\",0,IF(VLOOKUP(AJ$11,T_JaNee,2,FALSE)=1,VLOOKUP(AJ$12,T_UitvoeringOndergrondseLeiding,2,FALSE),4)),VLOOKUP(AJ13,Keuzelijsten!$A$207:$B$208,2,FALSE))","v":{"$error":"#N/A"}},{"$f":"IF(AK$28=1,IF(AK11=\"\",0,IF(VLOOKUP(AK$11,T_JaNee,2,FALSE)=1,VLOOKUP(AK$12,T_UitvoeringOndergrondseLeiding,2,FALSE),4)),VLOOKUP(AK13,Keuzelijsten!$A$207:$B$208,2,FALSE))","v":{"$error":"#N/A"}},{"$f":"IF(AL$28=1,IF(AL11=\"\",0,IF(VLOOKUP(AL$11,T_JaNee,2,FALSE)=1,VLOOKUP(AL$12,T_UitvoeringOndergrondseLeiding,2,FALSE),4)),VLOOKUP(AL13,Keuzelijsten!$A$207:$B$208,2,FALSE))","v":{"$error":"#N/A"}},{"$f":"IF(AM$28=1,IF(AM11=\"\",0,IF(VLOOKUP(AM$11,T_JaNee,2,FALSE)=1,VLOOKUP(AM$12,T_UitvoeringOndergrondseLeiding,2,FALSE),4)),VLOOKUP(AM13,Keuzelijsten!$A$207:$B$208,2,FALSE))","v":{"$error":"#N/A"}},{"$f":"IF(AN$28=1,IF(AN11=\"\",0,IF(VLOOKUP(AN$11,T_JaNee,2,FALSE)=1,VLOOKUP(AN$12,T_UitvoeringOndergrondseLeiding,2,FALSE),4)),VLOOKUP(AN13,Keuzelijsten!$A$207:$B$208,2,FALSE))","v":{"$error":"#N/A"}},{"$f":"IF(AO$28=1,IF(AO11=\"\",0,IF(VLOOKUP(AO$11,T_JaNee,2,FALSE)=1,VLOOKUP(AO$12,T_UitvoeringOndergrondseLeiding,2,FALSE),4)),VLOOKUP(AO13,Keuzelijsten!$A$207:$B$208,2,FALSE))","v":{"$error":"#N/A"}},{"$f":"IF(AP$28=1,IF(AP11=\"\",0,IF(VLOOKUP(AP$11,T_JaNee,2,FALSE)=1,VLOOKUP(AP$12,T_UitvoeringOndergrondseLeiding,2,FALSE),4)),VLOOKUP(AP13,Keuzelijsten!$A$207:$B$208,2,FALSE))","v":{"$error":"#N/A"}},{"$f":"IF(AQ$28=1,IF(AQ11=\"\",0,IF(VLOOKUP(AQ$11,T_JaNee,2,FALSE)=1,VLOOKUP(AQ$12,T_UitvoeringOndergrondseLeiding,2,FALSE),4)),VLOOKUP(AQ13,Keuzelijsten!$A$207:$B$208,2,FALSE))","v":{"$error":"#N/A"}},{"$f":"IF(AR$28=1,IF(AR11=\"\",0,IF(VLOOKUP(AR$11,T_JaNee,2,FALSE)=1,VLOOKUP(AR$12,T_UitvoeringOndergrondseLeiding,2,FALSE),4)),VLOOKUP(AR13,Keuzelijsten!$A$207:$B$208,2,FALSE))","v":{"$error":"#N/A"}},{"$f":"IF(AS$28=1,IF(AS11=\"\",0,IF(VLOOKUP(AS$11,T_JaNee,2,FALSE)=1,VLOOKUP(AS$12,T_UitvoeringOndergrondseLeiding,2,FALSE),4)),VLOOKUP(AS13,Keuzelijsten!$A$207:$B$208,2,FALSE))","v":{"$error":"#N/A"}},{"$f":"IF(AT$28=1,IF(AT11=\"\",0,IF(VLOOKUP(AT$11,T_JaNee,2,FALSE)=1,VLOOKUP(AT$12,T_UitvoeringOndergrondseLeiding,2,FALSE),4)),VLOOKUP(AT13,Keuzelijsten!$A$207:$B$208,2,FALSE))","v":{"$error":"#N/A"}},{"$f":"IF(AU$28=1,IF(AU11=\"\",0,IF(VLOOKUP(AU$11,T_JaNee,2,FALSE)=1,VLOOKUP(AU$12,T_UitvoeringOndergrondseLeiding,2,FALSE),4)),VLOOKUP(AU13,Keuzelijsten!$A$207:$B$208,2,FALSE))","v":{"$error":"#N/A"}},{"$f":"IF(AV$28=1,IF(AV11=\"\",0,IF(VLOOKUP(AV$11,T_JaNee,2,FALSE)=1,VLOOKUP(AV$12,T_UitvoeringOndergrondseLeiding,2,FALSE),4)),VLOOKUP(AV13,Keuzelijsten!$A$207:$B$208,2,FALSE))","v":{"$error":"#N/A"}},{"$f":"IF(AW$28=1,IF(AW11=\"\",0,IF(VLOOKUP(AW$11,T_JaNee,2,FALSE)=1,VLOOKUP(AW$12,T_UitvoeringOndergrondseLeiding,2,FALSE),4)),VLOOKUP(AW13,Keuzelijsten!$A$207:$B$208,2,FALSE))","v":{"$error":"#N/A"}},{"$f":"IF(AX$28=1,IF(AX11=\"\",0,IF(VLOOKUP(AX$11,T_JaNee,2,FALSE)=1,VLOOKUP(AX$12,T_UitvoeringOndergrondseLeiding,2,FALSE),4)),VLOOKUP(AX13,Keuzelijsten!$A$207:$B$208,2,FALSE))","v":{"$error":"#N/A"}},{"$f":"IF(AY$28=1,IF(AY11=\"\",0,IF(VLOOKUP(AY$11,T_JaNee,2,FALSE)=1,VLOOKUP(AY$12,T_UitvoeringOndergrondseLeiding,2,FALSE),4)),VLOOKUP(AY13,Keuzelijsten!$A$207:$B$208,2,FALSE))","v":{"$error":"#N/A"}},{"$f":"IF(AZ$28=1,IF(AZ11=\"\",0,IF(VLOOKUP(AZ$11,T_JaNee,2,FALSE)=1,VLOOKUP(AZ$12,T_UitvoeringOndergrondseLeiding,2,FALSE),4)),VLOOKUP(AZ13,Keuzelijsten!$A$207:$B$208,2,FALSE))","v":{"$error":"#N/A"}}]
["Ligging leiding",null,{"$f":"IF(C$28=1,\"nvt\",IF(C11=\"\",0,VLOOKUP(C$14,T_LiggingSegment,2,FALSE)))","v":0},0,0,0,0,0,0,0,0,0,0,0,0,0,0,0,0,0,0,0,0,0,0,0,0,0,0,0,0,0,0,0,{"$f":"IF(AI$28=1,\"nvt\",IF(AI11=\"\",0,VLOOKUP(AI$14,T_LiggingSegment,2,FALSE)))","v":0},0,0,0,0,0,0,0,0,0,0,0,0,0,0,0,0,0]
["hse,j [W/m²K]",null,{"$f":"IF(C28=1,\"nvt\",VLOOKUP(C14,Keuzelijsten!$A$95:$C$97,3,FALSE))","v":{"$error":"#N/A"}},{"$f":"IF(D28=1,\"nvt\",VLOOKUP(D14,Keuzelijsten!$A$95:$C$97,3,FALSE))","v":{"$error":"#N/A"}},{"$f":"IF(E28=1,\"nvt\",VLOOKUP(E14,Keuzelijsten!$A$95:$C$97,3,FALSE))","v":{"$error":"#N/A"}},{"$f":"IF(F28=1,\"nvt\",VLOOKUP(F14,Keuzelijsten!$A$95:$C$97,3,FALSE))","v":{"$error":"#N/A"}},{"$f":"IF(G28=1,\"nvt\",VLOOKUP(G14,Keuzelijsten!$A$95:$C$97,3,FALSE))","v":{"$error":"#N/A"}},{"$f":"IF(H28=1,\"nvt\",VLOOKUP(H14,Keuzelijsten!$A$95:$C$97,3,FALSE))","v":{"$error":"#N/A"}},{"$f":"IF(I28=1,\"nvt\",VLOOKUP(I14,Keuzelijsten!$A$95:$C$97,3,FALSE))","v":{"$error":"#N/A"}},{"$f":"IF(J28=1,\"nvt\",VLOOKUP(J14,Keuzelijsten!$A$95:$C$97,3,FALSE))","v":{"$error":"#N/A"}},{"$f":"IF(K28=1,\"nvt\",VLOOKUP(K14,Keuzelijsten!$A$95:$C$97,3,FALSE))","v":{"$error":"#N/A"}},{"$f":"IF(L28=1,\"nvt\",VLOOKUP(L14,Keuzelijsten!$A$95:$C$97,3,FALSE))","v":{"$error":"#N/A"}},{"$f":"IF(M28=1,\"nvt\",VLOOKUP(M14,Keuzelijsten!$A$95:$C$97,3,FALSE))","v":{"$error":"#N/A"}},{"$f":"IF(N28=1,\"nvt\",VLOOKUP(N14,Keuzelijsten!$A$95:$C$97,3,FALSE))","v":{"$error":"#N/A"}},{"$f":"IF(O28=1,\"nvt\",VLOOKUP(O14,Keuzelijsten!$A$95:$C$97,3,FALSE))","v":{"$error":"#N/A"}},{"$f":"IF(P28=1,\"nvt\",VLOOKUP(P14,Keuzelijsten!$A$95:$C$97,3,FALSE))","v":{"$error":"#N/A"}},{"$f":"IF(Q28=1,\"nvt\",VLOOKUP(Q14,Keuzelijsten!$A$95:$C$97,3,FALSE))","v":{"$error":"#N/A"}},{"$f":"IF(R28=1,\"nvt\",VLOOKUP(R14,Keuzelijsten!$A$95:$C$97,3,FALSE))","v":{"$error":"#N/A"}},{"$f":"IF(S28=1,\"nvt\",VLOOKUP(S14,Keuzelijsten!$A$95:$C$97,3,FALSE))","v":{"$error":"#N/A"}},{"$f":"IF(T28=1,\"nvt\",VLOOKUP(T14,Keuzelijsten!$A$95:$C$97,3,FALSE))","v":{"$error":"#N/A"}},{"$f":"IF(U28=1,\"nvt\",VLOOKUP(U14,Keuzelijsten!$A$95:$C$97,3,FALSE))","v":{"$error":"#N/A"}},{"$f":"IF(V28=1,\"nvt\",VLOOKUP(V14,Keuzelijsten!$A$95:$C$97,3,FALSE))","v":{"$error":"#N/A"}},{"$f":"IF(W28=1,\"nvt\",VLOOKUP(W14,Keuzelijsten!$A$95:$C$97,3,FALSE))","v":{"$error":"#N/A"}},{"$f":"IF(X28=1,\"nvt\",VLOOKUP(X14,Keuzelijsten!$A$95:$C$97,3,FALSE))","v":{"$error":"#N/A"}},{"$f":"IF(Y28=1,\"nvt\",VLOOKUP(Y14,Keuzelijsten!$A$95:$C$97,3,FALSE))","v":{"$error":"#N/A"}},{"$f":"IF(Z28=1,\"nvt\",VLOOKUP(Z14,Keuzelijsten!$A$95:$C$97,3,FALSE))","v":{"$error":"#N/A"}},{"$f":"IF(AA28=1,\"nvt\",VLOOKUP(AA14,Keuzelijsten!$A$95:$C$97,3,FALSE))","v":{"$error":"#N/A"}},{"$f":"IF(AB28=1,\"nvt\",VLOOKUP(AB14,Keuzelijsten!$A$95:$C$97,3,FALSE))","v":{"$error":"#N/A"}},{"$f":"IF(AC28=1,\"nvt\",VLOOKUP(AC14,Keuzelijsten!$A$95:$C$97,3,FALSE))","v":{"$error":"#N/A"}},{"$f":"IF(AD28=1,\"nvt\",VLOOKUP(AD14,Keuzelijsten!$A$95:$C$97,3,FALSE))","v":{"$error":"#N/A"}},{"$f":"IF(AE28=1,\"nvt\",VLOOKUP(AE14,Keuzelijsten!$A$95:$C$97,3,FALSE))","v":{"$error":"#N/A"}},{"$f":"IF(AF28=1,\"nvt\",VLOOKUP(AF14,Keuzelijsten!$A$95:$C$97,3,FALSE))","v":{"$error":"#N/A"}},{"$f":"IF(AG28=1,\"nvt\",VLOOKUP(AG14,Keuzelijsten!$A$95:$C$97,3,FALSE))","v":{"$error":"#N/A"}},{"$f":"IF(AH28=1,\"nvt\",VLOOKUP(AH14,Keuzelijsten!$A$95:$C$97,3,FALSE))","v":{"$error":"#N/A"}},{"$f":"IF(AI28=1,\"nvt\",VLOOKUP(AI14,Keuzelijsten!$A$95:$C$97,3,FALSE))","v":{"$error":"#N/A"}},{"$f":"IF(AJ28=1,\"nvt\",VLOOKUP(AJ14,Keuzelijsten!$A$95:$C$97,3,FALSE))","v":{"$error":"#N/A"}},{"$f":"IF(AK28=1,\"nvt\",VLOOKUP(AK14,Keuzelijsten!$A$95:$C$97,3,FALSE))","v":{"$error":"#N/A"}},{"$f":"IF(AL28=1,\"nvt\",VLOOKUP(AL14,Keuzelijsten!$A$95:$C$97,3,FALSE))","v":{"$error":"#N/A"}},{"$f":"IF(AM28=1,\"nvt\",VLOOKUP(AM14,Keuzelijsten!$A$95:$C$97,3,FALSE))","v":{"$error":"#N/A"}},{"$f":"IF(AN28=1,\"nvt\",VLOOKUP(AN14,Keuzelijsten!$A$95:$C$97,3,FALSE))","v":{"$error":"#N/A"}},{"$f":"IF(AO28=1,\"nvt\",VLOOKUP(AO14,Keuzelijsten!$A$95:$C$97,3,FALSE))","v":{"$error":"#N/A"}},{"$f":"IF(AP28=1,\"nvt\",VLOOKUP(AP14,Keuzelijsten!$A$95:$C$97,3,FALSE))","v":{"$error":"#N/A"}},{"$f":"IF(AQ28=1,\"nvt\",VLOOKUP(AQ14,Keuzelijsten!$A$95:$C$97,3,FALSE))","v":{"$error":"#N/A"}},{"$f":"IF(AR28=1,\"nvt\",VLOOKUP(AR14,Keuzelijsten!$A$95:$C$97,3,FALSE))","v":{"$error":"#N/A"}},{"$f":"IF(AS28=1,\"nvt\",VLOOKUP(AS14,Keuzelijsten!$A$95:$C$97,3,FALSE))","v":{"$error":"#N/A"}},{"$f":"IF(AT28=1,\"nvt\",VLOOKUP(AT14,Keuzelijsten!$A$95:$C$97,3,FALSE))","v":{"$error":"#N/A"}},{"$f":"IF(AU28=1,\"nvt\",VLOOKUP(AU14,Keuzelijsten!$A$95:$C$97,3,FALSE))","v":{"$error":"#N/A"}},{"$f":"IF(AV28=1,\"nvt\",VLOOKUP(AV14,Keuzelijsten!$A$95:$C$97,3,FALSE))","v":{"$error":"#N/A"}},{"$f":"IF(AW28=1,\"nvt\",VLOOKUP(AW14,Keuzelijsten!$A$95:$C$97,3,FALSE))","v":{"$error":"#N/A"}},{"$f":"IF(AX28=1,\"nvt\",VLOOKUP(AX14,Keuzelijsten!$A$95:$C$97,3,FALSE))","v":{"$error":"#N/A"}},{"$f":"IF(AY28=1,\"nvt\",VLOOKUP(AY14,Keuzelijsten!$A$95:$C$97,3,FALSE))","v":{"$error":"#N/A"}},{"$f":"IF(AZ28=1,\"nvt\",VLOOKUP(AZ14,Keuzelijsten!$A$95:$C$97,3,FALSE))","v":{"$error":"#N/A"}}]
["Rl,j [mK/W]",null,{"$f":"IF(C$28=1,C$33+C$34,IF(C$29=1,(1/(2*PI()*C$16))*(LN(C$17/C$18))+(1/(C$31*PI()*C$17)),(((C$19)/(2*C$16*(C$20+C$21-(2*C$19))))+(1/(2*C$31*(C$20+C$21))))))","v":{"$error":"#N/A"}},{"$f":"IF(D$28=1,D$33+D$34,IF(D$29=1,(1/(2*PI()*D$16))*(LN(D$17/D$18))+(1/(D$31*PI()*D$17)),((D$19)/(2*D$16*(D$20+D$21-(2*D$19))))+(1/(2*D$31*(D$20+D$21)))))","v":{"$error":"#N/A"}},{"$f":"IF(E$28=1,E$33+E$34,IF(E$29=1,(1/(2*PI()*E$16))*(LN(E$17/E$18))+(1/(E$31*PI()*E$17)),((E$19)/(2*E$16*(E$20+E$21-(2*E$19))))+(1/(2*E$31*(E$20+E$21)))))","v":{"$error":"#N/A"}},{"$error":"#N/A"},{"$error":"#N/A"},{"$error":"#N/A"},{"$error":"#N/A"},{"$error":"#N/A"},{"$error":"#N/A"},{"$error":"#N/A"},{"$error":"#N/A"},{"$error":"#N/A"},{"$error":"#N/A"},{"$error":"#N/A"},{"$error":"#N/A"},{"$error":"#N/A"},{"$error":"#N/A"},{"$error":"#N/A"},{"$error":"#N/A"},{"$error":"#N/A"},{"$error":"#N/A"},{"$error":"#N/A"},{"$error":"#N/A"},{"$error":"#N/A"},{"$error":"#N/A"},{"$error":"#N/A"},{"$error":"#N/A"},{"$error":"#N/A"},{"$error":"#N/A"},{"$error":"#N/A"},{"$error":"#N/A"},{"$error":"#N/A"},{"$error":"#N/A"},{"$error":"#N/A"},{"$error":"#N/A"},{"$error":"#N/A"},{"$error":"#N/A"},{"$error":"#N/A"},{"$error":"#N/A"},{"$error":"#N/A"},{"$error":"#N/A"},{"$error":"#N/A"},{"$error":"#N/A"},{"$error":"#N/A"},{"$error":"#N/A"},{"$error":"#N/A"},{"$error":"#N/A"},{"$error":"#N/A"},{"$error":"#N/A"},{"$error":"#N/A"}]
["R'l,jcorr [mK/W]",null,{"$f":"IF(C$28=2,\"nvt\",IF(C$29=0,0,VLOOKUP(C29,T_Leiding,2,FALSE)*LN(C17/C18)*(1/(2*PI()*C16))*(1/0.6)))","v":{"$error":"#N/A"}},{"$error":"#N/A"},{"$error":"#N/A"},{"$error":"#N/A"},{"$error":"#N/A"},{"$error":"#N/A"},{"$error":"#N/A"},{"$error":"#N/A"},{"$error":"#N/A"},{"$error":"#N/A"},{"$error":"#N/A"},{"$error":"#N/A"},{"$error":"#N/A"},{"$error":"#N/A"},{"$error":"#N/A"},{"$error":"#N/A"},{"$error":"#N/A"},{"$error":"#N/A"},{"$error":"#N/A"},{"$error":"#N/A"},{"$error":"#N/A"},{"$error":"#N/A"},{"$error":"#N/A"},{"$error":"#N/A"},{"$error":"#N/A"},{"$error":"#N/A"},{"$error":"#N/A"},{"$error":"#N/A"},{"$error":"#N/A"},{"$error":"#N/A"},{"$error":"#N/A"},{"$error":"#N/A"},{"$f":"IF(AI$28=2,\"nvt\",IF(AI$29=0,0,VLOOKUP(AI29,T_Leiding,2,FALSE)*LN(AI17/AI18)*(1/(2*PI()*AI16))*(1/0.6)))","v":{"$error":"#N/A"}},{"$error":"#N/A"},{"$error":"#N/A"},{"$error":"#N/A"},{"$error":"#N/A"},{"$error":"#N/A"},{"$error":"#N/A"},{"$error":"#N/A"},{"$error":"#N/A"},{"$error":"#N/A"},{"$error":"#N/A"},{"$error":"#N/A"},{"$error":"#N/A"},{"$error":"#N/A"},{"$error":"#N/A"},{"$error":"#N/A"},{"$error":"#N/A"},{"$error":"#N/A"}]
["RE [mK/W]",null,{"$f":"IF(C$28=2,\"nvt\",IF(C17=0,0,(1/(2*PI()*C35))*ACOSH(2*C22/C17)))","v":0},{"$f":"IF(D$28=2,\"nvt\",IF(D17=0,0,(1/(2*PI()*D35))*ACOSH(2*D22/D17)))","v":0},{"$f":"IF(E$28=2,\"nvt\",IF(E17=0,0,(1/(2*PI()*E35))*ACOSH(2*E22/E17)))","v":0},0,0,0,0,0,0,0,0,0,0,0,0,0,0,0,0,0,0,0,0,0,0,0,0,0,0,0,0,0,0,0,0,0,0,0,0,0,0,0,0,0,0,0,0,0,0,0]
["λE [W/mK]",null,{"$f":"IF(C$28=2,\"nvt\",2)","v":2},2,2,2,2,2,2,2,2,2,2,2,2,2,2,2,2,2,2,2,2,2,2,2,2,2,2,2,2,2,2,2,2,2,2,2,2,2,2,2,2,2,2,2,2,2,2,2,2,2]
["theat,netw,m [Ms]"]
["Jan",null,{"$f":"VLOOKUP($A37,T_MaandDuur,3,FALSE)","v":2.6783999999999999},2.6783999999999999,2.6783999999999999,2.6783999999999999,2.6783999999999999,2.6783999999999999,2.6783999999999999,2.6783999999999999,2.6783999999999999,2.6783999999999999,2.6783999999999999,2.6783999999999999,2.6783999999999999,2.6783999999999999,2.6783999999999999,2.6783999999999999,{"$f":"VLOOKUP($A37,T_MaandDuur,3,FALSE)","v":2.6783999999999999},2.6783999999999999,2.6783999999999999,2.6783999999999999,2.6783999999999999,2.6783999999999999,2.6783999999999999,2.6783999999999999,2.6783999999999999,2.6783999999999999,2.6783999999999999,2.6783999999999999,2.6783999999999999,2.6783999999999999,2.6783999999999999,2.6783999999999999,2.6783999999999999,2.6783999999999999,2.6783999999999999,2.6783999999999999,2.6783999999999999,2.6783999999999999,2.6783999999999999,2.6783999999999999,2.6783999999999999,2.6783999999999999,2.6783999999999999,2.6783999999999999,2.6783999999999999,2.6783999999999999,2.6783999999999999,2.6783999999999999,2.6783999999999999,2.6783999999999999]
["Feb",null,2.4192,2.4192,2.4192,2.4192,2.4192,2.4192,2.4192,2.4192,2.4192,2.4192,2.4192,2.4192,2.4192,2.4192,2.4192,2.4192,2.4192,2.4192,2.4192,2.4192,2.4192,2.4192,2.4192,2.4192,2.4192,2.4192,2.4192,2.4192,2.4192,2.4192,2.4192,2.4192,2.4192,2.4192,2.4192,2.4192,2.4192,2.4192,2.4192,2.4192,2.4192,2.4192,2.4192,2.4192,2.4192,2.4192,2.4192,2.4192,2.4192,2.4192]
["Maa",null,2.6783999999999999,2.6783999999999999,2.6783999999999999,2.6783999999999999,2.6783999999999999,2.6783999999999999,2.6783999999999999,2.6783999999999999,2.6783999999999999,2.6783999999999999,2.6783999999999999,2.6783999999999999,2.6783999999999999,2.6783999999999999,2.6783999999999999,2.6783999999999999,2.6783999999999999,2.6783999999999999,2.6783999999999999,2.6783999999999999,2.6783999999999999,2.6783999999999999,2.6783999999999999,2.6783999999999999,2.6783999999999999,2.6783999999999999,2.6783999999999999,2.6783999999999999,2.6783999999999999,2.6783999999999999,2.6783999999999999,2.6783999999999999,2.6783999999999999,2.6783999999999999,2.6783999999999999,2.6783999999999999,2.6783999999999999,2.6783999999999999,2.6783999999999999,2.6783999999999999,2.6783999999999999,2.6783999999999999,2.6783999999999999,2.6783999999999999,2.6783999999999999,2.6783999999999999,2.6783999999999999,2.6783999999999999,2.6783999999999999,2.6783999999999999]
["Apr",null,2.5920000000000001,2.5920000000000001,2.5920000000000001,2.5920000000000001,2.5920000000000001,2.5920000000000001,2.5920000000000001,2.5920000000000001,2.5920000000000001,2.5920000000000001,2.5920000000000001,2.5920000000000001,2.5920000000000001,2.5920000000000001,2.5920000000000001,2.5920000000000001,2.5920000000000001,2.5920000000000001,2.5920000000000001,2.5920000000000001,2.5920000000000001,2.5920000000000001,2.5920000000000001,2.5920000000000001,2.5920000000000001,2.5920000000000001,2.5920000000000001,2.5920000000000001,2.5920000000000001,2.5920000000000001,2.5920000000000001,2.5920000000000001,2.5920000000000001,2.5920000000000001,2.5920000000000001,2.5920000000000001,2.5920000000000001,2.5920000000000001,2.5920000000000001,2.5920000000000001,2.5920000000000001,2.5920000000000001,2.5920000000000001,2.5920000000000001,2.5920000000000001,2.5920000000000001,2.5920000000000001,2.5920000000000001,2.5920000000000001,2.5920000000000001]
["Mei",null,2.6783999999999999,2.6783999999999999,2.6783999999999999,2.6783999999999999,2.6783999999999999,2.6783999999999999,2.6783999999999999,2.6783999999999999,2.6783999999999999,2.6783999999999999,2.6783999999999999,2.6783999999999999,2.6783999999999999,2.6783999999999999,2.6783999999999999,2.6783999999999999,2.6783999999999999,2.6783999999999999,2.6783999999999999,2.6783999999999999,2.6783999999999999,2.6783999999999999,2.6783999999999999,2.6783999999999999,2.6783999999999999,2.6783999999999999,2.6783999999999999,2.6783999999999999,2.6783999999999999,2.6783999999999999,2.6783999999999999,2.6783999999999999,2.6783999999999999,2.6783999999999999,2.6783999999999999,2.6783999999999999,2.6783999999999999,2.6783999999999999,2.6783999999999999,2.6783999999999999,2.6783999999999999,2.6783999999999999,2.6783999999999999,2.6783999999999999,2.6783999999999999,2.6783999999999999,2.6783999999999999,2.6783999999999999,2.6783999999999999,2.6783999999999999]
["Jun",null,2.5920000000000001,2.5920000000000001,2.5920000000000001,2.5920000000000001,2.5920000000000001,2.5920000000000001,2.5920000000000001,2.5920000000000001,2.5920000000000001,2.5920000000000001,2.5920000000000001,2.5920000000000001,2.5920000000000001,2.5920000000000001,2.5920000000000001,2.5920000000000001,2.5920000000000001,2.5920000000000001,2.5920000000000001,2.5920000000000001,2.5920000000000001,2.5920000000000001,2.5920000000000001,2.5920000000000001,2.5920000000000001,2.5920000000000001,2.5920000000000001,2.5920000000000001,2.5920000000000001,2.5920000000000001,2.5920000000000001,{"$f":"VLOOKUP($A42,T_MaandDuur,3,FALSE)","v":2.5920000000000001},2.5920000000000001,2.5920000000000001,2.5920000000000001,2.5920000000000001,2.5920000000000001,2.5920000000000001,2.5920000000000001,2.5920000000000001,2.5920000000000001,2.5920000000000001,2.5920000000000001,2.5920000000000001,2.5920000000000001,2.5920000000000001,2.5920000000000001,2.5920000000000001,2.5920000000000001,2.5920000000000001]
["Jul",null,2.6783999999999999,2.6783999999999999,2.6783999999999999,2.6783999999999999,2.6783999999999999,2.6783999999999999,2.6783999999999999,2.6783999999999999,2.6783999999999999,2.6783999999999999,2.6783999999999999,2.6783999999999999,2.6783999999999999,2.6783999999999999,2.6783999999999999,2.6783999999999999,2.6783999999999999,2.6783999999999999,2.6783999999999999,2.6783999999999999,2.6783999999999999,2.6783999999999999,2.6783999999999999,2.6783999999999999,2.6783999999999999,2.6783999999999999,2.6783999999999999,2.6783999999999999,2.6783999999999999,2.6783999999999999,2.6783999999999999,2.6783999999999999,2.6783999999999999,2.6783999999999999,2.6783999999999999,2.6783999999999999,2.6783999999999999,2.6783999999999999,2.6783999999999999,2.6783999999999999,2.6783999999999999,2.6783999999999999,2.6783999999999999,2.6783999999999999,2.6783999999999999,2.6783999999999999,2.6783999999999999,2.6783999999999999,2.6783999999999999,2.6783999999999999]
["Aug",null,2.6783999999999999,2.6783999999999999,2.6783999999999999,2.6783999999999999,2.6783999999999999,2.6783999999999999,2.6783999999999999,2.6783999999999999,2.6783999999999999,2.6783999999999999,2.6783999999999999,2.6783999999999999,2.6783999999999999,2.6783999999999999,2.6783999999999999,2.6783999999999999,2.6783999999999999,2.6783999999999999,2.6783999999999999,2.6783999999999999,2.6783999999999999,2.6783999999999999,2.6783999999999999,2.6783999999999999,2.6783999999999999,2.6783999999999999,2.6783999999999999,2.6783999999999999,2.6783999999999999,2.6783999999999999,2.6783999999999999,2.6783999999999999,2.6783999999999999,2.6783999999999999,2.6783999999999999,2.6783999999999999,2.6783999999999999,2.6783999999999999,2.6783999999999999,2.6783999999999999,2.6783999999999999,2.6783999999999999,2.6783999999999999,2.6783999999999999,2.6783999999999999,2.6783999999999999,2.6783999999999999,2.6783999999999999,2.6783999999999999,2.6783999999999999]
["Sep",null,2.5920000000000001,2.5920000000000001,2.5920000000000001,2.5920000000000001,2.5920000000000001,2.5920000000000001,2.5920000000000001,2.5920000000000001,2.5920000000000001,2.5920000000000001,2.5920000000000001,2.5920000000000001,2.5920000000000001,2.5920000000000001,2.5920000000000001,2.5920000000000001,2.5920000000000001,2.5920000000000001,2.5920000000000001,2.5920000000000001,2.5920000000000001,2.5920000000000001,2.5920000000000001,2.5920000000000001,2.5920000000000001,2.5920000000000001,2.5920000000000001,2.5920000000000001,2.5920000000000001,2.5920000000000001,2.5920000000000001,2.5920000000000001,2.5920000000000001,2.5920000000000001,2.5920000000000001,2.5920000000000001,2.5920000000000001,2.5920000000000001,2.5920000000000001,2.5920000000000001,2.5920000000000001,2.5920000000000001,2.5920000000000001,2.5920000000000001,2.5920000000000001,2.5920000000000001,2.5920000000000001,2.5920000000000001,2.5920000000000001,2.5920000000000001]
["Okt",null,2.6783999999999999,2.6783999999999999,2.6783999999999999,2.6783999999999999,2.6783999999999999,2.6783999999999999,2.6783999999999999,2.6783999999999999,2.6783999999999999,2.6783999999999999,2.6783999999999999,2.6783999999999999,2.6783999999999999,2.6783999999999999,2.6783999999999999,2.6783999999999999,2.6783999999999999,2.6783999999999999,2.6783999999999999,2.6783999999999999,2.6783999999999999,2.6783999999999999,2.6783999999999999,2.6783999999999999,2.6783999999999999,2.6783999999999999,2.6783999999999999,2.6783999999999999,2.6783999999999999,2.6783999999999999,2.6783999999999999,2.6783999999999999,2.6783999999999999,2.6783999999999999,2.6783999999999999,2.6783999999999999,2.6783999999999999,2.6783999999999999,2.6783999999999999,2.6783999999999999,2.6783999999999999,2.6783999999999999,2.6783999999999999,2.6783999999999999,2.6783999999999999,2.6783999999999999,2.6783999999999999,2.6783999999999999,2.6783999999999999,2.6783999999999999]
["Nov",null,2.5920000000000001,2.5920000000000001,2.5920000000000001,2.5920000000000001,2.5920000000000001,2.5920000000000001,2.5920000000000001,2.5920000000000001,2.5920000000000001,2.5920000000000001,2.5920000000000001,2.5920000000000001,2.5920000000000001,2.5920000000000001,2.5920000000000001,2.5920000000000001,2.5920000000000001,2.5920000000000001,2.5920000000000001,2.5920000000000001,2.5920000000000001,2.5920000000000001,2.5920000000000001,2.5920000000000001,2.5920000000000001,2.5920000000000001,2.5920000000000001,2.5920000000000001,2.5920000000000001,2.5920000000000001,2.5920000000000001,2.5920000000000001,2.5920000000000001,2.5920000000000001,2.5920000000000001,2.5920000000000001,2.5920000000000001,2.5920000000000001,2.5920000000000001,2.5920000000000001,2.5920000000000001,2.5920000000000001,2.5920000000000001,2.5920000000000001,2.5920000000000001,2.5920000000000001,{"$f":"VLOOKUP($A47,T_MaandDuur,3,FALSE)","v":2.5920000000000001},2.5920000000000001,2.5920000000000001,2.5920000000000001]
["Dec",null,2.6783999999999999,2.6783999999999999,2.6783999999999999,2.6783999999999999,2.6783999999999999,2.6783999999999999,2.6783999999999999,2.6783999999999999,2.6783999999999999,2.6783999999999999,2.6783999999999999,2.6783999999999999,2.6783999999999999,2.6783999999999999,2.6783999999999999,2.6783999999999999,2.6783999999999999,2.6783999999999999,2.6783999999999999,2.6783999999999999,2.6783999999999999,2.6783999999999999,2.6783999999999999,2.6783999999999999,2.6783999999999999,2.6783999999999999,2.6783999999999999,2.6783999999999999,2.6783999999999999,2.6783999999999999,2.6783999999999999,2.6783999999999999,2.6783999999999999,2.6783999999999999,2.6783999999999999,2.6783999999999999,2.6783999999999999,2.6783999999999999,2.6783999999999999,2.6783999999999999,2.6783999999999999,2.6783999999999999,2.6783999999999999,2.6783999999999999,2.6783999999999999,2.6783999999999999,2.6783999999999999,2.6783999999999999,2.6783999999999999,2.6783999999999999]
["θc,netw n,m [°C]"]
["Jan",null,{"$f":"C24","v":0},{"$f":"D24","v":0},{"$f":"E24","v":0},0,0,0,0,0,0,0,0,0,0,0,0,0,0,0,0,0,0,0,0,0,0,0,0,0,0,0,0,0,0,0,0,0,0,0,0,0,0,0,0,0,0,0,0,0,0,0]
["Feb",null,{"$f":"C24","v":0},{"$f":"D24","v":0},{"$f":"E24","v":0},0,0,0,0,0,0,0,0,0,0,0,0,0,0,0,0,0,0,0,0,0,0,0,0,0,0,0,0,0,0,0,0,0,0,0,0,0,0,0,0,0,0,0,0,0,0,0]
["Maa",null,{"$f":"C24","v":0},{"$f":"D24","v":0},{"$f":"E24","v":0},0,0,0,0,0,0,0,0,0,0,0,0,0,0,0,0,0,0,0,0,0,0,0,0,0,0,0,0,0,0,0,0,0,0,0,0,0,0,0,0,0,0,0,0,0,0,0]
["Apr",null,{"$f":"C24","v":0},{"$f":"D24","v":0},{"$f":"E24","v":0},0,0,0,0,0,0,0,0,0,0,0,0,0,0,0,0,0,0,0,0,0,0,0,0,0,0,0,0,0,0,0,0,0,0,0,0,0,0,0,0,0,0,0,0,0,0,0]
["Mei",null,{"$f":"C24","v":0},{"$f":"D24","v":0},{"$f":"E24","v":0},0,0,0,0,0,0,0,0,0,0,0,0,0,0,0,0,0,0,0,0,0,0,0,0,0,0,0,0,0,0,0,0,0,0,0,0,0,0,0,0,0,0,0,0,0,0,0]
["Jun",null,{"$f":"C24","v":0},{"$f":"D24","v":0},{"$f":"E24","v":0},0,0,0,0,0,0,0,0,0,0,0,0,0,0,0,0,0,0,0,0,0,0,0,0,0,0,0,0,0,0,0,0,0,0,0,0,0,0,0,0,0,0,0,0,0,0,0]
["Jul",null,{"$f":"C24","v":0},{"$f":"D24","v":0},{"$f":"E24","v":0},0,0,0,0,0,0,0,0,0,0,0,0,0,0,0,0,0,0,0,0,0,0,0,0,0,0,0,0,0,0,0,0,0,0,0,0,0,0,0,0,0,0,0,0,0,0,0]
["Aug",null,{"$f":"C24","v":0},{"$f":"D24","v":0},{"$f":"E24","v":0},0,0,0,0,0,0,0,0,0,0,0,0,0,0,0,0,0,0,0,0,0,0,0,0,0,0,0,0,0,0,0,0,0,0,0,0,0,0,0,0,0,0,0,0,0,0,0]
["Sep",null,{"$f":"C24","v":0},{"$f":"D24","v":0},{"$f":"E24","v":0},0,0,0,0,0,0,0,0,0,0,0,0,0,0,0,0,0,0,0,0,0,0,0,0,0,0,0,0,0,0,0,0,0,0,0,0,0,0,0,0,0,0,0,0,0,0,0]
["Okt",null,{"$f":"C24","v":0},{"$f":"D24","v":0},{"$f":"E24","v":0},0,0,0,0,0,0,0,0,0,0,0,0,0,0,0,0,0,0,0,0,0,0,0,0,0,0,0,0,0,0,0,0,0,0,0,0,0,0,0,0,0,0,0,0,0,0,0]
["Nov",null,{"$f":"C24","v":0},{"$f":"D24","v":0},{"$f":"E24","v":0},0,0,0,0,0,0,0,0,0,0,0,0,0,0,0,0,0,0,0,0,0,0,0,0,0,0,0,0,0,0,0,0,0,0,0,0,0,0,0,0,0,0,0,0,0,0,0]
["Dec",null,{"$f":"C24","v":0},{"$f":"D24","v":0},{"$f":"E24","v":0},0,0,0,0,0,0,0,0,0,0,0,0,0,0,0,0,0,0,0,0,0,0,0,0,0,0,0,0,0,0,0,0,0,0,0,0,0,0,0,0,0,0,0,0,0,0,0]
["θamb,m,j [°C]"]
["Jan",null,{"$f":"IF(OR(C$28=1,AND(C$28=2,C$30=3)),VLOOKUP($A63,T_MaandTemp,4,FALSE),IF(AND(C$28=2,C$30=1),VLOOKUP($A63,T_MaandTemp,6,FALSE),VLOOKUP($A63,T_MaandTemp,5,FALSE)))","v":12.280000000000001},12.280000000000001,12.280000000000001,12.280000000000001,12.280000000000001,12.280000000000001,12.280000000000001,12.280000000000001,12.280000000000001,12.280000000000001,{"$f":"IF(OR(M$28=1,AND(M$28=2,M$30=3)),VLOOKUP($A63,T_MaandTemp,4,FALSE),IF(AND(M$28=2,M$30=1),VLOOKUP($A63,T_MaandTemp,6,FALSE),VLOOKUP($A63,T_MaandTemp,5,FALSE)))","v":12.280000000000001},12.280000000000001,12.280000000000001,12.280000000000001,12.280000000000001,12.280000000000001,12.280000000000001,12.280000000000001,12.280000000000001,12.280000000000001,{"$f":"IF(OR(W$28=1,AND(W$28=2,W$30=3)),VLOOKUP($A63,T_MaandTemp,4,FALSE),IF(AND(W$28=2,W$30=1),VLOOKUP($A63,T_MaandTemp,6,FALSE),VLOOKUP($A63,T_MaandTemp,5,FALSE)))","v":12.280000000000001},12.280000000000001,12.280000000000001,12.280000000000001,12.280000000000001,12.280000000000001,12.280000000000001,12.280000000000001,12.280000000000001,12.280000000000001,{"$f":"IF(OR(AG$28=1,AND(AG$28=2,AG$30=3)),VLOOKUP($A63,T_MaandTemp,4,FALSE),IF(AND(AG$28=2,AG$30=1),VLOOKUP($A63,T_MaandTemp,6,FALSE),VLOOKUP($A63,T_MaandTemp,5,FALSE)))","v":12.280000000000001},12.280000000000001,12.280000000000001,12.280000000000001,12.280000000000001,12.280000000000001,12.280000000000001,12.280000000000001,12.280000000000001,12.280000000000001,{"$f":"IF(OR(AQ$28=1,AND(AQ$28=2,AQ$30=3)),VLOOKUP($A63,T_MaandTemp,4,FALSE),IF(AND(AQ$28=2,AQ$30=1),VLOOKUP($A63,T_MaandTemp,6,FALSE),VLOOKUP($A63,T_MaandTemp,5,FALSE)))","v":12.280000000000001},12.280000000000001,12.280000000000001,12.280000000000001,12.280000000000001,12.280000000000001,12.280000000000001,12.280000000000001,12.280000000000001,12.280000000000001]
["Feb",null,12.56,12.56,12.56,12.56,12.56,12.56,12.56,12.56,12.56,12.56,12.56,12.56,12.56,12.56,12.56,12.56,12.56,12.56,12.56,12.56,12.56,12.56,12.56,12.56,12.56,12.56,12.56,12.56,12.56,12.56,12.56,12.56,12.56,12.56,12.56,12.56,12.56,12.56,12.56,12.56,12.56,12.56,12.56,12.56,12.56,12.56,12.56,12.56,12.56,12.56]
["Maa",null,13.36,13.36,13.36,13.36,13.36,13.36,13.36,13.36,13.36,13.36,13.36,13.36,13.36,13.36,13.36,13.36,13.36,13.36,13.36,13.36,13.36,13.36,13.36,13.36,13.36,13.36,13.36,13.36,13.36,13.36,13.36,13.36,13.36,13.36,13.36,13.36,13.36,13.36,13.36,13.36,13.36,13.36,13.36,13.36,13.36,13.36,13.36,13.36,13.36,13.36]
["Apr",null,14.68,14.68,14.68,14.68,14.68,14.68,14.68,14.68,14.68,14.68,14.68,14.68,14.68,14.68,14.68,14.68,14.68,14.68,14.68,14.68,14.68,14.68,14.68,14.68,14.68,14.68,14.68,14.68,14.68,14.68,14.68,14.68,14.68,14.68,14.68,14.68,14.68,14.68,14.68,14.68,14.68,14.68,14.68,14.68,14.68,14.68,14.68,14.68,14.68,14.68]
["Mei",null,16.32,16.32,16.32,16.32,16.32,16.32,16.32,16.32,16.32,16.32,16.32,16.32,16.32,16.32,16.32,16.32,16.32,16.32,16.32,16.32,16.32,16.32,16.32,16.32,16.32,16.32,16.32,16.32,16.32,16.32,16.32,16.32,16.32,16.32,16.32,16.32,16.32,16.32,16.32,16.32,16.32,16.32,16.32,16.32,16.32,16.32,16.32,16.32,16.32,16.32]
["Jun",null,17.48,17.48,17.48,17.48,17.48,17.48,17.48,17.48,17.48,17.48,17.48,17.48,17.48,17.48,17.48,17.48,17.48,17.48,17.48,17.48,17.48,17.48,17.48,17.48,17.48,17.48,17.48,17.48,17.48,17.48,17.48,17.48,17.48,17.48,17.48,17.48,17.48,17.48,17.48,17.48,17.48,17.48,17.48,17.48,17.48,17.48,17.48,17.48,17.48,17.48]
["Jul",null,18.04,18.04,18.04,18.04,18.04,18.04,18.04,18.04,18.04,18.04,18.04,18.04,18.04,18.04,18.04,18.04,18.04,18.04,18.04,18.04,18.04,18.04,18.04,18.04,18.04,18.04,18.04,18.04,18.04,18.04,18.04,18.04,18.04,18.04,18.04,18.04,18.04,18.04,18.04,18.04,18.04,18.04,18.04,18.04,18.04,18.04,18.04,18.04,18.04,18.04]
["Aug",null,18.04,18.04,18.04,18.04,18.04,18.04,18.04,18.04,18.04,18.04,18.04,18.04,18.04,18.04,18.04,18.04,18.04,18.04,18.04,18.04,18.04,18.04,18.04,18.04,18.04,18.04,18.04,18.04,18.04,18.04,18.04,18.04,18.04,18.04,18.04,18.04,18.04,18.04,18.04,18.04,18.04,18.04,18.04,18.04,18.04,18.04,18.04,18.04,18.04,18.04]
["Sep",null,17.079999999999998,17.079999999999998,17.079999999999998,17.079999999999998,17.079999999999998,17.079999999999998,17.079999999999998,17.079999999999998,17.079999999999998,17.079999999999998,17.079999999999998,17.079999999999998,17.079999999999998,17.079999999999998,17.079999999999998,17.079999999999998,17.079999999999998,17.079999999999998,17.079999999999998,17.079999999999998,17.079999999999998,17.079999999999998,17.079999999999998,17.079999999999998,17.079999999999998,17.079999999999998,17.079999999999998,17.079999999999998,17.079999999999998,17.079999999999998,17.079999999999998,17.079999999999998,17.079999999999998,17.079999999999998,17.079999999999998,17.079999999999998,17.079999999999998,17.079999999999998,17.079999999999998,17.079999999999998,17.079999999999998,17.079999999999998,17.079999999999998,17.079999999999998,17.079999999999998,17.079999999999998,17.079999999999998,17.079999999999998,17.079999999999998,17.079999999999998]
["Okt",null,15.48,15.48,15.48,15.48,15.48,15.48,15.48,15.48,15.48,15.48,15.48,15.48,15.48,15.48,15.48,15.48,15.48,15.48,15.48,15.48,15.48,15.48,15.48,15.48,15.48,15.48,15.48,15.48,15.48,15.48,15.48,15.48,15.48,15.48,15.48,15.48,15.48,15.48,15.48,15.48,15.48,15.48,15.48,15.48,15.48,15.48,15.48,15.48,15.48,15.48]
["Nov",null,13.52,13.52,13.52,13.52,13.52,13.52,13.52,13.52,13.52,13.52,13.52,13.52,13.52,13.52,13.52,13.52,13.52,13.52,13.52,13.52,13.52,13.52,13.52,13.52,13.52,13.52,13.52,13.52,13.52,13.52,13.52,13.52,13.52,13.52,13.52,13.52,13.52,13.52,13.52,13.52,13.52,13.52,13.52,13.52,13.52,13.52,13.52,13.52,13.52,13.52]
["Dec",null,12.4,12.4,12.4,12.4,12.4,12.4,12.4,12.4,12.4,12.4,12.4,12.4,12.4,12.4,12.4,12.4,12.4,12.4,12.4,12.4,12.4,12.4,12.4,12.4,12.4,12.4,12.4,12.4,12.4,12.4,12.4,12.4,12.4,12.4,12.4,12.4,12.4,12.4,12.4,12.4,12.4,12.4,12.4,12.4,12.4,12.4,12.4,12.4,12.4,12.4]
[]
["finsul,netw n",null,{"$f":"VLOOKUP(C$23,Keuzelijsten!$A$200:$C$202,3,FALSE)","v":{"$error":"#N/A"}},{"$f":"VLOOKUP(D$23,Keuzelijsten!$A$200:$C$202,3,FALSE)","v":{"$error":"#N/A"}},{"$f":"VLOOKUP(E$23,Keuzelijsten!$A$200:$C$202,3,FALSE)","v":{"$error":"#N/A"}},{"$f":"VLOOKUP(F$23,Keuzelijsten!$A$200:$C$202,3,FALSE)","v":{"$error":"#N/A"}},{"$f":"VLOOKUP(G$23,Keuzelijsten!$A$200:$C$202,3,FALSE)","v":{"$error":"#N/A"}},{"$f":"VLOOKUP(H$23,Keuzelijsten!$A$200:$C$202,3,FALSE)","v":{"$error":"#N/A"}},{"$f":"VLOOKUP(I$23,Keuzelijsten!$A$200:$C$202,3,FALSE)","v":{"$error":"#N/A"}},{"$f":"VLOOKUP(J$23,Keuzelijsten!$A$200:$C$202,3,FALSE)","v":{"$error":"#N/A"}},{"$f":"VLOOKUP(K$23,Keuzelijsten!$A$200:$C$202,3,FALSE)","v":{"$error":"#N/A"}},{"$f":"VLOOKUP(L$23,Keuzelijsten!$A$200:$C$202,3,FALSE)","v":{"$error":"#N/A"}},{"$f":"VLOOKUP(M$23,Keuzelijsten!$A$200:$C$202,3,FALSE)","v":{"$error":"#N/A"}},{"$f":"VLOOKUP(N$23,Keuzelijsten!$A$200:$C$202,3,FALSE)","v":{"$error":"#N/A"}},{"$f":"VLOOKUP(O$23,Keuzelijsten!$A$200:$C$202,3,FALSE)","v":{"$error":"#N/A"}},{"$f":"VLOOKUP(P$23,Keuzelijsten!$A$200:$C$202,3,FALSE)","v":{"$error":"#N/A"}},{"$f":"VLOOKUP(Q$23,Keuzelijsten!$A$200:$C$202,3,FALSE)","v":{"$error":"#N/A"}},{"$f":"VLOOKUP(R$23,Keuzelijsten!$A$200:$C$202,3,FALSE)","v":{"$error":"#N/A"}},{"$f":"VLOOKUP(S$23,Keuzelijsten!$A$200:$C$202,3,FALSE)","v":{"$error":"#N/A"}},{"$f":"VLOOKUP(T$23,Keuzelijsten!$A$200:$C$202,3,FALSE)","v":{"$error":"#N/A"}},{"$f":"VLOOKUP(U$23,Keuzelijsten!$A$200:$C$202,3,FALSE)","v":{"$error":"#N/A"}},{"$f":"VLOOKUP(V$23,Keuzelijsten!$A$200:$C$202,3,FALSE)","v":{"$error":"#N/A"}},{"$f":"VLOOKUP(W$23,Keuzelijsten!$A$200:$C$202,3,FALSE)","v":{"$error":"#N/A"}},{"$f":"VLOOKUP(X$23,Keuzelijsten!$A$200:$C$202,3,FALSE)","v":{"$error":"#N/A"}},{"$f":"VLOOKUP(Y$23,Keuzelijsten!$A$200:$C$202,3,FALSE)","v":{"$error":"#N/A"}},{"$f":"VLOOKUP(Z$23,Keuzelijsten!$A$200:$C$202,3,FALSE)","v":{"$error":"#N/A"}},{"$f":"VLOOKUP(AA$23,Keuzelijsten!$A$200:$C$202,3,FALSE)","v":{"$error":"#N/A"}},{"$f":"VLOOKUP(AB$23,Keuzelijsten!$A$200:$C$202,3,FALSE)","v":{"$error":"#N/A"}},{"$f":"VLOOKUP(AC$23,Keuzelijsten!$A$200:$C$202,3,FALSE)","v":{"$error":"#N/A"}},{"$f":"VLOOKUP(AD$23,Keuzelijsten!$A$200:$C$202,3,FALSE)","v":{"$error":"#N/A"}},{"$f":"VLOOKUP(AE$23,Keuzelijsten!$A$200:$C$202,3,FALSE)","v":{"$error":"#N/A"}},{"$f":"VLOOKUP(AF$23,Keuzelijsten!$A$200:$C$202,3,FALSE)","v":{"$error":"#N/A"}},{"$f":"VLOOKUP(AG$23,Keuzelijsten!$A$200:$C$202,3,FALSE)","v":{"$error":"#N/A"}},{"$f":"VLOOKUP(AH$23,Keuzelijsten!$A$200:$C$202,3,FALSE)","v":{"$error":"#N/A"}},{"$f":"VLOOKUP(AI$23,Keuzelijsten!$A$200:$C$202,3,FALSE)","v":{"$error":"#N/A"}},{"$f":"VLOOKUP(AJ$23,Keuzelijsten!$A$200:$C$202,3,FALSE)","v":{"$error":"#N/A"}},{"$f":"VLOOKUP(AK$23,Keuzelijsten!$A$200:$C$202,3,FALSE)","v":{"$error":"#N/A"}},{"$f":"VLOOKUP(AL$23,Keuzelijsten!$A$200:$C$202,3,FALSE)","v":{"$error":"#N/A"}},{"$f":"VLOOKUP(AM$23,Keuzelijsten!$A$200:$C$202,3,FALSE)","v":{"$error":"#N/A"}},{"$f":"VLOOKUP(AN$23,Keuzelijsten!$A$200:$C$202,3,FALSE)","v":{"$error":"#N/A"}},{"$f":"VLOOKUP(AO$23,Keuzelijsten!$A$200:$C$202,3,FALSE)","v":{"$error":"#N/A"}},{"$f":"VLOOKUP(AP$23,Keuzelijsten!$A$200:$C$202,3,FALSE)","v":{"$error":"#N/A"}},{"$f":"VLOOKUP(AQ$23,Keuzelijsten!$A$200:$C$202,3,FALSE)","v":{"$error":"#N/A"}},{"$f":"VLOOKUP(AR$23,Keuzelijsten!$A$200:$C$202,3,FALSE)","v":{"$error":"#N/A"}},{"$f":"VLOOKUP(AS$23,Keuzelijsten!$A$200:$C$202,3,FALSE)","v":{"$error":"#N/A"}},{"$f":"VLOOKUP(AT$23,Keuzelijsten!$A$200:$C$202,3,FALSE)","v":{"$error":"#N/A"}},{"$f":"VLOOKUP(AU$23,Keuzelijsten!$A$200:$C$202,3,FALSE)","v":{"$error":"#N/A"}},{"$f":"VLOOKUP(AV$23,Keuzelijsten!$A$200:$C$202,3,FALSE)","v":{"$error":"#N/A"}},{"$f":"VLOOKUP(AW$23,Keuzelijsten!$A$200:$C$202,3,FALSE)","v":{"$error":"#N/A"}},{"$f":"VLOOKUP(AX$23,Keuzelijsten!$A$200:$C$202,3,FALSE)","v":{"$error":"#N/A"}},{"$f":"VLOOKUP(AY$23,Keuzelijsten!$A$200:$C$202,3,FALSE)","v":{"$error":"#N/A"}},{"$f":"VLOOKUP(AZ$23,Keuzelijsten!$A$200:$C$202,3,FALSE)","v":{"$error":"#N/A"}}]
["Qdistr,heat,netw,n,m [MJ]"]
["Jan",null,{"$f":"IF(C$32=0,0,C37*C$76*(C50-C63)*C$15/C$32)","v":{"$error":"#N/A"}},{"$f":"IF(D$32=0,0,D37*D$76*(D50-D63)*D$15/D$32)","v":{"$error":"#N/A"}},{"$f":"IF(E$32=0,0,E37*E$76*(E50-E63)*E$15/E$32)","v":{"$error":"#N/A"}},{"$error":"#N/A"},{"$error":"#N/A"},{"$error":"#N/A"},{"$error":"#N/A"},{"$error":"#N/A"},{"$error":"#N/A"},{"$error":"#N/A"},{"$error":"#N/A"},{"$error":"#N/A"},{"$error":"#N/A"},{"$error":"#N/A"},{"$error":"#N/A"},{"$error":"#N/A"},{"$error":"#N/A"},{"$error":"#N/A"},{"$error":"#N/A"},{"$error":"#N/A"},{"$error":"#N/A"},{"$error":"#N/A"},{"$error":"#N/A"},{"$error":"#N/A"},{"$error":"#N/A"},{"$error":"#N/A"},{"$error":"#N/A"},{"$error":"#N/A"},{"$error":"#N/A"},{"$error":"#N/A"},{"$error":"#N/A"},{"$error":"#N/A"},{"$error":"#N/A"},{"$error":"#N/A"},{"$error":"#N/A"},{"$error":"#N/A"},{"$error":"#N/A"},{"$error":"#N/A"},{"$error":"#N/A"},{"$error":"#N/A"},{"$error":"#N/A"},{"$error":"#N/A"},{"$error":"#N/A"},{"$error":"#N/A"},{"$error":"#N/A"},{"$error":"#N/A"},{"$error":"#N/A"},{"$error":"#N/A"},{"$error":"#N/A"},{"$error":"#N/A"}]
["Feb",null,{"$error":"#N/A"},{"$error":"#N/A"},{"$f":"IF(E$32=0,0,E38*E$76*(E51-E64)*E$15/E$32)","v":{"$error":"#N/A"}},{"$error":"#N/A"},{"$error":"#N/A"},{"$error":"#N/A"},{"$error":"#N/A"},{"$error":"#N/A"},{"$error":"#N/A"},{"$error":"#N/A"},{"$error":"#N/A"},{"$error":"#N/A"},{"$error":"#N/A"},{"$error":"#N/A"},{"$error":"#N/A"},{"$error":"#N/A"},{"$error":"#N/A"},{"$error":"#N/A"},{"$error":"#N/A"},{"$error":"#N/A"},{"$error":"#N/A"},{"$error":"#N/A"},{"$error":"#N/A"},{"$error":"#N/A"},{"$error":"#N/A"},{"$error":"#N/A"},{"$error":"#N/A"},{"$error":"#N/A"},{"$error":"#N/A"},{"$error":"#N/A"},{"$error":"#N/A"},{"$error":"#N/A"},{"$error":"#N/A"},{"$error":"#N/A"},{"$error":"#N/A"},{"$error":"#N/A"},{"$error":"#N/A"},{"$error":"#N/A"},{"$error":"#N/A"},{"$error":"#N/A"},{"$error":"#N/A"},{"$error":"#N/A"},{"$error":"#N/A"},{"$error":"#N/A"},{"$error":"#N/A"},{"$error":"#N/A"},{"$error":"#N/A"},{"$error":"#N/A"},{"$error":"#N/A"},{"$error":"#N/A"}]
["Maa",null,{"$error":"#N/A"},{"$error":"#N/A"},{"$f":"IF(E$32=0,0,E39*E$76*(E52-E65)*E$15/E$32)","v":{"$error":"#N/A"}},{"$error":"#N/A"},{"$error":"#N/A"},{"$error":"#N/A"},{"$error":"#N/A"},{"$error":"#N/A"},{"$error":"#N/A"},{"$error":"#N/A"},{"$error":"#N/A"},{"$error":"#N/A"},{"$error":"#N/A"},{"$error":"#N/A"},{"$error":"#N/A"},{"$error":"#N/A"},{"$error":"#N/A"},{"$error":"#N/A"},{"$error":"#N/A"},{"$error":"#N/A"},{"$error":"#N/A"},{"$error":"#N/A"},{"$error":"#N/A"},{"$error":"#N/A"},{"$error":"#N/A"},{"$error":"#N/A"},{"$error":"#N/A"},{"$error":"#N/A"},{"$error":"#N/A"},{"$error":"#N/A"},{"$error":"#N/A"},{"$error":"#N/A"},{"$error":"#N/A"},{"$error":"#N/A"},{"$error":"#N/A"},{"$error":"#N/A"},{"$error":"#N/A"},{"$error":"#N/A"},{"$error":"#N/A"},{"$error":"#N/A"},{"$error":"#N/A"},{"$error":"#N/A"},{"$error":"#N/A"},{"$error":"#N/A"},{"$error":"#N/A"},{"$error":"#N/A"},{"$error":"#N/A"},{"$error":"#N/A"},{"$error":"#N/A"},{"$error":"#N/A"}]
["Apr",null,{"$error":"#N/A"},{"$error":"#N/A"},{"$f":"IF(E$32=0,0,E40*E$76*(E53-E66)*E$15/E$32)","v":{"$error":"#N/A"}},{"$error":"#N/A"},{"$error":"#N/A"},{"$error":"#N/A"},{"$error":"#N/A"},{"$error":"#N/A"},{"$error":"#N/A"},{"$error":"#N/A"},{"$error":"#N/A"},{"$error":"#N/A"},{"$error":"#N/A"},{"$error":"#N/A"},{"$error":"#N/A"},{"$error":"#N/A"},{"$error":"#N/A"},{"$error":"#N/A"},{"$error":"#N/A"},{"$error":"#N/A"},{"$error":"#N/A"},{"$error":"#N/A"},{"$error":"#N/A"},{"$error":"#N/A"},{"$error":"#N/A"},{"$error":"#N/A"},{"$error":"#N/A"},{"$error":"#N/A"},{"$error":"#N/A"},{"$error":"#N/A"},{"$error":"#N/A"},{"$error":"#N/A"},{"$error":"#N/A"},{"$error":"#N/A"},{"$error":"#N/A"},{"$error":"#N/A"},{"$error":"#N/A"},{"$error":"#N/A"},{"$error":"#N/A"},{"$error":"#N/A"},{"$error":"#N/A"},{"$error":"#N/A"},{"$error":"#N/A"},{"$error":"#N/A"},{"$error":"#N/A"},{"$error":"#N/A"},{"$error":"#N/A"},{"$error":"#N/A"},{"$error":"#N/A"},{"$error":"#N/A"}]
["Mei",null,{"$error":"#N/A"},{"$error":"#N/A"},{"$f":"IF(E$32=0,0,E41*E$76*(E54-E67)*E$15/E$32)","v":{"$error":"#N/A"}},{"$error":"#N/A"},{"$error":"#N/A"},{"$error":"#N/A"},{"$error":"#N/A"},{"$error":"#N/A"},{"$error":"#N/A"},{"$error":"#N/A"},{"$error":"#N/A"},{"$error":"#N/A"},{"$error":"#N/A"},{"$error":"#N/A"},{"$error":"#N/A"},{"$error":"#N/A"},{"$error":"#N/A"},{"$error":"#N/A"},{"$error":"#N/A"},{"$error":"#N/A"},{"$error":"#N/A"},{"$error":"#N/A"},{"$error":"#N/A"},{"$error":"#N/A"},{"$error":"#N/A"},{"$error":"#N/A"},{"$error":"#N/A"},{"$error":"#N/A"},{"$error":"#N/A"},{"$error":"#N/A"},{"$error":"#N/A"},{"$error":"#N/A"},{"$error":"#N/A"},{"$error":"#N/A"},{"$error":"#N/A"},{"$error":"#N/A"},{"$error":"#N/A"},{"$error":"#N/A"},{"$error":"#N/A"},{"$error":"#N/A"},{"$error":"#N/A"},{"$error":"#N/A"},{"$error":"#N/A"},{"$error":"#N/A"},{"$error":"#N/A"},{"$error":"#N/A"},{"$error":"#N/A"},{"$error":"#N/A"},{"$error":"#N/A"},{"$error":"#N/A"}]
["Jun",null,{"$error":"#N/A"},{"$error":"#N/A"},{"$f":"IF(E$32=0,0,E42*E$76*(E55-E68)*E$15/E$32)","v":{"$error":"#N/A"}},{"$error":"#N/A"},{"$error":"#N/A"},{"$error":"#N/A"},{"$error":"#N/A"},{"$error":"#N/A"},{"$error":"#N/A"},{"$error":"#N/A"},{"$error":"#N/A"},{"$error":"#N/A"},{"$error":"#N/A"},{"$error":"#N/A"},{"$error":"#N/A"},{"$error":"#N/A"},{"$error":"#N/A"},{"$error":"#N/A"},{"$error":"#N/A"},{"$error":"#N/A"},{"$error":"#N/A"},{"$error":"#N/A"},{"$error":"#N/A"},{"$error":"#N/A"},{"$error":"#N/A"},{"$error":"#N/A"},{"$error":"#N/A"},{"$error":"#N/A"},{"$error":"#N/A"},{"$error":"#N/A"},{"$error":"#N/A"},{"$error":"#N/A"},{"$error":"#N/A"},{"$error":"#N/A"},{"$error":"#N/A"},{"$error":"#N/A"},{"$error":"#N/A"},{"$error":"#N/A"},{"$error":"#N/A"},{"$error":"#N/A"},{"$error":"#N/A"},{"$error":"#N/A"},{"$error":"#N/A"},{"$error":"#N/A"},{"$error":"#N/A"},{"$error":"#N/A"},{"$error":"#N/A"},{"$error":"#N/A"},{"$error":"#N/A"},{"$error":"#N/A"}]
["Jul",null,{"$error":"#N/A"},{"$error":"#N/A"},{"$f":"IF(E$32=0,0,E43*E$76*(E56-E69)*E$15/E$32)","v":{"$error":"#N/A"}},{"$error":"#N/A"},{"$error":"#N/A"},{"$error":"#N/A"},{"$error":"#N/A"},{"$error":"#N/A"},{"$error":"#N/A"},{"$error":"#N/A"},{"$error":"#N/A"},{"$error":"#N/A"},{"$error":"#N/A"},{"$error":"#N/A"},{"$error":"#N/A"},{"$error":"#N/A"},{"$error":"#N/A"},{"$error":"#N/A"},{"$error":"#N/A"},{"$error":"#N/A"},{"$error":"#N/A"},{"$error":"#N/A"},{"$error":"#N/A"},{"$error":"#N/A"},{"$error":"#N/A"},{"$error":"#N/A"},{"$error":"#N/A"},{"$error":"#N/A"},{"$error":"#N/A"},{"$error":"#N/A"},{"$error":"#N/A"},{"$error":"#N/A"},{"$error":"#N/A"},{"$error":"#N/A"},{"$error":"#N/A"},{"$error":"#N/A"},{"$error":"#N/A"},{"$error":"#N/A"},{"$error":"#N/A"},{"$error":"#N/A"},{"$error":"#N/A"},{"$error":"#N/A"},{"$error":"#N/A"},{"$error":"#N/A"},{"$error":"#N/A"},{"$error":"#N/A"},{"$error":"#N/A"},{"$error":"#N/A"},{"$error":"#N/A"},{"$error":"#N/A"}]
["Aug",null,{"$error":"#N/A"},{"$error":"#N/A"},{"$f":"IF(E$32=0,0,E44*E$76*(E57-E70)*E$15/E$32)","v":{"$error":"#N/A"}},{"$error":"#N/A"},{"$error":"#N/A"},{"$error":"#N/A"},{"$error":"#N/A"},{"$error":"#N/A"},{"$error":"#N/A"},{"$error":"#N/A"},{"$error":"#N/A"},{"$error":"#N/A"},{"$error":"#N/A"},{"$error":"#N/A"},{"$error":"#N/A"},{"$error":"#N/A"},{"$error":"#N/A"},{"$error":"#N/A"},{"$error":"#N/A"},{"$error":"#N/A"},{"$error":"#N/A"},{"$error":"#N/A"},{"$error":"#N/A"},{"$error":"#N/A"},{"$error":"#N/A"},{"$error":"#N/A"},{"$error":"#N/A"},{"$error":"#N/A"},{"$error":"#N/A"},{"$error":"#N/A"},{"$error":"#N/A"},{"$error":"#N/A"},{"$error":"#N/A"},{"$error":"#N/A"},{"$error":"#N/A"},{"$error":"#N/A"},{"$error":"#N/A"},{"$error":"#N/A"},{"$error":"#N/A"},{"$error":"#N/A"},{"$error":"#N/A"},{"$error":"#N/A"},{"$error":"#N/A"},{"$error":"#N/A"},{"$error":"#N/A"},{"$error":"#N/A"},{"$error":"#N/A"},{"$error":"#N/A"},{"$error":"#N/A"},{"$error":"#N/A"}]
["Sep",null,{"$error":"#N/A"},{"$error":"#N/A"},{"$f":"IF(E$32=0,0,E45*E$76*(E58-E71)*E$15/E$32)","v":{"$error":"#N/A"}},{"$error":"#N/A"},{"$error":"#N/A"},{"$error":"#N/A"},{"$error":"#N/A"},{"$error":"#N/A"},{"$error":"#N/A"},{"$error":"#N/A"},{"$error":"#N/A"},{"$error":"#N/A"},{"$error":"#N/A"},{"$error":"#N/A"},{"$error":"#N/A"},{"$error":"#N/A"},{"$error":"#N/A"},{"$error":"#N/A"},{"$error":"#N/A"},{"$error":"#N/A"},{"$error":"#N/A"},{"$error":"#N/A"},{"$error":"#N/A"},{"$error":"#N/A"},{"$error":"#N/A"},{"$error":"#N/A"},{"$error":"#N/A"},{"$error":"#N/A"},{"$error":"#N/A"},{"$error":"#N/A"},{"$error":"#N/A"},{"$error":"#N/A"},{"$error":"#N/A"},{"$error":"#N/A"},{"$error":"#N/A"},{"$error":"#N/A"},{"$error":"#N/A"},{"$error":"#N/A"},{"$error":"#N/A"},{"$error":"#N/A"},{"$error":"#N/A"},{"$error":"#N/A"},{"$error":"#N/A"},{"$error":"#N/A"},{"$error":"#N/A"},{"$error":"#N/A"},{"$error":"#N/A"},{"$error":"#N/A"},{"$error":"#N/A"},{"$error":"#N/A"}]
["Okt",null,{"$error":"#N/A"},{"$error":"#N/A"},{"$f":"IF(E$32=0,0,E46*E$76*(E59-E72)*E$15/E$32)","v":{"$error":"#N/A"}},{"$error":"#N/A"},{"$error":"#N/A"},{"$error":"#N/A"},{"$error":"#N/A"},{"$error":"#N/A"},{"$error":"#N/A"},{"$error":"#N/A"},{"$error":"#N/A"},{"$error":"#N/A"},{"$error":"#N/A"},{"$error":"#N/A"},{"$error":"#N/A"},{"$error":"#N/A"},{"$error":"#N/A"},{"$error":"#N/A"},{"$error":"#N/A"},{"$error":"#N/A"},{"$error":"#N/A"},{"$error":"#N/A"},{"$error":"#N/A"},{"$error":"#N/A"},{"$error":"#N/A"},{"$error":"#N/A"},{"$error":"#N/A"},{"$error":"#N/A"},{"$error":"#N/A"},{"$error":"#N/A"},{"$error":"#N/A"},{"$error":"#N/A"},{"$error":"#N/A"},{"$error":"#N/A"},{"$error":"#N/A"},{"$error":"#N/A"},{"$error":"#N/A"},{"$error":"#N/A"},{"$error":"#N/A"},{"$error":"#N/A"},{"$error":"#N/A"},{"$error":"#N/A"},{"$error":"#N/A"},{"$error":"#N/A"},{"$error":"#N/A"},{"$error":"#N/A"},{"$error":"#N/A"},{"$error":"#N/A"},{"$error":"#N/A"},{"$error":"#N/A"}]
["Nov",null,{"$error":"#N/A"},{"$error":"#N/A"},{"$f":"IF(E$32=0,0,E47*E$76*(E60-E73)*E$15/E$32)","v":{"$error":"#N/A"}},{"$error":"#N/A"},{"$error":"#N/A"},{"$error":"#N/A"},{"$error":"#N/A"},{"$error":"#N/A"},{"$error":"#N/A"},{"$error":"#N/A"},{"$error":"#N/A"},{"$error":"#N/A"},{"$error":"#N/A"},{"$error":"#N/A"},{"$error":"#N/A"},{"$error":"#N/A"},{"$error":"#N/A"},{"$error":"#N/A"},{"$error":"#N/A"},{"$error":"#N/A"},{"$error":"#N/A"},{"$error":"#N/A"},{"$error":"#N/A"},{"$error":"#N/A"},{"$error":"#N/A"},{"$error":"#N/A"},{"$error":"#N/A"},{"$error":"#N/A"},{"$error":"#N/A"},{"$error":"#N/A"},{"$error":"#N/A"},{"$error":"#N/A"},{"$error":"#N/A"},{"$error":"#N/A"},{"$error":"#N/A"},{"$error":"#N/A"},{"$error":"#N/A"},{"$error":"#N/A"},{"$error":"#N/A"},{"$error":"#N/A"},{"$error":"#N/A"},{"$error":"#N/A"},{"$error":"#N/A"},{"$error":"#N/A"},{"$error":"#N/A"},{"$error":"#N/A"},{"$error":"#N/A"},{"$error":"#N/A"},{"$error":"#N/A"},{"$error":"#N/A"}]
["Dec",null,{"$error":"#N/A"},{"$error":"#N/A"},{"$f":"IF(E$32=0,0,E48*E$76*(E61-E74)*E$15/E$32)","v":{"$error":"#N/A"}},{"$error":"#N/A"},{"$error":"#N/A"},{"$error":"#N/A"},{"$error":"#N/A"},{"$error":"#N/A"},{"$error":"#N/A"},{"$error":"#N/A"},{"$error":"#N/A"},{"$error":"#N/A"},{"$error":"#N/A"},{"$error":"#N/A"},{"$error":"#N/A"},{"$error":"#N/A"},{"$error":"#N/A"},{"$error":"#N/A"},{"$error":"#N/A"},{"$error":"#N/A"},{"$error":"#N/A"},{"$error":"#N/A"},{"$error":"#N/A"},{"$error":"#N/A"},{"$error":"#N/A"},{"$error":"#N/A"},{"$error":"#N/A"},{"$error":"#N/A"},{"$error":"#N/A"},{"$error":"#N/A"},{"$error":"#N/A"},{"$error":"#N/A"},{"$error":"#N/A"},{"$error":"#N/A"},{"$error":"#N/A"},{"$error":"#N/A"},{"$error":"#N/A"},{"$error":"#N/A"},{"$error":"#N/A"},{"$error":"#N/A"},{"$error":"#N/A"},{"$error":"#N/A"},{"$error":"#N/A"},{"$error":"#N/A"},{"$error":"#N/A"},{"$error":"#N/A"},{"$error":"#N/A"},{"$error":"#N/A"},{"$error":"#N/A"},{"$error":"#N/A"}]
[]
["nummering leidingsegment",null,1,2,3,4,5,6,7,8,9,10,11,12,13,14,15,16,17,18,19,20,21,22,23,24,25,26,27,28,29,30,31,32,33,34,35,36,37,38,39,40,41,42,43,44,45,46,47,48,49,50]

{"sheet":"Warmteverliezen lokaal","index":7,"n_rows":515,"n_cols":53,"rows_kept":515,"cut":false,"hidden":true,"merged":[[0,0,0,1],[259,0,259,1],[260,0,260,1],[261,0,261,1],[262,0,262,1],[2,0,2,1],[7,0,7,1],[1,0,1,1],[4,0,4,1],[5,0,5,1],[6,0,6,1],[258,0,258,1]]}
["Lokale warmteverliezen",null,"verbergen"]
[]
["1. De hoeveelheid warmte die jaarlijks verloren gaat in het systeem van externe warmtelevering te wijten aan lokale warmteverliezen"]
["Qlossloc,dh [MJ]",{"$f":"SUM(D259:BA259 )","v":0}]
[]
["2. De hoeveelheid warmte die jaarlijks verloren gaat in buffervat of warmtewisselaar l"]
["Eigenschappen",null,null,{"$f":"\"Buffervat of warmtewisselaar \"&D$515","v":"Buffervat of warmtewisselaar 1"},{"$f":"\"Buffervat of warmtewisselaar \"&E$515","v":"Buffervat of warmtewisselaar 2"},{"$f":"\"Buffervat of warmtewisselaar \"&F$515","v":"Buffervat of warmtewisselaar 3"},{"$f":"\"Buffervat of warmtewisselaar \"&G$515","v":"Buffervat of warmtewisselaar 4"},"Buffervat of warmtewisselaar 5","Buffervat of warmtewisselaar 6","Buffervat of warmtewisselaar 7","Buffervat of warmtewisselaar 8","Buffervat of warmtewisselaar 9","Buffervat of warmtewisselaar 10","Buffervat of warmtewisselaar 11","Buffervat of warmtewisselaar 12","Buffervat of warmtewisselaar 13","Buffervat of warmtewisselaar 14","Buffervat of warmtewisselaar 15","Buffervat of warmtewisselaar 16","Buffervat of warmtewisselaar 17","Buffervat of warmtewisselaar 18","Buffervat of warmtewisselaar 19","Buffervat of warmtewisselaar 20","Buffervat of warmtewisselaar 21","Buffervat of warmtewisselaar 22","Buffervat of warmtewisselaar 23","Buffervat of warmtewisselaar 24","Buffervat of warmtewisselaar 25","Buffervat of warmtewisselaar 26","Buffervat of warmtewisselaar 27","Buffervat of warmtewisselaar 28","Buffervat of warmtewisselaar 29","Buffervat of warmtewisselaar 30","Buffervat of warmtewisselaar 31","Buffervat of warmtewisselaar 32","Buffervat of warmtewisselaar 33","Buffervat of warmtewisselaar 34","Buffervat of warmtewisselaar 35","Buffervat of warmtewisselaar 36","Buffervat of warmtewisselaar 37","Buffervat of warmtewisselaar 38","Buffervat of warmtewisselaar 39","Buffervat of warmtewisselaar 40","Buffervat of warmtewisselaar 41","Buffervat of warmtewisselaar 42","Buffervat of warmtewisselaar 43","Buffervat of warmtewisselaar 44","Buffervat of warmtewisselaar 45","Buffervat of warmtewisselaar 46","Buffervat of warmtewisselaar 47","Buffervat of warmtewisselaar 48","Buffervat of warmtewisselaar 49","Buffervat of warmtewisselaar 50"]
["Is het buffervat of de warmtewisselaar voldoende geïsoleerd? "]
["Bevindt het segment zich stroomafwaarts van het buffervat of de warmtewisselaar? ",{"$f":"\"segment \"&C9","v":"segment 1"},1]
["Bevindt het segment zich stroomafwaarts van het buffervat of de warmtewisselaar? ",{"$f":"\"segment \"&C10","v":"segment 2"},{"$f":"C9+1","v":2}]
["Bevindt het segment zich stroomafwaarts van het buffervat of de warmtewisselaar? ",{"$f":"\"segment \"&C11","v":"segment 3"},{"$f":"C10+1","v":3}]
["Bevindt het segment zich stroomafwaarts van het buffervat of de warmtewisselaar? ","segment 4",4]
["Bevindt het segment zich stroomafwaarts van het buffervat of de warmtewisselaar? ","segment 5",5]
["Bevindt het segment zich stroomafwaarts van het buffervat of de warmtewisselaar? ","segment 6",6]
["Bevindt het segment zich stroomafwaarts van het buffervat of de warmtewisselaar? ","segment 7",7]
["Bevindt het segment zich stroomafwaarts van het buffervat of de warmtewisselaar? ","segment 8",8]
["Bevindt het segment zich stroomafwaarts van het buffervat of de warmtewisselaar? ",{"$f":"\"segment \"&C17","v":"segment 9"},9]
["Bevindt het segment zich stroomafwaarts van het buffervat of de warmtewisselaar? ","segment 10",10]
["Bevindt het segment zich stroomafwaarts van het buffervat of de warmtewisselaar? ","segment 11",11]
["Bevindt het segment zich stroomafwaarts van het buffervat of de warmtewisselaar? ","segment 12",12]
["Bevindt het segment zich stroomafwaarts van het buffervat of de warmtewisselaar? ","segment 13",13]
["Bevindt het segment zich stroomafwaarts van het buffervat of de warmtewisselaar? ","segment 14",14]
["Bevindt het segment zich stroomafwaarts van het buffervat of de warmtewisselaar? ","segment 15",15]
["Bevindt het segment zich stroomafwaarts van het buffervat of de warmtewisselaar? ","segment 16",16]
["Bevindt het segment zich stroomafwaarts van het buffervat of de warmtewisselaar? ","segment 17",17]
["Bevindt het segment zich stroomafwaarts van het buffervat of de warmtewisselaar? ","segment 18",18]
["Bevindt het segment zich stroomafwaarts van het buffervat of de warmtewisselaar? ","segment 19",19]
["Bevindt het segment zich stroomafwaarts van het buffervat of de warmtewisselaar? ","segment 20",20]
["Bevindt het segment zich stroomafwaarts van het buffervat of de warmtewisselaar? ","segment 21",21]
["Bevindt het segment zich stroomafwaarts van het buffervat of de warmtewisselaar? ","segment 22",22]
["Bevindt het segment zich stroomafwaarts van het buffervat of de warmtewisselaar? ","segment 23",23]
["Bevindt het segment zich stroomafwaarts van het buffervat of de warmtewisselaar? ","segment 24",24]
["Bevindt het segment zich stroomafwaarts van het buffervat of de warmtewisselaar? ","segment 25",25]
["Bevindt het segment zich stroomafwaarts van het buffervat of de warmtewisselaar? ","segment 26",26]
["Bevindt het segment zich stroomafwaarts van het buffervat of de warmtewisselaar? ","segment 27",27]
["Bevindt het segment zich stroomafwaarts van het buffervat of de warmtewisselaar? ","segment 28",28]
["Bevindt het segment zich stroomafwaarts van het buffervat of de warmtewisselaar? ","segment 29",29]
["Bevindt het segment zich stroomafwaarts van het buffervat of de warmtewisselaar? ","segment 30",30]
["Bevindt het segment zich stroomafwaarts van het buffervat of de warmtewisselaar? ","segment 31",31]
["Bevindt het segment zich stroomafwaarts van het buffervat of de warmtewisselaar? ","segment 32",32]
["Bevindt het segment zich stroomafwaarts van het buffervat of de warmtewisselaar? ","segment 33",33]
["Bevindt het segment zich stroomafwaarts van het buffervat of de warmtewisselaar? ","segment 34",34]
["Bevindt het segment zich stroomafwaarts van het buffervat of de warmtewisselaar? ","segment 35",35]
["Bevindt het segment zich stroomafwaarts van het buffervat of de warmtewisselaar? ","segment 36",36]
["Bevindt het segment zich stroomafwaarts van het buffervat of de warmtewisselaar? ","segment 37",37]
["Bevindt het segment zich stroomafwaarts van het buffervat of de warmtewisselaar? ","segment 38",38]
["Bevindt het segment zich stroomafwaarts van het buffervat of de warmtewisselaar? ","segment 39",39]
["Bevindt het segment zich stroomafwaarts van het buffervat of de warmtewisselaar? ","segment 40",40]
["Bevindt het segment zich stroomafwaarts van het buffervat of de warmtewisselaar? ","segment 41",41]
["Bevindt het segment zich stroomafwaarts van het buffervat of de warmtewisselaar? ","segment 42",42]
["Bevindt het segment zich stroomafwaarts van het buffervat of de warmtewisselaar? ","segment 43",43]
["Bevindt het segment zich stroomafwaarts van het buffervat of de warmtewisselaar? ","segment 44",44]
["Bevindt het segment zich stroomafwaarts van het buffervat of de warmtewisselaar? ","segment 45",45]
["Bevindt het segment zich stroomafwaarts van het buffervat of de warmtewisselaar? ","segment 46",46]
["Bevindt het segment zich stroomafwaarts van het buffervat of de warmtewisselaar? ","segment 47",47]
["Bevindt het segment zich stroomafwaarts van het buffervat of de warmtewisselaar? ","segment 48",48]
["Bevindt het segment zich stroomafwaarts van het buffervat of de warmtewisselaar? ","segment 49",49]
["Bevindt het segment zich stroomafwaarts van het buffervat of de warmtewisselaar? ","segment 50",50]
["Bevindt de warmtevrager zich stroomafwaarts van het buffervat of de warmtewisselaar? ",{"$f":"\"warmtevrager \"&C59","v":"warmtevrager 1"},1]
["Bevindt de warmtevrager zich stroomafwaarts van het buffervat of de warmtewisselaar? ",{"$f":"\"warmtevrager \"&C60","v":"warmtevrager 2"},{"$f":"C59+1","v":2}]
["Bevindt de warmtevrager zich stroomafwaarts van het buffervat of de warmtewisselaar? ",{"$f":"\"warmtevrager \"&C61","v":"warmtevrager 3"},{"$f":"C60+1","v":3}]
["Bevindt de warmtevrager zich stroomafwaarts van het buffervat of de warmtewisselaar? ","warmtevrager 4",4]
["Bevindt de warmtevrager zich stroomafwaarts van het buffervat of de warmtewisselaar? ","warmtevrager 5",5]
["Bevindt de warmtevrager zich stroomafwaarts van het buffervat of de warmtewisselaar? ","warmtevrager 6",6]
["Bevindt de warmtevrager zich stroomafwaarts van het buffervat of de warmtewisselaar? ","warmtevrager 7",7]
["Bevindt de warmtevrager zich stroomafwaarts van het buffervat of de warmtewisselaar? ","warmtevrager 8",8]
["Bevindt de warmtevrager zich stroomafwaarts van het buffervat of de warmtewisselaar? ","warmtevrager 9",9]
["Bevindt de warmtevrager zich stroomafwaarts van het buffervat of de warmtewisselaar? ","warmtevrager 10",10]
["Bevindt de warmtevrager zich stroomafwaarts van het buffervat of de warmtewisselaar? ","warmtevrager 11",11]
["Bevindt de warmtevrager zich stroomafwaarts van het buffervat of de warmtewisselaar? ","warmtevrager 12",12]
["Bevindt de warmtevrager zich stroomafwaarts van het buffervat of de warmtewisselaar? ","warmtevrager 13",13]
["Bevindt de warmtevrager zich stroomafwaarts van het buffervat of de warmtewisselaar? ","warmtevrager 14",14]
["Bevindt de warmtevrager zich stroomafwaarts van het buffervat of de warmtewisselaar? ","warmtevrager 15",15]
["Bevindt de warmtevrager zich stroomafwaarts van het buffervat of de warmtewisselaar? ","warmtevrager 16",16]
["Bevindt de warmtevrager zich stroomafwaarts van het buffervat of de warmtewisselaar? ","warmtevrager 17",17]
["Bevindt de warmtevrager zich stroomafwaarts van het buffervat of de warmtewisselaar? ","warmtevrager 18",18]
["Bevindt de warmtevrager zich stroomafwaarts van het buffervat of de warmtewisselaar? ","warmtevrager 19",19]
["Bevindt de warmtevrager zich stroomafwaarts van het buffervat of de warmtewisselaar? ","warmtevrager 20",20]
["Bevindt de warmtevrager zich stroomafwaarts van het buffervat of de warmtewisselaar? ","warmtevrager 21",21]
["Bevindt de warmtevrager zich stroomafwaarts van het buffervat of de warmtewisselaar? ","warmtevrager 22",22]
["Bevindt de warmtevrager zich stroomafwaarts van het buffervat of de warmtewisselaar? ","warmtevrager 23",23]
["Bevindt de warmtevrager zich stroomafwaarts van het buffervat of de warmtewisselaar? ","warmtevrager 24",24]
["Bevindt de warmtevrager zich stroomafwaarts van het buffervat of de warmtewisselaar? ","warmtevrager 25",25]
["Bevindt de warmtevrager zich stroomafwaarts van het buffervat of de warmtewisselaar? ","warmtevrager 26",26]
["Bevindt de warmtevrager zich stroomafwaarts van het buffervat of de warmtewisselaar? ","warmtevrager 27",27]
["Bevindt de warmtevrager zich stroomafwaarts van het buffervat of de warmtewisselaar? ","warmtevrager 28",28]
["Bevindt de warmtevrager zich stroomafwaarts van het buffervat of de warmtewisselaar? ","warmtevrager 29",29]
["Bevindt de warmtevrager zich stroomafwaarts van het buffervat of de warmtewisselaar? ","warmtevrager 30",30]
["Bevindt de warmtevrager zich stroomafwaarts van het buffervat of de warmtewisselaar? ","warmtevrager 31",31]
["Bevindt de warmtevrager zich stroomafwaarts van het buffervat of de warmtewisselaar? ","warmtevrager 32",32]
["Bevindt de warmtevrager zich stroomafwaarts van het buffervat of de warmtewisselaar? ","warmtevrager 33",33]
["Bevindt de warmtevrager zich stroomafwaarts van het buffervat of de warmtewisselaar? ","warmtevrager 34",34]
["Bevindt de warmtevrager zich stroomafwaarts van het buffervat of de warmtewisselaar? ","warmtevrager 35",35]
["Bevindt de warmtevrager zich stroomafwaarts van het buffervat of de warmtewisselaar? ","warmtevrager 36",36]
["Bevindt de warmtevrager zich stroomafwaarts van het buffervat of de warmtewisselaar? ","warmtevrager 37",37]
["Bevindt de warmtevrager zich stroomafwaarts van het buffervat of de warmtewisselaar? ","warmtevrager 38",38]
["Bevindt de warmtevrager zich stroomafwaarts van het buffervat of de warmtewisselaar? ","warmtevrager 39",39]
["Bevindt de warmtevrager zich stroomafwaarts van het buffervat of de warmtewisselaar? ","warmtevrager 40",40]
["Bevindt de warmtevrager zich stroomafwaarts van het buffervat of de warmtewisselaar? ","warmtevrager 41",41]
["Bevindt de warmtevrager zich stroomafwaarts van het buffervat of de warmtewisselaar? ","warmtevrager 42",42]
["Bevindt de warmtevrager zich stroomafwaarts van het buffervat of de warmtewisselaar? ","warmtevrager 43",43]
["Bevindt de warmtevrager zich stroomafwaarts van het buffervat of de warmtewisselaar? ","warmtevrager 44",44]
["Bevindt de warmtevrager zich stroomafwaarts van het buffervat of de warmtewisselaar? ","warmtevrager 45",45]
["Bevindt de warmtevrager zich stroomafwaarts van het buffervat of de warmtewisselaar? ","warmtevrager 46",46]
["Bevindt de warmtevrager zich stroomafwaarts van het buffervat of de warmtewisselaar? ","warmtevrager 47",47]
["Bevindt de warmtevrager zich stroomafwaarts van het buffervat of de warmtewisselaar? ","warmtevrager 48",48]
["Bevindt de warmtevrager zich stroomafwaarts van het buffervat of de warmtewisselaar? ","warmtevrager 49",49]
["Bevindt de warmtevrager zich stroomafwaarts van het buffervat of de warmtewisselaar? ","warmtevrager 50",50]
["Bevindt de warmtevrager zich stroomafwaarts van het buffervat of de warmtewisselaar? ","warmtevrager 51",51]
["Bevindt de warmtevrager zich stroomafwaarts van het buffervat of de warmtewisselaar? ","warmtevrager 52",52]
["Bevindt de warmtevrager zich stroomafwaarts van het buffervat of de warmtewisselaar? ","warmtevrager 53",53]
["Bevindt de warmtevrager zich stroomafwaarts van het buffervat of de warmtewisselaar? ","warmtevrager 54",54]
["Bevindt de warmtevrager zich stroomafwaarts van het buffervat of de warmtewisselaar? ","warmtevrager 55",55]
["Bevindt de warmtevrager zich stroomafwaarts van het buffervat of de warmtewisselaar? ","warmtevrager 56",56]
["Bevindt de warmtevrager zich stroomafwaarts van het buffervat of de warmtewisselaar? ","warmtevrager 57",57]
["Bevindt de warmtevrager zich stroomafwaarts van het buffervat of de warmtewisselaar? ","warmtevrager 58",58]
["Bevindt de warmtevrager zich stroomafwaarts van het buffervat of de warmtewisselaar? ","warmtevrager 59",59]
["Bevindt de warmtevrager zich stroomafwaarts van het buffervat of de warmtewisselaar? ","warmtevrager 60",60]
["Bevindt de warmtevrager zich stroomafwaarts van het buffervat of de warmtewisselaar? ","warmtevrager 61",61]
["Bevindt de warmtevrager zich stroomafwaarts van het buffervat of de warmtewisselaar? ","warmtevrager 62",62]
["Bevindt de warmtevrager zich stroomafwaarts van het buffervat of de warmtewisselaar? ","warmtevrager 63",63]
["Bevindt de warmtevrager zich stroomafwaarts van het buffervat of de warmtewisselaar? ","warmtevrager 64",64]
["Bevindt de warmtevrager zich stroomafwaarts van het buffervat of de warmtewisselaar? ","warmtevrager 65",65]
["Bevindt de warmtevrager zich stroomafwaarts van het buffervat of de warmtewisselaar? ","warmtevrager 66",66]
["Bevindt de warmtevrager zich stroomafwaarts van het buffervat of de warmtewisselaar? ",{"$f":"\"warmtevrager \"&C125","v":"warmtevrager 67"},{"$f":"C124+1","v":67}]
["Bevindt de warmtevrager zich stroomafwaarts van het buffervat of de warmtewisselaar? ","warmtevrager 68",68]
["Bevindt de warmtevrager zich stroomafwaarts van het buffervat of de warmtewisselaar? ","warmtevrager 69",69]
["Bevindt de warmtevrager zich stroomafwaarts van het buffervat of de warmtewisselaar? ","warmtevrager 70",70]
["Bevindt de warmtevrager zich stroomafwaarts van het buffervat of de warmtewisselaar? ","warmtevrager 71",71]
["Bevindt de warmtevrager zich stroomafwaarts van het buffervat of de warmtewisselaar? ","warmtevrager 72",72]
["Bevindt de warmtevrager zich stroomafwaarts van het buffervat of de warmtewisselaar? ","warmtevrager 73",73]
["Bevindt de warmtevrager zich stroomafwaarts van het buffervat of de warmtewisselaar? ","warmtevrager 74",74]
["Bevindt de warmtevrager zich stroomafwaarts van het buffervat of de warmtewisselaar? ","warmtevrager 75",75]
["Bevindt de warmtevrager zich stroomafwaarts van het buffervat of de warmtewisselaar? ","warmtevrager 76",76]
["Bevindt de warmtevrager zich stroomafwaarts van het buffervat of de warmtewisselaar? ","warmtevrager 77",77]
["Bevindt de warmtevrager zich stroomafwaarts van het buffervat of de warmtewisselaar? ","warmtevrager 78",78]
["Bevindt de warmtevrager zich stroomafwaarts van het buffervat of de warmtewisselaar? ","warmtevrager 79",79]
["Bevindt de warmtevrager zich stroomafwaarts van het buffervat of de warmtewisselaar? ","warmtevrager 80",80]
["Bevindt de warmtevrager zich stroomafwaarts van het buffervat of de warmtewisselaar? ","warmtevrager 81",81]
["Bevindt de warmtevrager zich stroomafwaarts van het buffervat of de warmtewisselaar? ","warmtevrager 82",82]
["Bevindt de warmtevrager zich stroomafwaarts van het buffervat of de warmtewisselaar? ","warmtevrager 83",83]
["Bevindt de warmtevrager zich stroomafwaarts van het buffervat of de warmtewisselaar? ","warmtevrager 84",84]
["Bevindt de warmtevrager zich stroomafwaarts van het buffervat of de warmtewisselaar? ","warmtevrager 85",85]
["Bevindt de warmtevrager zich stroomafwaarts van het buffervat of de warmtewisselaar? ","warmtevrager 86",86]
["Bevindt de warmtevrager zich stroomafwaarts van het buffervat of de warmtewisselaar? ","warmtevrager 87",87]
["Bevindt de warmtevrager zich stroomafwaarts van het buffervat of de warmtewisselaar? ","warmtevrager 88",88]
["Bevindt de warmtevrager zich stroomafwaarts van het buffervat of de warmtewisselaar? ","warmtevrager 89",89]
["Bevindt de warmtevrager zich stroomafwaarts van het buffervat of de warmtewisselaar? ","warmtevrager 90",90]
["Bevindt de warmtevrager zich stroomafwaarts van het buffervat of de warmtewisselaar? ","warmtevrager 91",91]
["Bevindt de warmtevrager zich stroomafwaarts van het buffervat of de warmtewisselaar? ","warmtevrager 92",92]
["Bevindt de warmtevrager zich stroomafwaarts van het buffervat of de warmtewisselaar? ","warmtevrager 93",93]
["Bevindt de warmtevrager zich stroomafwaarts van het buffervat of de warmtewisselaar? ","warmtevrager 94",94]
["Bevindt de warmtevrager zich stroomafwaarts van het buffervat of de warmtewisselaar? ","warmtevrager 95",95]
["Bevindt de warmtevrager zich stroomafwaarts van het buffervat of de warmtewisselaar? ","warmtevrager 96",96]
["Bevindt de warmtevrager zich stroomafwaarts van het buffervat of de warmtewisselaar? ","warmtevrager 97",97]
["Bevindt de warmtevrager zich stroomafwaarts van het buffervat of de warmtewisselaar? ","warmtevrager 98",98]
["Bevindt de warmtevrager zich stroomafwaarts van het buffervat of de warmtewisselaar? ","warmtevrager 99",99]
["Bevindt de warmtevrager zich stroomafwaarts van het buffervat of de warmtewisselaar? ","warmtevrager 100",100]
["Bevindt de warmtevrager zich stroomafwaarts van het buffervat of de warmtewisselaar? ","warmtevrager 101",101]
["Bevindt de warmtevrager zich stroomafwaarts van het buffervat of de warmtewisselaar? ","warmtevrager 102",102]
["Bevindt de warmtevrager zich stroomafwaarts van het buffervat of de warmtewisselaar? ","warmtevrager 103",103]
["Bevindt de warmtevrager zich stroomafwaarts van het buffervat of de warmtewisselaar? ","warmtevrager 104",104]
["Bevindt de warmtevrager zich stroomafwaarts van het buffervat of de warmtewisselaar? ","warmtevrager 105",105]
["Bevindt de warmtevrager zich stroomafwaarts van het buffervat of de warmtewisselaar? ","warmtevrager 106",106]
["Bevindt de warmtevrager zich stroomafwaarts van het buffervat of de warmtewisselaar? ","warmtevrager 107",107]
["Bevindt de warmtevrager zich stroomafwaarts van het buffervat of de warmtewisselaar? ","warmtevrager 108",108]
["Bevindt de warmtevrager zich stroomafwaarts van het buffervat of de warmtewisselaar? ","warmtevrager 109",109]
["Bevindt de warmtevrager zich stroomafwaarts van het buffervat of de warmtewisselaar? ","warmtevrager 110",110]
["Bevindt de warmtevrager zich stroomafwaarts van het buffervat of de warmtewisselaar? ","warmtevrager 111",111]
["Bevindt de warmtevrager zich stroomafwaarts van het buffervat of de warmtewisselaar? ","warmtevrager 112",112]
["Bevindt de warmtevrager zich stroomafwaarts van het buffervat of de warmtewisselaar? ","warmtevrager 113",113]
["Bevindt de warmtevrager zich stroomafwaarts van het buffervat of de warmtewisselaar? ","warmtevrager 114",114]
["Bevindt de warmtevrager zich stroomafwaarts van het buffervat of de warmtewisselaar? ","warmtevrager 115",115]
["Bevindt de warmtevrager zich stroomafwaarts van het buffervat of de warmtewisselaar? ","warmtevrager 116",116]
["Bevindt de warmtevrager zich stroomafwaarts van het buffervat of de warmtewisselaar? ","warmtevrager 117",117]
["Bevindt de warmtevrager zich stroomafwaarts van het buffervat of de warmtewisselaar? ","warmtevrager 118",118]
["Bevindt de warmtevrager zich stroomafwaarts van het buffervat of de warmtewisselaar? ","warmtevrager 119",119]
["Bevindt de warmtevrager zich stroomafwaarts van het buffervat of de warmtewisselaar? ","warmtevrager 120",120]
["Bevindt de warmtevrager zich stroomafwaarts van het buffervat of de warmtewisselaar? ","warmtevrager 121",121]
["Bevindt de warmtevrager zich stroomafwaarts van het buffervat of de warmtewisselaar? ","warmtevrager 122",122]
["Bevindt de warmtevrager zich stroomafwaarts van het buffervat of de warmtewisselaar? ","warmtevrager 123",123]
["Bevindt de warmtevrager zich stroomafwaarts van het buffervat of de warmtewisselaar? ","warmtevrager 124",124]
["Bevindt de warmtevrager zich stroomafwaarts van het buffervat of de warmtewisselaar? ","warmtevrager 125",125]
["Bevindt de warmtevrager zich stroomafwaarts van het buffervat of de warmtewisselaar? ","warmtevrager 126",126]
["Bevindt de warmtevrager zich stroomafwaarts van het buffervat of de warmtewisselaar? ","warmtevrager 127",127]
["Bevindt de warmtevrager zich stroomafwaarts van het buffervat of de warmtewisselaar? ","warmtevrager 128",128]
["Bevindt de warmtevrager zich stroomafwaarts van het buffervat of de warmtewisselaar? ","warmtevrager 129",129]
["Bevindt de warmtevrager zich stroomafwaarts van het buffervat of de warmtewisselaar? ","warmtevrager 130",130]
["Bevindt de warmtevrager zich stroomafwaarts van het buffervat of de warmtewisselaar? ",{"$f":"\"warmtevrager \"&C189","v":"warmtevrager 131"},{"$f":"C188+1","v":131}]
["Bevindt de warmtevrager zich stroomafwaarts van het buffervat of de warmtewisselaar? ","warmtevrager 132",132]
["Bevindt de warmtevrager zich stroomafwaarts van het buffervat of de warmtewisselaar? ","warmtevrager 133",133]
["Bevindt de warmtevrager zich stroomafwaarts van het buffervat of de warmtewisselaar? ","warmtevrager 134",134]
["Bevindt de warmtevrager zich stroomafwaarts van het buffervat of de warmtewisselaar? ","warmtevrager 135",135]
["Bevindt de warmtevrager zich stroomafwaarts van het buffervat of de warmtewisselaar? ","warmtevrager 136",136]
["Bevindt de warmtevrager zich stroomafwaarts van het buffervat of de warmtewisselaar? ","warmtevrager 137",137]
["Bevindt de warmtevrager zich stroomafwaarts van het buffervat of de warmtewisselaar? ","warmtevrager 138",138]
["Bevindt de warmtevrager zich stroomafwaarts van het buffervat of de warmtewisselaar? ","warmtevrager 139",139]
["Bevindt de warmtevrager zich stroomafwaarts van het buffervat of de warmtewisselaar? ","warmtevrager 140",140]
["Bevindt de warmtevrager zich stroomafwaarts van het buffervat of de warmtewisselaar? ","warmtevrager 141",141]
["Bevindt de warmtevrager zich stroomafwaarts van het buffervat of de warmtewisselaar? ","warmtevrager 142",142]
["Bevindt de warmtevrager zich stroomafwaarts van het buffervat of de warmtewisselaar? ","warmtevrager 143",143]
["Bevindt de warmtevrager zich stroomafwaarts van het buffervat of de warmtewisselaar? ","warmtevrager 144",144]
["Bevindt de warmtevrager zich stroomafwaarts van het buffervat of de warmtewisselaar? ","warmtevrager 145",145]
["Bevindt de warmtevrager zich stroomafwaarts van het buffervat of de warmtewisselaar? ","warmtevrager 146",146]
["Bevindt de warmtevrager zich stroomafwaarts van het buffervat of de warmtewisselaar? ","warmtevrager 147",147]
["Bevindt de warmtevrager zich stroomafwaarts van het buffervat of de warmtewisselaar? ","warmtevrager 148",148]
["Bevindt de warmtevrager zich stroomafwaarts van het buffervat of de warmtewisselaar? ","warmtevrager 149",149]
["Bevindt de warmtevrager zich stroomafwaarts van het buffervat of de warmtewisselaar? ","warmtevrager 150",150]
["Bevindt de warmtevrager zich stroomafwaarts van het buffervat of de warmtewisselaar? ","warmtevrager 151",151]
["Bevindt de warmtevrager zich stroomafwaarts van het buffervat of de warmtewisselaar? ","warmtevrager 152",152]
["Bevindt de warmtevrager zich stroomafwaarts van het buffervat of de warmtewisselaar? ","warmtevrager 153",153]
["Bevindt de warmtevrager zich stroomafwaarts van het buffervat of de warmtewisselaar? ","warmtevrager 154",154]
["Bevindt de warmtevrager zich stroomafwaarts van het buffervat of de warmtewisselaar? ","warmtevrager 155",155]
["Bevindt de warmtevrager zich stroomafwaarts van het buffervat of de warmtewisselaar? ","warmtevrager 156",156]
["Bevindt de warmtevrager zich stroomafwaarts van het buffervat of de warmtewisselaar? ","warmtevrager 157",157]
["Bevindt de warmtevrager zich stroomafwaarts van het buffervat of de warmtewisselaar? ","warmtevrager 158",158]
["Bevindt de warmtevrager zich stroomafwaarts van het buffervat of de warmtewisselaar? ","warmtevrager 159",159]
["Bevindt de warmtevrager zich stroomafwaarts van het buffervat of de warmtewisselaar? ","warmtevrager 160",160]
["Bevindt de warmtevrager zich stroomafwaarts van het buffervat of de warmtewisselaar? ","warmtevrager 161",161]
["Bevindt de warmtevrager zich stroomafwaarts van het buffervat of de warmtewisselaar? ","warmtevrager 162",162]
["Bevindt de warmtevrager zich stroomafwaarts van het buffervat of de warmtewisselaar? ","warmtevrager 163",163]
["Bevindt de warmtevrager zich stroomafwaarts van het buffervat of de warmtewisselaar? ","warmtevrager 164",164]
["Bevindt de warmtevrager zich stroomafwaarts van het buffervat of de warmtewisselaar? ","warmtevrager 165",165]
["Bevindt de warmtevrager zich stroomafwaarts van het buffervat of de warmtewisselaar? ","warmtevrager 166",166]
["Bevindt de warmtevrager zich stroomafwaarts van het buffervat of de warmtewisselaar? ","warmtevrager 167",167]
["Bevindt de warmtevrager zich stroomafwaarts van het buffervat of de warmtewisselaar? ","warmtevrager 168",168]
["Bevindt de warmtevrager zich stroomafwaarts van het buffervat of de warmtewisselaar? ","warmtevrager 169",169]
["Bevindt de warmtevrager zich stroomafwaarts van het buffervat of de warmtewisselaar? ","warmtevrager 170",170]
["Bevindt de warmtevrager zich stroomafwaarts van het buffervat of de warmtewisselaar? ","warmtevrager 171",171]
["Bevindt de warmtevrager zich stroomafwaarts van het buffervat of de warmtewisselaar? ","warmtevrager 172",172]
["Bevindt de warmtevrager zich stroomafwaarts van het buffervat of de warmtewisselaar? ","warmtevrager 173",173]
["Bevindt de warmtevrager zich stroomafwaarts van het buffervat of de warmtewisselaar? ","warmtevrager 174",174]
["Bevindt de warmtevrager zich stroomafwaarts van het buffervat of de warmtewisselaar? ","warmtevrager 175",175]
["Bevindt de warmtevrager zich stroomafwaarts van het buffervat of de warmtewisselaar? ","warmtevrager 176",176]
["Bevindt de warmtevrager zich stroomafwaarts van het buffervat of de warmtewisselaar? ","warmtevrager 177",177]
["Bevindt de warmtevrager zich stroomafwaarts van het buffervat of de warmtewisselaar? ","warmtevrager 178",178]
["Bevindt de warmtevrager zich stroomafwaarts van het buffervat of de warmtewisselaar? ","warmtevrager 179",179]
["Bevindt de warmtevrager zich stroomafwaarts van het buffervat of de warmtewisselaar? ","warmtevrager 180",180]
["Bevindt de warmtevrager zich stroomafwaarts van het buffervat of de warmtewisselaar? ","warmtevrager 181",181]
["Bevindt de warmtevrager zich stroomafwaarts van het buffervat of de warmtewisselaar? ","warmtevrager 182",182]
["Bevindt de warmtevrager zich stroomafwaarts van het buffervat of de warmtewisselaar? ","warmtevrager 183",183]
["Bevindt de warmtevrager zich stroomafwaarts van het buffervat of de warmtewisselaar? ","warmtevrager 184",184]
["Bevindt de warmtevrager zich stroomafwaarts van het buffervat of de warmtewisselaar? ","warmtevrager 185",185]
["Bevindt de warmtevrager zich stroomafwaarts van het buffervat of de warmtewisselaar? ","warmtevrager 186",186]
["Bevindt de warmtevrager zich stroomafwaarts van het buffervat of de warmtewisselaar? ","warmtevrager 187",187]
["Bevindt de warmtevrager zich stroomafwaarts van het buffervat of de warmtewisselaar? ","warmtevrager 188",188]
["Bevindt de warmtevrager zich stroomafwaarts van het buffervat of de warmtewisselaar? ","warmtevrager 189",189]
["Bevindt de warmtevrager zich stroomafwaarts van het buffervat of de warmtewisselaar? ","warmtevrager 190",190]
["Bevindt de warmtevrager zich stroomafwaarts van het buffervat of de warmtewisselaar? ","warmtevrager 191",191]
["Bevindt de warmtevrager zich stroomafwaarts van het buffervat of de warmtewisselaar? ","warmtevrager 192",192]
["Bevindt de warmtevrager zich stroomafwaarts van het buffervat of de warmtewisselaar? ","warmtevrager 193",193]
["Bevindt de warmtevrager zich stroomafwaarts van het buffervat of de warmtewisselaar? ","warmtevrager 194",194]
["Bevindt de warmtevrager zich stroomafwaarts van het buffervat of de warmtewisselaar? ",{"$f":"\"warmtevrager \"&C253","v":"warmtevrager 195"},{"$f":"C252+1","v":195}]
["Bevindt de warmtevrager zich stroomafwaarts van het buffervat of de warmtewisselaar? ","warmtevrager 196",196]
["Bevindt de warmtevrager zich stroomafwaarts van het buffervat of de warmtewisselaar? ","warmtevrager 197",197]
["Bevindt de warmtevrager zich stroomafwaarts van het buffervat of de warmtewisselaar? ","warmtevrager 198",198]
["Bevindt de warmtevrager zich stroomafwaarts van het buffervat of de warmtewisselaar? ","warmtevrager 199",199]
["Bevindt de warmtevrager zich stroomafwaarts van het buffervat of de warmtewisselaar? ","warmtevrager 200",200]
["Resultaat Qlossloc,l [MJ]",null,null,{"$f":"D263*(1-D262)","v":0},{"$f":"E263*(1-E262)","v":0},0,0,0,0,0,0,0,0,0,0,0,0,0,0,0,0,0,0,0,0,0,0,0,0,0,0,0,0,0,0,0,0,0,0,0,0,0,0,0,0,0,0,0,0,0,0,{"$f":"AZ263*(1-AZ262)","v":0},0]
[]
["3. Berekeningen vanaf hier verbergen",null,null,{"$f":"\"Buffervat of warmtewisselaar \"&D$515","v":"Buffervat of warmtewisselaar 1"},{"$f":"\"Buffervat of warmtewisselaar \"&E$515","v":"Buffervat of warmtewisselaar 2"},{"$f":"\"Buffervat of warmtewisselaar \"&F$515","v":"Buffervat of warmtewisselaar 3"},{"$f":"\"Buffervat of warmtewisselaar \"&G$515","v":"Buffervat of warmtewisselaar 4"},"Buffervat of warmtewisselaar 5","Buffervat of warmtewisselaar 6","Buffervat of warmtewisselaar 7","Buffervat of warmtewisselaar 8","Buffervat of warmtewisselaar 9","Buffervat of warmtewisselaar 10","Buffervat of warmtewisselaar 11","Buffervat of warmtewisselaar 12","Buffervat of warmtewisselaar 13","Buffervat of warmtewisselaar 14","Buffervat of warmtewisselaar 15","Buffervat of warmtewisselaar 16","Buffervat of warmtewisselaar 17","Buffervat of warmtewisselaar 18","Buffervat of warmtewisselaar 19","Buffervat of warmtewisselaar 20","Buffervat of warmtewisselaar 21","Buffervat of warmtewisselaar 22","Buffervat of warmtewisselaar 23","Buffervat of warmtewisselaar 24","Buffervat of warmtewisselaar 25","Buffervat of warmtewisselaar 26","Buffervat of warmtewisselaar 27","Buffervat of warmtewisselaar 28","Buffervat of warmtewisselaar 29","Buffervat of warmtewisselaar 30","Buffervat of warmtewisselaar 31","Buffervat of warmtewisselaar 32","Buffervat of warmtewisselaar 33","Buffervat of warmtewisselaar 34","Buffervat of warmtewisselaar 35","Buffervat of warmtewisselaar 36","Buffervat of warmtewisselaar 37","Buffervat of warmtewisselaar 38","Buffervat of warmtewisselaar 39","Buffervat of warmtewisselaar 40","Buffervat of warmtewisselaar 41","Buffervat of warmtewisselaar 42","Buffervat of warmtewisselaar 43","Buffervat of warmtewisselaar 44","Buffervat of warmtewisselaar 45","Buffervat of warmtewisselaar 46","Buffervat of warmtewisselaar 47","Buffervat of warmtewisselaar 48","Buffervat of warmtewisselaar 49","Buffervat of warmtewisselaar 50"]
["hl",null,null,{"$f":"IF(D8=Keuzelijsten!$A$17,1,0.97)","v":0.97},{"$f":"IF(E8=Keuzelijsten!$A$17,1,0.97)","v":0.97},{"$f":"IF(F8=Keuzelijsten!$A$17,1,0.97)","v":0.97},{"$f":"IF(G8=Keuzelijsten!$A$17,1,0.97)","v":0.97},{"$f":"IF(H8=Keuzelijsten!$A$17,1,0.97)","v":0.97},{"$f":"IF(I8=Keuzelijsten!$A$17,1,0.97)","v":0.97},{"$f":"IF(J8=Keuzelijsten!$A$17,1,0.97)","v":0.97},{"$f":"IF(K8=Keuzelijsten!$A$17,1,0.97)","v":0.97},{"$f":"IF(L8=Keuzelijsten!$A$17,1,0.97)","v":0.97},{"$f":"IF(M8=Keuzelijsten!$A$17,1,0.97)","v":0.97},{"$f":"IF(N8=Keuzelijsten!$A$17,1,0.97)","v":0.97},{"$f":"IF(O8=Keuzelijsten!$A$17,1,0.97)","v":0.97},{"$f":"IF(P8=Keuzelijsten!$A$17,1,0.97)","v":0.97},{"$f":"IF(Q8=Keuzelijsten!$A$17,1,0.97)","v":0.97},{"$f":"IF(R8=Keuzelijsten!$A$17,1,0.97)","v":0.97},{"$f":"IF(S8=Keuzelijsten!$A$17,1,0.97)","v":0.97},{"$f":"IF(T8=Keuzelijsten!$A$17,1,0.97)","v":0.97},{"$f":"IF(U8=Keuzelijsten!$A$17,1,0.97)","v":0.97},{"$f":"IF(V8=Keuzelijsten!$A$17,1,0.97)","v":0.97},{"$f":"IF(W8=Keuzelijsten!$A$17,1,0.97)","v":0.97},{"$f":"IF(X8=Keuzelijsten!$A$17,1,0.97)","v":0.97},{"$f":"IF(Y8=Keuzelijsten!$A$17,1,0.97)","v":0.97},{"$f":"IF(Z8=Keuzelijsten!$A$17,1,0.97)","v":0.97},{"$f":"IF(AA8=Keuzelijsten!$A$17,1,0.97)","v":0.97},{"$f":"IF(AB8=Keuzelijsten!$A$17,1,0.97)","v":0.97},{"$f":"IF(AC8=Keuzelijsten!$A$17,1,0.97)","v":0.97},{"$f":"IF(AD8=Keuzelijsten!$A$17,1,0.97)","v":0.97},{"$f":"IF(AE8=Keuzelijsten!$A$17,1,0.97)","v":0.97},{"$f":"IF(AF8=Keuzelijsten!$A$17,1,0.97)","v":0.97},{"$f":"IF(AG8=Keuzelijsten!$A$17,1,0.97)","v":0.97},{"$f":"IF(AH8=Keuzelijsten!$A$17,1,0.97)","v":0.97},{"$f":"IF(AI8=Keuzelijsten!$A$17,1,0.97)","v":0.97},{"$f":"IF(AJ8=Keuzelijsten!$A$17,1,0.97)","v":0.97},{"$f":"IF(AK8=Keuzelijsten!$A$17,1,0.97)","v":0.97},{"$f":"IF(AL8=Keuzelijsten!$A$17,1,0.97)","v":0.97},{"$f":"IF(AM8=Keuzelijsten!$A$17,1,0.97)","v":0.97},{"$f":"IF(AN8=Keuzelijsten!$A$17,1,0.97)","v":0.97},{"$f":"IF(AO8=Keuzelijsten!$A$17,1,0.97)","v":0.97},{"$f":"IF(AP8=Keuzelijsten!$A$17,1,0.97)","v":0.97},{"$f":"IF(AQ8=Keuzelijsten!$A$17,1,0.97)","v":0.97},{"$f":"IF(AR8=Keuzelijsten!$A$17,1,0.97)","v":0.97},{"$f":"IF(AS8=Keuzelijsten!$A$17,1,0.97)","v":0.97},{"$f":"IF(AT8=Keuzelijsten!$A$17,1,0.97)","v":0.97},{"$f":"IF(AU8=Keuzelijsten!$A$17,1,0.97)","v":0.97},{"$f":"IF(AV8=Keuzelijsten!$A$17,1,0.97)","v":0.97},{"$f":"IF(AW8=Keuzelijsten!$A$17,1,0.97)","v":0.97},{"$f":"IF(AX8=Keuzelijsten!$A$17,1,0.97)","v":0.97},{"$f":"IF(AY8=Keuzelijsten!$A$17,1,0.97)","v":0.97},{"$f":"IF(AZ8=Keuzelijsten!$A$17,1,0.97)","v":0.97},{"$f":"IF(BA8=Keuzelijsten!$A$17,1,0.97)","v":0.97}]
["Qdelloc,l [MJ]",null,null,{"$f":"SUM(D264:D513 )","v":0},{"$f":"SUM(E264:E513 )","v":0},{"$f":"SUM(F264:F513 )","v":0},{"$f":"SUM(G264:G513 )","v":0},0,0,0,0,0,0,0,0,0,0,0,0,0,0,0,0,0,0,0,0,0,0,0,0,0,0,0,0,0,0,0,0,0,0,0,0,0,0,0,0,0,0,0,0,0,0]
["Qlossdist,l,n [MJ]",{"$f":"\"segment \"&C264","v":"segment 1"},1,{"$f":"IF(D9=\"Ja\",'Qlossdist,dh'!$C8,0)","v":0},{"$f":"IF(E9=\"Ja\",'Qlossdist,dh'!$C8,0)","v":0},{"$f":"IF(F9=\"Ja\",'Qlossdist,dh'!$C8,0)","v":0},{"$f":"IF(G9=\"Ja\",'Qlossdist,dh'!$C8,0)","v":0},{"$f":"IF(H9=\"Ja\",'Qlossdist,dh'!$C8,0)","v":0},{"$f":"IF(I9=\"Ja\",'Qlossdist,dh'!$C8,0)","v":0},{"$f":"IF(J9=\"Ja\",'Qlossdist,dh'!$C8,0)","v":0},{"$f":"IF(K9=\"Ja\",'Qlossdist,dh'!$C8,0)","v":0},{"$f":"IF(L9=\"Ja\",'Qlossdist,dh'!$C8,0)","v":0},{"$f":"IF(M9=\"Ja\",'Qlossdist,dh'!$C8,0)","v":0},{"$f":"IF(N9=\"Ja\",'Qlossdist,dh'!$C8,0)","v":0},{"$f":"IF(O9=\"Ja\",'Qlossdist,dh'!$C8,0)","v":0},{"$f":"IF(P9=\"Ja\",'Qlossdist,dh'!$C8,0)","v":0},{"$f":"IF(Q9=\"Ja\",'Qlossdist,dh'!$C8,0)","v":0},{"$f":"IF(R9=\"Ja\",'Qlossdist,dh'!$C8,0)","v":0},{"$f":"IF(S9=\"Ja\",'Qlossdist,dh'!$C8,0)","v":0},{"$f":"IF(T9=\"Ja\",'Qlossdist,dh'!$C8,0)","v":0},{"$f":"IF(U9=\"Ja\",'Qlossdist,dh'!$C8,0)","v":0},{"$f":"IF(V9=\"Ja\",'Qlossdist,dh'!$C8,0)","v":0},{"$f":"IF(W9=\"Ja\",'Qlossdist,dh'!$C8,0)","v":0},{"$f":"IF(X9=\"Ja\",'Qlossdist,dh'!$C8,0)","v":0},{"$f":"IF(Y9=\"Ja\",'Qlossdist,dh'!$C8,0)","v":0},{"$f":"IF(Z9=\"Ja\",'Qlossdist,dh'!$C8,0)","v":0},{"$f":"IF(AA9=\"Ja\",'Qlossdist,dh'!$C8,0)","v":0},{"$f":"IF(AB9=\"Ja\",'Qlossdist,dh'!$C8,0)","v":0},{"$f":"IF(AC9=\"Ja\",'Qlossdist,dh'!$C8,0)","v":0},{"$f":"IF(AD9=\"Ja\",'Qlossdist,dh'!$C8,0)","v":0},{"$f":"IF(AE9=\"Ja\",'Qlossdist,dh'!$C8,0)","v":0},{"$f":"IF(AF9=\"Ja\",'Qlossdist,dh'!$C8,0)","v":0},{"$f":"IF(AG9=\"Ja\",'Qlossdist,dh'!$C8,0)","v":0},{"$f":"IF(AH9=\"Ja\",'Qlossdist,dh'!$C8,0)","v":0},{"$f":"IF(AI9=\"Ja\",'Qlossdist,dh'!$C8,0)","v":0},{"$f":"IF(AJ9=\"Ja\",'Qlossdist,dh'!$C8,0)","v":0},{"$f":"IF(AK9=\"Ja\",'Qlossdist,dh'!$C8,0)","v":0},{"$f":"IF(AL9=\"Ja\",'Qlossdist,dh'!$C8,0)","v":0},{"$f":"IF(AM9=\"Ja\",'Qlossdist,dh'!$C8,0)","v":0},{"$f":"IF(AN9=\"Ja\",'Qlossdist,dh'!$C8,0)","v":0},{"$f":"IF(AO9=\"Ja\",'Qlossdist,dh'!$C8,0)","v":0},{"$f":"IF(AP9=\"Ja\",'Qlossdist,dh'!$C8,0)","v":0},{"$f":"IF(AQ9=\"Ja\",'Qlossdist,dh'!$C8,0)","v":0},{"$f":"IF(AR9=\"Ja\",'Qlossdist,dh'!$C8,0)","v":0},{"$f":"IF(AS9=\"Ja\",'Qlossdist,dh'!$C8,0)","v":0},{"$f":"IF(AT9=\"Ja\",'Qlossdist,dh'!$C8,0)","v":0},{"$f":"IF(AU9=\"Ja\",'Qlossdist,dh'!$C8,0)","v":0},{"$f":"IF(AV9=\"Ja\",'Qlossdist,dh'!$C8,0)","v":0},{"$f":"IF(AW9=\"Ja\",'Qlossdist,dh'!$C8,0)","v":0},{"$f":"IF(AX9=\"Ja\",'Qlossdist,dh'!$C8,0)","v":0},{"$f":"IF(AY9=\"Ja\",'Qlossdist,dh'!$C8,0)","v":0},{"$f":"IF(AZ9=\"Ja\",'Qlossdist,dh'!$C8,0)","v":0},{"$f":"IF(BA9=\"Ja\",'Qlossdist,dh'!$C8,0)","v":0}]
["Qlossdist,l,n [MJ]",{"$f":"\"segment \"&C265","v":"segment 2"},{"$f":"C264+1","v":2},{"$f":"IF(D10=\"Ja\",'Qlossdist,dh'!$C9,0)","v":0},{"$f":"IF(E10=\"Ja\",'Qlossdist,dh'!$C9,0)","v":0},{"$f":"IF(F10=\"Ja\",'Qlossdist,dh'!$C9,0)","v":0},{"$f":"IF(G10=\"Ja\",'Qlossdist,dh'!$C9,0)","v":0},{"$f":"IF(H10=\"Ja\",'Qlossdist,dh'!$C9,0)","v":0},{"$f":"IF(I10=\"Ja\",'Qlossdist,dh'!$C9,0)","v":0},{"$f":"IF(J10=\"Ja\",'Qlossdist,dh'!$C9,0)","v":0},{"$f":"IF(K10=\"Ja\",'Qlossdist,dh'!$C9,0)","v":0},{"$f":"IF(L10=\"Ja\",'Qlossdist,dh'!$C9,0)","v":0},{"$f":"IF(M10=\"Ja\",'Qlossdist,dh'!$C9,0)","v":0},{"$f":"IF(N10=\"Ja\",'Qlossdist,dh'!$C9,0)","v":0},{"$f":"IF(O10=\"Ja\",'Qlossdist,dh'!$C9,0)","v":0},{"$f":"IF(P10=\"Ja\",'Qlossdist,dh'!$C9,0)","v":0},{"$f":"IF(Q10=\"Ja\",'Qlossdist,dh'!$C9,0)","v":0},{"$f":"IF(R10=\"Ja\",'Qlossdist,dh'!$C9,0)","v":0},{"$f":"IF(S10=\"Ja\",'Qlossdist,dh'!$C9,0)","v":0},{"$f":"IF(T10=\"Ja\",'Qlossdist,dh'!$C9,0)","v":0},{"$f":"IF(U10=\"Ja\",'Qlossdist,dh'!$C9,0)","v":0},{"$f":"IF(V10=\"Ja\",'Qlossdist,dh'!$C9,0)","v":0},{"$f":"IF(W10=\"Ja\",'Qlossdist,dh'!$C9,0)","v":0},{"$f":"IF(X10=\"Ja\",'Qlossdist,dh'!$C9,0)","v":0},{"$f":"IF(Y10=\"Ja\",'Qlossdist,dh'!$C9,0)","v":0},{"$f":"IF(Z10=\"Ja\",'Qlossdist,dh'!$C9,0)","v":0},{"$f":"IF(AA10=\"Ja\",'Qlossdist,dh'!$C9,0)","v":0},{"$f":"IF(AB10=\"Ja\",'Qlossdist,dh'!$C9,0)","v":0},{"$f":"IF(AC10=\"Ja\",'Qlossdist,dh'!$C9,0)","v":0},{"$f":"IF(AD10=\"Ja\",'Qlossdist,dh'!$C9,0)","v":0},{"$f":"IF(AE10=\"Ja\",'Qlossdist,dh'!$C9,0)","v":0},{"$f":"IF(AF10=\"Ja\",'Qlossdist,dh'!$C9,0)","v":0},{"$f":"IF(AG10=\"Ja\",'Qlossdist,dh'!$C9,0)","v":0},{"$f":"IF(AH10=\"Ja\",'Qlossdist,dh'!$C9,0)","v":0},{"$f":"IF(AI10=\"Ja\",'Qlossdist,dh'!$C9,0)","v":0},{"$f":"IF(AJ10=\"Ja\",'Qlossdist,dh'!$C9,0)","v":0},{"$f":"IF(AK10=\"Ja\",'Qlossdist,dh'!$C9,0)","v":0},{"$f":"IF(AL10=\"Ja\",'Qlossdist,dh'!$C9,0)","v":0},{"$f":"IF(AM10=\"Ja\",'Qlossdist,dh'!$C9,0)","v":0},{"$f":"IF(AN10=\"Ja\",'Qlossdist,dh'!$C9,0)","v":0},{"$f":"IF(AO10=\"Ja\",'Qlossdist,dh'!$C9,0)","v":0},{"$f":"IF(AP10=\"Ja\",'Qlossdist,dh'!$C9,0)","v":0},{"$f":"IF(AQ10=\"Ja\",'Qlossdist,dh'!$C9,0)","v":0},{"$f":"IF(AR10=\"Ja\",'Qlossdist,dh'!$C9,0)","v":0},{"$f":"IF(AS10=\"Ja\",'Qlossdist,dh'!$C9,0)","v":0},{"$f":"IF(AT10=\"Ja\",'Qlossdist,dh'!$C9,0)","v":0},{"$f":"IF(AU10=\"Ja\",'Qlossdist,dh'!$C9,0)","v":0},{"$f":"IF(AV10=\"Ja\",'Qlossdist,dh'!$C9,0)","v":0},{"$f":"IF(AW10=\"Ja\",'Qlossdist,dh'!$C9,0)","v":0},{"$f":"IF(AX10=\"Ja\",'Qlossdist,dh'!$C9,0)","v":0},{"$f":"IF(AY10=\"Ja\",'Qlossdist,dh'!$C9,0)","v":0},{"$f":"IF(AZ10=\"Ja\",'Qlossdist,dh'!$C9,0)","v":0},{"$f":"IF(BA10=\"Ja\",'Qlossdist,dh'!$C9,0)","v":0}]
["Qlossdist,l,n [MJ]",{"$f":"\"segment \"&C266","v":"segment 3"},{"$f":"C265+1","v":3},{"$f":"IF(D11=\"Ja\",'Qlossdist,dh'!$C10,0)","v":0},{"$f":"IF(E11=\"Ja\",'Qlossdist,dh'!$C10,0)","v":0},{"$f":"IF(F11=\"Ja\",'Qlossdist,dh'!$C10,0)","v":0},{"$f":"IF(G11=\"Ja\",'Qlossdist,dh'!$C10,0)","v":0},{"$f":"IF(H11=\"Ja\",'Qlossdist,dh'!$C10,0)","v":0},{"$f":"IF(I11=\"Ja\",'Qlossdist,dh'!$C10,0)","v":0},{"$f":"IF(J11=\"Ja\",'Qlossdist,dh'!$C10,0)","v":0},{"$f":"IF(K11=\"Ja\",'Qlossdist,dh'!$C10,0)","v":0},{"$f":"IF(L11=\"Ja\",'Qlossdist,dh'!$C10,0)","v":0},{"$f":"IF(M11=\"Ja\",'Qlossdist,dh'!$C10,0)","v":0},{"$f":"IF(N11=\"Ja\",'Qlossdist,dh'!$C10,0)","v":0},{"$f":"IF(O11=\"Ja\",'Qlossdist,dh'!$C10,0)","v":0},{"$f":"IF(P11=\"Ja\",'Qlossdist,dh'!$C10,0)","v":0},{"$f":"IF(Q11=\"Ja\",'Qlossdist,dh'!$C10,0)","v":0},{"$f":"IF(R11=\"Ja\",'Qlossdist,dh'!$C10,0)","v":0},{"$f":"IF(S11=\"Ja\",'Qlossdist,dh'!$C10,0)","v":0},{"$f":"IF(T11=\"Ja\",'Qlossdist,dh'!$C10,0)","v":0},{"$f":"IF(U11=\"Ja\",'Qlossdist,dh'!$C10,0)","v":0},{"$f":"IF(V11=\"Ja\",'Qlossdist,dh'!$C10,0)","v":0},{"$f":"IF(W11=\"Ja\",'Qlossdist,dh'!$C10,0)","v":0},{"$f":"IF(X11=\"Ja\",'Qlossdist,dh'!$C10,0)","v":0},{"$f":"IF(Y11=\"Ja\",'Qlossdist,dh'!$C10,0)","v":0},{"$f":"IF(Z11=\"Ja\",'Qlossdist,dh'!$C10,0)","v":0},{"$f":"IF(AA11=\"Ja\",'Qlossdist,dh'!$C10,0)","v":0},{"$f":"IF(AB11=\"Ja\",'Qlossdist,dh'!$C10,0)","v":0},{"$f":"IF(AC11=\"Ja\",'Qlossdist,dh'!$C10,0)","v":0},{"$f":"IF(AD11=\"Ja\",'Qlossdist,dh'!$C10,0)","v":0},{"$f":"IF(AE11=\"Ja\",'Qlossdist,dh'!$C10,0)","v":0},{"$f":"IF(AF11=\"Ja\",'Qlossdist,dh'!$C10,0)","v":0},{"$f":"IF(AG11=\"Ja\",'Qlossdist,dh'!$C10,0)","v":0},{"$f":"IF(AH11=\"Ja\",'Qlossdist,dh'!$C10,0)","v":0},{"$f":"IF(AI11=\"Ja\",'Qlossdist,dh'!$C10,0)","v":0},{"$f":"IF(AJ11=\"Ja\",'Qlossdist,dh'!$C10,0)","v":0},{"$f":"IF(AK11=\"Ja\",'Qlossdist,dh'!$C10,0)","v":0},{"$f":"IF(AL11=\"Ja\",'Qlossdist,dh'!$C10,0)","v":0},{"$f":"IF(AM11=\"Ja\",'Qlossdist,dh'!$C10,0)","v":0},{"$f":"IF(AN11=\"Ja\",'Qlossdist,dh'!$C10,0)","v":0},{"$f":"IF(AO11=\"Ja\",'Qlossdist,dh'!$C10,0)","v":0},{"$f":"IF(AP11=\"Ja\",'Qlossdist,dh'!$C10,0)","v":0},{"$f":"IF(AQ11=\"Ja\",'Qlossdist,dh'!$C10,0)","v":0},{"$f":"IF(AR11=\"Ja\",'Qlossdist,dh'!$C10,0)","v":0},{"$f":"IF(AS11=\"Ja\",'Qlossdist,dh'!$C10,0)","v":0},{"$f":"IF(AT11=\"Ja\",'Qlossdist,dh'!$C10,0)","v":0},{"$f":"IF(AU11=\"Ja\",'Qlossdist,dh'!$C10,0)","v":0},{"$f":"IF(AV11=\"Ja\",'Qlossdist,dh'!$C10,0)","v":0},{"$f":"IF(AW11=\"Ja\",'Qlossdist,dh'!$C10,0)","v":0},{"$f":"IF(AX11=\"Ja\",'Qlossdist,dh'!$C10,0)","v":0},{"$f":"IF(AY11=\"Ja\",'Qlossdist,dh'!$C10,0)","v":0},{"$f":"IF(AZ11=\"Ja\",'Qlossdist,dh'!$C10,0)","v":0},{"$f":"IF(BA11=\"Ja\",'Qlossdist,dh'!$C10,0)","v":0}]
["Qlossdist,l,n [MJ]","segment 4",4,{"$f":"IF(D12=\"Ja\",'Qlossdist,dh'!$C11,0)","v":0},{"$f":"IF(E12=\"Ja\",'Qlossdist,dh'!$C11,0)","v":0},{"$f":"IF(F12=\"Ja\",'Qlossdist,dh'!$C11,0)","v":0},{"$f":"IF(G12=\"Ja\",'Qlossdist,dh'!$C11,0)","v":0},{"$f":"IF(H12=\"Ja\",'Qlossdist,dh'!$C11,0)","v":0},{"$f":"IF(I12=\"Ja\",'Qlossdist,dh'!$C11,0)","v":0},{"$f":"IF(J12=\"Ja\",'Qlossdist,dh'!$C11,0)","v":0},{"$f":"IF(K12=\"Ja\",'Qlossdist,dh'!$C11,0)","v":0},{"$f":"IF(L12=\"Ja\",'Qlossdist,dh'!$C11,0)","v":0},{"$f":"IF(M12=\"Ja\",'Qlossdist,dh'!$C11,0)","v":0},{"$f":"IF(N12=\"Ja\",'Qlossdist,dh'!$C11,0)","v":0},{"$f":"IF(O12=\"Ja\",'Qlossdist,dh'!$C11,0)","v":0},{"$f":"IF(P12=\"Ja\",'Qlossdist,dh'!$C11,0)","v":0},{"$f":"IF(Q12=\"Ja\",'Qlossdist,dh'!$C11,0)","v":0},{"$f":"IF(R12=\"Ja\",'Qlossdist,dh'!$C11,0)","v":0},{"$f":"IF(S12=\"Ja\",'Qlossdist,dh'!$C11,0)","v":0},{"$f":"IF(T12=\"Ja\",'Qlossdist,dh'!$C11,0)","v":0},{"$f":"IF(U12=\"Ja\",'Qlossdist,dh'!$C11,0)","v":0},{"$f":"IF(V12=\"Ja\",'Qlossdist,dh'!$C11,0)","v":0},{"$f":"IF(W12=\"Ja\",'Qlossdist,dh'!$C11,0)","v":0},{"$f":"IF(X12=\"Ja\",'Qlossdist,dh'!$C11,0)","v":0},{"$f":"IF(Y12=\"Ja\",'Qlossdist,dh'!$C11,0)","v":0},{"$f":"IF(Z12=\"Ja\",'Qlossdist,dh'!$C11,0)","v":0},{"$f":"IF(AA12=\"Ja\",'Qlossdist,dh'!$C11,0)","v":0},{"$f":"IF(AB12=\"Ja\",'Qlossdist,dh'!$C11,0)","v":0},{"$f":"IF(AC12=\"Ja\",'Qlossdist,dh'!$C11,0)","v":0},{"$f":"IF(AD12=\"Ja\",'Qlossdist,dh'!$C11,0)","v":0},{"$f":"IF(AE12=\"Ja\",'Qlossdist,dh'!$C11,0)","v":0},{"$f":"IF(AF12=\"Ja\",'Qlossdist,dh'!$C11,0)","v":0},{"$f":"IF(AG12=\"Ja\",'Qlossdist,dh'!$C11,0)","v":0},{"$f":"IF(AH12=\"Ja\",'Qlossdist,dh'!$C11,0)","v":0},{"$f":"IF(AI12=\"Ja\",'Qlossdist,dh'!$C11,0)","v":0},{"$f":"IF(AJ12=\"Ja\",'Qlossdist,dh'!$C11,0)","v":0},{"$f":"IF(AK12=\"Ja\",'Qlossdist,dh'!$C11,0)","v":0},{"$f":"IF(AL12=\"Ja\",'Qlossdist,dh'!$C11,0)","v":0},{"$f":"IF(AM12=\"Ja\",'Qlossdist,dh'!$C11,0)","v":0},{"$f":"IF(AN12=\"Ja\",'Qlossdist,dh'!$C11,0)","v":0},{"$f":"IF(AO12=\"Ja\",'Qlossdist,dh'!$C11,0)","v":0},{"$f":"IF(AP12=\"Ja\",'Qlossdist,dh'!$C11,0)","v":0},{"$f":"IF(AQ12=\"Ja\",'Qlossdist,dh'!$C11,0)","v":0},{"$f":"IF(AR12=\"Ja\",'Qlossdist,dh'!$C11,0)","v":0},{"$f":"IF(AS12=\"Ja\",'Qlossdist,dh'!$C11,0)","v":0},{"$f":"IF(AT12=\"Ja\",'Qlossdist,dh'!$C11,0)","v":0},{"$f":"IF(AU12=\"Ja\",'Qlossdist,dh'!$C11,0)","v":0},{"$f":"IF(AV12=\"Ja\",'Qlossdist,dh'!$C11,0)","v":0},{"$f":"IF(AW12=\"Ja\",'Qlossdist,dh'!$C11,0)","v":0},{"$f":"IF(AX12=\"Ja\",'Qlossdist,dh'!$C11,0)","v":0},{"$f":"IF(AY12=\"Ja\",'Qlossdist,dh'!$C11,0)","v":0},{"$f":"IF(AZ12=\"Ja\",'Qlossdist,dh'!$C11,0)","v":0},{"$f":"IF(BA12=\"Ja\",'Qlossdist,dh'!$C11,0)","v":0}]
["Qlossdist,l,n [MJ]","segment 5",5,{"$f":"IF(D13=\"Ja\",'Qlossdist,dh'!$C12,0)","v":0},{"$f":"IF(E13=\"Ja\",'Qlossdist,dh'!$C12,0)","v":0},{"$f":"IF(F13=\"Ja\",'Qlossdist,dh'!$C12,0)","v":0},{"$f":"IF(G13=\"Ja\",'Qlossdist,dh'!$C12,0)","v":0},{"$f":"IF(H13=\"Ja\",'Qlossdist,dh'!$C12,0)","v":0},{"$f":"IF(I13=\"Ja\",'Qlossdist,dh'!$C12,0)","v":0},{"$f":"IF(J13=\"Ja\",'Qlossdist,dh'!$C12,0)","v":0},{"$f":"IF(K13=\"Ja\",'Qlossdist,dh'!$C12,0)","v":0},{"$f":"IF(L13=\"Ja\",'Qlossdist,dh'!$C12,0)","v":0},{"$f":"IF(M13=\"Ja\",'Qlossdist,dh'!$C12,0)","v":0},{"$f":"IF(N13=\"Ja\",'Qlossdist,dh'!$C12,0)","v":0},{"$f":"IF(O13=\"Ja\",'Qlossdist,dh'!$C12,0)","v":0},{"$f":"IF(P13=\"Ja\",'Qlossdist,dh'!$C12,0)","v":0},{"$f":"IF(Q13=\"Ja\",'Qlossdist,dh'!$C12,0)","v":0},{"$f":"IF(R13=\"Ja\",'Qlossdist,dh'!$C12,0)","v":0},{"$f":"IF(S13=\"Ja\",'Qlossdist,dh'!$C12,0)","v":0},{"$f":"IF(T13=\"Ja\",'Qlossdist,dh'!$C12,0)","v":0},{"$f":"IF(U13=\"Ja\",'Qlossdist,dh'!$C12,0)","v":0},{"$f":"IF(V13=\"Ja\",'Qlossdist,dh'!$C12,0)","v":0},{"$f":"IF(W13=\"Ja\",'Qlossdist,dh'!$C12,0)","v":0},{"$f":"IF(X13=\"Ja\",'Qlossdist,dh'!$C12,0)","v":0},{"$f":"IF(Y13=\"Ja\",'Qlossdist,dh'!$C12,0)","v":0},{"$f":"IF(Z13=\"Ja\",'Qlossdist,dh'!$C12,0)","v":0},{"$f":"IF(AA13=\"Ja\",'Qlossdist,dh'!$C12,0)","v":0},{"$f":"IF(AB13=\"Ja\",'Qlossdist,dh'!$C12,0)","v":0},{"$f":"IF(AC13=\"Ja\",'Qlossdist,dh'!$C12,0)","v":0},{"$f":"IF(AD13=\"Ja\",'Qlossdist,dh'!$C12,0)","v":0},{"$f":"IF(AE13=\"Ja\",'Qlossdist,dh'!$C12,0)","v":0},{"$f":"IF(AF13=\"Ja\",'Qlossdist,dh'!$C12,0)","v":0},{"$f":"IF(AG13=\"Ja\",'Qlossdist,dh'!$C12,0)","v":0},{"$f":"IF(AH13=\"Ja\",'Qlossdist,dh'!$C12,0)","v":0},{"$f":"IF(AI13=\"Ja\",'Qlossdist,dh'!$C12,0)","v":0},{"$f":"IF(AJ13=\"Ja\",'Qlossdist,dh'!$C12,0)","v":0},{"$f":"IF(AK13=\"Ja\",'Qlossdist,dh'!$C12,0)","v":0},{"$f":"IF(AL13=\"Ja\",'Qlossdist,dh'!$C12,0)","v":0},{"$f":"IF(AM13=\"Ja\",'Qlossdist,dh'!$C12,0)","v":0},{"$f":"IF(AN13=\"Ja\",'Qlossdist,dh'!$C12,0)","v":0},{"$f":"IF(AO13=\"Ja\",'Qlossdist,dh'!$C12,0)","v":0},{"$f":"IF(AP13=\"Ja\",'Qlossdist,dh'!$C12,0)","v":0},{"$f":"IF(AQ13=\"Ja\",'Qlossdist,dh'!$C12,0)","v":0},{"$f":"IF(AR13=\"Ja\",'Qlossdist,dh'!$C12,0)","v":0},{"$f":"IF(AS13=\"Ja\",'Qlossdist,dh'!$C12,0)","v":0},{"$f":"IF(AT13=\"Ja\",'Qlossdist,dh'!$C12,0)","v":0},{"$f":"IF(AU13=\"Ja\",'Qlossdist,dh'!$C12,0)","v":0},{"$f":"IF(AV13=\"Ja\",'Qlossdist,dh'!$C12,0)","v":0},{"$f":"IF(AW13=\"Ja\",'Qlossdist,dh'!$C12,0)","v":0},{"$f":"IF(AX13=\"Ja\",'Qlossdist,dh'!$C12,0)","v":0},{"$f":"IF(AY13=\"Ja\",'Qlossdist,dh'!$C12,0)","v":0},{"$f":"IF(AZ13=\"Ja\",'Qlossdist,dh'!$C12,0)","v":0},{"$f":"IF(BA13=\"Ja\",'Qlossdist,dh'!$C12,0)","v":0}]
["Qlossdist,l,n [MJ]","segment 6",6,{"$f":"IF(D14=\"Ja\",'Qlossdist,dh'!$C13,0)","v":0},{"$f":"IF(E14=\"Ja\",'Qlossdist,dh'!$C13,0)","v":0},{"$f":"IF(F14=\"Ja\",'Qlossdist,dh'!$C13,0)","v":0},{"$f":"IF(G14=\"Ja\",'Qlossdist,dh'!$C13,0)","v":0},{"$f":"IF(H14=\"Ja\",'Qlossdist,dh'!$C13,0)","v":0},{"$f":"IF(I14=\"Ja\",'Qlossdist,dh'!$C13,0)","v":0},{"$f":"IF(J14=\"Ja\",'Qlossdist,dh'!$C13,0)","v":0},{"$f":"IF(K14=\"Ja\",'Qlossdist,dh'!$C13,0)","v":0},{"$f":"IF(L14=\"Ja\",'Qlossdist,dh'!$C13,0)","v":0},{"$f":"IF(M14=\"Ja\",'Qlossdist,dh'!$C13,0)","v":0},{"$f":"IF(N14=\"Ja\",'Qlossdist,dh'!$C13,0)","v":0},{"$f":"IF(O14=\"Ja\",'Qlossdist,dh'!$C13,0)","v":0},{"$f":"IF(P14=\"Ja\",'Qlossdist,dh'!$C13,0)","v":0},{"$f":"IF(Q14=\"Ja\",'Qlossdist,dh'!$C13,0)","v":0},{"$f":"IF(R14=\"Ja\",'Qlossdist,dh'!$C13,0)","v":0},{"$f":"IF(S14=\"Ja\",'Qlossdist,dh'!$C13,0)","v":0},{"$f":"IF(T14=\"Ja\",'Qlossdist,dh'!$C13,0)","v":0},{"$f":"IF(U14=\"Ja\",'Qlossdist,dh'!$C13,0)","v":0},{"$f":"IF(V14=\"Ja\",'Qlossdist,dh'!$C13,0)","v":0},{"$f":"IF(W14=\"Ja\",'Qlossdist,dh'!$C13,0)","v":0},{"$f":"IF(X14=\"Ja\",'Qlossdist,dh'!$C13,0)","v":0},{"$f":"IF(Y14=\"Ja\",'Qlossdist,dh'!$C13,0)","v":0},{"$f":"IF(Z14=\"Ja\",'Qlossdist,dh'!$C13,0)","v":0},{"$f":"IF(AA14=\"Ja\",'Qlossdist,dh'!$C13,0)","v":0},{"$f":"IF(AB14=\"Ja\",'Qlossdist,dh'!$C13,0)","v":0},{"$f":"IF(AC14=\"Ja\",'Qlossdist,dh'!$C13,0)","v":0},{"$f":"IF(AD14=\"Ja\",'Qlossdist,dh'!$C13,0)","v":0},{"$f":"IF(AE14=\"Ja\",'Qlossdist,dh'!$C13,0)","v":0},{"$f":"IF(AF14=\"Ja\",'Qlossdist,dh'!$C13,0)","v":0},{"$f":"IF(AG14=\"Ja\",'Qlossdist,dh'!$C13,0)","v":0},{"$f":"IF(AH14=\"Ja\",'Qlossdist,dh'!$C13,0)","v":0},{"$f":"IF(AI14=\"Ja\",'Qlossdist,dh'!$C13,0)","v":0},{"$f":"IF(AJ14=\"Ja\",'Qlossdist,dh'!$C13,0)","v":0},{"$f":"IF(AK14=\"Ja\",'Qlossdist,dh'!$C13,0)","v":0},{"$f":"IF(AL14=\"Ja\",'Qlossdist,dh'!$C13,0)","v":0},{"$f":"IF(AM14=\"Ja\",'Qlossdist,dh'!$C13,0)","v":0},{"$f":"IF(AN14=\"Ja\",'Qlossdist,dh'!$C13,0)","v":0},{"$f":"IF(AO14=\"Ja\",'Qlossdist,dh'!$C13,0)","v":0},{"$f":"IF(AP14=\"Ja\",'Qlossdist,dh'!$C13,0)","v":0},{"$f":"IF(AQ14=\"Ja\",'Qlossdist,dh'!$C13,0)","v":0},{"$f":"IF(AR14=\"Ja\",'Qlossdist,dh'!$C13,0)","v":0},{"$f":"IF(AS14=\"Ja\",'Qlossdist,dh'!$C13,0)","v":0},{"$f":"IF(AT14=\"Ja\",'Qlossdist,dh'!$C13,0)","v":0},{"$f":"IF(AU14=\"Ja\",'Qlossdist,dh'!$C13,0)","v":0},{"$f":"IF(AV14=\"Ja\",'Qlossdist,dh'!$C13,0)","v":0},{"$f":"IF(AW14=\"Ja\",'Qlossdist,dh'!$C13,0)","v":0},{"$f":"IF(AX14=\"Ja\",'Qlossdist,dh'!$C13,0)","v":0},{"$f":"IF(AY14=\"Ja\",'Qlossdist,dh'!$C13,0)","v":0},{"$f":"IF(AZ14=\"Ja\",'Qlossdist,dh'!$C13,0)","v":0},{"$f":"IF(BA14=\"Ja\",'Qlossdist,dh'!$C13,0)","v":0}]
["Qlossdist,l,n [MJ]","segment 7",7,{"$f":"IF(D15=\"Ja\",'Qlossdist,dh'!$C14,0)","v":0},{"$f":"IF(E15=\"Ja\",'Qlossdist,dh'!$C14,0)","v":0},{"$f":"IF(F15=\"Ja\",'Qlossdist,dh'!$C14,0)","v":0},{"$f":"IF(G15=\"Ja\",'Qlossdist,dh'!$C14,0)","v":0},{"$f":"IF(H15=\"Ja\",'Qlossdist,dh'!$C14,0)","v":0},{"$f":"IF(I15=\"Ja\",'Qlossdist,dh'!$C14,0)","v":0},{"$f":"IF(J15=\"Ja\",'Qlossdist,dh'!$C14,0)","v":0},{"$f":"IF(K15=\"Ja\",'Qlossdist,dh'!$C14,0)","v":0},{"$f":"IF(L15=\"Ja\",'Qlossdist,dh'!$C14,0)","v":0},{"$f":"IF(M15=\"Ja\",'Qlossdist,dh'!$C14,0)","v":0},{"$f":"IF(N15=\"Ja\",'Qlossdist,dh'!$C14,0)","v":0},{"$f":"IF(O15=\"Ja\",'Qlossdist,dh'!$C14,0)","v":0},{"$f":"IF(P15=\"Ja\",'Qlossdist,dh'!$C14,0)","v":0},{"$f":"IF(Q15=\"Ja\",'Qlossdist,dh'!$C14,0)","v":0},{"$f":"IF(R15=\"Ja\",'Qlossdist,dh'!$C14,0)","v":0},{"$f":"IF(S15=\"Ja\",'Qlossdist,dh'!$C14,0)","v":0},{"$f":"IF(T15=\"Ja\",'Qlossdist,dh'!$C14,0)","v":0},{"$f":"IF(U15=\"Ja\",'Qlossdist,dh'!$C14,0)","v":0},{"$f":"IF(V15=\"Ja\",'Qlossdist,dh'!$C14,0)","v":0},{"$f":"IF(W15=\"Ja\",'Qlossdist,dh'!$C14,0)","v":0},{"$f":"IF(X15=\"Ja\",'Qlossdist,dh'!$C14,0)","v":0},{"$f":"IF(Y15=\"Ja\",'Qlossdist,dh'!$C14,0)","v":0},{"$f":"IF(Z15=\"Ja\",'Qlossdist,dh'!$C14,0)","v":0},{"$f":"IF(AA15=\"Ja\",'Qlossdist,dh'!$C14,0)","v":0},{"$f":"IF(AB15=\"Ja\",'Qlossdist,dh'!$C14,0)","v":0},{"$f":"IF(AC15=\"Ja\",'Qlossdist,dh'!$C14,0)","v":0},{"$f":"IF(AD15=\"Ja\",'Qlossdist,dh'!$C14,0)","v":0},{"$f":"IF(AE15=\"Ja\",'Qlossdist,dh'!$C14,0)","v":0},{"$f":"IF(AF15=\"Ja\",'Qlossdist,dh'!$C14,0)","v":0},{"$f":"IF(AG15=\"Ja\",'Qlossdist,dh'!$C14,0)","v":0},{"$f":"IF(AH15=\"Ja\",'Qlossdist,dh'!$C14,0)","v":0},{"$f":"IF(AI15=\"Ja\",'Qlossdist,dh'!$C14,0)","v":0},{"$f":"IF(AJ15=\"Ja\",'Qlossdist,dh'!$C14,0)","v":0},{"$f":"IF(AK15=\"Ja\",'Qlossdist,dh'!$C14,0)","v":0},{"$f":"IF(AL15=\"Ja\",'Qlossdist,dh'!$C14,0)","v":0},{"$f":"IF(AM15=\"Ja\",'Qlossdist,dh'!$C14,0)","v":0},{"$f":"IF(AN15=\"Ja\",'Qlossdist,dh'!$C14,0)","v":0},{"$f":"IF(AO15=\"Ja\",'Qlossdist,dh'!$C14,0)","v":0},{"$f":"IF(AP15=\"Ja\",'Qlossdist,dh'!$C14,0)","v":0},{"$f":"IF(AQ15=\"Ja\",'Qlossdist,dh'!$C14,0)","v":0},{"$f":"IF(AR15=\"Ja\",'Qlossdist,dh'!$C14,0)","v":0},{"$f":"IF(AS15=\"Ja\",'Qlossdist,dh'!$C14,0)","v":0},{"$f":"IF(AT15=\"Ja\",'Qlossdist,dh'!$C14,0)","v":0},{"$f":"IF(AU15=\"Ja\",'Qlossdist,dh'!$C14,0)","v":0},{"$f":"IF(AV15=\"Ja\",'Qlossdist,dh'!$C14,0)","v":0},{"$f":"IF(AW15=\"Ja\",'Qlossdist,dh'!$C14,0)","v":0},{"$f":"IF(AX15=\"Ja\",'Qlossdist,dh'!$C14,0)","v":0},{"$f":"IF(AY15=\"Ja\",'Qlossdist,dh'!$C14,0)","v":0},{"$f":"IF(AZ15=\"Ja\",'Qlossdist,dh'!$C14,0)","v":0},{"$f":"IF(BA15=\"Ja\",'Qlossdist,dh'!$C14,0)","v":0}]
["Qlossdist,l,n [MJ]","segment 8",8,{"$f":"IF(D16=\"Ja\",'Qlossdist,dh'!$C15,0)","v":0},{"$f":"IF(E16=\"Ja\",'Qlossdist,dh'!$C15,0)","v":0},{"$f":"IF(F16=\"Ja\",'Qlossdist,dh'!$C15,0)","v":0},{"$f":"IF(G16=\"Ja\",'Qlossdist,dh'!$C15,0)","v":0},{"$f":"IF(H16=\"Ja\",'Qlossdist,dh'!$C15,0)","v":0},{"$f":"IF(I16=\"Ja\",'Qlossdist,dh'!$C15,0)","v":0},{"$f":"IF(J16=\"Ja\",'Qlossdist,dh'!$C15,0)","v":0},{"$f":"IF(K16=\"Ja\",'Qlossdist,dh'!$C15,0)","v":0},{"$f":"IF(L16=\"Ja\",'Qlossdist,dh'!$C15,0)","v":0},{"$f":"IF(M16=\"Ja\",'Qlossdist,dh'!$C15,0)","v":0},{"$f":"IF(N16=\"Ja\",'Qlossdist,dh'!$C15,0)","v":0},{"$f":"IF(O16=\"Ja\",'Qlossdist,dh'!$C15,0)","v":0},{"$f":"IF(P16=\"Ja\",'Qlossdist,dh'!$C15,0)","v":0},{"$f":"IF(Q16=\"Ja\",'Qlossdist,dh'!$C15,0)","v":0},{"$f":"IF(R16=\"Ja\",'Qlossdist,dh'!$C15,0)","v":0},{"$f":"IF(S16=\"Ja\",'Qlossdist,dh'!$C15,0)","v":0},{"$f":"IF(T16=\"Ja\",'Qlossdist,dh'!$C15,0)","v":0},{"$f":"IF(U16=\"Ja\",'Qlossdist,dh'!$C15,0)","v":0},{"$f":"IF(V16=\"Ja\",'Qlossdist,dh'!$C15,0)","v":0},{"$f":"IF(W16=\"Ja\",'Qlossdist,dh'!$C15,0)","v":0},{"$f":"IF(X16=\"Ja\",'Qlossdist,dh'!$C15,0)","v":0},{"$f":"IF(Y16=\"Ja\",'Qlossdist,dh'!$C15,0)","v":0},{"$f":"IF(Z16=\"Ja\",'Qlossdist,dh'!$C15,0)","v":0},{"$f":"IF(AA16=\"Ja\",'Qlossdist,dh'!$C15,0)","v":0},{"$f":"IF(AB16=\"Ja\",'Qlossdist,dh'!$C15,0)","v":0},{"$f":"IF(AC16=\"Ja\",'Qlossdist,dh'!$C15,0)","v":0},{"$f":"IF(AD16=\"Ja\",'Qlossdist,dh'!$C15,0)","v":0},{"$f":"IF(AE16=\"Ja\",'Qlossdist,dh'!$C15,0)","v":0},{"$f":"IF(AF16=\"Ja\",'Qlossdist,dh'!$C15,0)","v":0},{"$f":"IF(AG16=\"Ja\",'Qlossdist,dh'!$C15,0)","v":0},{"$f":"IF(AH16=\"Ja\",'Qlossdist,dh'!$C15,0)","v":0},{"$f":"IF(AI16=\"Ja\",'Qlossdist,dh'!$C15,0)","v":0},{"$f":"IF(AJ16=\"Ja\",'Qlossdist,dh'!$C15,0)","v":0},{"$f":"IF(AK16=\"Ja\",'Qlossdist,dh'!$C15,0)","v":0},{"$f":"IF(AL16=\"Ja\",'Qlossdist,dh'!$C15,0)","v":0},{"$f":"IF(AM16=\"Ja\",'Qlossdist,dh'!$C15,0)","v":0},{"$f":"IF(AN16=\"Ja\",'Qlossdist,dh'!$C15,0)","v":0},{"$f":"IF(AO16=\"Ja\",'Qlossdist,dh'!$C15,0)","v":0},{"$f":"IF(AP16=\"Ja\",'Qlossdist,dh'!$C15,0)","v":0},{"$f":"IF(AQ16=\"Ja\",'Qlossdist,dh'!$C15,0)","v":0},{"$f":"IF(AR16=\"Ja\",'Qlossdist,dh'!$C15,0)","v":0},{"$f":"IF(AS16=\"Ja\",'Qlossdist,dh'!$C15,0)","v":0},{"$f":"IF(AT16=\"Ja\",'Qlossdist,dh'!$C15,0)","v":0},{"$f":"IF(AU16=\"Ja\",'Qlossdist,dh'!$C15,0)","v":0},{"$f":"IF(AV16=\"Ja\",'Qlossdist,dh'!$C15,0)","v":0},{"$f":"IF(AW16=\"Ja\",'Qlossdist,dh'!$C15,0)","v":0},{"$f":"IF(AX16=\"Ja\",'Qlossdist,dh'!$C15,0)","v":0},{"$f":"IF(AY16=\"Ja\",'Qlossdist,dh'!$C15,0)","v":0},{"$f":"IF(AZ16=\"Ja\",'Qlossdist,dh'!$C15,0)","v":0},{"$f":"IF(BA16=\"Ja\",'Qlossdist,dh'!$C15,0)","v":0}]
["Qlossdist,l,n [MJ]",{"$f":"\"segment \"&C272","v":"segment 9"},9,{"$f":"IF(D17=\"Ja\",'Qlossdist,dh'!$C16,0)","v":0},{"$f":"IF(E17=\"Ja\",'Qlossdist,dh'!$C16,0)","v":0},{"$f":"IF(F17=\"Ja\",'Qlossdist,dh'!$C16,0)","v":0},{"$f":"IF(G17=\"Ja\",'Qlossdist,dh'!$C16,0)","v":0},{"$f":"IF(H17=\"Ja\",'Qlossdist,dh'!$C16,0)","v":0},{"$f":"IF(I17=\"Ja\",'Qlossdist,dh'!$C16,0)","v":0},{"$f":"IF(J17=\"Ja\",'Qlossdist,dh'!$C16,0)","v":0},{"$f":"IF(K17=\"Ja\",'Qlossdist,dh'!$C16,0)","v":0},{"$f":"IF(L17=\"Ja\",'Qlossdist,dh'!$C16,0)","v":0},{"$f":"IF(M17=\"Ja\",'Qlossdist,dh'!$C16,0)","v":0},{"$f":"IF(N17=\"Ja\",'Qlossdist,dh'!$C16,0)","v":0},{"$f":"IF(O17=\"Ja\",'Qlossdist,dh'!$C16,0)","v":0},{"$f":"IF(P17=\"Ja\",'Qlossdist,dh'!$C16,0)","v":0},{"$f":"IF(Q17=\"Ja\",'Qlossdist,dh'!$C16,0)","v":0},{"$f":"IF(R17=\"Ja\",'Qlossdist,dh'!$C16,0)","v":0},{"$f":"IF(S17=\"Ja\",'Qlossdist,dh'!$C16,0)","v":0},{"$f":"IF(T17=\"Ja\",'Qlossdist,dh'!$C16,0)","v":0},{"$f":"IF(U17=\"Ja\",'Qlossdist,dh'!$C16,0)","v":0},{"$f":"IF(V17=\"Ja\",'Qlossdist,dh'!$C16,0)","v":0},{"$f":"IF(W17=\"Ja\",'Qlossdist,dh'!$C16,0)","v":0},{"$f":"IF(X17=\"Ja\",'Qlossdist,dh'!$C16,0)","v":0},{"$f":"IF(Y17=\"Ja\",'Qlossdist,dh'!$C16,0)","v":0},{"$f":"IF(Z17=\"Ja\",'Qlossdist,dh'!$C16,0)","v":0},{"$f":"IF(AA17=\"Ja\",'Qlossdist,dh'!$C16,0)","v":0},{"$f":"IF(AB17=\"Ja\",'Qlossdist,dh'!$C16,0)","v":0},{"$f":"IF(AC17=\"Ja\",'Qlossdist,dh'!$C16,0)","v":0},{"$f":"IF(AD17=\"Ja\",'Qlossdist,dh'!$C16,0)","v":0},{"$f":"IF(AE17=\"Ja\",'Qlossdist,dh'!$C16,0)","v":0},{"$f":"IF(AF17=\"Ja\",'Qlossdist,dh'!$C16,0)","v":0},{"$f":"IF(AG17=\"Ja\",'Qlossdist,dh'!$C16,0)","v":0},{"$f":"IF(AH17=\"Ja\",'Qlossdist,dh'!$C16,0)","v":0},{"$f":"IF(AI17=\"Ja\",'Qlossdist,dh'!$C16,0)","v":0},{"$f":"IF(AJ17=\"Ja\",'Qlossdist,dh'!$C16,0)","v":0},{"$f":"IF(AK17=\"Ja\",'Qlossdist,dh'!$C16,0)","v":0},{"$f":"IF(AL17=\"Ja\",'Qlossdist,dh'!$C16,0)","v":0},{"$f":"IF(AM17=\"Ja\",'Qlossdist,dh'!$C16,0)","v":0},{"$f":"IF(AN17=\"Ja\",'Qlossdist,dh'!$C16,0)","v":0},{"$f":"IF(AO17=\"Ja\",'Qlossdist,dh'!$C16,0)","v":0},{"$f":"IF(AP17=\"Ja\",'Qlossdist,dh'!$C16,0)","v":0},{"$f":"IF(AQ17=\"Ja\",'Qlossdist,dh'!$C16,0)","v":0},{"$f":"IF(AR17=\"Ja\",'Qlossdist,dh'!$C16,0)","v":0},{"$f":"IF(AS17=\"Ja\",'Qlossdist,dh'!$C16,0)","v":0},{"$f":"IF(AT17=\"Ja\",'Qlossdist,dh'!$C16,0)","v":0},{"$f":"IF(AU17=\"Ja\",'Qlossdist,dh'!$C16,0)","v":0},{"$f":"IF(AV17=\"Ja\",'Qlossdist,dh'!$C16,0)","v":0},{"$f":"IF(AW17=\"Ja\",'Qlossdist,dh'!$C16,0)","v":0},{"$f":"IF(AX17=\"Ja\",'Qlossdist,dh'!$C16,0)","v":0},{"$f":"IF(AY17=\"Ja\",'Qlossdist,dh'!$C16,0)","v":0},{"$f":"IF(AZ17=\"Ja\",'Qlossdist,dh'!$C16,0)","v":0},{"$f":"IF(BA17=\"Ja\",'Qlossdist,dh'!$C16,0)","v":0}]
["Qlossdist,l,n [MJ]","segment 10",10,{"$f":"IF(D18=\"Ja\",'Qlossdist,dh'!$C17,0)","v":0},{"$f":"IF(E18=\"Ja\",'Qlossdist,dh'!$C17,0)","v":0},{"$f":"IF(F18=\"Ja\",'Qlossdist,dh'!$C17,0)","v":0},{"$f":"IF(G18=\"Ja\",'Qlossdist,dh'!$C17,0)","v":0},{"$f":"IF(H18=\"Ja\",'Qlossdist,dh'!$C17,0)","v":0},{"$f":"IF(I18=\"Ja\",'Qlossdist,dh'!$C17,0)","v":0},{"$f":"IF(J18=\"Ja\",'Qlossdist,dh'!$C17,0)","v":0},{"$f":"IF(K18=\"Ja\",'Qlossdist,dh'!$C17,0)","v":0},{"$f":"IF(L18=\"Ja\",'Qlossdist,dh'!$C17,0)","v":0},{"$f":"IF(M18=\"Ja\",'Qlossdist,dh'!$C17,0)","v":0},{"$f":"IF(N18=\"Ja\",'Qlossdist,dh'!$C17,0)","v":0},{"$f":"IF(O18=\"Ja\",'Qlossdist,dh'!$C17,0)","v":0},{"$f":"IF(P18=\"Ja\",'Qlossdist,dh'!$C17,0)","v":0},{"$f":"IF(Q18=\"Ja\",'Qlossdist,dh'!$C17,0)","v":0},{"$f":"IF(R18=\"Ja\",'Qlossdist,dh'!$C17,0)","v":0},{"$f":"IF(S18=\"Ja\",'Qlossdist,dh'!$C17,0)","v":0},{"$f":"IF(T18=\"Ja\",'Qlossdist,dh'!$C17,0)","v":0},{"$f":"IF(U18=\"Ja\",'Qlossdist,dh'!$C17,0)","v":0},{"$f":"IF(V18=\"Ja\",'Qlossdist,dh'!$C17,0)","v":0},{"$f":"IF(W18=\"Ja\",'Qlossdist,dh'!$C17,0)","v":0},{"$f":"IF(X18=\"Ja\",'Qlossdist,dh'!$C17,0)","v":0},{"$f":"IF(Y18=\"Ja\",'Qlossdist,dh'!$C17,0)","v":0},{"$f":"IF(Z18=\"Ja\",'Qlossdist,dh'!$C17,0)","v":0},{"$f":"IF(AA18=\"Ja\",'Qlossdist,dh'!$C17,0)","v":0},{"$f":"IF(AB18=\"Ja\",'Qlossdist,dh'!$C17,0)","v":0},{"$f":"IF(AC18=\"Ja\",'Qlossdist,dh'!$C17,0)","v":0},{"$f":"IF(AD18=\"Ja\",'Qlossdist,dh'!$C17,0)","v":0},{"$f":"IF(AE18=\"Ja\",'Qlossdist,dh'!$C17,0)","v":0},{"$f":"IF(AF18=\"Ja\",'Qlossdist,dh'!$C17,0)","v":0},{"$f":"IF(AG18=\"Ja\",'Qlossdist,dh'!$C17,0)","v":0},{"$f":"IF(AH18=\"Ja\",'Qlossdist,dh'!$C17,0)","v":0},{"$f":"IF(AI18=\"Ja\",'Qlossdist,dh'!$C17,0)","v":0},{"$f":"IF(AJ18=\"Ja\",'Qlossdist,dh'!$C17,0)","v":0},{"$f":"IF(AK18=\"Ja\",'Qlossdist,dh'!$C17,0)","v":0},{"$f":"IF(AL18=\"Ja\",'Qlossdist,dh'!$C17,0)","v":0},{"$f":"IF(AM18=\"Ja\",'Qlossdist,dh'!$C17,0)","v":0},{"$f":"IF(AN18=\"Ja\",'Qlossdist,dh'!$C17,0)","v":0},{"$f":"IF(AO18=\"Ja\",'Qlossdist,dh'!$C17,0)","v":0},{"$f":"IF(AP18=\"Ja\",'Qlossdist,dh'!$C17,0)","v":0},{"$f":"IF(AQ18=\"Ja\",'Qlossdist,dh'!$C17,0)","v":0},{"$f":"IF(AR18=\"Ja\",'Qlossdist,dh'!$C17,0)","v":0},{"$f":"IF(AS18=\"Ja\",'Qlossdist,dh'!$C17,0)","v":0},{"$f":"IF(AT18=\"Ja\",'Qlossdist,dh'!$C17,0)","v":0},{"$f":"IF(AU18=\"Ja\",'Qlossdist,dh'!$C17,0)","v":0},{"$f":"IF(AV18=\"Ja\",'Qlossdist,dh'!$C17,0)","v":0},{"$f":"IF(AW18=\"Ja\",'Qlossdist,dh'!$C17,0)","v":0},{"$f":"IF(AX18=\"Ja\",'Qlossdist,dh'!$C17,0)","v":0},{"$f":"IF(AY18=\"Ja\",'Qlossdist,dh'!$C17,0)","v":0},{"$f":"IF(AZ18=\"Ja\",'Qlossdist,dh'!$C17,0)","v":0},{"$f":"IF(BA18=\"Ja\",'Qlossdist,dh'!$C17,0)","v":0}]
["Qlossdist,l,n [MJ]","segment 11",11,{"$f":"IF(D19=\"Ja\",'Qlossdist,dh'!$C18,0)","v":0},{"$f":"IF(E19=\"Ja\",'Qlossdist,dh'!$C18,0)","v":0},{"$f":"IF(F19=\"Ja\",'Qlossdist,dh'!$C18,0)","v":0},{"$f":"IF(G19=\"Ja\",'Qlossdist,dh'!$C18,0)","v":0},{"$f":"IF(H19=\"Ja\",'Qlossdist,dh'!$C18,0)","v":0},{"$f":"IF(I19=\"Ja\",'Qlossdist,dh'!$C18,0)","v":0},{"$f":"IF(J19=\"Ja\",'Qlossdist,dh'!$C18,0)","v":0},{"$f":"IF(K19=\"Ja\",'Qlossdist,dh'!$C18,0)","v":0},{"$f":"IF(L19=\"Ja\",'Qlossdist,dh'!$C18,0)","v":0},{"$f":"IF(M19=\"Ja\",'Qlossdist,dh'!$C18,0)","v":0},{"$f":"IF(N19=\"Ja\",'Qlossdist,dh'!$C18,0)","v":0},{"$f":"IF(O19=\"Ja\",'Qlossdist,dh'!$C18,0)","v":0},{"$f":"IF(P19=\"Ja\",'Qlossdist,dh'!$C18,0)","v":0},{"$f":"IF(Q19=\"Ja\",'Qlossdist,dh'!$C18,0)","v":0},{"$f":"IF(R19=\"Ja\",'Qlossdist,dh'!$C18,0)","v":0},{"$f":"IF(S19=\"Ja\",'Qlossdist,dh'!$C18,0)","v":0},{"$f":"IF(T19=\"Ja\",'Qlossdist,dh'!$C18,0)","v":0},{"$f":"IF(U19=\"Ja\",'Qlossdist,dh'!$C18,0)","v":0},{"$f":"IF(V19=\"Ja\",'Qlossdist,dh'!$C18,0)","v":0},{"$f":"IF(W19=\"Ja\",'Qlossdist,dh'!$C18,0)","v":0},{"$f":"IF(X19=\"Ja\",'Qlossdist,dh'!$C18,0)","v":0},{"$f":"IF(Y19=\"Ja\",'Qlossdist,dh'!$C18,0)","v":0},{"$f":"IF(Z19=\"Ja\",'Qlossdist,dh'!$C18,0)","v":0},{"$f":"IF(AA19=\"Ja\",'Qlossdist,dh'!$C18,0)","v":0},{"$f":"IF(AB19=\"Ja\",'Qlossdist,dh'!$C18,0)","v":0},{"$f":"IF(AC19=\"Ja\",'Qlossdist,dh'!$C18,0)","v":0},{"$f":"IF(AD19=\"Ja\",'Qlossdist,dh'!$C18,0)","v":0},{"$f":"IF(AE19=\"Ja\",'Qlossdist,dh'!$C18,0)","v":0},{"$f":"IF(AF19=\"Ja\",'Qlossdist,dh'!$C18,0)","v":0},{"$f":"IF(AG19=\"Ja\",'Qlossdist,dh'!$C18,0)","v":0},{"$f":"IF(AH19=\"Ja\",'Qlossdist,dh'!$C18,0)","v":0},{"$f":"IF(AI19=\"Ja\",'Qlossdist,dh'!$C18,0)","v":0},{"$f":"IF(AJ19=\"Ja\",'Qlossdist,dh'!$C18,0)","v":0},{"$f":"IF(AK19=\"Ja\",'Qlossdist,dh'!$C18,0)","v":0},{"$f":"IF(AL19=\"Ja\",'Qlossdist,dh'!$C18,0)","v":0},{"$f":"IF(AM19=\"Ja\",'Qlossdist,dh'!$C18,0)","v":0},{"$f":"IF(AN19=\"Ja\",'Qlossdist,dh'!$C18,0)","v":0},{"$f":"IF(AO19=\"Ja\",'Qlossdist,dh'!$C18,0)","v":0},{"$f":"IF(AP19=\"Ja\",'Qlossdist,dh'!$C18,0)","v":0},{"$f":"IF(AQ19=\"Ja\",'Qlossdist,dh'!$C18,0)","v":0},{"$f":"IF(AR19=\"Ja\",'Qlossdist,dh'!$C18,0)","v":0},{"$f":"IF(AS19=\"Ja\",'Qlossdist,dh'!$C18,0)","v":0},{"$f":"IF(AT19=\"Ja\",'Qlossdist,dh'!$C18,0)","v":0},{"$f":"IF(AU19=\"Ja\",'Qlossdist,dh'!$C18,0)","v":0},{"$f":"IF(AV19=\"Ja\",'Qlossdist,dh'!$C18,0)","v":0},{"$f":"IF(AW19=\"Ja\",'Qlossdist,dh'!$C18,0)","v":0},{"$f":"IF(AX19=\"Ja\",'Qlossdist,dh'!$C18,0)","v":0},{"$f":"IF(AY19=\"Ja\",'Qlossdist,dh'!$C18,0)","v":0},{"$f":"IF(AZ19=\"Ja\",'Qlossdist,dh'!$C18,0)","v":0},{"$f":"IF(BA19=\"Ja\",'Qlossdist,dh'!$C18,0)","v":0}]
["Qlossdist,l,n [MJ]","segment 12",12,{"$f":"IF(D20=\"Ja\",'Qlossdist,dh'!$C19,0)","v":0},{"$f":"IF(E20=\"Ja\",'Qlossdist,dh'!$C19,0)","v":0},{"$f":"IF(F20=\"Ja\",'Qlossdist,dh'!$C19,0)","v":0},{"$f":"IF(G20=\"Ja\",'Qlossdist,dh'!$C19,0)","v":0},{"$f":"IF(H20=\"Ja\",'Qlossdist,dh'!$C19,0)","v":0},{"$f":"IF(I20=\"Ja\",'Qlossdist,dh'!$C19,0)","v":0},{"$f":"IF(J20=\"Ja\",'Qlossdist,dh'!$C19,0)","v":0},{"$f":"IF(K20=\"Ja\",'Qlossdist,dh'!$C19,0)","v":0},{"$f":"IF(L20=\"Ja\",'Qlossdist,dh'!$C19,0)","v":0},{"$f":"IF(M20=\"Ja\",'Qlossdist,dh'!$C19,0)","v":0},{"$f":"IF(N20=\"Ja\",'Qlossdist,dh'!$C19,0)","v":0},{"$f":"IF(O20=\"Ja\",'Qlossdist,dh'!$C19,0)","v":0},{"$f":"IF(P20=\"Ja\",'Qlossdist,dh'!$C19,0)","v":0},{"$f":"IF(Q20=\"Ja\",'Qlossdist,dh'!$C19,0)","v":0},{"$f":"IF(R20=\"Ja\",'Qlossdist,dh'!$C19,0)","v":0},{"$f":"IF(S20=\"Ja\",'Qlossdist,dh'!$C19,0)","v":0},{"$f":"IF(T20=\"Ja\",'Qlossdist,dh'!$C19,0)","v":0},{"$f":"IF(U20=\"Ja\",'Qlossdist,dh'!$C19,0)","v":0},{"$f":"IF(V20=\"Ja\",'Qlossdist,dh'!$C19,0)","v":0},{"$f":"IF(W20=\"Ja\",'Qlossdist,dh'!$C19,0)","v":0},{"$f":"IF(X20=\"Ja\",'Qlossdist,dh'!$C19,0)","v":0},{"$f":"IF(Y20=\"Ja\",'Qlossdist,dh'!$C19,0)","v":0},{"$f":"IF(Z20=\"Ja\",'Qlossdist,dh'!$C19,0)","v":0},{"$f":"IF(AA20=\"Ja\",'Qlossdist,dh'!$C19,0)","v":0},{"$f":"IF(AB20=\"Ja\",'Qlossdist,dh'!$C19,0)","v":0},{"$f":"IF(AC20=\"Ja\",'Qlossdist,dh'!$C19,0)","v":0},{"$f":"IF(AD20=\"Ja\",'Qlossdist,dh'!$C19,0)","v":0},{"$f":"IF(AE20=\"Ja\",'Qlossdist,dh'!$C19,0)","v":0},{"$f":"IF(AF20=\"Ja\",'Qlossdist,dh'!$C19,0)","v":0},{"$f":"IF(AG20=\"Ja\",'Qlossdist,dh'!$C19,0)","v":0},{"$f":"IF(AH20=\"Ja\",'Qlossdist,dh'!$C19,0)","v":0},{"$f":"IF(AI20=\"Ja\",'Qlossdist,dh'!$C19,0)","v":0},{"$f":"IF(AJ20=\"Ja\",'Qlossdist,dh'!$C19,0)","v":0},{"$f":"IF(AK20=\"Ja\",'Qlossdist,dh'!$C19,0)","v":0},{"$f":"IF(AL20=\"Ja\",'Qlossdist,dh'!$C19,0)","v":0},{"$f":"IF(AM20=\"Ja\",'Qlossdist,dh'!$C19,0)","v":0},{"$f":"IF(AN20=\"Ja\",'Qlossdist,dh'!$C19,0)","v":0},{"$f":"IF(AO20=\"Ja\",'Qlossdist,dh'!$C19,0)","v":0},{"$f":"IF(AP20=\"Ja\",'Qlossdist,dh'!$C19,0)","v":0},{"$f":"IF(AQ20=\"Ja\",'Qlossdist,dh'!$C19,0)","v":0},{"$f":"IF(AR20=\"Ja\",'Qlossdist,dh'!$C19,0)","v":0},{"$f":"IF(AS20=\"Ja\",'Qlossdist,dh'!$C19,0)","v":0},{"$f":"IF(AT20=\"Ja\",'Qlossdist,dh'!$C19,0)","v":0},{"$f":"IF(AU20=\"Ja\",'Qlossdist,dh'!$C19,0)","v":0},{"$f":"IF(AV20=\"Ja\",'Qlossdist,dh'!$C19,0)","v":0},{"$f":"IF(AW20=\"Ja\",'Qlossdist,dh'!$C19,0)","v":0},{"$f":"IF(AX20=\"Ja\",'Qlossdist,dh'!$C19,0)","v":0},{"$f":"IF(AY20=\"Ja\",'Qlossdist,dh'!$C19,0)","v":0},{"$f":"IF(AZ20=\"Ja\",'Qlossdist,dh'!$C19,0)","v":0},{"$f":"IF(BA20=\"Ja\",'Qlossdist,dh'!$C19,0)","v":0}]
["Qlossdist,l,n [MJ]","segment 13",13,{"$f":"IF(D21=\"Ja\",'Qlossdist,dh'!$C20,0)","v":0},{"$f":"IF(E21=\"Ja\",'Qlossdist,dh'!$C20,0)","v":0},{"$f":"IF(F21=\"Ja\",'Qlossdist,dh'!$C20,0)","v":0},{"$f":"IF(G21=\"Ja\",'Qlossdist,dh'!$C20,0)","v":0},{"$f":"IF(H21=\"Ja\",'Qlossdist,dh'!$C20,0)","v":0},{"$f":"IF(I21=\"Ja\",'Qlossdist,dh'!$C20,0)","v":0},{"$f":"IF(J21=\"Ja\",'Qlossdist,dh'!$C20,0)","v":0},{"$f":"IF(K21=\"Ja\",'Qlossdist,dh'!$C20,0)","v":0},{"$f":"IF(L21=\"Ja\",'Qlossdist,dh'!$C20,0)","v":0},{"$f":"IF(M21=\"Ja\",'Qlossdist,dh'!$C20,0)","v":0},{"$f":"IF(N21=\"Ja\",'Qlossdist,dh'!$C20,0)","v":0},{"$f":"IF(O21=\"Ja\",'Qlossdist,dh'!$C20,0)","v":0},{"$f":"IF(P21=\"Ja\",'Qlossdist,dh'!$C20,0)","v":0},{"$f":"IF(Q21=\"Ja\",'Qlossdist,dh'!$C20,0)","v":0},{"$f":"IF(R21=\"Ja\",'Qlossdist,dh'!$C20,0)","v":0},{"$f":"IF(S21=\"Ja\",'Qlossdist,dh'!$C20,0)","v":0},{"$f":"IF(T21=\"Ja\",'Qlossdist,dh'!$C20,0)","v":0},{"$f":"IF(U21=\"Ja\",'Qlossdist,dh'!$C20,0)","v":0},{"$f":"IF(V21=\"Ja\",'Qlossdist,dh'!$C20,0)","v":0},{"$f":"IF(W21=\"Ja\",'Qlossdist,dh'!$C20,0)","v":0},{"$f":"IF(X21=\"Ja\",'Qlossdist,dh'!$C20,0)","v":0},{"$f":"IF(Y21=\"Ja\",'Qlossdist,dh'!$C20,0)","v":0},{"$f":"IF(Z21=\"Ja\",'Qlossdist,dh'!$C20,0)","v":0},{"$f":"IF(AA21=\"Ja\",'Qlossdist,dh'!$C20,0)","v":0},{"$f":"IF(AB21=\"Ja\",'Qlossdist,dh'!$C20,0)","v":0},{"$f":"IF(AC21=\"Ja\",'Qlossdist,dh'!$C20,0)","v":0},{"$f":"IF(AD21=\"Ja\",'Qlossdist,dh'!$C20,0)","v":0},{"$f":"IF(AE21=\"Ja\",'Qlossdist,dh'!$C20,0)","v":0},{"$f":"IF(AF21=\"Ja\",'Qlossdist,dh'!$C20,0)","v":0},{"$f":"IF(AG21=\"Ja\",'Qlossdist,dh'!$C20,0)","v":0},{"$f":"IF(AH21=\"Ja\",'Qlossdist,dh'!$C20,0)","v":0},{"$f":"IF(AI21=\"Ja\",'Qlossdist,dh'!$C20,0)","v":0},{"$f":"IF(AJ21=\"Ja\",'Qlossdist,dh'!$C20,0)","v":0},{"$f":"IF(AK21=\"Ja\",'Qlossdist,dh'!$C20,0)","v":0},{"$f":"IF(AL21=\"Ja\",'Qlossdist,dh'!$C20,0)","v":0},{"$f":"IF(AM21=\"Ja\",'Qlossdist,dh'!$C20,0)","v":0},{"$f":"IF(AN21=\"Ja\",'Qlossdist,dh'!$C20,0)","v":0},{"$f":"IF(AO21=\"Ja\",'Qlossdist,dh'!$C20,0)","v":0},{"$f":"IF(AP21=\"Ja\",'Qlossdist,dh'!$C20,0)","v":0},{"$f":"IF(AQ21=\"Ja\",'Qlossdist,dh'!$C20,0)","v":0},{"$f":"IF(AR21=\"Ja\",'Qlossdist,dh'!$C20,0)","v":0},{"$f":"IF(AS21=\"Ja\",'Qlossdist,dh'!$C20,0)","v":0},{"$f":"IF(AT21=\"Ja\",'Qlossdist,dh'!$C20,0)","v":0},{"$f":"IF(AU21=\"Ja\",'Qlossdist,dh'!$C20,0)","v":0},{"$f":"IF(AV21=\"Ja\",'Qlossdist,dh'!$C20,0)","v":0},{"$f":"IF(AW21=\"Ja\",'Qlossdist,dh'!$C20,0)","v":0},{"$f":"IF(AX21=\"Ja\",'Qlossdist,dh'!$C20,0)","v":0},{"$f":"IF(AY21=\"Ja\",'Qlossdist,dh'!$C20,0)","v":0},{"$f":"IF(AZ21=\"Ja\",'Qlossdist,dh'!$C20,0)","v":0},{"$f":"IF(BA21=\"Ja\",'Qlossdist,dh'!$C20,0)","v":0}]
["Qlossdist,l,n [MJ]","segment 14",14,{"$f":"IF(D22=\"Ja\",'Qlossdist,dh'!$C21,0)","v":0},{"$f":"IF(E22=\"Ja\",'Qlossdist,dh'!$C21,0)","v":0},{"$f":"IF(F22=\"Ja\",'Qlossdist,dh'!$C21,0)","v":0},{"$f":"IF(G22=\"Ja\",'Qlossdist,dh'!$C21,0)","v":0},{"$f":"IF(H22=\"Ja\",'Qlossdist,dh'!$C21,0)","v":0},{"$f":"IF(I22=\"Ja\",'Qlossdist,dh'!$C21,0)","v":0},{"$f":"IF(J22=\"Ja\",'Qlossdist,dh'!$C21,0)","v":0},{"$f":"IF(K22=\"Ja\",'Qlossdist,dh'!$C21,0)","v":0},{"$f":"IF(L22=\"Ja\",'Qlossdist,dh'!$C21,0)","v":0},{"$f":"IF(M22=\"Ja\",'Qlossdist,dh'!$C21,0)","v":0},{"$f":"IF(N22=\"Ja\",'Qlossdist,dh'!$C21,0)","v":0},{"$f":"IF(O22=\"Ja\",'Qlossdist,dh'!$C21,0)","v":0},{"$f":"IF(P22=\"Ja\",'Qlossdist,dh'!$C21,0)","v":0},{"$f":"IF(Q22=\"Ja\",'Qlossdist,dh'!$C21,0)","v":0},{"$f":"IF(R22=\"Ja\",'Qlossdist,dh'!$C21,0)","v":0},{"$f":"IF(S22=\"Ja\",'Qlossdist,dh'!$C21,0)","v":0},{"$f":"IF(T22=\"Ja\",'Qlossdist,dh'!$C21,0)","v":0},{"$f":"IF(U22=\"Ja\",'Qlossdist,dh'!$C21,0)","v":0},{"$f":"IF(V22=\"Ja\",'Qlossdist,dh'!$C21,0)","v":0},{"$f":"IF(W22=\"Ja\",'Qlossdist,dh'!$C21,0)","v":0},{"$f":"IF(X22=\"Ja\",'Qlossdist,dh'!$C21,0)","v":0},{"$f":"IF(Y22=\"Ja\",'Qlossdist,dh'!$C21,0)","v":0},{"$f":"IF(Z22=\"Ja\",'Qlossdist,dh'!$C21,0)","v":0},{"$f":"IF(AA22=\"Ja\",'Qlossdist,dh'!$C21,0)","v":0},{"$f":"IF(AB22=\"Ja\",'Qlossdist,dh'!$C21,0)","v":0},{"$f":"IF(AC22=\"Ja\",'Qlossdist,dh'!$C21,0)","v":0},{"$f":"IF(AD22=\"Ja\",'Qlossdist,dh'!$C21,0)","v":0},{"$f":"IF(AE22=\"Ja\",'Qlossdist,dh'!$C21,0)","v":0},{"$f":"IF(AF22=\"Ja\",'Qlossdist,dh'!$C21,0)","v":0},{"$f":"IF(AG22=\"Ja\",'Qlossdist,dh'!$C21,0)","v":0},{"$f":"IF(AH22=\"Ja\",'Qlossdist,dh'!$C21,0)","v":0},{"$f":"IF(AI22=\"Ja\",'Qlossdist,dh'!$C21,0)","v":0},{"$f":"IF(AJ22=\"Ja\",'Qlossdist,dh'!$C21,0)","v":0},{"$f":"IF(AK22=\"Ja\",'Qlossdist,dh'!$C21,0)","v":0},{"$f":"IF(AL22=\"Ja\",'Qlossdist,dh'!$C21,0)","v":0},{"$f":"IF(AM22=\"Ja\",'Qlossdist,dh'!$C21,0)","v":0},{"$f":"IF(AN22=\"Ja\",'Qlossdist,dh'!$C21,0)","v":0},{"$f":"IF(AO22=\"Ja\",'Qlossdist,dh'!$C21,0)","v":0},{"$f":"IF(AP22=\"Ja\",'Qlossdist,dh'!$C21,0)","v":0},{"$f":"IF(AQ22=\"Ja\",'Qlossdist,dh'!$C21,0)","v":0},{"$f":"IF(AR22=\"Ja\",'Qlossdist,dh'!$C21,0)","v":0},{"$f":"IF(AS22=\"Ja\",'Qlossdist,dh'!$C21,0)","v":0},{"$f":"IF(AT22=\"Ja\",'Qlossdist,dh'!$C21,0)","v":0},{"$f":"IF(AU22=\"Ja\",'Qlossdist,dh'!$C21,0)","v":0},{"$f":"IF(AV22=\"Ja\",'Qlossdist,dh'!$C21,0)","v":0},{"$f":"IF(AW22=\"Ja\",'Qlossdist,dh'!$C21,0)","v":0},{"$f":"IF(AX22=\"Ja\",'Qlossdist,dh'!$C21,0)","v":0},{"$f":"IF(AY22=\"Ja\",'Qlossdist,dh'!$C21,0)","v":0},{"$f":"IF(AZ22=\"Ja\",'Qlossdist,dh'!$C21,0)","v":0},{"$f":"IF(BA22=\"Ja\",'Qlossdist,dh'!$C21,0)","v":0}]
["Qlossdist,l,n [MJ]","segment 15",15,{"$f":"IF(D23=\"Ja\",'Qlossdist,dh'!$C22,0)","v":0},{"$f":"IF(E23=\"Ja\",'Qlossdist,dh'!$C22,0)","v":0},{"$f":"IF(F23=\"Ja\",'Qlossdist,dh'!$C22,0)","v":0},{"$f":"IF(G23=\"Ja\",'Qlossdist,dh'!$C22,0)","v":0},{"$f":"IF(H23=\"Ja\",'Qlossdist,dh'!$C22,0)","v":0},{"$f":"IF(I23=\"Ja\",'Qlossdist,dh'!$C22,0)","v":0},{"$f":"IF(J23=\"Ja\",'Qlossdist,dh'!$C22,0)","v":0},{"$f":"IF(K23=\"Ja\",'Qlossdist,dh'!$C22,0)","v":0},{"$f":"IF(L23=\"Ja\",'Qlossdist,dh'!$C22,0)","v":0},{"$f":"IF(M23=\"Ja\",'Qlossdist,dh'!$C22,0)","v":0},{"$f":"IF(N23=\"Ja\",'Qlossdist,dh'!$C22,0)","v":0},{"$f":"IF(O23=\"Ja\",'Qlossdist,dh'!$C22,0)","v":0},{"$f":"IF(P23=\"Ja\",'Qlossdist,dh'!$C22,0)","v":0},{"$f":"IF(Q23=\"Ja\",'Qlossdist,dh'!$C22,0)","v":0},{"$f":"IF(R23=\"Ja\",'Qlossdist,dh'!$C22,0)","v":0},{"$f":"IF(S23=\"Ja\",'Qlossdist,dh'!$C22,0)","v":0},{"$f":"IF(T23=\"Ja\",'Qlossdist,dh'!$C22,0)","v":0},{"$f":"IF(U23=\"Ja\",'Qlossdist,dh'!$C22,0)","v":0},{"$f":"IF(V23=\"Ja\",'Qlossdist,dh'!$C22,0)","v":0},{"$f":"IF(W23=\"Ja\",'Qlossdist,dh'!$C22,0)","v":0},{"$f":"IF(X23=\"Ja\",'Qlossdist,dh'!$C22,0)","v":0},{"$f":"IF(Y23=\"Ja\",'Qlossdist,dh'!$C22,0)","v":0},{"$f":"IF(Z23=\"Ja\",'Qlossdist,dh'!$C22,0)","v":0},{"$f":"IF(AA23=\"Ja\",'Qlossdist,dh'!$C22,0)","v":0},{"$f":"IF(AB23=\"Ja\",'Qlossdist,dh'!$C22,0)","v":0},{"$f":"IF(AC23=\"Ja\",'Qlossdist,dh'!$C22,0)","v":0},{"$f":"IF(AD23=\"Ja\",'Qlossdist,dh'!$C22,0)","v":0},{"$f":"IF(AE23=\"Ja\",'Qlossdist,dh'!$C22,0)","v":0},{"$f":"IF(AF23=\"Ja\",'Qlossdist,dh'!$C22,0)","v":0},{"$f":"IF(AG23=\"Ja\",'Qlossdist,dh'!$C22,0)","v":0},{"$f":"IF(AH23=\"Ja\",'Qlossdist,dh'!$C22,0)","v":0},{"$f":"IF(AI23=\"Ja\",'Qlossdist,dh'!$C22,0)","v":0},{"$f":"IF(AJ23=\"Ja\",'Qlossdist,dh'!$C22,0)","v":0},{"$f":"IF(AK23=\"Ja\",'Qlossdist,dh'!$C22,0)","v":0},{"$f":"IF(AL23=\"Ja\",'Qlossdist,dh'!$C22,0)","v":0},{"$f":"IF(AM23=\"Ja\",'Qlossdist,dh'!$C22,0)","v":0},{"$f":"IF(AN23=\"Ja\",'Qlossdist,dh'!$C22,0)","v":0},{"$f":"IF(AO23=\"Ja\",'Qlossdist,dh'!$C22,0)","v":0},{"$f":"IF(AP23=\"Ja\",'Qlossdist,dh'!$C22,0)","v":0},{"$f":"IF(AQ23=\"Ja\",'Qlossdist,dh'!$C22,0)","v":0},{"$f":"IF(AR23=\"Ja\",'Qlossdist,dh'!$C22,0)","v":0},{"$f":"IF(AS23=\"Ja\",'Qlossdist,dh'!$C22,0)","v":0},{"$f":"IF(AT23=\"Ja\",'Qlossdist,dh'!$C22,0)","v":0},{"$f":"IF(AU23=\"Ja\",'Qlossdist,dh'!$C22,0)","v":0},{"$f":"IF(AV23=\"Ja\",'Qlossdist,dh'!$C22,0)","v":0},{"$f":"IF(AW23=\"Ja\",'Qlossdist,dh'!$C22,0)","v":0},{"$f":"IF(AX23=\"Ja\",'Qlossdist,dh'!$C22,0)","v":0},{"$f":"IF(AY23=\"Ja\",'Qlossdist,dh'!$C22,0)","v":0},{"$f":"IF(AZ23=\"Ja\",'Qlossdist,dh'!$C22,0)","v":0},{"$f":"IF(BA23=\"Ja\",'Qlossdist,dh'!$C22,0)","v":0}]
["Qlossdist,l,n [MJ]","segment 16",16,{"$f":"IF(D24=\"Ja\",'Qlossdist,dh'!$C23,0)","v":0},{"$f":"IF(E24=\"Ja\",'Qlossdist,dh'!$C23,0)","v":0},{"$f":"IF(F24=\"Ja\",'Qlossdist,dh'!$C23,0)","v":0},{"$f":"IF(G24=\"Ja\",'Qlossdist,dh'!$C23,0)","v":0},{"$f":"IF(H24=\"Ja\",'Qlossdist,dh'!$C23,0)","v":0},{"$f":"IF(I24=\"Ja\",'Qlossdist,dh'!$C23,0)","v":0},{"$f":"IF(J24=\"Ja\",'Qlossdist,dh'!$C23,0)","v":0},{"$f":"IF(K24=\"Ja\",'Qlossdist,dh'!$C23,0)","v":0},{"$f":"IF(L24=\"Ja\",'Qlossdist,dh'!$C23,0)","v":0},{"$f":"IF(M24=\"Ja\",'Qlossdist,dh'!$C23,0)","v":0},{"$f":"IF(N24=\"Ja\",'Qlossdist,dh'!$C23,0)","v":0},{"$f":"IF(O24=\"Ja\",'Qlossdist,dh'!$C23,0)","v":0},{"$f":"IF(P24=\"Ja\",'Qlossdist,dh'!$C23,0)","v":0},{"$f":"IF(Q24=\"Ja\",'Qlossdist,dh'!$C23,0)","v":0},{"$f":"IF(R24=\"Ja\",'Qlossdist,dh'!$C23,0)","v":0},{"$f":"IF(S24=\"Ja\",'Qlossdist,dh'!$C23,0)","v":0},{"$f":"IF(T24=\"Ja\",'Qlossdist,dh'!$C23,0)","v":0},{"$f":"IF(U24=\"Ja\",'Qlossdist,dh'!$C23,0)","v":0},{"$f":"IF(V24=\"Ja\",'Qlossdist,dh'!$C23,0)","v":0},{"$f":"IF(W24=\"Ja\",'Qlossdist,dh'!$C23,0)","v":0},{"$f":"IF(X24=\"Ja\",'Qlossdist,dh'!$C23,0)","v":0},{"$f":"IF(Y24=\"Ja\",'Qlossdist,dh'!$C23,0)","v":0},{"$f":"IF(Z24=\"Ja\",'Qlossdist,dh'!$C23,0)","v":0},{"$f":"IF(AA24=\"Ja\",'Qlossdist,dh'!$C23,0)","v":0},{"$f":"IF(AB24=\"Ja\",'Qlossdist,dh'!$C23,0)","v":0},{"$f":"IF(AC24=\"Ja\",'Qlossdist,dh'!$C23,0)","v":0},{"$f":"IF(AD24=\"Ja\",'Qlossdist,dh'!$C23,0)","v":0},{"$f":"IF(AE24=\"Ja\",'Qlossdist,dh'!$C23,0)","v":0},{"$f":"IF(AF24=\"Ja\",'Qlossdist,dh'!$C23,0)","v":0},{"$f":"IF(AG24=\"Ja\",'Qlossdist,dh'!$C23,0)","v":0},{"$f":"IF(AH24=\"Ja\",'Qlossdist,dh'!$C23,0)","v":0},{"$f":"IF(AI24=\"Ja\",'Qlossdist,dh'!$C23,0)","v":0},{"$f":"IF(AJ24=\"Ja\",'Qlossdist,dh'!$C23,0)","v":0},{"$f":"IF(AK24=\"Ja\",'Qlossdist,dh'!$C23,0)","v":0},{"$f":"IF(AL24=\"Ja\",'Qlossdist,dh'!$C23,0)","v":0},{"$f":"IF(AM24=\"Ja\",'Qlossdist,dh'!$C23,0)","v":0},{"$f":"IF(AN24=\"Ja\",'Qlossdist,dh'!$C23,0)","v":0},{"$f":"IF(AO24=\"Ja\",'Qlossdist,dh'!$C23,0)","v":0},{"$f":"IF(AP24=\"Ja\",'Qlossdist,dh'!$C23,0)","v":0},{"$f":"IF(AQ24=\"Ja\",'Qlossdist,dh'!$C23,0)","v":0},{"$f":"IF(AR24=\"Ja\",'Qlossdist,dh'!$C23,0)","v":0},{"$f":"IF(AS24=\"Ja\",'Qlossdist,dh'!$C23,0)","v":0},{"$f":"IF(AT24=\"Ja\",'Qlossdist,dh'!$C23,0)","v":0},{"$f":"IF(AU24=\"Ja\",'Qlossdist,dh'!$C23,0)","v":0},{"$f":"IF(AV24=\"Ja\",'Qlossdist,dh'!$C23,0)","v":0},{"$f":"IF(AW24=\"Ja\",'Qlossdist,dh'!$C23,0)","v":0},{"$f":"IF(AX24=\"Ja\",'Qlossdist,dh'!$C23,0)","v":0},{"$f":"IF(AY24=\"Ja\",'Qlossdist,dh'!$C23,0)","v":0},{"$f":"IF(AZ24=\"Ja\",'Qlossdist,dh'!$C23,0)","v":0},{"$f":"IF(BA24=\"Ja\",'Qlossdist,dh'!$C23,0)","v":0}]
["Qlossdist,l,n [MJ]","segment 17",17,{"$f":"IF(D25=\"Ja\",'Qlossdist,dh'!$C24,0)","v":0},{"$f":"IF(E25=\"Ja\",'Qlossdist,dh'!$C24,0)","v":0},{"$f":"IF(F25=\"Ja\",'Qlossdist,dh'!$C24,0)","v":0},{"$f":"IF(G25=\"Ja\",'Qlossdist,dh'!$C24,0)","v":0},{"$f":"IF(H25=\"Ja\",'Qlossdist,dh'!$C24,0)","v":0},{"$f":"IF(I25=\"Ja\",'Qlossdist,dh'!$C24,0)","v":0},{"$f":"IF(J25=\"Ja\",'Qlossdist,dh'!$C24,0)","v":0},{"$f":"IF(K25=\"Ja\",'Qlossdist,dh'!$C24,0)","v":0},{"$f":"IF(L25=\"Ja\",'Qlossdist,dh'!$C24,0)","v":0},{"$f":"IF(M25=\"Ja\",'Qlossdist,dh'!$C24,0)","v":0},{"$f":"IF(N25=\"Ja\",'Qlossdist,dh'!$C24,0)","v":0},{"$f":"IF(O25=\"Ja\",'Qlossdist,dh'!$C24,0)","v":0},{"$f":"IF(P25=\"Ja\",'Qlossdist,dh'!$C24,0)","v":0},{"$f":"IF(Q25=\"Ja\",'Qlossdist,dh'!$C24,0)","v":0},{"$f":"IF(R25=\"Ja\",'Qlossdist,dh'!$C24,0)","v":0},{"$f":"IF(S25=\"Ja\",'Qlossdist,dh'!$C24,0)","v":0},{"$f":"IF(T25=\"Ja\",'Qlossdist,dh'!$C24,0)","v":0},{"$f":"IF(U25=\"Ja\",'Qlossdist,dh'!$C24,0)","v":0},{"$f":"IF(V25=\"Ja\",'Qlossdist,dh'!$C24,0)","v":0},{"$f":"IF(W25=\"Ja\",'Qlossdist,dh'!$C24,0)","v":0},{"$f":"IF(X25=\"Ja\",'Qlossdist,dh'!$C24,0)","v":0},{"$f":"IF(Y25=\"Ja\",'Qlossdist,dh'!$C24,0)","v":0},{"$f":"IF(Z25=\"Ja\",'Qlossdist,dh'!$C24,0)","v":0},{"$f":"IF(AA25=\"Ja\",'Qlossdist,dh'!$C24,0)","v":0},{"$f":"IF(AB25=\"Ja\",'Qlossdist,dh'!$C24,0)","v":0},{"$f":"IF(AC25=\"Ja\",'Qlossdist,dh'!$C24,0)","v":0},{"$f":"IF(AD25=\"Ja\",'Qlossdist,dh'!$C24,0)","v":0},{"$f":"IF(AE25=\"Ja\",'Qlossdist,dh'!$C24,0)","v":0},{"$f":"IF(AF25=\"Ja\",'Qlossdist,dh'!$C24,0)","v":0},{"$f":"IF(AG25=\"Ja\",'Qlossdist,dh'!$C24,0)","v":0},{"$f":"IF(AH25=\"Ja\",'Qlossdist,dh'!$C24,0)","v":0},{"$f":"IF(AI25=\"Ja\",'Qlossdist,dh'!$C24,0)","v":0},{"$f":"IF(AJ25=\"Ja\",'Qlossdist,dh'!$C24,0)","v":0},{"$f":"IF(AK25=\"Ja\",'Qlossdist,dh'!$C24,0)","v":0},{"$f":"IF(AL25=\"Ja\",'Qlossdist,dh'!$C24,0)","v":0},{"$f":"IF(AM25=\"Ja\",'Qlossdist,dh'!$C24,0)","v":0},{"$f":"IF(AN25=\"Ja\",'Qlossdist,dh'!$C24,0)","v":0},{"$f":"IF(AO25=\"Ja\",'Qlossdist,dh'!$C24,0)","v":0},{"$f":"IF(AP25=\"Ja\",'Qlossdist,dh'!$C24,0)","v":0},{"$f":"IF(AQ25=\"Ja\",'Qlossdist,dh'!$C24,0)","v":0},{"$f":"IF(AR25=\"Ja\",'Qlossdist,dh'!$C24,0)","v":0},{"$f":"IF(AS25=\"Ja\",'Qlossdist,dh'!$C24,0)","v":0},{"$f":"IF(AT25=\"Ja\",'Qlossdist,dh'!$C24,0)","v":0},{"$f":"IF(AU25=\"Ja\",'Qlossdist,dh'!$C24,0)","v":0},{"$f":"IF(AV25=\"Ja\",'Qlossdist,dh'!$C24,0)","v":0},{"$f":"IF(AW25=\"Ja\",'Qlossdist,dh'!$C24,0)","v":0},{"$f":"IF(AX25=\"Ja\",'Qlossdist,dh'!$C24,0)","v":0},{"$f":"IF(AY25=\"Ja\",'Qlossdist,dh'!$C24,0)","v":0},{"$f":"IF(AZ25=\"Ja\",'Qlossdist,dh'!$C24,0)","v":0},{"$f":"IF(BA25=\"Ja\",'Qlossdist,dh'!$C24,0)","v":0}]
["Qlossdist,l,n [MJ]","segment 18",18,{"$f":"IF(D26=\"Ja\",'Qlossdist,dh'!$C25,0)","v":0},{"$f":"IF(E26=\"Ja\",'Qlossdist,dh'!$C25,0)","v":0},{"$f":"IF(F26=\"Ja\",'Qlossdist,dh'!$C25,0)","v":0},{"$f":"IF(G26=\"Ja\",'Qlossdist,dh'!$C25,0)","v":0},{"$f":"IF(H26=\"Ja\",'Qlossdist,dh'!$C25,0)","v":0},{"$f":"IF(I26=\"Ja\",'Qlossdist,dh'!$C25,0)","v":0},{"$f":"IF(J26=\"Ja\",'Qlossdist,dh'!$C25,0)","v":0},{"$f":"IF(K26=\"Ja\",'Qlossdist,dh'!$C25,0)","v":0},{"$f":"IF(L26=\"Ja\",'Qlossdist,dh'!$C25,0)","v":0},{"$f":"IF(M26=\"Ja\",'Qlossdist,dh'!$C25,0)","v":0},{"$f":"IF(N26=\"Ja\",'Qlossdist,dh'!$C25,0)","v":0},{"$f":"IF(O26=\"Ja\",'Qlossdist,dh'!$C25,0)","v":0},{"$f":"IF(P26=\"Ja\",'Qlossdist,dh'!$C25,0)","v":0},{"$f":"IF(Q26=\"Ja\",'Qlossdist,dh'!$C25,0)","v":0},{"$f":"IF(R26=\"Ja\",'Qlossdist,dh'!$C25,0)","v":0},{"$f":"IF(S26=\"Ja\",'Qlossdist,dh'!$C25,0)","v":0},{"$f":"IF(T26=\"Ja\",'Qlossdist,dh'!$C25,0)","v":0},{"$f":"IF(U26=\"Ja\",'Qlossdist,dh'!$C25,0)","v":0},{"$f":"IF(V26=\"Ja\",'Qlossdist,dh'!$C25,0)","v":0},{"$f":"IF(W26=\"Ja\",'Qlossdist,dh'!$C25,0)","v":0},{"$f":"IF(X26=\"Ja\",'Qlossdist,dh'!$C25,0)","v":0},{"$f":"IF(Y26=\"Ja\",'Qlossdist,dh'!$C25,0)","v":0},{"$f":"IF(Z26=\"Ja\",'Qlossdist,dh'!$C25,0)","v":0},{"$f":"IF(AA26=\"Ja\",'Qlossdist,dh'!$C25,0)","v":0},{"$f":"IF(AB26=\"Ja\",'Qlossdist,dh'!$C25,0)","v":0},{"$f":"IF(AC26=\"Ja\",'Qlossdist,dh'!$C25,0)","v":0},{"$f":"IF(AD26=\"Ja\",'Qlossdist,dh'!$C25,0)","v":0},{"$f":"IF(AE26=\"Ja\",'Qlossdist,dh'!$C25,0)","v":0},{"$f":"IF(AF26=\"Ja\",'Qlossdist,dh'!$C25,0)","v":0},{"$f":"IF(AG26=\"Ja\",'Qlossdist,dh'!$C25,0)","v":0},{"$f":"IF(AH26=\"Ja\",'Qlossdist,dh'!$C25,0)","v":0},{"$f":"IF(AI26=\"Ja\",'Qlossdist,dh'!$C25,0)","v":0},{"$f":"IF(AJ26=\"Ja\",'Qlossdist,dh'!$C25,0)","v":0},{"$f":"IF(AK26=\"Ja\",'Qlossdist,dh'!$C25,0)","v":0},{"$f":"IF(AL26=\"Ja\",'Qlossdist,dh'!$C25,0)","v":0},{"$f":"IF(AM26=\"Ja\",'Qlossdist,dh'!$C25,0)","v":0},{"$f":"IF(AN26=\"Ja\",'Qlossdist,dh'!$C25,0)","v":0},{"$f":"IF(AO26=\"Ja\",'Qlossdist,dh'!$C25,0)","v":0},{"$f":"IF(AP26=\"Ja\",'Qlossdist,dh'!$C25,0)","v":0},{"$f":"IF(AQ26=\"Ja\",'Qlossdist,dh'!$C25,0)","v":0},{"$f":"IF(AR26=\"Ja\",'Qlossdist,dh'!$C25,0)","v":0},{"$f":"IF(AS26=\"Ja\",'Qlossdist,dh'!$C25,0)","v":0},{"$f":"IF(AT26=\"Ja\",'Qlossdist,dh'!$C25,0)","v":0},{"$f":"IF(AU26=\"Ja\",'Qlossdist,dh'!$C25,0)","v":0},{"$f":"IF(AV26=\"Ja\",'Qlossdist,dh'!$C25,0)","v":0},{"$f":"IF(AW26=\"Ja\",'Qlossdist,dh'!$C25,0)","v":0},{"$f":"IF(AX26=\"Ja\",'Qlossdist,dh'!$C25,0)","v":0},{"$f":"IF(AY26=\"Ja\",'Qlossdist,dh'!$C25,0)","v":0},{"$f":"IF(AZ26=\"Ja\",'Qlossdist,dh'!$C25,0)","v":0},{"$f":"IF(BA26=\"Ja\",'Qlossdist,dh'!$C25,0)","v":0}]
["Qlossdist,l,n [MJ]","segment 19",19,{"$f":"IF(D27=\"Ja\",'Qlossdist,dh'!$C26,0)","v":0},{"$f":"IF(E27=\"Ja\",'Qlossdist,dh'!$C26,0)","v":0},{"$f":"IF(F27=\"Ja\",'Qlossdist,dh'!$C26,0)","v":0},{"$f":"IF(G27=\"Ja\",'Qlossdist,dh'!$C26,0)","v":0},{"$f":"IF(H27=\"Ja\",'Qlossdist,dh'!$C26,0)","v":0},{"$f":"IF(I27=\"Ja\",'Qlossdist,dh'!$C26,0)","v":0},{"$f":"IF(J27=\"Ja\",'Qlossdist,dh'!$C26,0)","v":0},{"$f":"IF(K27=\"Ja\",'Qlossdist,dh'!$C26,0)","v":0},{"$f":"IF(L27=\"Ja\",'Qlossdist,dh'!$C26,0)","v":0},{"$f":"IF(M27=\"Ja\",'Qlossdist,dh'!$C26,0)","v":0},{"$f":"IF(N27=\"Ja\",'Qlossdist,dh'!$C26,0)","v":0},{"$f":"IF(O27=\"Ja\",'Qlossdist,dh'!$C26,0)","v":0},{"$f":"IF(P27=\"Ja\",'Qlossdist,dh'!$C26,0)","v":0},{"$f":"IF(Q27=\"Ja\",'Qlossdist,dh'!$C26,0)","v":0},{"$f":"IF(R27=\"Ja\",'Qlossdist,dh'!$C26,0)","v":0},{"$f":"IF(S27=\"Ja\",'Qlossdist,dh'!$C26,0)","v":0},{"$f":"IF(T27=\"Ja\",'Qlossdist,dh'!$C26,0)","v":0},{"$f":"IF(U27=\"Ja\",'Qlossdist,dh'!$C26,0)","v":0},{"$f":"IF(V27=\"Ja\",'Qlossdist,dh'!$C26,0)","v":0},{"$f":"IF(W27=\"Ja\",'Qlossdist,dh'!$C26,0)","v":0},{"$f":"IF(X27=\"Ja\",'Qlossdist,dh'!$C26,0)","v":0},{"$f":"IF(Y27=\"Ja\",'Qlossdist,dh'!$C26,0)","v":0},{"$f":"IF(Z27=\"Ja\",'Qlossdist,dh'!$C26,0)","v":0},{"$f":"IF(AA27=\"Ja\",'Qlossdist,dh'!$C26,0)","v":0},{"$f":"IF(AB27=\"Ja\",'Qlossdist,dh'!$C26,0)","v":0},{"$f":"IF(AC27=\"Ja\",'Qlossdist,dh'!$C26,0)","v":0},{"$f":"IF(AD27=\"Ja\",'Qlossdist,dh'!$C26,0)","v":0},{"$f":"IF(AE27=\"Ja\",'Qlossdist,dh'!$C26,0)","v":0},{"$f":"IF(AF27=\"Ja\",'Qlossdist,dh'!$C26,0)","v":0},{"$f":"IF(AG27=\"Ja\",'Qlossdist,dh'!$C26,0)","v":0},{"$f":"IF(AH27=\"Ja\",'Qlossdist,dh'!$C26,0)","v":0},{"$f":"IF(AI27=\"Ja\",'Qlossdist,dh'!$C26,0)","v":0},{"$f":"IF(AJ27=\"Ja\",'Qlossdist,dh'!$C26,0)","v":0},{"$f":"IF(AK27=\"Ja\",'Qlossdist,dh'!$C26,0)","v":0},{"$f":"IF(AL27=\"Ja\",'Qlossdist,dh'!$C26,0)","v":0},{"$f":"IF(AM27=\"Ja\",'Qlossdist,dh'!$C26,0)","v":0},{"$f":"IF(AN27=\"Ja\",'Qlossdist,dh'!$C26,0)","v":0},{"$f":"IF(AO27=\"Ja\",'Qlossdist,dh'!$C26,0)","v":0},{"$f":"IF(AP27=\"Ja\",'Qlossdist,dh'!$C26,0)","v":0},{"$f":"IF(AQ27=\"Ja\",'Qlossdist,dh'!$C26,0)","v":0},{"$f":"IF(AR27=\"Ja\",'Qlossdist,dh'!$C26,0)","v":0},{"$f":"IF(AS27=\"Ja\",'Qlossdist,dh'!$C26,0)","v":0},{"$f":"IF(AT27=\"Ja\",'Qlossdist,dh'!$C26,0)","v":0},{"$f":"IF(AU27=\"Ja\",'Qlossdist,dh'!$C26,0)","v":0},{"$f":"IF(AV27=\"Ja\",'Qlossdist,dh'!$C26,0)","v":0},{"$f":"IF(AW27=\"Ja\",'Qlossdist,dh'!$C26,0)","v":0},{"$f":"IF(AX27=\"Ja\",'Qlossdist,dh'!$C26,0)","v":0},{"$f":"IF(AY27=\"Ja\",'Qlossdist,dh'!$C26,0)","v":0},{"$f":"IF(AZ27=\"Ja\",'Qlossdist,dh'!$C26,0)","v":0},{"$f":"IF(BA27=\"Ja\",'Qlossdist,dh'!$C26,0)","v":0}]
["Qlossdist,l,n [MJ]","segment 20",20,{"$f":"IF(D28=\"Ja\",'Qlossdist,dh'!$C27,0)","v":0},{"$f":"IF(E28=\"Ja\",'Qlossdist,dh'!$C27,0)","v":0},{"$f":"IF(F28=\"Ja\",'Qlossdist,dh'!$C27,0)","v":0},{"$f":"IF(G28=\"Ja\",'Qlossdist,dh'!$C27,0)","v":0},{"$f":"IF(H28=\"Ja\",'Qlossdist,dh'!$C27,0)","v":0},{"$f":"IF(I28=\"Ja\",'Qlossdist,dh'!$C27,0)","v":0},{"$f":"IF(J28=\"Ja\",'Qlossdist,dh'!$C27,0)","v":0},{"$f":"IF(K28=\"Ja\",'Qlossdist,dh'!$C27,0)","v":0},{"$f":"IF(L28=\"Ja\",'Qlossdist,dh'!$C27,0)","v":0},{"$f":"IF(M28=\"Ja\",'Qlossdist,dh'!$C27,0)","v":0},{"$f":"IF(N28=\"Ja\",'Qlossdist,dh'!$C27,0)","v":0},{"$f":"IF(O28=\"Ja\",'Qlossdist,dh'!$C27,0)","v":0},{"$f":"IF(P28=\"Ja\",'Qlossdist,dh'!$C27,0)","v":0},{"$f":"IF(Q28=\"Ja\",'Qlossdist,dh'!$C27,0)","v":0},{"$f":"IF(R28=\"Ja\",'Qlossdist,dh'!$C27,0)","v":0},{"$f":"IF(S28=\"Ja\",'Qlossdist,dh'!$C27,0)","v":0},{"$f":"IF(T28=\"Ja\",'Qlossdist,dh'!$C27,0)","v":0},{"$f":"IF(U28=\"Ja\",'Qlossdist,dh'!$C27,0)","v":0},{"$f":"IF(V28=\"Ja\",'Qlossdist,dh'!$C27,0)","v":0},{"$f":"IF(W28=\"Ja\",'Qlossdist,dh'!$C27,0)","v":0},{"$f":"IF(X28=\"Ja\",'Qlossdist,dh'!$C27,0)","v":0},{"$f":"IF(Y28=\"Ja\",'Qlossdist,dh'!$C27,0)","v":0},{"$f":"IF(Z28=\"Ja\",'Qlossdist,dh'!$C27,0)","v":0},{"$f":"IF(AA28=\"Ja\",'Qlossdist,dh'!$C27,0)","v":0},{"$f":"IF(AB28=\"Ja\",'Qlossdist,dh'!$C27,0)","v":0},{"$f":"IF(AC28=\"Ja\",'Qlossdist,dh'!$C27,0)","v":0},{"$f":"IF(AD28=\"Ja\",'Qlossdist,dh'!$C27,0)","v":0},{"$f":"IF(AE28=\"Ja\",'Qlossdist,dh'!$C27,0)","v":0},{"$f":"IF(AF28=\"Ja\",'Qlossdist,dh'!$C27,0)","v":0},{"$f":"IF(AG28=\"Ja\",'Qlossdist,dh'!$C27,0)","v":0},{"$f":"IF(AH28=\"Ja\",'Qlossdist,dh'!$C27,0)","v":0},{"$f":"IF(AI28=\"Ja\",'Qlossdist,dh'!$C27,0)","v":0},{"$f":"IF(AJ28=\"Ja\",'Qlossdist,dh'!$C27,0)","v":0},{"$f":"IF(AK28=\"Ja\",'Qlossdist,dh'!$C27,0)","v":0},{"$f":"IF(AL28=\"Ja\",'Qlossdist,dh'!$C27,0)","v":0},{"$f":"IF(AM28=\"Ja\",'Qlossdist,dh'!$C27,0)","v":0},{"$f":"IF(AN28=\"Ja\",'Qlossdist,dh'!$C27,0)","v":0},{"$f":"IF(AO28=\"Ja\",'Qlossdist,dh'!$C27,0)","v":0},{"$f":"IF(AP28=\"Ja\",'Qlossdist,dh'!$C27,0)","v":0},{"$f":"IF(AQ28=\"Ja\",'Qlossdist,dh'!$C27,0)","v":0},{"$f":"IF(AR28=\"Ja\",'Qlossdist,dh'!$C27,0)","v":0},{"$f":"IF(AS28=\"Ja\",'Qlossdist,dh'!$C27,0)","v":0},{"$f":"IF(AT28=\"Ja\",'Qlossdist,dh'!$C27,0)","v":0},{"$f":"IF(AU28=\"Ja\",'Qlossdist,dh'!$C27,0)","v":0},{"$f":"IF(AV28=\"Ja\",'Qlossdist,dh'!$C27,0)","v":0},{"$f":"IF(AW28=\"Ja\",'Qlossdist,dh'!$C27,0)","v":0},{"$f":"IF(AX28=\"Ja\",'Qlossdist,dh'!$C27,0)","v":0},{"$f":"IF(AY28=\"Ja\",'Qlossdist,dh'!$C27,0)","v":0},{"$f":"IF(AZ28=\"Ja\",'Qlossdist,dh'!$C27,0)","v":0},{"$f":"IF(BA28=\"Ja\",'Qlossdist,dh'!$C27,0)","v":0}]
["Qlossdist,l,n [MJ]","segment 21",21,{"$f":"IF(D29=\"Ja\",'Qlossdist,dh'!$C28,0)","v":0},{"$f":"IF(E29=\"Ja\",'Qlossdist,dh'!$C28,0)","v":0},{"$f":"IF(F29=\"Ja\",'Qlossdist,dh'!$C28,0)","v":0},{"$f":"IF(G29=\"Ja\",'Qlossdist,dh'!$C28,0)","v":0},{"$f":"IF(H29=\"Ja\",'Qlossdist,dh'!$C28,0)","v":0},{"$f":"IF(I29=\"Ja\",'Qlossdist,dh'!$C28,0)","v":0},{"$f":"IF(J29=\"Ja\",'Qlossdist,dh'!$C28,0)","v":0},{"$f":"IF(K29=\"Ja\",'Qlossdist,dh'!$C28,0)","v":0},{"$f":"IF(L29=\"Ja\",'Qlossdist,dh'!$C28,0)","v":0},{"$f":"IF(M29=\"Ja\",'Qlossdist,dh'!$C28,0)","v":0},{"$f":"IF(N29=\"Ja\",'Qlossdist,dh'!$C28,0)","v":0},{"$f":"IF(O29=\"Ja\",'Qlossdist,dh'!$C28,0)","v":0},{"$f":"IF(P29=\"Ja\",'Qlossdist,dh'!$C28,0)","v":0},{"$f":"IF(Q29=\"Ja\",'Qlossdist,dh'!$C28,0)","v":0},{"$f":"IF(R29=\"Ja\",'Qlossdist,dh'!$C28,0)","v":0},{"$f":"IF(S29=\"Ja\",'Qlossdist,dh'!$C28,0)","v":0},{"$f":"IF(T29=\"Ja\",'Qlossdist,dh'!$C28,0)","v":0},{"$f":"IF(U29=\"Ja\",'Qlossdist,dh'!$C28,0)","v":0},{"$f":"IF(V29=\"Ja\",'Qlossdist,dh'!$C28,0)","v":0},{"$f":"IF(W29=\"Ja\",'Qlossdist,dh'!$C28,0)","v":0},{"$f":"IF(X29=\"Ja\",'Qlossdist,dh'!$C28,0)","v":0},{"$f":"IF(Y29=\"Ja\",'Qlossdist,dh'!$C28,0)","v":0},{"$f":"IF(Z29=\"Ja\",'Qlossdist,dh'!$C28,0)","v":0},{"$f":"IF(AA29=\"Ja\",'Qlossdist,dh'!$C28,0)","v":0},{"$f":"IF(AB29=\"Ja\",'Qlossdist,dh'!$C28,0)","v":0},{"$f":"IF(AC29=\"Ja\",'Qlossdist,dh'!$C28,0)","v":0},{"$f":"IF(AD29=\"Ja\",'Qlossdist,dh'!$C28,0)","v":0},{"$f":"IF(AE29=\"Ja\",'Qlossdist,dh'!$C28,0)","v":0},{"$f":"IF(AF29=\"Ja\",'Qlossdist,dh'!$C28,0)","v":0},{"$f":"IF(AG29=\"Ja\",'Qlossdist,dh'!$C28,0)","v":0},{"$f":"IF(AH29=\"Ja\",'Qlossdist,dh'!$C28,0)","v":0},{"$f":"IF(AI29=\"Ja\",'Qlossdist,dh'!$C28,0)","v":0},{"$f":"IF(AJ29=\"Ja\",'Qlossdist,dh'!$C28,0)","v":0},{"$f":"IF(AK29=\"Ja\",'Qlossdist,dh'!$C28,0)","v":0},{"$f":"IF(AL29=\"Ja\",'Qlossdist,dh'!$C28,0)","v":0},{"$f":"IF(AM29=\"Ja\",'Qlossdist,dh'!$C28,0)","v":0},{"$f":"IF(AN29=\"Ja\",'Qlossdist,dh'!$C28,0)","v":0},{"$f":"IF(AO29=\"Ja\",'Qlossdist,dh'!$C28,0)","v":0},{"$f":"IF(AP29=\"Ja\",'Qlossdist,dh'!$C28,0)","v":0},{"$f":"IF(AQ29=\"Ja\",'Qlossdist,dh'!$C28,0)","v":0},{"$f":"IF(AR29=\"Ja\",'Qlossdist,dh'!$C28,0)","v":0},{"$f":"IF(AS29=\"Ja\",'Qlossdist,dh'!$C28,0)","v":0},{"$f":"IF(AT29=\"Ja\",'Qlossdist,dh'!$C28,0)","v":0},{"$f":"IF(AU29=\"Ja\",'Qlossdist,dh'!$C28,0)","v":0},{"$f":"IF(AV29=\"Ja\",'Qlossdist,dh'!$C28,0)","v":0},{"$f":"IF(AW29=\"Ja\",'Qlossdist,dh'!$C28,0)","v":0},{"$f":"IF(AX29=\"Ja\",'Qlossdist,dh'!$C28,0)","v":0},{"$f":"IF(AY29=\"Ja\",'Qlossdist,dh'!$C28,0)","v":0},{"$f":"IF(AZ29=\"Ja\",'Qlossdist,dh'!$C28,0)","v":0},{"$f":"IF(BA29=\"Ja\",'Qlossdist,dh'!$C28,0)","v":0}]
["Qlossdist,l,n [MJ]","segment 22",22,{"$f":"IF(D30=\"Ja\",'Qlossdist,dh'!$C29,0)","v":0},{"$f":"IF(E30=\"Ja\",'Qlossdist,dh'!$C29,0)","v":0},{"$f":"IF(F30=\"Ja\",'Qlossdist,dh'!$C29,0)","v":0},{"$f":"IF(G30=\"Ja\",'Qlossdist,dh'!$C29,0)","v":0},{"$f":"IF(H30=\"Ja\",'Qlossdist,dh'!$C29,0)","v":0},{"$f":"IF(I30=\"Ja\",'Qlossdist,dh'!$C29,0)","v":0},{"$f":"IF(J30=\"Ja\",'Qlossdist,dh'!$C29,0)","v":0},{"$f":"IF(K30=\"Ja\",'Qlossdist,dh'!$C29,0)","v":0},{"$f":"IF(L30=\"Ja\",'Qlossdist,dh'!$C29,0)","v":0},{"$f":"IF(M30=\"Ja\",'Qlossdist,dh'!$C29,0)","v":0},{"$f":"IF(N30=\"Ja\",'Qlossdist,dh'!$C29,0)","v":0},{"$f":"IF(O30=\"Ja\",'Qlossdist,dh'!$C29,0)","v":0},{"$f":"IF(P30=\"Ja\",'Qlossdist,dh'!$C29,0)","v":0},{"$f":"IF(Q30=\"Ja\",'Qlossdist,dh'!$C29,0)","v":0},{"$f":"IF(R30=\"Ja\",'Qlossdist,dh'!$C29,0)","v":0},{"$f":"IF(S30=\"Ja\",'Qlossdist,dh'!$C29,0)","v":0},{"$f":"IF(T30=\"Ja\",'Qlossdist,dh'!$C29,0)","v":0},{"$f":"IF(U30=\"Ja\",'Qlossdist,dh'!$C29,0)","v":0},{"$f":"IF(V30=\"Ja\",'Qlossdist,dh'!$C29,0)","v":0},{"$f":"IF(W30=\"Ja\",'Qlossdist,dh'!$C29,0)","v":0},{"$f":"IF(X30=\"Ja\",'Qlossdist,dh'!$C29,0)","v":0},{"$f":"IF(Y30=\"Ja\",'Qlossdist,dh'!$C29,0)","v":0},{"$f":"IF(Z30=\"Ja\",'Qlossdist,dh'!$C29,0)","v":0},{"$f":"IF(AA30=\"Ja\",'Qlossdist,dh'!$C29,0)","v":0},{"$f":"IF(AB30=\"Ja\",'Qlossdist,dh'!$C29,0)","v":0},{"$f":"IF(AC30=\"Ja\",'Qlossdist,dh'!$C29,0)","v":0},{"$f":"IF(AD30=\"Ja\",'Qlossdist,dh'!$C29,0)","v":0},{"$f":"IF(AE30=\"Ja\",'Qlossdist,dh'!$C29,0)","v":0},{"$f":"IF(AF30=\"Ja\",'Qlossdist,dh'!$C29,0)","v":0},{"$f":"IF(AG30=\"Ja\",'Qlossdist,dh'!$C29,0)","v":0},{"$f":"IF(AH30=\"Ja\",'Qlossdist,dh'!$C29,0)","v":0},{"$f":"IF(AI30=\"Ja\",'Qlossdist,dh'!$C29,0)","v":0},{"$f":"IF(AJ30=\"Ja\",'Qlossdist,dh'!$C29,0)","v":0},{"$f":"IF(AK30=\"Ja\",'Qlossdist,dh'!$C29,0)","v":0},{"$f":"IF(AL30=\"Ja\",'Qlossdist,dh'!$C29,0)","v":0},{"$f":"IF(AM30=\"Ja\",'Qlossdist,dh'!$C29,0)","v":0},{"$f":"IF(AN30=\"Ja\",'Qlossdist,dh'!$C29,0)","v":0},{"$f":"IF(AO30=\"Ja\",'Qlossdist,dh'!$C29,0)","v":0},{"$f":"IF(AP30=\"Ja\",'Qlossdist,dh'!$C29,0)","v":0},{"$f":"IF(AQ30=\"Ja\",'Qlossdist,dh'!$C29,0)","v":0},{"$f":"IF(AR30=\"Ja\",'Qlossdist,dh'!$C29,0)","v":0},{"$f":"IF(AS30=\"Ja\",'Qlossdist,dh'!$C29,0)","v":0},{"$f":"IF(AT30=\"Ja\",'Qlossdist,dh'!$C29,0)","v":0},{"$f":"IF(AU30=\"Ja\",'Qlossdist,dh'!$C29,0)","v":0},{"$f":"IF(AV30=\"Ja\",'Qlossdist,dh'!$C29,0)","v":0},{"$f":"IF(AW30=\"Ja\",'Qlossdist,dh'!$C29,0)","v":0},{"$f":"IF(AX30=\"Ja\",'Qlossdist,dh'!$C29,0)","v":0},{"$f":"IF(AY30=\"Ja\",'Qlossdist,dh'!$C29,0)","v":0},{"$f":"IF(AZ30=\"Ja\",'Qlossdist,dh'!$C29,0)","v":0},{"$f":"IF(BA30=\"Ja\",'Qlossdist,dh'!$C29,0)","v":0}]
["Qlossdist,l,n [MJ]","segment 23",23,{"$f":"IF(D31=\"Ja\",'Qlossdist,dh'!$C30,0)","v":0},{"$f":"IF(E31=\"Ja\",'Qlossdist,dh'!$C30,0)","v":0},{"$f":"IF(F31=\"Ja\",'Qlossdist,dh'!$C30,0)","v":0},{"$f":"IF(G31=\"Ja\",'Qlossdist,dh'!$C30,0)","v":0},{"$f":"IF(H31=\"Ja\",'Qlossdist,dh'!$C30,0)","v":0},{"$f":"IF(I31=\"Ja\",'Qlossdist,dh'!$C30,0)","v":0},{"$f":"IF(J31=\"Ja\",'Qlossdist,dh'!$C30,0)","v":0},{"$f":"IF(K31=\"Ja\",'Qlossdist,dh'!$C30,0)","v":0},{"$f":"IF(L31=\"Ja\",'Qlossdist,dh'!$C30,0)","v":0},{"$f":"IF(M31=\"Ja\",'Qlossdist,dh'!$C30,0)","v":0},{"$f":"IF(N31=\"Ja\",'Qlossdist,dh'!$C30,0)","v":0},{"$f":"IF(O31=\"Ja\",'Qlossdist,dh'!$C30,0)","v":0},{"$f":"IF(P31=\"Ja\",'Qlossdist,dh'!$C30,0)","v":0},{"$f":"IF(Q31=\"Ja\",'Qlossdist,dh'!$C30,0)","v":0},{"$f":"IF(R31=\"Ja\",'Qlossdist,dh'!$C30,0)","v":0},{"$f":"IF(S31=\"Ja\",'Qlossdist,dh'!$C30,0)","v":0},{"$f":"IF(T31=\"Ja\",'Qlossdist,dh'!$C30,0)","v":0},{"$f":"IF(U31=\"Ja\",'Qlossdist,dh'!$C30,0)","v":0},{"$f":"IF(V31=\"Ja\",'Qlossdist,dh'!$C30,0)","v":0},{"$f":"IF(W31=\"Ja\",'Qlossdist,dh'!$C30,0)","v":0},{"$f":"IF(X31=\"Ja\",'Qlossdist,dh'!$C30,0)","v":0},{"$f":"IF(Y31=\"Ja\",'Qlossdist,dh'!$C30,0)","v":0},{"$f":"IF(Z31=\"Ja\",'Qlossdist,dh'!$C30,0)","v":0},{"$f":"IF(AA31=\"Ja\",'Qlossdist,dh'!$C30,0)","v":0},{"$f":"IF(AB31=\"Ja\",'Qlossdist,dh'!$C30,0)","v":0},{"$f":"IF(AC31=\"Ja\",'Qlossdist,dh'!$C30,0)","v":0},{"$f":"IF(AD31=\"Ja\",'Qlossdist,dh'!$C30,0)","v":0},{"$f":"IF(AE31=\"Ja\",'Qlossdist,dh'!$C30,0)","v":0},{"$f":"IF(AF31=\"Ja\",'Qlossdist,dh'!$C30,0)","v":0},{"$f":"IF(AG31=\"Ja\",'Qlossdist,dh'!$C30,0)","v":0},{"$f":"IF(AH31=\"Ja\",'Qlossdist,dh'!$C30,0)","v":0},{"$f":"IF(AI31=\"Ja\",'Qlossdist,dh'!$C30,0)","v":0},{"$f":"IF(AJ31=\"Ja\",'Qlossdist,dh'!$C30,0)","v":0},{"$f":"IF(AK31=\"Ja\",'Qlossdist,dh'!$C30,0)","v":0},{"$f":"IF(AL31=\"Ja\",'Qlossdist,dh'!$C30,0)","v":0},{"$f":"IF(AM31=\"Ja\",'Qlossdist,dh'!$C30,0)","v":0},{"$f":"IF(AN31=\"Ja\",'Qlossdist,dh'!$C30,0)","v":0},{"$f":"IF(AO31=\"Ja\",'Qlossdist,dh'!$C30,0)","v":0},{"$f":"IF(AP31=\"Ja\",'Qlossdist,dh'!$C30,0)","v":0},{"$f":"IF(AQ31=\"Ja\",'Qlossdist,dh'!$C30,0)","v":0},{"$f":"IF(AR31=\"Ja\",'Qlossdist,dh'!$C30,0)","v":0},{"$f":"IF(AS31=\"Ja\",'Qlossdist,dh'!$C30,0)","v":0},{"$f":"IF(AT31=\"Ja\",'Qlossdist,dh'!$C30,0)","v":0},{"$f":"IF(AU31=\"Ja\",'Qlossdist,dh'!$C30,0)","v":0},{"$f":"IF(AV31=\"Ja\",'Qlossdist,dh'!$C30,0)","v":0},{"$f":"IF(AW31=\"Ja\",'Qlossdist,dh'!$C30,0)","v":0},{"$f":"IF(AX31=\"Ja\",'Qlossdist,dh'!$C30,0)","v":0},{"$f":"IF(AY31=\"Ja\",'Qlossdist,dh'!$C30,0)","v":0},{"$f":"IF(AZ31=\"Ja\",'Qlossdist,dh'!$C30,0)","v":0},{"$f":"IF(BA31=\"Ja\",'Qlossdist,dh'!$C30,0)","v":0}]
["Qlossdist,l,n [MJ]","segment 24",24,{"$f":"IF(D32=\"Ja\",'Qlossdist,dh'!$C31,0)","v":0},{"$f":"IF(E32=\"Ja\",'Qlossdist,dh'!$C31,0)","v":0},{"$f":"IF(F32=\"Ja\",'Qlossdist,dh'!$C31,0)","v":0},{"$f":"IF(G32=\"Ja\",'Qlossdist,dh'!$C31,0)","v":0},{"$f":"IF(H32=\"Ja\",'Qlossdist,dh'!$C31,0)","v":0},{"$f":"IF(I32=\"Ja\",'Qlossdist,dh'!$C31,0)","v":0},{"$f":"IF(J32=\"Ja\",'Qlossdist,dh'!$C31,0)","v":0},{"$f":"IF(K32=\"Ja\",'Qlossdist,dh'!$C31,0)","v":0},{"$f":"IF(L32=\"Ja\",'Qlossdist,dh'!$C31,0)","v":0},{"$f":"IF(M32=\"Ja\",'Qlossdist,dh'!$C31,0)","v":0},{"$f":"IF(N32=\"Ja\",'Qlossdist,dh'!$C31,0)","v":0},{"$f":"IF(O32=\"Ja\",'Qlossdist,dh'!$C31,0)","v":0},{"$f":"IF(P32=\"Ja\",'Qlossdist,dh'!$C31,0)","v":0},{"$f":"IF(Q32=\"Ja\",'Qlossdist,dh'!$C31,0)","v":0},{"$f":"IF(R32=\"Ja\",'Qlossdist,dh'!$C31,0)","v":0},{"$f":"IF(S32=\"Ja\",'Qlossdist,dh'!$C31,0)","v":0},{"$f":"IF(T32=\"Ja\",'Qlossdist,dh'!$C31,0)","v":0},{"$f":"IF(U32=\"Ja\",'Qlossdist,dh'!$C31,0)","v":0},{"$f":"IF(V32=\"Ja\",'Qlossdist,dh'!$C31,0)","v":0},{"$f":"IF(W32=\"Ja\",'Qlossdist,dh'!$C31,0)","v":0},{"$f":"IF(X32=\"Ja\",'Qlossdist,dh'!$C31,0)","v":0},{"$f":"IF(Y32=\"Ja\",'Qlossdist,dh'!$C31,0)","v":0},{"$f":"IF(Z32=\"Ja\",'Qlossdist,dh'!$C31,0)","v":0},{"$f":"IF(AA32=\"Ja\",'Qlossdist,dh'!$C31,0)","v":0},{"$f":"IF(AB32=\"Ja\",'Qlossdist,dh'!$C31,0)","v":0},{"$f":"IF(AC32=\"Ja\",'Qlossdist,dh'!$C31,0)","v":0},{"$f":"IF(AD32=\"Ja\",'Qlossdist,dh'!$C31,0)","v":0},{"$f":"IF(AE32=\"Ja\",'Qlossdist,dh'!$C31,0)","v":0},{"$f":"IF(AF32=\"Ja\",'Qlossdist,dh'!$C31,0)","v":0},{"$f":"IF(AG32=\"Ja\",'Qlossdist,dh'!$C31,0)","v":0},{"$f":"IF(AH32=\"Ja\",'Qlossdist,dh'!$C31,0)","v":0},{"$f":"IF(AI32=\"Ja\",'Qlossdist,dh'!$C31,0)","v":0},{"$f":"IF(AJ32=\"Ja\",'Qlossdist,dh'!$C31,0)","v":0},{"$f":"IF(AK32=\"Ja\",'Qlossdist,dh'!$C31,0)","v":0},{"$f":"IF(AL32=\"Ja\",'Qlossdist,dh'!$C31,0)","v":0},{"$f":"IF(AM32=\"Ja\",'Qlossdist,dh'!$C31,0)","v":0},{"$f":"IF(AN32=\"Ja\",'Qlossdist,dh'!$C31,0)","v":0},{"$f":"IF(AO32=\"Ja\",'Qlossdist,dh'!$C31,0)","v":0},{"$f":"IF(AP32=\"Ja\",'Qlossdist,dh'!$C31,0)","v":0},{"$f":"IF(AQ32=\"Ja\",'Qlossdist,dh'!$C31,0)","v":0},{"$f":"IF(AR32=\"Ja\",'Qlossdist,dh'!$C31,0)","v":0},{"$f":"IF(AS32=\"Ja\",'Qlossdist,dh'!$C31,0)","v":0},{"$f":"IF(AT32=\"Ja\",'Qlossdist,dh'!$C31,0)","v":0},{"$f":"IF(AU32=\"Ja\",'Qlossdist,dh'!$C31,0)","v":0},{"$f":"IF(AV32=\"Ja\",'Qlossdist,dh'!$C31,0)","v":0},{"$f":"IF(AW32=\"Ja\",'Qlossdist,dh'!$C31,0)","v":0},{"$f":"IF(AX32=\"Ja\",'Qlossdist,dh'!$C31,0)","v":0},{"$f":"IF(AY32=\"Ja\",'Qlossdist,dh'!$C31,0)","v":0},{"$f":"IF(AZ32=\"Ja\",'Qlossdist,dh'!$C31,0)","v":0},{"$f":"IF(BA32=\"Ja\",'Qlossdist,dh'!$C31,0)","v":0}]
["Qlossdist,l,n [MJ]","segment 25",25,{"$f":"IF(D33=\"Ja\",'Qlossdist,dh'!$C32,0)","v":0},{"$f":"IF(E33=\"Ja\",'Qlossdist,dh'!$C32,0)","v":0},{"$f":"IF(F33=\"Ja\",'Qlossdist,dh'!$C32,0)","v":0},{"$f":"IF(G33=\"Ja\",'Qlossdist,dh'!$C32,0)","v":0},{"$f":"IF(H33=\"Ja\",'Qlossdist,dh'!$C32,0)","v":0},{"$f":"IF(I33=\"Ja\",'Qlossdist,dh'!$C32,0)","v":0},{"$f":"IF(J33=\"Ja\",'Qlossdist,dh'!$C32,0)","v":0},{"$f":"IF(K33=\"Ja\",'Qlossdist,dh'!$C32,0)","v":0},{"$f":"IF(L33=\"Ja\",'Qlossdist,dh'!$C32,0)","v":0},{"$f":"IF(M33=\"Ja\",'Qlossdist,dh'!$C32,0)","v":0},{"$f":"IF(N33=\"Ja\",'Qlossdist,dh'!$C32,0)","v":0},{"$f":"IF(O33=\"Ja\",'Qlossdist,dh'!$C32,0)","v":0},{"$f":"IF(P33=\"Ja\",'Qlossdist,dh'!$C32,0)","v":0},{"$f":"IF(Q33=\"Ja\",'Qlossdist,dh'!$C32,0)","v":0},{"$f":"IF(R33=\"Ja\",'Qlossdist,dh'!$C32,0)","v":0},{"$f":"IF(S33=\"Ja\",'Qlossdist,dh'!$C32,0)","v":0},{"$f":"IF(T33=\"Ja\",'Qlossdist,dh'!$C32,0)","v":0},{"$f":"IF(U33=\"Ja\",'Qlossdist,dh'!$C32,0)","v":0},{"$f":"IF(V33=\"Ja\",'Qlossdist,dh'!$C32,0)","v":0},{"$f":"IF(W33=\"Ja\",'Qlossdist,dh'!$C32,0)","v":0},{"$f":"IF(X33=\"Ja\",'Qlossdist,dh'!$C32,0)","v":0},{"$f":"IF(Y33=\"Ja\",'Qlossdist,dh'!$C32,0)","v":0},{"$f":"IF(Z33=\"Ja\",'Qlossdist,dh'!$C32,0)","v":0},{"$f":"IF(AA33=\"Ja\",'Qlossdist,dh'!$C32,0)","v":0},{"$f":"IF(AB33=\"Ja\",'Qlossdist,dh'!$C32,0)","v":0},{"$f":"IF(AC33=\"Ja\",'Qlossdist,dh'!$C32,0)","v":0},{"$f":"IF(AD33=\"Ja\",'Qlossdist,dh'!$C32,0)","v":0},{"$f":"IF(AE33=\"Ja\",'Qlossdist,dh'!$C32,0)","v":0},{"$f":"IF(AF33=\"Ja\",'Qlossdist,dh'!$C32,0)","v":0},{"$f":"IF(AG33=\"Ja\",'Qlossdist,dh'!$C32,0)","v":0},{"$f":"IF(AH33=\"Ja\",'Qlossdist,dh'!$C32,0)","v":0},{"$f":"IF(AI33=\"Ja\",'Qlossdist,dh'!$C32,0)","v":0},{"$f":"IF(AJ33=\"Ja\",'Qlossdist,dh'!$C32,0)","v":0},{"$f":"IF(AK33=\"Ja\",'Qlossdist,dh'!$C32,0)","v":0},{"$f":"IF(AL33=\"Ja\",'Qlossdist,dh'!$C32,0)","v":0},{"$f":"IF(AM33=\"Ja\",'Qlossdist,dh'!$C32,0)","v":0},{"$f":"IF(AN33=\"Ja\",'Qlossdist,dh'!$C32,0)","v":0},{"$f":"IF(AO33=\"Ja\",'Qlossdist,dh'!$C32,0)","v":0},{"$f":"IF(AP33=\"Ja\",'Qlossdist,dh'!$C32,0)","v":0},{"$f":"IF(AQ33=\"Ja\",'Qlossdist,dh'!$C32,0)","v":0},{"$f":"IF(AR33=\"Ja\",'Qlossdist,dh'!$C32,0)","v":0},{"$f":"IF(AS33=\"Ja\",'Qlossdist,dh'!$C32,0)","v":0},{"$f":"IF(AT33=\"Ja\",'Qlossdist,dh'!$C32,0)","v":0},{"$f":"IF(AU33=\"Ja\",'Qlossdist,dh'!$C32,0)","v":0},{"$f":"IF(AV33=\"Ja\",'Qlossdist,dh'!$C32,0)","v":0},{"$f":"IF(AW33=\"Ja\",'Qlossdist,dh'!$C32,0)","v":0},{"$f":"IF(AX33=\"Ja\",'Qlossdist,dh'!$C32,0)","v":0},{"$f":"IF(AY33=\"Ja\",'Qlossdist,dh'!$C32,0)","v":0},{"$f":"IF(AZ33=\"Ja\",'Qlossdist,dh'!$C32,0)","v":0},{"$f":"IF(BA33=\"Ja\",'Qlossdist,dh'!$C32,0)","v":0}]
["Qlossdist,l,n [MJ]","segment 26",26,{"$f":"IF(D34=\"Ja\",'Qlossdist,dh'!$C33,0)","v":0},{"$f":"IF(E34=\"Ja\",'Qlossdist,dh'!$C33,0)","v":0},{"$f":"IF(F34=\"Ja\",'Qlossdist,dh'!$C33,0)","v":0},{"$f":"IF(G34=\"Ja\",'Qlossdist,dh'!$C33,0)","v":0},{"$f":"IF(H34=\"Ja\",'Qlossdist,dh'!$C33,0)","v":0},{"$f":"IF(I34=\"Ja\",'Qlossdist,dh'!$C33,0)","v":0},{"$f":"IF(J34=\"Ja\",'Qlossdist,dh'!$C33,0)","v":0},{"$f":"IF(K34=\"Ja\",'Qlossdist,dh'!$C33,0)","v":0},{"$f":"IF(L34=\"Ja\",'Qlossdist,dh'!$C33,0)","v":0},{"$f":"IF(M34=\"Ja\",'Qlossdist,dh'!$C33,0)","v":0},{"$f":"IF(N34=\"Ja\",'Qlossdist,dh'!$C33,0)","v":0},{"$f":"IF(O34=\"Ja\",'Qlossdist,dh'!$C33,0)","v":0},{"$f":"IF(P34=\"Ja\",'Qlossdist,dh'!$C33,0)","v":0},{"$f":"IF(Q34=\"Ja\",'Qlossdist,dh'!$C33,0)","v":0},{"$f":"IF(R34=\"Ja\",'Qlossdist,dh'!$C33,0)","v":0},{"$f":"IF(S34=\"Ja\",'Qlossdist,dh'!$C33,0)","v":0},{"$f":"IF(T34=\"Ja\",'Qlossdist,dh'!$C33,0)","v":0},{"$f":"IF(U34=\"Ja\",'Qlossdist,dh'!$C33,0)","v":0},{"$f":"IF(V34=\"Ja\",'Qlossdist,dh'!$C33,0)","v":0},{"$f":"IF(W34=\"Ja\",'Qlossdist,dh'!$C33,0)","v":0},{"$f":"IF(X34=\"Ja\",'Qlossdist,dh'!$C33,0)","v":0},{"$f":"IF(Y34=\"Ja\",'Qlossdist,dh'!$C33,0)","v":0},{"$f":"IF(Z34=\"Ja\",'Qlossdist,dh'!$C33,0)","v":0},{"$f":"IF(AA34=\"Ja\",'Qlossdist,dh'!$C33,0)","v":0},{"$f":"IF(AB34=\"Ja\",'Qlossdist,dh'!$C33,0)","v":0},{"$f":"IF(AC34=\"Ja\",'Qlossdist,dh'!$C33,0)","v":0},{"$f":"IF(AD34=\"Ja\",'Qlossdist,dh'!$C33,0)","v":0},{"$f":"IF(AE34=\"Ja\",'Qlossdist,dh'!$C33,0)","v":0},{"$f":"IF(AF34=\"Ja\",'Qlossdist,dh'!$C33,0)","v":0},{"$f":"IF(AG34=\"Ja\",'Qlossdist,dh'!$C33,0)","v":0},{"$f":"IF(AH34=\"Ja\",'Qlossdist,dh'!$C33,0)","v":0},{"$f":"IF(AI34=\"Ja\",'Qlossdist,dh'!$C33,0)","v":0},{"$f":"IF(AJ34=\"Ja\",'Qlossdist,dh'!$C33,0)","v":0},{"$f":"IF(AK34=\"Ja\",'Qlossdist,dh'!$C33,0)","v":0},{"$f":"IF(AL34=\"Ja\",'Qlossdist,dh'!$C33,0)","v":0},{"$f":"IF(AM34=\"Ja\",'Qlossdist,dh'!$C33,0)","v":0},{"$f":"IF(AN34=\"Ja\",'Qlossdist,dh'!$C33,0)","v":0},{"$f":"IF(AO34=\"Ja\",'Qlossdist,dh'!$C33,0)","v":0},{"$f":"IF(AP34=\"Ja\",'Qlossdist,dh'!$C33,0)","v":0},{"$f":"IF(AQ34=\"Ja\",'Qlossdist,dh'!$C33,0)","v":0},{"$f":"IF(AR34=\"Ja\",'Qlossdist,dh'!$C33,0)","v":0},{"$f":"IF(AS34=\"Ja\",'Qlossdist,dh'!$C33,0)","v":0},{"$f":"IF(AT34=\"Ja\",'Qlossdist,dh'!$C33,0)","v":0},{"$f":"IF(AU34=\"Ja\",'Qlossdist,dh'!$C33,0)","v":0},{"$f":"IF(AV34=\"Ja\",'Qlossdist,dh'!$C33,0)","v":0},{"$f":"IF(AW34=\"Ja\",'Qlossdist,dh'!$C33,0)","v":0},{"$f":"IF(AX34=\"Ja\",'Qlossdist,dh'!$C33,0)","v":0},{"$f":"IF(AY34=\"Ja\",'Qlossdist,dh'!$C33,0)","v":0},{"$f":"IF(AZ34=\"Ja\",'Qlossdist,dh'!$C33,0)","v":0},{"$f":"IF(BA34=\"Ja\",'Qlossdist,dh'!$C33,0)","v":0}]
["Qlossdist,l,n [MJ]","segment 27",27,{"$f":"IF(D35=\"Ja\",'Qlossdist,dh'!$C34,0)","v":0},{"$f":"IF(E35=\"Ja\",'Qlossdist,dh'!$C34,0)","v":0},{"$f":"IF(F35=\"Ja\",'Qlossdist,dh'!$C34,0)","v":0},{"$f":"IF(G35=\"Ja\",'Qlossdist,dh'!$C34,0)","v":0},{"$f":"IF(H35=\"Ja\",'Qlossdist,dh'!$C34,0)","v":0},{"$f":"IF(I35=\"Ja\",'Qlossdist,dh'!$C34,0)","v":0},{"$f":"IF(J35=\"Ja\",'Qlossdist,dh'!$C34,0)","v":0},{"$f":"IF(K35=\"Ja\",'Qlossdist,dh'!$C34,0)","v":0},{"$f":"IF(L35=\"Ja\",'Qlossdist,dh'!$C34,0)","v":0},{"$f":"IF(M35=\"Ja\",'Qlossdist,dh'!$C34,0)","v":0},{"$f":"IF(N35=\"Ja\",'Qlossdist,dh'!$C34,0)","v":0},{"$f":"IF(O35=\"Ja\",'Qlossdist,dh'!$C34,0)","v":0},{"$f":"IF(P35=\"Ja\",'Qlossdist,dh'!$C34,0)","v":0},{"$f":"IF(Q35=\"Ja\",'Qlossdist,dh'!$C34,0)","v":0},{"$f":"IF(R35=\"Ja\",'Qlossdist,dh'!$C34,0)","v":0},{"$f":"IF(S35=\"Ja\",'Qlossdist,dh'!$C34,0)","v":0},{"$f":"IF(T35=\"Ja\",'Qlossdist,dh'!$C34,0)","v":0},{"$f":"IF(U35=\"Ja\",'Qlossdist,dh'!$C34,0)","v":0},{"$f":"IF(V35=\"Ja\",'Qlossdist,dh'!$C34,0)","v":0},{"$f":"IF(W35=\"Ja\",'Qlossdist,dh'!$C34,0)","v":0},{"$f":"IF(X35=\"Ja\",'Qlossdist,dh'!$C34,0)","v":0},{"$f":"IF(Y35=\"Ja\",'Qlossdist,dh'!$C34,0)","v":0},{"$f":"IF(Z35=\"Ja\",'Qlossdist,dh'!$C34,0)","v":0},{"$f":"IF(AA35=\"Ja\",'Qlossdist,dh'!$C34,0)","v":0},{"$f":"IF(AB35=\"Ja\",'Qlossdist,dh'!$C34,0)","v":0},{"$f":"IF(AC35=\"Ja\",'Qlossdist,dh'!$C34,0)","v":0},{"$f":"IF(AD35=\"Ja\",'Qlossdist,dh'!$C34,0)","v":0},{"$f":"IF(AE35=\"Ja\",'Qlossdist,dh'!$C34,0)","v":0},{"$f":"IF(AF35=\"Ja\",'Qlossdist,dh'!$C34,0)","v":0},{"$f":"IF(AG35=\"Ja\",'Qlossdist,dh'!$C34,0)","v":0},{"$f":"IF(AH35=\"Ja\",'Qlossdist,dh'!$C34,0)","v":0},{"$f":"IF(AI35=\"Ja\",'Qlossdist,dh'!$C34,0)","v":0},{"$f":"IF(AJ35=\"Ja\",'Qlossdist,dh'!$C34,0)","v":0},{"$f":"IF(AK35=\"Ja\",'Qlossdist,dh'!$C34,0)","v":0},{"$f":"IF(AL35=\"Ja\",'Qlossdist,dh'!$C34,0)","v":0},{"$f":"IF(AM35=\"Ja\",'Qlossdist,dh'!$C34,0)","v":0},{"$f":"IF(AN35=\"Ja\",'Qlossdist,dh'!$C34,0)","v":0},{"$f":"IF(AO35=\"Ja\",'Qlossdist,dh'!$C34,0)","v":0},{"$f":"IF(AP35=\"Ja\",'Qlossdist,dh'!$C34,0)","v":0},{"$f":"IF(AQ35=\"Ja\",'Qlossdist,dh'!$C34,0)","v":0},{"$f":"IF(AR35=\"Ja\",'Qlossdist,dh'!$C34,0)","v":0},{"$f":"IF(AS35=\"Ja\",'Qlossdist,dh'!$C34,0)","v":0},{"$f":"IF(AT35=\"Ja\",'Qlossdist,dh'!$C34,0)","v":0},{"$f":"IF(AU35=\"Ja\",'Qlossdist,dh'!$C34,0)","v":0},{"$f":"IF(AV35=\"Ja\",'Qlossdist,dh'!$C34,0)","v":0},{"$f":"IF(AW35=\"Ja\",'Qlossdist,dh'!$C34,0)","v":0},{"$f":"IF(AX35=\"Ja\",'Qlossdist,dh'!$C34,0)","v":0},{"$f":"IF(AY35=\"Ja\",'Qlossdist,dh'!$C34,0)","v":0},{"$f":"IF(AZ35=\"Ja\",'Qlossdist,dh'!$C34,0)","v":0},{"$f":"IF(BA35=\"Ja\",'Qlossdist,dh'!$C34,0)","v":0}]
["Qlossdist,l,n [MJ]","segment 28",28,{"$f":"IF(D36=\"Ja\",'Qlossdist,dh'!$C35,0)","v":0},{"$f":"IF(E36=\"Ja\",'Qlossdist,dh'!$C35,0)","v":0},{"$f":"IF(F36=\"Ja\",'Qlossdist,dh'!$C35,0)","v":0},{"$f":"IF(G36=\"Ja\",'Qlossdist,dh'!$C35,0)","v":0},{"$f":"IF(H36=\"Ja\",'Qlossdist,dh'!$C35,0)","v":0},{"$f":"IF(I36=\"Ja\",'Qlossdist,dh'!$C35,0)","v":0},{"$f":"IF(J36=\"Ja\",'Qlossdist,dh'!$C35,0)","v":0},{"$f":"IF(K36=\"Ja\",'Qlossdist,dh'!$C35,0)","v":0},{"$f":"IF(L36=\"Ja\",'Qlossdist,dh'!$C35,0)","v":0},{"$f":"IF(M36=\"Ja\",'Qlossdist,dh'!$C35,0)","v":0},{"$f":"IF(N36=\"Ja\",'Qlossdist,dh'!$C35,0)","v":0},{"$f":"IF(O36=\"Ja\",'Qlossdist,dh'!$C35,0)","v":0},{"$f":"IF(P36=\"Ja\",'Qlossdist,dh'!$C35,0)","v":0},{"$f":"IF(Q36=\"Ja\",'Qlossdist,dh'!$C35,0)","v":0},{"$f":"IF(R36=\"Ja\",'Qlossdist,dh'!$C35,0)","v":0},{"$f":"IF(S36=\"Ja\",'Qlossdist,dh'!$C35,0)","v":0},{"$f":"IF(T36=\"Ja\",'Qlossdist,dh'!$C35,0)","v":0},{"$f":"IF(U36=\"Ja\",'Qlossdist,dh'!$C35,0)","v":0},{"$f":"IF(V36=\"Ja\",'Qlossdist,dh'!$C35,0)","v":0},{"$f":"IF(W36=\"Ja\",'Qlossdist,dh'!$C35,0)","v":0},{"$f":"IF(X36=\"Ja\",'Qlossdist,dh'!$C35,0)","v":0},{"$f":"IF(Y36=\"Ja\",'Qlossdist,dh'!$C35,0)","v":0},{"$f":"IF(Z36=\"Ja\",'Qlossdist,dh'!$C35,0)","v":0},{"$f":"IF(AA36=\"Ja\",'Qlossdist,dh'!$C35,0)","v":0},{"$f":"IF(AB36=\"Ja\",'Qlossdist,dh'!$C35,0)","v":0},{"$f":"IF(AC36=\"Ja\",'Qlossdist,dh'!$C35,0)","v":0},{"$f":"IF(AD36=\"Ja\",'Qlossdist,dh'!$C35,0)","v":0},{"$f":"IF(AE36=\"Ja\",'Qlossdist,dh'!$C35,0)","v":0},{"$f":"IF(AF36=\"Ja\",'Qlossdist,dh'!$C35,0)","v":0},{"$f":"IF(AG36=\"Ja\",'Qlossdist,dh'!$C35,0)","v":0},{"$f":"IF(AH36=\"Ja\",'Qlossdist,dh'!$C35,0)","v":0},{"$f":"IF(AI36=\"Ja\",'Qlossdist,dh'!$C35,0)","v":0},{"$f":"IF(AJ36=\"Ja\",'Qlossdist,dh'!$C35,0)","v":0},{"$f":"IF(AK36=\"Ja\",'Qlossdist,dh'!$C35,0)","v":0},{"$f":"IF(AL36=\"Ja\",'Qlossdist,dh'!$C35,0)","v":0},{"$f":"IF(AM36=\"Ja\",'Qlossdist,dh'!$C35,0)","v":0},{"$f":"IF(AN36=\"Ja\",'Qlossdist,dh'!$C35,0)","v":0},{"$f":"IF(AO36=\"Ja\",'Qlossdist,dh'!$C35,0)","v":0},{"$f":"IF(AP36=\"Ja\",'Qlossdist,dh'!$C35,0)","v":0},{"$f":"IF(AQ36=\"Ja\",'Qlossdist,dh'!$C35,0)","v":0},{"$f":"IF(AR36=\"Ja\",'Qlossdist,dh'!$C35,0)","v":0},{"$f":"IF(AS36=\"Ja\",'Qlossdist,dh'!$C35,0)","v":0},{"$f":"IF(AT36=\"Ja\",'Qlossdist,dh'!$C35,0)","v":0},{"$f":"IF(AU36=\"Ja\",'Qlossdist,dh'!$C35,0)","v":0},{"$f":"IF(AV36=\"Ja\",'Qlossdist,dh'!$C35,0)","v":0},{"$f":"IF(AW36=\"Ja\",'Qlossdist,dh'!$C35,0)","v":0},{"$f":"IF(AX36=\"Ja\",'Qlossdist,dh'!$C35,0)","v":0},{"$f":"IF(AY36=\"Ja\",'Qlossdist,dh'!$C35,0)","v":0},{"$f":"IF(AZ36=\"Ja\",'Qlossdist,dh'!$C35,0)","v":0},{"$f":"IF(BA36=\"Ja\",'Qlossdist,dh'!$C35,0)","v":0}]
["Qlossdist,l,n [MJ]","segment 29",29,{"$f":"IF(D37=\"Ja\",'Qlossdist,dh'!$C36,0)","v":0},{"$f":"IF(E37=\"Ja\",'Qlossdist,dh'!$C36,0)","v":0},{"$f":"IF(F37=\"Ja\",'Qlossdist,dh'!$C36,0)","v":0},{"$f":"IF(G37=\"Ja\",'Qlossdist,dh'!$C36,0)","v":0},{"$f":"IF(H37=\"Ja\",'Qlossdist,dh'!$C36,0)","v":0},{"$f":"IF(I37=\"Ja\",'Qlossdist,dh'!$C36,0)","v":0},{"$f":"IF(J37=\"Ja\",'Qlossdist,dh'!$C36,0)","v":0},{"$f":"IF(K37=\"Ja\",'Qlossdist,dh'!$C36,0)","v":0},{"$f":"IF(L37=\"Ja\",'Qlossdist,dh'!$C36,0)","v":0},{"$f":"IF(M37=\"Ja\",'Qlossdist,dh'!$C36,0)","v":0},{"$f":"IF(N37=\"Ja\",'Qlossdist,dh'!$C36,0)","v":0},{"$f":"IF(O37=\"Ja\",'Qlossdist,dh'!$C36,0)","v":0},{"$f":"IF(P37=\"Ja\",'Qlossdist,dh'!$C36,0)","v":0},{"$f":"IF(Q37=\"Ja\",'Qlossdist,dh'!$C36,0)","v":0},{"$f":"IF(R37=\"Ja\",'Qlossdist,dh'!$C36,0)","v":0},{"$f":"IF(S37=\"Ja\",'Qlossdist,dh'!$C36,0)","v":0},{"$f":"IF(T37=\"Ja\",'Qlossdist,dh'!$C36,0)","v":0},{"$f":"IF(U37=\"Ja\",'Qlossdist,dh'!$C36,0)","v":0},{"$f":"IF(V37=\"Ja\",'Qlossdist,dh'!$C36,0)","v":0},{"$f":"IF(W37=\"Ja\",'Qlossdist,dh'!$C36,0)","v":0},{"$f":"IF(X37=\"Ja\",'Qlossdist,dh'!$C36,0)","v":0},{"$f":"IF(Y37=\"Ja\",'Qlossdist,dh'!$C36,0)","v":0},{"$f":"IF(Z37=\"Ja\",'Qlossdist,dh'!$C36,0)","v":0},{"$f":"IF(AA37=\"Ja\",'Qlossdist,dh'!$C36,0)","v":0},{"$f":"IF(AB37=\"Ja\",'Qlossdist,dh'!$C36,0)","v":0},{"$f":"IF(AC37=\"Ja\",'Qlossdist,dh'!$C36,0)","v":0},{"$f":"IF(AD37=\"Ja\",'Qlossdist,dh'!$C36,0)","v":0},{"$f":"IF(AE37=\"Ja\",'Qlossdist,dh'!$C36,0)","v":0},{"$f":"IF(AF37=\"Ja\",'Qlossdist,dh'!$C36,0)","v":0},{"$f":"IF(AG37=\"Ja\",'Qlossdist,dh'!$C36,0)","v":0},{"$f":"IF(AH37=\"Ja\",'Qlossdist,dh'!$C36,0)","v":0},{"$f":"IF(AI37=\"Ja\",'Qlossdist,dh'!$C36,0)","v":0},{"$f":"IF(AJ37=\"Ja\",'Qlossdist,dh'!$C36,0)","v":0},{"$f":"IF(AK37=\"Ja\",'Qlossdist,dh'!$C36,0)","v":0},{"$f":"IF(AL37=\"Ja\",'Qlossdist,dh'!$C36,0)","v":0},{"$f":"IF(AM37=\"Ja\",'Qlossdist,dh'!$C36,0)","v":0},{"$f":"IF(AN37=\"Ja\",'Qlossdist,dh'!$C36,0)","v":0},{"$f":"IF(AO37=\"Ja\",'Qlossdist,dh'!$C36,0)","v":0},{"$f":"IF(AP37=\"Ja\",'Qlossdist,dh'!$C36,0)","v":0},{"$f":"IF(AQ37=\"Ja\",'Qlossdist,dh'!$C36,0)","v":0},{"$f":"IF(AR37=\"Ja\",'Qlossdist,dh'!$C36,0)","v":0},{"$f":"IF(AS37=\"Ja\",'Qlossdist,dh'!$C36,0)","v":0},{"$f":"IF(AT37=\"Ja\",'Qlossdist,dh'!$C36,0)","v":0},{"$f":"IF(AU37=\"Ja\",'Qlossdist,dh'!$C36,0)","v":0},{"$f":"IF(AV37=\"Ja\",'Qlossdist,dh'!$C36,0)","v":0},{"$f":"IF(AW37=\"Ja\",'Qlossdist,dh'!$C36,0)","v":0},{"$f":"IF(AX37=\"Ja\",'Qlossdist,dh'!$C36,0)","v":0},{"$f":"IF(AY37=\"Ja\",'Qlossdist,dh'!$C36,0)","v":0},{"$f":"IF(AZ37=\"Ja\",'Qlossdist,dh'!$C36,0)","v":0},{"$f":"IF(BA37=\"Ja\",'Qlossdist,dh'!$C36,0)","v":0}]
["Qlossdist,l,n [MJ]","segment 30",30,{"$f":"IF(D38=\"Ja\",'Qlossdist,dh'!$C37,0)","v":0},{"$f":"IF(E38=\"Ja\",'Qlossdist,dh'!$C37,0)","v":0},{"$f":"IF(F38=\"Ja\",'Qlossdist,dh'!$C37,0)","v":0},{"$f":"IF(G38=\"Ja\",'Qlossdist,dh'!$C37,0)","v":0},{"$f":"IF(H38=\"Ja\",'Qlossdist,dh'!$C37,0)","v":0},{"$f":"IF(I38=\"Ja\",'Qlossdist,dh'!$C37,0)","v":0},{"$f":"IF(J38=\"Ja\",'Qlossdist,dh'!$C37,0)","v":0},{"$f":"IF(K38=\"Ja\",'Qlossdist,dh'!$C37,0)","v":0},{"$f":"IF(L38=\"Ja\",'Qlossdist,dh'!$C37,0)","v":0},{"$f":"IF(M38=\"Ja\",'Qlossdist,dh'!$C37,0)","v":0},{"$f":"IF(N38=\"Ja\",'Qlossdist,dh'!$C37,0)","v":0},{"$f":"IF(O38=\"Ja\",'Qlossdist,dh'!$C37,0)","v":0},{"$f":"IF(P38=\"Ja\",'Qlossdist,dh'!$C37,0)","v":0},{"$f":"IF(Q38=\"Ja\",'Qlossdist,dh'!$C37,0)","v":0},{"$f":"IF(R38=\"Ja\",'Qlossdist,dh'!$C37,0)","v":0},{"$f":"IF(S38=\"Ja\",'Qlossdist,dh'!$C37,0)","v":0},{"$f":"IF(T38=\"Ja\",'Qlossdist,dh'!$C37,0)","v":0},{"$f":"IF(U38=\"Ja\",'Qlossdist,dh'!$C37,0)","v":0},{"$f":"IF(V38=\"Ja\",'Qlossdist,dh'!$C37,0)","v":0},{"$f":"IF(W38=\"Ja\",'Qlossdist,dh'!$C37,0)","v":0},{"$f":"IF(X38=\"Ja\",'Qlossdist,dh'!$C37,0)","v":0},{"$f":"IF(Y38=\"Ja\",'Qlossdist,dh'!$C37,0)","v":0},{"$f":"IF(Z38=\"Ja\",'Qlossdist,dh'!$C37,0)","v":0},{"$f":"IF(AA38=\"Ja\",'Qlossdist,dh'!$C37,0)","v":0},{"$f":"IF(AB38=\"Ja\",'Qlossdist,dh'!$C37,0)","v":0},{"$f":"IF(AC38=\"Ja\",'Qlossdist,dh'!$C37,0)","v":0},{"$f":"IF(AD38=\"Ja\",'Qlossdist,dh'!$C37,0)","v":0},{"$f":"IF(AE38=\"Ja\",'Qlossdist,dh'!$C37,0)","v":0},{"$f":"IF(AF38=\"Ja\",'Qlossdist,dh'!$C37,0)","v":0},{"$f":"IF(AG38=\"Ja\",'Qlossdist,dh'!$C37,0)","v":0},{"$f":"IF(AH38=\"Ja\",'Qlossdist,dh'!$C37,0)","v":0},{"$f":"IF(AI38=\"Ja\",'Qlossdist,dh'!$C37,0)","v":0},{"$f":"IF(AJ38=\"Ja\",'Qlossdist,dh'!$C37,0)","v":0},{"$f":"IF(AK38=\"Ja\",'Qlossdist,dh'!$C37,0)","v":0},{"$f":"IF(AL38=\"Ja\",'Qlossdist,dh'!$C37,0)","v":0},{"$f":"IF(AM38=\"Ja\",'Qlossdist,dh'!$C37,0)","v":0},{"$f":"IF(AN38=\"Ja\",'Qlossdist,dh'!$C37,0)","v":0},{"$f":"IF(AO38=\"Ja\",'Qlossdist,dh'!$C37,0)","v":0},{"$f":"IF(AP38=\"Ja\",'Qlossdist,dh'!$C37,0)","v":0},{"$f":"IF(AQ38=\"Ja\",'Qlossdist,dh'!$C37,0)","v":0},{"$f":"IF(AR38=\"Ja\",'Qlossdist,dh'!$C37,0)","v":0},{"$f":"IF(AS38=\"Ja\",'Qlossdist,dh'!$C37,0)","v":0},{"$f":"IF(AT38=\"Ja\",'Qlossdist,dh'!$C37,0)","v":0},{"$f":"IF(AU38=\"Ja\",'Qlossdist,dh'!$C37,0)","v":0},{"$f":"IF(AV38=\"Ja\",'Qlossdist,dh'!$C37,0)","v":0},{"$f":"IF(AW38=\"Ja\",'Qlossdist,dh'!$C37,0)","v":0},{"$f":"IF(AX38=\"Ja\",'Qlossdist,dh'!$C37,0)","v":0},{"$f":"IF(AY38=\"Ja\",'Qlossdist,dh'!$C37,0)","v":0},{"$f":"IF(AZ38=\"Ja\",'Qlossdist,dh'!$C37,0)","v":0},{"$f":"IF(BA38=\"Ja\",'Qlossdist,dh'!$C37,0)","v":0}]
["Qlossdist,l,n [MJ]","segment 31",31,{"$f":"IF(D39=\"Ja\",'Qlossdist,dh'!$C38,0)","v":0},{"$f":"IF(E39=\"Ja\",'Qlossdist,dh'!$C38,0)","v":0},{"$f":"IF(F39=\"Ja\",'Qlossdist,dh'!$C38,0)","v":0},{"$f":"IF(G39=\"Ja\",'Qlossdist,dh'!$C38,0)","v":0},{"$f":"IF(H39=\"Ja\",'Qlossdist,dh'!$C38,0)","v":0},{"$f":"IF(I39=\"Ja\",'Qlossdist,dh'!$C38,0)","v":0},{"$f":"IF(J39=\"Ja\",'Qlossdist,dh'!$C38,0)","v":0},{"$f":"IF(K39=\"Ja\",'Qlossdist,dh'!$C38,0)","v":0},{"$f":"IF(L39=\"Ja\",'Qlossdist,dh'!$C38,0)","v":0},{"$f":"IF(M39=\"Ja\",'Qlossdist,dh'!$C38,0)","v":0},{"$f":"IF(N39=\"Ja\",'Qlossdist,dh'!$C38,0)","v":0},{"$f":"IF(O39=\"Ja\",'Qlossdist,dh'!$C38,0)","v":0},{"$f":"IF(P39=\"Ja\",'Qlossdist,dh'!$C38,0)","v":0},{"$f":"IF(Q39=\"Ja\",'Qlossdist,dh'!$C38,0)","v":0},{"$f":"IF(R39=\"Ja\",'Qlossdist,dh'!$C38,0)","v":0},{"$f":"IF(S39=\"Ja\",'Qlossdist,dh'!$C38,0)","v":0},{"$f":"IF(T39=\"Ja\",'Qlossdist,dh'!$C38,0)","v":0},{"$f":"IF(U39=\"Ja\",'Qlossdist,dh'!$C38,0)","v":0},{"$f":"IF(V39=\"Ja\",'Qlossdist,dh'!$C38,0)","v":0},{"$f":"IF(W39=\"Ja\",'Qlossdist,dh'!$C38,0)","v":0},{"$f":"IF(X39=\"Ja\",'Qlossdist,dh'!$C38,0)","v":0},{"$f":"IF(Y39=\"Ja\",'Qlossdist,dh'!$C38,0)","v":0},{"$f":"IF(Z39=\"Ja\",'Qlossdist,dh'!$C38,0)","v":0},{"$f":"IF(AA39=\"Ja\",'Qlossdist,dh'!$C38,0)","v":0},{"$f":"IF(AB39=\"Ja\",'Qlossdist,dh'!$C38,0)","v":0},{"$f":"IF(AC39=\"Ja\",'Qlossdist,dh'!$C38,0)","v":0},{"$f":"IF(AD39=\"Ja\",'Qlossdist,dh'!$C38,0)","v":0},{"$f":"IF(AE39=\"Ja\",'Qlossdist,dh'!$C38,0)","v":0},{"$f":"IF(AF39=\"Ja\",'Qlossdist,dh'!$C38,0)","v":0},{"$f":"IF(AG39=\"Ja\",'Qlossdist,dh'!$C38,0)","v":0},{"$f":"IF(AH39=\"Ja\",'Qlossdist,dh'!$C38,0)","v":0},{"$f":"IF(AI39=\"Ja\",'Qlossdist,dh'!$C38,0)","v":0},{"$f":"IF(AJ39=\"Ja\",'Qlossdist,dh'!$C38,0)","v":0},{"$f":"IF(AK39=\"Ja\",'Qlossdist,dh'!$C38,0)","v":0},{"$f":"IF(AL39=\"Ja\",'Qlossdist,dh'!$C38,0)","v":0},{"$f":"IF(AM39=\"Ja\",'Qlossdist,dh'!$C38,0)","v":0},{"$f":"IF(AN39=\"Ja\",'Qlossdist,dh'!$C38,0)","v":0},{"$f":"IF(AO39=\"Ja\",'Qlossdist,dh'!$C38,0)","v":0},{"$f":"IF(AP39=\"Ja\",'Qlossdist,dh'!$C38,0)","v":0},{"$f":"IF(AQ39=\"Ja\",'Qlossdist,dh'!$C38,0)","v":0},{"$f":"IF(AR39=\"Ja\",'Qlossdist,dh'!$C38,0)","v":0},{"$f":"IF(AS39=\"Ja\",'Qlossdist,dh'!$C38,0)","v":0},{"$f":"IF(AT39=\"Ja\",'Qlossdist,dh'!$C38,0)","v":0},{"$f":"IF(AU39=\"Ja\",'Qlossdist,dh'!$C38,0)","v":0},{"$f":"IF(AV39=\"Ja\",'Qlossdist,dh'!$C38,0)","v":0},{"$f":"IF(AW39=\"Ja\",'Qlossdist,dh'!$C38,0)","v":0},{"$f":"IF(AX39=\"Ja\",'Qlossdist,dh'!$C38,0)","v":0},{"$f":"IF(AY39=\"Ja\",'Qlossdist,dh'!$C38,0)","v":0},{"$f":"IF(AZ39=\"Ja\",'Qlossdist,dh'!$C38,0)","v":0},{"$f":"IF(BA39=\"Ja\",'Qlossdist,dh'!$C38,0)","v":0}]
["Qlossdist,l,n [MJ]","segment 32",32,{"$f":"IF(D40=\"Ja\",'Qlossdist,dh'!$C39,0)","v":0},{"$f":"IF(E40=\"Ja\",'Qlossdist,dh'!$C39,0)","v":0},{"$f":"IF(F40=\"Ja\",'Qlossdist,dh'!$C39,0)","v":0},{"$f":"IF(G40=\"Ja\",'Qlossdist,dh'!$C39,0)","v":0},{"$f":"IF(H40=\"Ja\",'Qlossdist,dh'!$C39,0)","v":0},{"$f":"IF(I40=\"Ja\",'Qlossdist,dh'!$C39,0)","v":0},{"$f":"IF(J40=\"Ja\",'Qlossdist,dh'!$C39,0)","v":0},{"$f":"IF(K40=\"Ja\",'Qlossdist,dh'!$C39,0)","v":0},{"$f":"IF(L40=\"Ja\",'Qlossdist,dh'!$C39,0)","v":0},{"$f":"IF(M40=\"Ja\",'Qlossdist,dh'!$C39,0)","v":0},{"$f":"IF(N40=\"Ja\",'Qlossdist,dh'!$C39,0)","v":0},{"$f":"IF(O40=\"Ja\",'Qlossdist,dh'!$C39,0)","v":0},{"$f":"IF(P40=\"Ja\",'Qlossdist,dh'!$C39,0)","v":0},{"$f":"IF(Q40=\"Ja\",'Qlossdist,dh'!$C39,0)","v":0},{"$f":"IF(R40=\"Ja\",'Qlossdist,dh'!$C39,0)","v":0},{"$f":"IF(S40=\"Ja\",'Qlossdist,dh'!$C39,0)","v":0},{"$f":"IF(T40=\"Ja\",'Qlossdist,dh'!$C39,0)","v":0},{"$f":"IF(U40=\"Ja\",'Qlossdist,dh'!$C39,0)","v":0},{"$f":"IF(V40=\"Ja\",'Qlossdist,dh'!$C39,0)","v":0},{"$f":"IF(W40=\"Ja\",'Qlossdist,dh'!$C39,0)","v":0},{"$f":"IF(X40=\"Ja\",'Qlossdist,dh'!$C39,0)","v":0},{"$f":"IF(Y40=\"Ja\",'Qlossdist,dh'!$C39,0)","v":0},{"$f":"IF(Z40=\"Ja\",'Qlossdist,dh'!$C39,0)","v":0},{"$f":"IF(AA40=\"Ja\",'Qlossdist,dh'!$C39,0)","v":0},{"$f":"IF(AB40=\"Ja\",'Qlossdist,dh'!$C39,0)","v":0},{"$f":"IF(AC40=\"Ja\",'Qlossdist,dh'!$C39,0)","v":0},{"$f":"IF(AD40=\"Ja\",'Qlossdist,dh'!$C39,0)","v":0},{"$f":"IF(AE40=\"Ja\",'Qlossdist,dh'!$C39,0)","v":0},{"$f":"IF(AF40=\"Ja\",'Qlossdist,dh'!$C39,0)","v":0},{"$f":"IF(AG40=\"Ja\",'Qlossdist,dh'!$C39,0)","v":0},{"$f":"IF(AH40=\"Ja\",'Qlossdist,dh'!$C39,0)","v":0},{"$f":"IF(AI40=\"Ja\",'Qlossdist,dh'!$C39,0)","v":0},{"$f":"IF(AJ40=\"Ja\",'Qlossdist,dh'!$C39,0)","v":0},{"$f":"IF(AK40=\"Ja\",'Qlossdist,dh'!$C39,0)","v":0},{"$f":"IF(AL40=\"Ja\",'Qlossdist,dh'!$C39,0)","v":0},{"$f":"IF(AM40=\"Ja\",'Qlossdist,dh'!$C39,0)","v":0},{"$f":"IF(AN40=\"Ja\",'Qlossdist,dh'!$C39,0)","v":0},{"$f":"IF(AO40=\"Ja\",'Qlossdist,dh'!$C39,0)","v":0},{"$f":"IF(AP40=\"Ja\",'Qlossdist,dh'!$C39,0)","v":0},{"$f":"IF(AQ40=\"Ja\",'Qlossdist,dh'!$C39,0)","v":0},{"$f":"IF(AR40=\"Ja\",'Qlossdist,dh'!$C39,0)","v":0},{"$f":"IF(AS40=\"Ja\",'Qlossdist,dh'!$C39,0)","v":0},{"$f":"IF(AT40=\"Ja\",'Qlossdist,dh'!$C39,0)","v":0},{"$f":"IF(AU40=\"Ja\",'Qlossdist,dh'!$C39,0)","v":0},{"$f":"IF(AV40=\"Ja\",'Qlossdist,dh'!$C39,0)","v":0},{"$f":"IF(AW40=\"Ja\",'Qlossdist,dh'!$C39,0)","v":0},{"$f":"IF(AX40=\"Ja\",'Qlossdist,dh'!$C39,0)","v":0},{"$f":"IF(AY40=\"Ja\",'Qlossdist,dh'!$C39,0)","v":0},{"$f":"IF(AZ40=\"Ja\",'Qlossdist,dh'!$C39,0)","v":0},{"$f":"IF(BA40=\"Ja\",'Qlossdist,dh'!$C39,0)","v":0}]
["Qlossdist,l,n [MJ]","segment 33",33,{"$f":"IF(D41=\"Ja\",'Qlossdist,dh'!$C40,0)","v":0},{"$f":"IF(E41=\"Ja\",'Qlossdist,dh'!$C40,0)","v":0},{"$f":"IF(F41=\"Ja\",'Qlossdist,dh'!$C40,0)","v":0},{"$f":"IF(G41=\"Ja\",'Qlossdist,dh'!$C40,0)","v":0},{"$f":"IF(H41=\"Ja\",'Qlossdist,dh'!$C40,0)","v":0},{"$f":"IF(I41=\"Ja\",'Qlossdist,dh'!$C40,0)","v":0},{"$f":"IF(J41=\"Ja\",'Qlossdist,dh'!$C40,0)","v":0},{"$f":"IF(K41=\"Ja\",'Qlossdist,dh'!$C40,0)","v":0},{"$f":"IF(L41=\"Ja\",'Qlossdist,dh'!$C40,0)","v":0},{"$f":"IF(M41=\"Ja\",'Qlossdist,dh'!$C40,0)","v":0},{"$f":"IF(N41=\"Ja\",'Qlossdist,dh'!$C40,0)","v":0},{"$f":"IF(O41=\"Ja\",'Qlossdist,dh'!$C40,0)","v":0},{"$f":"IF(P41=\"Ja\",'Qlossdist,dh'!$C40,0)","v":0},{"$f":"IF(Q41=\"Ja\",'Qlossdist,dh'!$C40,0)","v":0},{"$f":"IF(R41=\"Ja\",'Qlossdist,dh'!$C40,0)","v":0},{"$f":"IF(S41=\"Ja\",'Qlossdist,dh'!$C40,0)","v":0},{"$f":"IF(T41=\"Ja\",'Qlossdist,dh'!$C40,0)","v":0},{"$f":"IF(U41=\"Ja\",'Qlossdist,dh'!$C40,0)","v":0},{"$f":"IF(V41=\"Ja\",'Qlossdist,dh'!$C40,0)","v":0},{"$f":"IF(W41=\"Ja\",'Qlossdist,dh'!$C40,0)","v":0},{"$f":"IF(X41=\"Ja\",'Qlossdist,dh'!$C40,0)","v":0},{"$f":"IF(Y41=\"Ja\",'Qlossdist,dh'!$C40,0)","v":0},{"$f":"IF(Z41=\"Ja\",'Qlossdist,dh'!$C40,0)","v":0},{"$f":"IF(AA41=\"Ja\",'Qlossdist,dh'!$C40,0)","v":0},{"$f":"IF(AB41=\"Ja\",'Qlossdist,dh'!$C40,0)","v":0},{"$f":"IF(AC41=\"Ja\",'Qlossdist,dh'!$C40,0)","v":0},{"$f":"IF(AD41=\"Ja\",'Qlossdist,dh'!$C40,0)","v":0},{"$f":"IF(AE41=\"Ja\",'Qlossdist,dh'!$C40,0)","v":0},{"$f":"IF(AF41=\"Ja\",'Qlossdist,dh'!$C40,0)","v":0},{"$f":"IF(AG41=\"Ja\",'Qlossdist,dh'!$C40,0)","v":0},{"$f":"IF(AH41=\"Ja\",'Qlossdist,dh'!$C40,0)","v":0},{"$f":"IF(AI41=\"Ja\",'Qlossdist,dh'!$C40,0)","v":0},{"$f":"IF(AJ41=\"Ja\",'Qlossdist,dh'!$C40,0)","v":0},{"$f":"IF(AK41=\"Ja\",'Qlossdist,dh'!$C40,0)","v":0},{"$f":"IF(AL41=\"Ja\",'Qlossdist,dh'!$C40,0)","v":0},{"$f":"IF(AM41=\"Ja\",'Qlossdist,dh'!$C40,0)","v":0},{"$f":"IF(AN41=\"Ja\",'Qlossdist,dh'!$C40,0)","v":0},{"$f":"IF(AO41=\"Ja\",'Qlossdist,dh'!$C40,0)","v":0},{"$f":"IF(AP41=\"Ja\",'Qlossdist,dh'!$C40,0)","v":0},{"$f":"IF(AQ41=\"Ja\",'Qlossdist,dh'!$C40,0)","v":0},{"$f":"IF(AR41=\"Ja\",'Qlossdist,dh'!$C40,0)","v":0},{"$f":"IF(AS41=\"Ja\",'Qlossdist,dh'!$C40,0)","v":0},{"$f":"IF(AT41=\"Ja\",'Qlossdist,dh'!$C40,0)","v":0},{"$f":"IF(AU41=\"Ja\",'Qlossdist,dh'!$C40,0)","v":0},{"$f":"IF(AV41=\"Ja\",'Qlossdist,dh'!$C40,0)","v":0},{"$f":"IF(AW41=\"Ja\",'Qlossdist,dh'!$C40,0)","v":0},{"$f":"IF(AX41=\"Ja\",'Qlossdist,dh'!$C40,0)","v":0},{"$f":"IF(AY41=\"Ja\",'Qlossdist,dh'!$C40,0)","v":0},{"$f":"IF(AZ41=\"Ja\",'Qlossdist,dh'!$C40,0)","v":0},{"$f":"IF(BA41=\"Ja\",'Qlossdist,dh'!$C40,0)","v":0}]
["Qlossdist,l,n [MJ]","segment 34",34,{"$f":"IF(D42=\"Ja\",'Qlossdist,dh'!$C41,0)","v":0},{"$f":"IF(E42=\"Ja\",'Qlossdist,dh'!$C41,0)","v":0},{"$f":"IF(F42=\"Ja\",'Qlossdist,dh'!$C41,0)","v":0},{"$f":"IF(G42=\"Ja\",'Qlossdist,dh'!$C41,0)","v":0},{"$f":"IF(H42=\"Ja\",'Qlossdist,dh'!$C41,0)","v":0},{"$f":"IF(I42=\"Ja\",'Qlossdist,dh'!$C41,0)","v":0},{"$f":"IF(J42=\"Ja\",'Qlossdist,dh'!$C41,0)","v":0},{"$f":"IF(K42=\"Ja\",'Qlossdist,dh'!$C41,0)","v":0},{"$f":"IF(L42=\"Ja\",'Qlossdist,dh'!$C41,0)","v":0},{"$f":"IF(M42=\"Ja\",'Qlossdist,dh'!$C41,0)","v":0},{"$f":"IF(N42=\"Ja\",'Qlossdist,dh'!$C41,0)","v":0},{"$f":"IF(O42=\"Ja\",'Qlossdist,dh'!$C41,0)","v":0},{"$f":"IF(P42=\"Ja\",'Qlossdist,dh'!$C41,0)","v":0},{"$f":"IF(Q42=\"Ja\",'Qlossdist,dh'!$C41,0)","v":0},{"$f":"IF(R42=\"Ja\",'Qlossdist,dh'!$C41,0)","v":0},{"$f":"IF(S42=\"Ja\",'Qlossdist,dh'!$C41,0)","v":0},{"$f":"IF(T42=\"Ja\",'Qlossdist,dh'!$C41,0)","v":0},{"$f":"IF(U42=\"Ja\",'Qlossdist,dh'!$C41,0)","v":0},{"$f":"IF(V42=\"Ja\",'Qlossdist,dh'!$C41,0)","v":0},{"$f":"IF(W42=\"Ja\",'Qlossdist,dh'!$C41,0)","v":0},{"$f":"IF(X42=\"Ja\",'Qlossdist,dh'!$C41,0)","v":0},{"$f":"IF(Y42=\"Ja\",'Qlossdist,dh'!$C41,0)","v":0},{"$f":"IF(Z42=\"Ja\",'Qlossdist,dh'!$C41,0)","v":0},{"$f":"IF(AA42=\"Ja\",'Qlossdist,dh'!$C41,0)","v":0},{"$f":"IF(AB42=\"Ja\",'Qlossdist,dh'!$C41,0)","v":0},{"$f":"IF(AC42=\"Ja\",'Qlossdist,dh'!$C41,0)","v":0},{"$f":"IF(AD42=\"Ja\",'Qlossdist,dh'!$C41,0)","v":0},{"$f":"IF(AE42=\"Ja\",'Qlossdist,dh'!$C41,0)","v":0},{"$f":"IF(AF42=\"Ja\",'Qlossdist,dh'!$C41,0)","v":0},{"$f":"IF(AG42=\"Ja\",'Qlossdist,dh'!$C41,0)","v":0},{"$f":"IF(AH42=\"Ja\",'Qlossdist,dh'!$C41,0)","v":0},{"$f":"IF(AI42=\"Ja\",'Qlossdist,dh'!$C41,0)","v":0},{"$f":"IF(AJ42=\"Ja\",'Qlossdist,dh'!$C41,0)","v":0},{"$f":"IF(AK42=\"Ja\",'Qlossdist,dh'!$C41,0)","v":0},{"$f":"IF(AL42=\"Ja\",'Qlossdist,dh'!$C41,0)","v":0},{"$f":"IF(AM42=\"Ja\",'Qlossdist,dh'!$C41,0)","v":0},{"$f":"IF(AN42=\"Ja\",'Qlossdist,dh'!$C41,0)","v":0},{"$f":"IF(AO42=\"Ja\",'Qlossdist,dh'!$C41,0)","v":0},{"$f":"IF(AP42=\"Ja\",'Qlossdist,dh'!$C41,0)","v":0},{"$f":"IF(AQ42=\"Ja\",'Qlossdist,dh'!$C41,0)","v":0},{"$f":"IF(AR42=\"Ja\",'Qlossdist,dh'!$C41,0)","v":0},{"$f":"IF(AS42=\"Ja\",'Qlossdist,dh'!$C41,0)","v":0},{"$f":"IF(AT42=\"Ja\",'Qlossdist,dh'!$C41,0)","v":0},{"$f":"IF(AU42=\"Ja\",'Qlossdist,dh'!$C41,0)","v":0},{"$f":"IF(AV42=\"Ja\",'Qlossdist,dh'!$C41,0)","v":0},{"$f":"IF(AW42=\"Ja\",'Qlossdist,dh'!$C41,0)","v":0},{"$f":"IF(AX42=\"Ja\",'Qlossdist,dh'!$C41,0)","v":0},{"$f":"IF(AY42=\"Ja\",'Qlossdist,dh'!$C41,0)","v":0},{"$f":"IF(AZ42=\"Ja\",'Qlossdist,dh'!$C41,0)","v":0},{"$f":"IF(BA42=\"Ja\",'Qlossdist,dh'!$C41,0)","v":0}]
["Qlossdist,l,n [MJ]","segment 35",35,{"$f":"IF(D43=\"Ja\",'Qlossdist,dh'!$C42,0)","v":0},{"$f":"IF(E43=\"Ja\",'Qlossdist,dh'!$C42,0)","v":0},{"$f":"IF(F43=\"Ja\",'Qlossdist,dh'!$C42,0)","v":0},{"$f":"IF(G43=\"Ja\",'Qlossdist,dh'!$C42,0)","v":0},{"$f":"IF(H43=\"Ja\",'Qlossdist,dh'!$C42,0)","v":0},{"$f":"IF(I43=\"Ja\",'Qlossdist,dh'!$C42,0)","v":0},{"$f":"IF(J43=\"Ja\",'Qlossdist,dh'!$C42,0)","v":0},{"$f":"IF(K43=\"Ja\",'Qlossdist,dh'!$C42,0)","v":0},{"$f":"IF(L43=\"Ja\",'Qlossdist,dh'!$C42,0)","v":0},{"$f":"IF(M43=\"Ja\",'Qlossdist,dh'!$C42,0)","v":0},{"$f":"IF(N43=\"Ja\",'Qlossdist,dh'!$C42,0)","v":0},{"$f":"IF(O43=\"Ja\",'Qlossdist,dh'!$C42,0)","v":0},{"$f":"IF(P43=\"Ja\",'Qlossdist,dh'!$C42,0)","v":0},{"$f":"IF(Q43=\"Ja\",'Qlossdist,dh'!$C42,0)","v":0},{"$f":"IF(R43=\"Ja\",'Qlossdist,dh'!$C42,0)","v":0},{"$f":"IF(S43=\"Ja\",'Qlossdist,dh'!$C42,0)","v":0},{"$f":"IF(T43=\"Ja\",'Qlossdist,dh'!$C42,0)","v":0},{"$f":"IF(U43=\"Ja\",'Qlossdist,dh'!$C42,0)","v":0},{"$f":"IF(V43=\"Ja\",'Qlossdist,dh'!$C42,0)","v":0},{"$f":"IF(W43=\"Ja\",'Qlossdist,dh'!$C42,0)","v":0},{"$f":"IF(X43=\"Ja\",'Qlossdist,dh'!$C42,0)","v":0},{"$f":"IF(Y43=\"Ja\",'Qlossdist,dh'!$C42,0)","v":0},{"$f":"IF(Z43=\"Ja\",'Qlossdist,dh'!$C42,0)","v":0},{"$f":"IF(AA43=\"Ja\",'Qlossdist,dh'!$C42,0)","v":0},{"$f":"IF(AB43=\"Ja\",'Qlossdist,dh'!$C42,0)","v":0},{"$f":"IF(AC43=\"Ja\",'Qlossdist,dh'!$C42,0)","v":0},{"$f":"IF(AD43=\"Ja\",'Qlossdist,dh'!$C42,0)","v":0},{"$f":"IF(AE43=\"Ja\",'Qlossdist,dh'!$C42,0)","v":0},{"$f":"IF(AF43=\"Ja\",'Qlossdist,dh'!$C42,0)","v":0},{"$f":"IF(AG43=\"Ja\",'Qlossdist,dh'!$C42,0)","v":0},{"$f":"IF(AH43=\"Ja\",'Qlossdist,dh'!$C42,0)","v":0},{"$f":"IF(AI43=\"Ja\",'Qlossdist,dh'!$C42,0)","v":0},{"$f":"IF(AJ43=\"Ja\",'Qlossdist,dh'!$C42,0)","v":0},{"$f":"IF(AK43=\"Ja\",'Qlossdist,dh'!$C42,0)","v":0},{"$f":"IF(AL43=\"Ja\",'Qlossdist,dh'!$C42,0)","v":0},{"$f":"IF(AM43=\"Ja\",'Qlossdist,dh'!$C42,0)","v":0},{"$f":"IF(AN43=\"Ja\",'Qlossdist,dh'!$C42,0)","v":0},{"$f":"IF(AO43=\"Ja\",'Qlossdist,dh'!$C42,0)","v":0},{"$f":"IF(AP43=\"Ja\",'Qlossdist,dh'!$C42,0)","v":0},{"$f":"IF(AQ43=\"Ja\",'Qlossdist,dh'!$C42,0)","v":0},{"$f":"IF(AR43=\"Ja\",'Qlossdist,dh'!$C42,0)","v":0},{"$f":"IF(AS43=\"Ja\",'Qlossdist,dh'!$C42,0)","v":0},{"$f":"IF(AT43=\"Ja\",'Qlossdist,dh'!$C42,0)","v":0},{"$f":"IF(AU43=\"Ja\",'Qlossdist,dh'!$C42,0)","v":0},{"$f":"IF(AV43=\"Ja\",'Qlossdist,dh'!$C42,0)","v":0},{"$f":"IF(AW43=\"Ja\",'Qlossdist,dh'!$C42,0)","v":0},{"$f":"IF(AX43=\"Ja\",'Qlossdist,dh'!$C42,0)","v":0},{"$f":"IF(AY43=\"Ja\",'Qlossdist,dh'!$C42,0)","v":0},{"$f":"IF(AZ43=\"Ja\",'Qlossdist,dh'!$C42,0)","v":0},{"$f":"IF(BA43=\"Ja\",'Qlossdist,dh'!$C42,0)","v":0}]
["Qlossdist,l,n [MJ]","segment 36",36,{"$f":"IF(D44=\"Ja\",'Qlossdist,dh'!$C43,0)","v":0},{"$f":"IF(E44=\"Ja\",'Qlossdist,dh'!$C43,0)","v":0},{"$f":"IF(F44=\"Ja\",'Qlossdist,dh'!$C43,0)","v":0},{"$f":"IF(G44=\"Ja\",'Qlossdist,dh'!$C43,0)","v":0},{"$f":"IF(H44=\"Ja\",'Qlossdist,dh'!$C43,0)","v":0},{"$f":"IF(I44=\"Ja\",'Qlossdist,dh'!$C43,0)","v":0},{"$f":"IF(J44=\"Ja\",'Qlossdist,dh'!$C43,0)","v":0},{"$f":"IF(K44=\"Ja\",'Qlossdist,dh'!$C43,0)","v":0},{"$f":"IF(L44=\"Ja\",'Qlossdist,dh'!$C43,0)","v":0},{"$f":"IF(M44=\"Ja\",'Qlossdist,dh'!$C43,0)","v":0},{"$f":"IF(N44=\"Ja\",'Qlossdist,dh'!$C43,0)","v":0},{"$f":"IF(O44=\"Ja\",'Qlossdist,dh'!$C43,0)","v":0},{"$f":"IF(P44=\"Ja\",'Qlossdist,dh'!$C43,0)","v":0},{"$f":"IF(Q44=\"Ja\",'Qlossdist,dh'!$C43,0)","v":0},{"$f":"IF(R44=\"Ja\",'Qlossdist,dh'!$C43,0)","v":0},{"$f":"IF(S44=\"Ja\",'Qlossdist,dh'!$C43,0)","v":0},{"$f":"IF(T44=\"Ja\",'Qlossdist,dh'!$C43,0)","v":0},{"$f":"IF(U44=\"Ja\",'Qlossdist,dh'!$C43,0)","v":0},{"$f":"IF(V44=\"Ja\",'Qlossdist,dh'!$C43,0)","v":0},{"$f":"IF(W44=\"Ja\",'Qlossdist,dh'!$C43,0)","v":0},{"$f":"IF(X44=\"Ja\",'Qlossdist,dh'!$C43,0)","v":0},{"$f":"IF(Y44=\"Ja\",'Qlossdist,dh'!$C43,0)","v":0},{"$f":"IF(Z44=\"Ja\",'Qlossdist,dh'!$C43,0)","v":0},{"$f":"IF(AA44=\"Ja\",'Qlossdist,dh'!$C43,0)","v":0},{"$f":"IF(AB44=\"Ja\",'Qlossdist,dh'!$C43,0)","v":0},{"$f":"IF(AC44=\"Ja\",'Qlossdist,dh'!$C43,0)","v":0},{"$f":"IF(AD44=\"Ja\",'Qlossdist,dh'!$C43,0)","v":0},{"$f":"IF(AE44=\"Ja\",'Qlossdist,dh'!$C43,0)","v":0},{"$f":"IF(AF44=\"Ja\",'Qlossdist,dh'!$C43,0)","v":0},{"$f":"IF(AG44=\"Ja\",'Qlossdist,dh'!$C43,0)","v":0},{"$f":"IF(AH44=\"Ja\",'Qlossdist,dh'!$C43,0)","v":0},{"$f":"IF(AI44=\"Ja\",'Qlossdist,dh'!$C43,0)","v":0},{"$f":"IF(AJ44=\"Ja\",'Qlossdist,dh'!$C43,0)","v":0},{"$f":"IF(AK44=\"Ja\",'Qlossdist,dh'!$C43,0)","v":0},{"$f":"IF(AL44=\"Ja\",'Qlossdist,dh'!$C43,0)","v":0},{"$f":"IF(AM44=\"Ja\",'Qlossdist,dh'!$C43,0)","v":0},{"$f":"IF(AN44=\"Ja\",'Qlossdist,dh'!$C43,0)","v":0},{"$f":"IF(AO44=\"Ja\",'Qlossdist,dh'!$C43,0)","v":0},{"$f":"IF(AP44=\"Ja\",'Qlossdist,dh'!$C43,0)","v":0},{"$f":"IF(AQ44=\"Ja\",'Qlossdist,dh'!$C43,0)","v":0},{"$f":"IF(AR44=\"Ja\",'Qlossdist,dh'!$C43,0)","v":0},{"$f":"IF(AS44=\"Ja\",'Qlossdist,dh'!$C43,0)","v":0},{"$f":"IF(AT44=\"Ja\",'Qlossdist,dh'!$C43,0)","v":0},{"$f":"IF(AU44=\"Ja\",'Qlossdist,dh'!$C43,0)","v":0},{"$f":"IF(AV44=\"Ja\",'Qlossdist,dh'!$C43,0)","v":0},{"$f":"IF(AW44=\"Ja\",'Qlossdist,dh'!$C43,0)","v":0},{"$f":"IF(AX44=\"Ja\",'Qlossdist,dh'!$C43,0)","v":0},{"$f":"IF(AY44=\"Ja\",'Qlossdist,dh'!$C43,0)","v":0},{"$f":"IF(AZ44=\"Ja\",'Qlossdist,dh'!$C43,0)","v":0},{"$f":"IF(BA44=\"Ja\",'Qlossdist,dh'!$C43,0)","v":0}]
["Qlossdist,l,n [MJ]","segment 37",37,{"$f":"IF(D45=\"Ja\",'Qlossdist,dh'!$C44,0)","v":0},{"$f":"IF(E45=\"Ja\",'Qlossdist,dh'!$C44,0)","v":0},{"$f":"IF(F45=\"Ja\",'Qlossdist,dh'!$C44,0)","v":0},{"$f":"IF(G45=\"Ja\",'Qlossdist,dh'!$C44,0)","v":0},{"$f":"IF(H45=\"Ja\",'Qlossdist,dh'!$C44,0)","v":0},{"$f":"IF(I45=\"Ja\",'Qlossdist,dh'!$C44,0)","v":0},{"$f":"IF(J45=\"Ja\",'Qlossdist,dh'!$C44,0)","v":0},{"$f":"IF(K45=\"Ja\",'Qlossdist,dh'!$C44,0)","v":0},{"$f":"IF(L45=\"Ja\",'Qlossdist,dh'!$C44,0)","v":0},{"$f":"IF(M45=\"Ja\",'Qlossdist,dh'!$C44,0)","v":0},{"$f":"IF(N45=\"Ja\",'Qlossdist,dh'!$C44,0)","v":0},{"$f":"IF(O45=\"Ja\",'Qlossdist,dh'!$C44,0)","v":0},{"$f":"IF(P45=\"Ja\",'Qlossdist,dh'!$C44,0)","v":0},{"$f":"IF(Q45=\"Ja\",'Qlossdist,dh'!$C44,0)","v":0},{"$f":"IF(R45=\"Ja\",'Qlossdist,dh'!$C44,0)","v":0},{"$f":"IF(S45=\"Ja\",'Qlossdist,dh'!$C44,0)","v":0},{"$f":"IF(T45=\"Ja\",'Qlossdist,dh'!$C44,0)","v":0},{"$f":"IF(U45=\"Ja\",'Qlossdist,dh'!$C44,0)","v":0},{"$f":"IF(V45=\"Ja\",'Qlossdist,dh'!$C44,0)","v":0},{"$f":"IF(W45=\"Ja\",'Qlossdist,dh'!$C44,0)","v":0},{"$f":"IF(X45=\"Ja\",'Qlossdist,dh'!$C44,0)","v":0},{"$f":"IF(Y45=\"Ja\",'Qlossdist,dh'!$C44,0)","v":0},{"$f":"IF(Z45=\"Ja\",'Qlossdist,dh'!$C44,0)","v":0},{"$f":"IF(AA45=\"Ja\",'Qlossdist,dh'!$C44,0)","v":0},{"$f":"IF(AB45=\"Ja\",'Qlossdist,dh'!$C44,0)","v":0},{"$f":"IF(AC45=\"Ja\",'Qlossdist,dh'!$C44,0)","v":0},{"$f":"IF(AD45=\"Ja\",'Qlossdist,dh'!$C44,0)","v":0},{"$f":"IF(AE45=\"Ja\",'Qlossdist,dh'!$C44,0)","v":0},{"$f":"IF(AF45=\"Ja\",'Qlossdist,dh'!$C44,0)","v":0},{"$f":"IF(AG45=\"Ja\",'Qlossdist,dh'!$C44,0)","v":0},{"$f":"IF(AH45=\"Ja\",'Qlossdist,dh'!$C44,0)","v":0},{"$f":"IF(AI45=\"Ja\",'Qlossdist,dh'!$C44,0)","v":0},{"$f":"IF(AJ45=\"Ja\",'Qlossdist,dh'!$C44,0)","v":0},{"$f":"IF(AK45=\"Ja\",'Qlossdist,dh'!$C44,0)","v":0},{"$f":"IF(AL45=\"Ja\",'Qlossdist,dh'!$C44,0)","v":0},{"$f":"IF(AM45=\"Ja\",'Qlossdist,dh'!$C44,0)","v":0},{"$f":"IF(AN45=\"Ja\",'Qlossdist,dh'!$C44,0)","v":0},{"$f":"IF(AO45=\"Ja\",'Qlossdist,dh'!$C44,0)","v":0},{"$f":"IF(AP45=\"Ja\",'Qlossdist,dh'!$C44,0)","v":0},{"$f":"IF(AQ45=\"Ja\",'Qlossdist,dh'!$C44,0)","v":0},{"$f":"IF(AR45=\"Ja\",'Qlossdist,dh'!$C44,0)","v":0},{"$f":"IF(AS45=\"Ja\",'Qlossdist,dh'!$C44,0)","v":0},{"$f":"IF(AT45=\"Ja\",'Qlossdist,dh'!$C44,0)","v":0},{"$f":"IF(AU45=\"Ja\",'Qlossdist,dh'!$C44,0)","v":0},{"$f":"IF(AV45=\"Ja\",'Qlossdist,dh'!$C44,0)","v":0},{"$f":"IF(AW45=\"Ja\",'Qlossdist,dh'!$C44,0)","v":0},{"$f":"IF(AX45=\"Ja\",'Qlossdist,dh'!$C44,0)","v":0},{"$f":"IF(AY45=\"Ja\",'Qlossdist,dh'!$C44,0)","v":0},{"$f":"IF(AZ45=\"Ja\",'Qlossdist,dh'!$C44,0)","v":0},{"$f":"IF(BA45=\"Ja\",'Qlossdist,dh'!$C44,0)","v":0}]
["Qlossdist,l,n [MJ]","segment 38",38,{"$f":"IF(D46=\"Ja\",'Qlossdist,dh'!$C45,0)","v":0},{"$f":"IF(E46=\"Ja\",'Qlossdist,dh'!$C45,0)","v":0},{"$f":"IF(F46=\"Ja\",'Qlossdist,dh'!$C45,0)","v":0},{"$f":"IF(G46=\"Ja\",'Qlossdist,dh'!$C45,0)","v":0},{"$f":"IF(H46=\"Ja\",'Qlossdist,dh'!$C45,0)","v":0},{"$f":"IF(I46=\"Ja\",'Qlossdist,dh'!$C45,0)","v":0},{"$f":"IF(J46=\"Ja\",'Qlossdist,dh'!$C45,0)","v":0},{"$f":"IF(K46=\"Ja\",'Qlossdist,dh'!$C45,0)","v":0},{"$f":"IF(L46=\"Ja\",'Qlossdist,dh'!$C45,0)","v":0},{"$f":"IF(M46=\"Ja\",'Qlossdist,dh'!$C45,0)","v":0},{"$f":"IF(N46=\"Ja\",'Qlossdist,dh'!$C45,0)","v":0},{"$f":"IF(O46=\"Ja\",'Qlossdist,dh'!$C45,0)","v":0},{"$f":"IF(P46=\"Ja\",'Qlossdist,dh'!$C45,0)","v":0},{"$f":"IF(Q46=\"Ja\",'Qlossdist,dh'!$C45,0)","v":0},{"$f":"IF(R46=\"Ja\",'Qlossdist,dh'!$C45,0)","v":0},{"$f":"IF(S46=\"Ja\",'Qlossdist,dh'!$C45,0)","v":0},{"$f":"IF(T46=\"Ja\",'Qlossdist,dh'!$C45,0)","v":0},{"$f":"IF(U46=\"Ja\",'Qlossdist,dh'!$C45,0)","v":0},{"$f":"IF(V46=\"Ja\",'Qlossdist,dh'!$C45,0)","v":0},{"$f":"IF(W46=\"Ja\",'Qlossdist,dh'!$C45,0)","v":0},{"$f":"IF(X46=\"Ja\",'Qlossdist,dh'!$C45,0)","v":0},{"$f":"IF(Y46=\"Ja\",'Qlossdist,dh'!$C45,0)","v":0},{"$f":"IF(Z46=\"Ja\",'Qlossdist,dh'!$C45,0)","v":0},{"$f":"IF(AA46=\"Ja\",'Qlossdist,dh'!$C45,0)","v":0},{"$f":"IF(AB46=\"Ja\",'Qlossdist,dh'!$C45,0)","v":0},{"$f":"IF(AC46=\"Ja\",'Qlossdist,dh'!$C45,0)","v":0},{"$f":"IF(AD46=\"Ja\",'Qlossdist,dh'!$C45,0)","v":0},{"$f":"IF(AE46=\"Ja\",'Qlossdist,dh'!$C45,0)","v":0},{"$f":"IF(AF46=\"Ja\",'Qlossdist,dh'!$C45,0)","v":0},{"$f":"IF(AG46=\"Ja\",'Qlossdist,dh'!$C45,0)","v":0},{"$f":"IF(AH46=\"Ja\",'Qlossdist,dh'!$C45,0)","v":0},{"$f":"IF(AI46=\"Ja\",'Qlossdist,dh'!$C45,0)","v":0},{"$f":"IF(AJ46=\"Ja\",'Qlossdist,dh'!$C45,0)","v":0},{"$f":"IF(AK46=\"Ja\",'Qlossdist,dh'!$C45,0)","v":0},{"$f":"IF(AL46=\"Ja\",'Qlossdist,dh'!$C45,0)","v":0},{"$f":"IF(AM46=\"Ja\",'Qlossdist,dh'!$C45,0)","v":0},{"$f":"IF(AN46=\"Ja\",'Qlossdist,dh'!$C45,0)","v":0},{"$f":"IF(AO46=\"Ja\",'Qlossdist,dh'!$C45,0)","v":0},{"$f":"IF(AP46=\"Ja\",'Qlossdist,dh'!$C45,0)","v":0},{"$f":"IF(AQ46=\"Ja\",'Qlossdist,dh'!$C45,0)","v":0},{"$f":"IF(AR46=\"Ja\",'Qlossdist,dh'!$C45,0)","v":0},{"$f":"IF(AS46=\"Ja\",'Qlossdist,dh'!$C45,0)","v":0},{"$f":"IF(AT46=\"Ja\",'Qlossdist,dh'!$C45,0)","v":0},{"$f":"IF(AU46=\"Ja\",'Qlossdist,dh'!$C45,0)","v":0},{"$f":"IF(AV46=\"Ja\",'Qlossdist,dh'!$C45,0)","v":0},{"$f":"IF(AW46=\"Ja\",'Qlossdist,dh'!$C45,0)","v":0},{"$f":"IF(AX46=\"Ja\",'Qlossdist,dh'!$C45,0)","v":0},{"$f":"IF(AY46=\"Ja\",'Qlossdist,dh'!$C45,0)","v":0},{"$f":"IF(AZ46=\"Ja\",'Qlossdist,dh'!$C45,0)","v":0},{"$f":"IF(BA46=\"Ja\",'Qlossdist,dh'!$C45,0)","v":0}]
["Qlossdist,l,n [MJ]","segment 39",39,{"$f":"IF(D47=\"Ja\",'Qlossdist,dh'!$C46,0)","v":0},{"$f":"IF(E47=\"Ja\",'Qlossdist,dh'!$C46,0)","v":0},{"$f":"IF(F47=\"Ja\",'Qlossdist,dh'!$C46,0)","v":0},{"$f":"IF(G47=\"Ja\",'Qlossdist,dh'!$C46,0)","v":0},{"$f":"IF(H47=\"Ja\",'Qlossdist,dh'!$C46,0)","v":0},{"$f":"IF(I47=\"Ja\",'Qlossdist,dh'!$C46,0)","v":0},{"$f":"IF(J47=\"Ja\",'Qlossdist,dh'!$C46,0)","v":0},{"$f":"IF(K47=\"Ja\",'Qlossdist,dh'!$C46,0)","v":0},{"$f":"IF(L47=\"Ja\",'Qlossdist,dh'!$C46,0)","v":0},{"$f":"IF(M47=\"Ja\",'Qlossdist,dh'!$C46,0)","v":0},{"$f":"IF(N47=\"Ja\",'Qlossdist,dh'!$C46,0)","v":0},{"$f":"IF(O47=\"Ja\",'Qlossdist,dh'!$C46,0)","v":0},{"$f":"IF(P47=\"Ja\",'Qlossdist,dh'!$C46,0)","v":0},{"$f":"IF(Q47=\"Ja\",'Qlossdist,dh'!$C46,0)","v":0},{"$f":"IF(R47=\"Ja\",'Qlossdist,dh'!$C46,0)","v":0},{"$f":"IF(S47=\"Ja\",'Qlossdist,dh'!$C46,0)","v":0},{"$f":"IF(T47=\"Ja\",'Qlossdist,dh'!$C46,0)","v":0},{"$f":"IF(U47=\"Ja\",'Qlossdist,dh'!$C46,0)","v":0},{"$f":"IF(V47=\"Ja\",'Qlossdist,dh'!$C46,0)","v":0},{"$f":"IF(W47=\"Ja\",'Qlossdist,dh'!$C46,0)","v":0},{"$f":"IF(X47=\"Ja\",'Qlossdist,dh'!$C46,0)","v":0},{"$f":"IF(Y47=\"Ja\",'Qlossdist,dh'!$C46,0)","v":0},{"$f":"IF(Z47=\"Ja\",'Qlossdist,dh'!$C46,0)","v":0},{"$f":"IF(AA47=\"Ja\",'Qlossdist,dh'!$C46,0)","v":0},{"$f":"IF(AB47=\"Ja\",'Qlossdist,dh'!$C46,0)","v":0},{"$f":"IF(AC47=\"Ja\",'Qlossdist,dh'!$C46,0)","v":0},{"$f":"IF(AD47=\"Ja\",'Qlossdist,dh'!$C46,0)","v":0},{"$f":"IF(AE47=\"Ja\",'Qlossdist,dh'!$C46,0)","v":0},{"$f":"IF(AF47=\"Ja\",'Qlossdist,dh'!$C46,0)","v":0},{"$f":"IF(AG47=\"Ja\",'Qlossdist,dh'!$C46,0)","v":0},{"$f":"IF(AH47=\"Ja\",'Qlossdist,dh'!$C46,0)","v":0},{"$f":"IF(AI47=\"Ja\",'Qlossdist,dh'!$C46,0)","v":0},{"$f":"IF(AJ47=\"Ja\",'Qlossdist,dh'!$C46,0)","v":0},{"$f":"IF(AK47=\"Ja\",'Qlossdist,dh'!$C46,0)","v":0},{"$f":"IF(AL47=\"Ja\",'Qlossdist,dh'!$C46,0)","v":0},{"$f":"IF(AM47=\"Ja\",'Qlossdist,dh'!$C46,0)","v":0},{"$f":"IF(AN47=\"Ja\",'Qlossdist,dh'!$C46,0)","v":0},{"$f":"IF(AO47=\"Ja\",'Qlossdist,dh'!$C46,0)","v":0},{"$f":"IF(AP47=\"Ja\",'Qlossdist,dh'!$C46,0)","v":0},{"$f":"IF(AQ47=\"Ja\",'Qlossdist,dh'!$C46,0)","v":0},{"$f":"IF(AR47=\"Ja\",'Qlossdist,dh'!$C46,0)","v":0},{"$f":"IF(AS47=\"Ja\",'Qlossdist,dh'!$C46,0)","v":0},{"$f":"IF(AT47=\"Ja\",'Qlossdist,dh'!$C46,0)","v":0},{"$f":"IF(AU47=\"Ja\",'Qlossdist,dh'!$C46,0)","v":0},{"$f":"IF(AV47=\"Ja\",'Qlossdist,dh'!$C46,0)","v":0},{"$f":"IF(AW47=\"Ja\",'Qlossdist,dh'!$C46,0)","v":0},{"$f":"IF(AX47=\"Ja\",'Qlossdist,dh'!$C46,0)","v":0},{"$f":"IF(AY47=\"Ja\",'Qlossdist,dh'!$C46,0)","v":0},{"$f":"IF(AZ47=\"Ja\",'Qlossdist,dh'!$C46,0)","v":0},{"$f":"IF(BA47=\"Ja\",'Qlossdist,dh'!$C46,0)","v":0}]
["Qlossdist,l,n [MJ]","segment 40",40,{"$f":"IF(D48=\"Ja\",'Qlossdist,dh'!$C47,0)","v":0},{"$f":"IF(E48=\"Ja\",'Qlossdist,dh'!$C47,0)","v":0},{"$f":"IF(F48=\"Ja\",'Qlossdist,dh'!$C47,0)","v":0},{"$f":"IF(G48=\"Ja\",'Qlossdist,dh'!$C47,0)","v":0},{"$f":"IF(H48=\"Ja\",'Qlossdist,dh'!$C47,0)","v":0},{"$f":"IF(I48=\"Ja\",'Qlossdist,dh'!$C47,0)","v":0},{"$f":"IF(J48=\"Ja\",'Qlossdist,dh'!$C47,0)","v":0},{"$f":"IF(K48=\"Ja\",'Qlossdist,dh'!$C47,0)","v":0},{"$f":"IF(L48=\"Ja\",'Qlossdist,dh'!$C47,0)","v":0},{"$f":"IF(M48=\"Ja\",'Qlossdist,dh'!$C47,0)","v":0},{"$f":"IF(N48=\"Ja\",'Qlossdist,dh'!$C47,0)","v":0},{"$f":"IF(O48=\"Ja\",'Qlossdist,dh'!$C47,0)","v":0},{"$f":"IF(P48=\"Ja\",'Qlossdist,dh'!$C47,0)","v":0},{"$f":"IF(Q48=\"Ja\",'Qlossdist,dh'!$C47,0)","v":0},{"$f":"IF(R48=\"Ja\",'Qlossdist,dh'!$C47,0)","v":0},{"$f":"IF(S48=\"Ja\",'Qlossdist,dh'!$C47,0)","v":0},{"$f":"IF(T48=\"Ja\",'Qlossdist,dh'!$C47,0)","v":0},{"$f":"IF(U48=\"Ja\",'Qlossdist,dh'!$C47,0)","v":0},{"$f":"IF(V48=\"Ja\",'Qlossdist,dh'!$C47,0)","v":0},{"$f":"IF(W48=\"Ja\",'Qlossdist,dh'!$C47,0)","v":0},{"$f":"IF(X48=\"Ja\",'Qlossdist,dh'!$C47,0)","v":0},{"$f":"IF(Y48=\"Ja\",'Qlossdist,dh'!$C47,0)","v":0},{"$f":"IF(Z48=\"Ja\",'Qlossdist,dh'!$C47,0)","v":0},{"$f":"IF(AA48=\"Ja\",'Qlossdist,dh'!$C47,0)","v":0},{"$f":"IF(AB48=\"Ja\",'Qlossdist,dh'!$C47,0)","v":0},{"$f":"IF(AC48=\"Ja\",'Qlossdist,dh'!$C47,0)","v":0},{"$f":"IF(AD48=\"Ja\",'Qlossdist,dh'!$C47,0)","v":0},{"$f":"IF(AE48=\"Ja\",'Qlossdist,dh'!$C47,0)","v":0},{"$f":"IF(AF48=\"Ja\",'Qlossdist,dh'!$C47,0)","v":0},{"$f":"IF(AG48=\"Ja\",'Qlossdist,dh'!$C47,0)","v":0},{"$f":"IF(AH48=\"Ja\",'Qlossdist,dh'!$C47,0)","v":0},{"$f":"IF(AI48=\"Ja\",'Qlossdist,dh'!$C47,0)","v":0},{"$f":"IF(AJ48=\"Ja\",'Qlossdist,dh'!$C47,0)","v":0},{"$f":"IF(AK48=\"Ja\",'Qlossdist,dh'!$C47,0)","v":0},{"$f":"IF(AL48=\"Ja\",'Qlossdist,dh'!$C47,0)","v":0},{"$f":"IF(AM48=\"Ja\",'Qlossdist,dh'!$C47,0)","v":0},{"$f":"IF(AN48=\"Ja\",'Qlossdist,dh'!$C47,0)","v":0},{"$f":"IF(AO48=\"Ja\",'Qlossdist,dh'!$C47,0)","v":0},{"$f":"IF(AP48=\"Ja\",'Qlossdist,dh'!$C47,0)","v":0},{"$f":"IF(AQ48=\"Ja\",'Qlossdist,dh'!$C47,0)","v":0},{"$f":"IF(AR48=\"Ja\",'Qlossdist,dh'!$C47,0)","v":0},{"$f":"IF(AS48=\"Ja\",'Qlossdist,dh'!$C47,0)","v":0},{"$f":"IF(AT48=\"Ja\",'Qlossdist,dh'!$C47,0)","v":0},{"$f":"IF(AU48=\"Ja\",'Qlossdist,dh'!$C47,0)","v":0},{"$f":"IF(AV48=\"Ja\",'Qlossdist,dh'!$C47,0)","v":0},{"$f":"IF(AW48=\"Ja\",'Qlossdist,dh'!$C47,0)","v":0},{"$f":"IF(AX48=\"Ja\",'Qlossdist,dh'!$C47,0)","v":0},{"$f":"IF(AY48=\"Ja\",'Qlossdist,dh'!$C47,0)","v":0},{"$f":"IF(AZ48=\"Ja\",'Qlossdist,dh'!$C47,0)","v":0},{"$f":"IF(BA48=\"Ja\",'Qlossdist,dh'!$C47,0)","v":0}]
["Qlossdist,l,n [MJ]","segment 41",41,{"$f":"IF(D49=\"Ja\",'Qlossdist,dh'!$C48,0)","v":0},{"$f":"IF(E49=\"Ja\",'Qlossdist,dh'!$C48,0)","v":0},{"$f":"IF(F49=\"Ja\",'Qlossdist,dh'!$C48,0)","v":0},{"$f":"IF(G49=\"Ja\",'Qlossdist,dh'!$C48,0)","v":0},{"$f":"IF(H49=\"Ja\",'Qlossdist,dh'!$C48,0)","v":0},{"$f":"IF(I49=\"Ja\",'Qlossdist,dh'!$C48,0)","v":0},{"$f":"IF(J49=\"Ja\",'Qlossdist,dh'!$C48,0)","v":0},{"$f":"IF(K49=\"Ja\",'Qlossdist,dh'!$C48,0)","v":0},{"$f":"IF(L49=\"Ja\",'Qlossdist,dh'!$C48,0)","v":0},{"$f":"IF(M49=\"Ja\",'Qlossdist,dh'!$C48,0)","v":0},{"$f":"IF(N49=\"Ja\",'Qlossdist,dh'!$C48,0)","v":0},{"$f":"IF(O49=\"Ja\",'Qlossdist,dh'!$C48,0)","v":0},{"$f":"IF(P49=\"Ja\",'Qlossdist,dh'!$C48,0)","v":0},{"$f":"IF(Q49=\"Ja\",'Qlossdist,dh'!$C48,0)","v":0},{"$f":"IF(R49=\"Ja\",'Qlossdist,dh'!$C48,0)","v":0},{"$f":"IF(S49=\"Ja\",'Qlossdist,dh'!$C48,0)","v":0},{"$f":"IF(T49=\"Ja\",'Qlossdist,dh'!$C48,0)","v":0},{"$f":"IF(U49=\"Ja\",'Qlossdist,dh'!$C48,0)","v":0},{"$f":"IF(V49=\"Ja\",'Qlossdist,dh'!$C48,0)","v":0},{"$f":"IF(W49=\"Ja\",'Qlossdist,dh'!$C48,0)","v":0},{"$f":"IF(X49=\"Ja\",'Qlossdist,dh'!$C48,0)","v":0},{"$f":"IF(Y49=\"Ja\",'Qlossdist,dh'!$C48,0)","v":0},{"$f":"IF(Z49=\"Ja\",'Qlossdist,dh'!$C48,0)","v":0},{"$f":"IF(AA49=\"Ja\",'Qlossdist,dh'!$C48,0)","v":0},{"$f":"IF(AB49=\"Ja\",'Qlossdist,dh'!$C48,0)","v":0},{"$f":"IF(AC49=\"Ja\",'Qlossdist,dh'!$C48,0)","v":0},{"$f":"IF(AD49=\"Ja\",'Qlossdist,dh'!$C48,0)","v":0},{"$f":"IF(AE49=\"Ja\",'Qlossdist,dh'!$C48,0)","v":0},{"$f":"IF(AF49=\"Ja\",'Qlossdist,dh'!$C48,0)","v":0},{"$f":"IF(AG49=\"Ja\",'Qlossdist,dh'!$C48,0)","v":0},{"$f":"IF(AH49=\"Ja\",'Qlossdist,dh'!$C48,0)","v":0},{"$f":"IF(AI49=\"Ja\",'Qlossdist,dh'!$C48,0)","v":0},{"$f":"IF(AJ49=\"Ja\",'Qlossdist,dh'!$C48,0)","v":0},{"$f":"IF(AK49=\"Ja\",'Qlossdist,dh'!$C48,0)","v":0},{"$f":"IF(AL49=\"Ja\",'Qlossdist,dh'!$C48,0)","v":0},{"$f":"IF(AM49=\"Ja\",'Qlossdist,dh'!$C48,0)","v":0},{"$f":"IF(AN49=\"Ja\",'Qlossdist,dh'!$C48,0)","v":0},{"$f":"IF(AO49=\"Ja\",'Qlossdist,dh'!$C48,0)","v":0},{"$f":"IF(AP49=\"Ja\",'Qlossdist,dh'!$C48,0)","v":0},{"$f":"IF(AQ49=\"Ja\",'Qlossdist,dh'!$C48,0)","v":0},{"$f":"IF(AR49=\"Ja\",'Qlossdist,dh'!$C48,0)","v":0},{"$f":"IF(AS49=\"Ja\",'Qlossdist,dh'!$C48,0)","v":0},{"$f":"IF(AT49=\"Ja\",'Qlossdist,dh'!$C48,0)","v":0},{"$f":"IF(AU49=\"Ja\",'Qlossdist,dh'!$C48,0)","v":0},{"$f":"IF(AV49=\"Ja\",'Qlossdist,dh'!$C48,0)","v":0},{"$f":"IF(AW49=\"Ja\",'Qlossdist,dh'!$C48,0)","v":0},{"$f":"IF(AX49=\"Ja\",'Qlossdist,dh'!$C48,0)","v":0},{"$f":"IF(AY49=\"Ja\",'Qlossdist,dh'!$C48,0)","v":0},{"$f":"IF(AZ49=\"Ja\",'Qlossdist,dh'!$C48,0)","v":0},{"$f":"IF(BA49=\"Ja\",'Qlossdist,dh'!$C48,0)","v":0}]
["Qlossdist,l,n [MJ]","segment 42",42,{"$f":"IF(D50=\"Ja\",'Qlossdist,dh'!$C49,0)","v":0},{"$f":"IF(E50=\"Ja\",'Qlossdist,dh'!$C49,0)","v":0},{"$f":"IF(F50=\"Ja\",'Qlossdist,dh'!$C49,0)","v":0},{"$f":"IF(G50=\"Ja\",'Qlossdist,dh'!$C49,0)","v":0},{"$f":"IF(H50=\"Ja\",'Qlossdist,dh'!$C49,0)","v":0},{"$f":"IF(I50=\"Ja\",'Qlossdist,dh'!$C49,0)","v":0},{"$f":"IF(J50=\"Ja\",'Qlossdist,dh'!$C49,0)","v":0},{"$f":"IF(K50=\"Ja\",'Qlossdist,dh'!$C49,0)","v":0},{"$f":"IF(L50=\"Ja\",'Qlossdist,dh'!$C49,0)","v":0},{"$f":"IF(M50=\"Ja\",'Qlossdist,dh'!$C49,0)","v":0},{"$f":"IF(N50=\"Ja\",'Qlossdist,dh'!$C49,0)","v":0},{"$f":"IF(O50=\"Ja\",'Qlossdist,dh'!$C49,0)","v":0},{"$f":"IF(P50=\"Ja\",'Qlossdist,dh'!$C49,0)","v":0},{"$f":"IF(Q50=\"Ja\",'Qlossdist,dh'!$C49,0)","v":0},{"$f":"IF(R50=\"Ja\",'Qlossdist,dh'!$C49,0)","v":0},{"$f":"IF(S50=\"Ja\",'Qlossdist,dh'!$C49,0)","v":0},{"$f":"IF(T50=\"Ja\",'Qlossdist,dh'!$C49,0)","v":0},{"$f":"IF(U50=\"Ja\",'Qlossdist,dh'!$C49,0)","v":0},{"$f":"IF(V50=\"Ja\",'Qlossdist,dh'!$C49,0)","v":0},{"$f":"IF(W50=\"Ja\",'Qlossdist,dh'!$C49,0)","v":0},{"$f":"IF(X50=\"Ja\",'Qlossdist,dh'!$C49,0)","v":0},{"$f":"IF(Y50=\"Ja\",'Qlossdist,dh'!$C49,0)","v":0},{"$f":"IF(Z50=\"Ja\",'Qlossdist,dh'!$C49,0)","v":0},{"$f":"IF(AA50=\"Ja\",'Qlossdist,dh'!$C49,0)","v":0},{"$f":"IF(AB50=\"Ja\",'Qlossdist,dh'!$C49,0)","v":0},{"$f":"IF(AC50=\"Ja\",'Qlossdist,dh'!$C49,0)","v":0},{"$f":"IF(AD50=\"Ja\",'Qlossdist,dh'!$C49,0)","v":0},{"$f":"IF(AE50=\"Ja\",'Qlossdist,dh'!$C49,0)","v":0},{"$f":"IF(AF50=\"Ja\",'Qlossdist,dh'!$C49,0)","v":0},{"$f":"IF(AG50=\"Ja\",'Qlossdist,dh'!$C49,0)","v":0},{"$f":"IF(AH50=\"Ja\",'Qlossdist,dh'!$C49,0)","v":0},{"$f":"IF(AI50=\"Ja\",'Qlossdist,dh'!$C49,0)","v":0},{"$f":"IF(AJ50=\"Ja\",'Qlossdist,dh'!$C49,0)","v":0},{"$f":"IF(AK50=\"Ja\",'Qlossdist,dh'!$C49,0)","v":0},{"$f":"IF(AL50=\"Ja\",'Qlossdist,dh'!$C49,0)","v":0},{"$f":"IF(AM50=\"Ja\",'Qlossdist,dh'!$C49,0)","v":0},{"$f":"IF(AN50=\"Ja\",'Qlossdist,dh'!$C49,0)","v":0},{"$f":"IF(AO50=\"Ja\",'Qlossdist,dh'!$C49,0)","v":0},{"$f":"IF(AP50=\"Ja\",'Qlossdist,dh'!$C49,0)","v":0},{"$f":"IF(AQ50=\"Ja\",'Qlossdist,dh'!$C49,0)","v":0},{"$f":"IF(AR50=\"Ja\",'Qlossdist,dh'!$C49,0)","v":0},{"$f":"IF(AS50=\"Ja\",'Qlossdist,dh'!$C49,0)","v":0},{"$f":"IF(AT50=\"Ja\",'Qlossdist,dh'!$C49,0)","v":0},{"$f":"IF(AU50=\"Ja\",'Qlossdist,dh'!$C49,0)","v":0},{"$f":"IF(AV50=\"Ja\",'Qlossdist,dh'!$C49,0)","v":0},{"$f":"IF(AW50=\"Ja\",'Qlossdist,dh'!$C49,0)","v":0},{"$f":"IF(AX50=\"Ja\",'Qlossdist,dh'!$C49,0)","v":0},{"$f":"IF(AY50=\"Ja\",'Qlossdist,dh'!$C49,0)","v":0},{"$f":"IF(AZ50=\"Ja\",'Qlossdist,dh'!$C49,0)","v":0},{"$f":"IF(BA50=\"Ja\",'Qlossdist,dh'!$C49,0)","v":0}]
["Qlossdist,l,n [MJ]","segment 43",43,{"$f":"IF(D51=\"Ja\",'Qlossdist,dh'!$C50,0)","v":0},{"$f":"IF(E51=\"Ja\",'Qlossdist,dh'!$C50,0)","v":0},{"$f":"IF(F51=\"Ja\",'Qlossdist,dh'!$C50,0)","v":0},{"$f":"IF(G51=\"Ja\",'Qlossdist,dh'!$C50,0)","v":0},{"$f":"IF(H51=\"Ja\",'Qlossdist,dh'!$C50,0)","v":0},{"$f":"IF(I51=\"Ja\",'Qlossdist,dh'!$C50,0)","v":0},{"$f":"IF(J51=\"Ja\",'Qlossdist,dh'!$C50,0)","v":0},{"$f":"IF(K51=\"Ja\",'Qlossdist,dh'!$C50,0)","v":0},{"$f":"IF(L51=\"Ja\",'Qlossdist,dh'!$C50,0)","v":0},{"$f":"IF(M51=\"Ja\",'Qlossdist,dh'!$C50,0)","v":0},{"$f":"IF(N51=\"Ja\",'Qlossdist,dh'!$C50,0)","v":0},{"$f":"IF(O51=\"Ja\",'Qlossdist,dh'!$C50,0)","v":0},{"$f":"IF(P51=\"Ja\",'Qlossdist,dh'!$C50,0)","v":0},{"$f":"IF(Q51=\"Ja\",'Qlossdist,dh'!$C50,0)","v":0},{"$f":"IF(R51=\"Ja\",'Qlossdist,dh'!$C50,0)","v":0},{"$f":"IF(S51=\"Ja\",'Qlossdist,dh'!$C50,0)","v":0},{"$f":"IF(T51=\"Ja\",'Qlossdist,dh'!$C50,0)","v":0},{"$f":"IF(U51=\"Ja\",'Qlossdist,dh'!$C50,0)","v":0},{"$f":"IF(V51=\"Ja\",'Qlossdist,dh'!$C50,0)","v":0},{"$f":"IF(W51=\"Ja\",'Qlossdist,dh'!$C50,0)","v":0},{"$f":"IF(X51=\"Ja\",'Qlossdist,dh'!$C50,0)","v":0},{"$f":"IF(Y51=\"Ja\",'Qlossdist,dh'!$C50,0)","v":0},{"$f":"IF(Z51=\"Ja\",'Qlossdist,dh'!$C50,0)","v":0},{"$f":"IF(AA51=\"Ja\",'Qlossdist,dh'!$C50,0)","v":0},{"$f":"IF(AB51=\"Ja\",'Qlossdist,dh'!$C50,0)","v":0},{"$f":"IF(AC51=\"Ja\",'Qlossdist,dh'!$C50,0)","v":0},{"$f":"IF(AD51=\"Ja\",'Qlossdist,dh'!$C50,0)","v":0},{"$f":"IF(AE51=\"Ja\",'Qlossdist,dh'!$C50,0)","v":0},{"$f":"IF(AF51=\"Ja\",'Qlossdist,dh'!$C50,0)","v":0},{"$f":"IF(AG51=\"Ja\",'Qlossdist,dh'!$C50,0)","v":0},{"$f":"IF(AH51=\"Ja\",'Qlossdist,dh'!$C50,0)","v":0},{"$f":"IF(AI51=\"Ja\",'Qlossdist,dh'!$C50,0)","v":0},{"$f":"IF(AJ51=\"Ja\",'Qlossdist,dh'!$C50,0)","v":0},{"$f":"IF(AK51=\"Ja\",'Qlossdist,dh'!$C50,0)","v":0},{"$f":"IF(AL51=\"Ja\",'Qlossdist,dh'!$C50,0)","v":0},{"$f":"IF(AM51=\"Ja\",'Qlossdist,dh'!$C50,0)","v":0},{"$f":"IF(AN51=\"Ja\",'Qlossdist,dh'!$C50,0)","v":0},{"$f":"IF(AO51=\"Ja\",'Qlossdist,dh'!$C50,0)","v":0},{"$f":"IF(AP51=\"Ja\",'Qlossdist,dh'!$C50,0)","v":0},{"$f":"IF(AQ51=\"Ja\",'Qlossdist,dh'!$C50,0)","v":0},{"$f":"IF(AR51=\"Ja\",'Qlossdist,dh'!$C50,0)","v":0},{"$f":"IF(AS51=\"Ja\",'Qlossdist,dh'!$C50,0)","v":0},{"$f":"IF(AT51=\"Ja\",'Qlossdist,dh'!$C50,0)","v":0},{"$f":"IF(AU51=\"Ja\",'Qlossdist,dh'!$C50,0)","v":0},{"$f":"IF(AV51=\"Ja\",'Qlossdist,dh'!$C50,0)","v":0},{"$f":"IF(AW51=\"Ja\",'Qlossdist,dh'!$C50,0)","v":0},{"$f":"IF(AX51=\"Ja\",'Qlossdist,dh'!$C50,0)","v":0},{"$f":"IF(AY51=\"Ja\",'Qlossdist,dh'!$C50,0)","v":0},{"$f":"IF(AZ51=\"Ja\",'Qlossdist,dh'!$C50,0)","v":0},{"$f":"IF(BA51=\"Ja\",'Qlossdist,dh'!$C50,0)","v":0}]
["Qlossdist,l,n [MJ]","segment 44",44,{"$f":"IF(D52=\"Ja\",'Qlossdist,dh'!$C51,0)","v":0},{"$f":"IF(E52=\"Ja\",'Qlossdist,dh'!$C51,0)","v":0},{"$f":"IF(F52=\"Ja\",'Qlossdist,dh'!$C51,0)","v":0},{"$f":"IF(G52=\"Ja\",'Qlossdist,dh'!$C51,0)","v":0},{"$f":"IF(H52=\"Ja\",'Qlossdist,dh'!$C51,0)","v":0},{"$f":"IF(I52=\"Ja\",'Qlossdist,dh'!$C51,0)","v":0},{"$f":"IF(J52=\"Ja\",'Qlossdist,dh'!$C51,0)","v":0},{"$f":"IF(K52=\"Ja\",'Qlossdist,dh'!$C51,0)","v":0},{"$f":"IF(L52=\"Ja\",'Qlossdist,dh'!$C51,0)","v":0},{"$f":"IF(M52=\"Ja\",'Qlossdist,dh'!$C51,0)","v":0},{"$f":"IF(N52=\"Ja\",'Qlossdist,dh'!$C51,0)","v":0},{"$f":"IF(O52=\"Ja\",'Qlossdist,dh'!$C51,0)","v":0},{"$f":"IF(P52=\"Ja\",'Qlossdist,dh'!$C51,0)","v":0},{"$f":"IF(Q52=\"Ja\",'Qlossdist,dh'!$C51,0)","v":0},{"$f":"IF(R52=\"Ja\",'Qlossdist,dh'!$C51,0)","v":0},{"$f":"IF(S52=\"Ja\",'Qlossdist,dh'!$C51,0)","v":0},{"$f":"IF(T52=\"Ja\",'Qlossdist,dh'!$C51,0)","v":0},{"$f":"IF(U52=\"Ja\",'Qlossdist,dh'!$C51,0)","v":0},{"$f":"IF(V52=\"Ja\",'Qlossdist,dh'!$C51,0)","v":0},{"$f":"IF(W52=\"Ja\",'Qlossdist,dh'!$C51,0)","v":0},{"$f":"IF(X52=\"Ja\",'Qlossdist,dh'!$C51,0)","v":0},{"$f":"IF(Y52=\"Ja\",'Qlossdist,dh'!$C51,0)","v":0},{"$f":"IF(Z52=\"Ja\",'Qlossdist,dh'!$C51,0)","v":0},{"$f":"IF(AA52=\"Ja\",'Qlossdist,dh'!$C51,0)","v":0},{"$f":"IF(AB52=\"Ja\",'Qlossdist,dh'!$C51,0)","v":0},{"$f":"IF(AC52=\"Ja\",'Qlossdist,dh'!$C51,0)","v":0},{"$f":"IF(AD52=\"Ja\",'Qlossdist,dh'!$C51,0)","v":0},{"$f":"IF(AE52=\"Ja\",'Qlossdist,dh'!$C51,0)","v":0},{"$f":"IF(AF52=\"Ja\",'Qlossdist,dh'!$C51,0)","v":0},{"$f":"IF(AG52=\"Ja\",'Qlossdist,dh'!$C51,0)","v":0},{"$f":"IF(AH52=\"Ja\",'Qlossdist,dh'!$C51,0)","v":0},{"$f":"IF(AI52=\"Ja\",'Qlossdist,dh'!$C51,0)","v":0},{"$f":"IF(AJ52=\"Ja\",'Qlossdist,dh'!$C51,0)","v":0},{"$f":"IF(AK52=\"Ja\",'Qlossdist,dh'!$C51,0)","v":0},{"$f":"IF(AL52=\"Ja\",'Qlossdist,dh'!$C51,0)","v":0},{"$f":"IF(AM52=\"Ja\",'Qlossdist,dh'!$C51,0)","v":0},{"$f":"IF(AN52=\"Ja\",'Qlossdist,dh'!$C51,0)","v":0},{"$f":"IF(AO52=\"Ja\",'Qlossdist,dh'!$C51,0)","v":0},{"$f":"IF(AP52=\"Ja\",'Qlossdist,dh'!$C51,0)","v":0},{"$f":"IF(AQ52=\"Ja\",'Qlossdist,dh'!$C51,0)","v":0},{"$f":"IF(AR52=\"Ja\",'Qlossdist,dh'!$C51,0)","v":0},{"$f":"IF(AS52=\"Ja\",'Qlossdist,dh'!$C51,0)","v":0},{"$f":"IF(AT52=\"Ja\",'Qlossdist,dh'!$C51,0)","v":0},{"$f":"IF(AU52=\"Ja\",'Qlossdist,dh'!$C51,0)","v":0},{"$f":"IF(AV52=\"Ja\",'Qlossdist,dh'!$C51,0)","v":0},{"$f":"IF(AW52=\"Ja\",'Qlossdist,dh'!$C51,0)","v":0},{"$f":"IF(AX52=\"Ja\",'Qlossdist,dh'!$C51,0)","v":0},{"$f":"IF(AY52=\"Ja\",'Qlossdist,dh'!$C51,0)","v":0},{"$f":"IF(AZ52=\"Ja\",'Qlossdist,dh'!$C51,0)","v":0},{"$f":"IF(BA52=\"Ja\",'Qlossdist,dh'!$C51,0)","v":0}]
["Qlossdist,l,n [MJ]","segment 45",45,{"$f":"IF(D53=\"Ja\",'Qlossdist,dh'!$C52,0)","v":0},{"$f":"IF(E53=\"Ja\",'Qlossdist,dh'!$C52,0)","v":0},{"$f":"IF(F53=\"Ja\",'Qlossdist,dh'!$C52,0)","v":0},{"$f":"IF(G53=\"Ja\",'Qlossdist,dh'!$C52,0)","v":0},{"$f":"IF(H53=\"Ja\",'Qlossdist,dh'!$C52,0)","v":0},{"$f":"IF(I53=\"Ja\",'Qlossdist,dh'!$C52,0)","v":0},{"$f":"IF(J53=\"Ja\",'Qlossdist,dh'!$C52,0)","v":0},{"$f":"IF(K53=\"Ja\",'Qlossdist,dh'!$C52,0)","v":0},{"$f":"IF(L53=\"Ja\",'Qlossdist,dh'!$C52,0)","v":0},{"$f":"IF(M53=\"Ja\",'Qlossdist,dh'!$C52,0)","v":0},{"$f":"IF(N53=\"Ja\",'Qlossdist,dh'!$C52,0)","v":0},{"$f":"IF(O53=\"Ja\",'Qlossdist,dh'!$C52,0)","v":0},{"$f":"IF(P53=\"Ja\",'Qlossdist,dh'!$C52,0)","v":0},{"$f":"IF(Q53=\"Ja\",'Qlossdist,dh'!$C52,0)","v":0},{"$f":"IF(R53=\"Ja\",'Qlossdist,dh'!$C52,0)","v":0},{"$f":"IF(S53=\"Ja\",'Qlossdist,dh'!$C52,0)","v":0},{"$f":"IF(T53=\"Ja\",'Qlossdist,dh'!$C52,0)","v":0},{"$f":"IF(U53=\"Ja\",'Qlossdist,dh'!$C52,0)","v":0},{"$f":"IF(V53=\"Ja\",'Qlossdist,dh'!$C52,0)","v":0},{"$f":"IF(W53=\"Ja\",'Qlossdist,dh'!$C52,0)","v":0},{"$f":"IF(X53=\"Ja\",'Qlossdist,dh'!$C52,0)","v":0},{"$f":"IF(Y53=\"Ja\",'Qlossdist,dh'!$C52,0)","v":0},{"$f":"IF(Z53=\"Ja\",'Qlossdist,dh'!$C52,0)","v":0},{"$f":"IF(AA53=\"Ja\",'Qlossdist,dh'!$C52,0)","v":0},{"$f":"IF(AB53=\"Ja\",'Qlossdist,dh'!$C52,0)","v":0},{"$f":"IF(AC53=\"Ja\",'Qlossdist,dh'!$C52,0)","v":0},{"$f":"IF(AD53=\"Ja\",'Qlossdist,dh'!$C52,0)","v":0},{"$f":"IF(AE53=\"Ja\",'Qlossdist,dh'!$C52,0)","v":0},{"$f":"IF(AF53=\"Ja\",'Qlossdist,dh'!$C52,0)","v":0},{"$f":"IF(AG53=\"Ja\",'Qlossdist,dh'!$C52,0)","v":0},{"$f":"IF(AH53=\"Ja\",'Qlossdist,dh'!$C52,0)","v":0},{"$f":"IF(AI53=\"Ja\",'Qlossdist,dh'!$C52,0)","v":0},{"$f":"IF(AJ53=\"Ja\",'Qlossdist,dh'!$C52,0)","v":0},{"$f":"IF(AK53=\"Ja\",'Qlossdist,dh'!$C52,0)","v":0},{"$f":"IF(AL53=\"Ja\",'Qlossdist,dh'!$C52,0)","v":0},{"$f":"IF(AM53=\"Ja\",'Qlossdist,dh'!$C52,0)","v":0},{"$f":"IF(AN53=\"Ja\",'Qlossdist,dh'!$C52,0)","v":0},{"$f":"IF(AO53=\"Ja\",'Qlossdist,dh'!$C52,0)","v":0},{"$f":"IF(AP53=\"Ja\",'Qlossdist,dh'!$C52,0)","v":0},{"$f":"IF(AQ53=\"Ja\",'Qlossdist,dh'!$C52,0)","v":0},{"$f":"IF(AR53=\"Ja\",'Qlossdist,dh'!$C52,0)","v":0},{"$f":"IF(AS53=\"Ja\",'Qlossdist,dh'!$C52,0)","v":0},{"$f":"IF(AT53=\"Ja\",'Qlossdist,dh'!$C52,0)","v":0},{"$f":"IF(AU53=\"Ja\",'Qlossdist,dh'!$C52,0)","v":0},{"$f":"IF(AV53=\"Ja\",'Qlossdist,dh'!$C52,0)","v":0},{"$f":"IF(AW53=\"Ja\",'Qlossdist,dh'!$C52,0)","v":0},{"$f":"IF(AX53=\"Ja\",'Qlossdist,dh'!$C52,0)","v":0},{"$f":"IF(AY53=\"Ja\",'Qlossdist,dh'!$C52,0)","v":0},{"$f":"IF(AZ53=\"Ja\",'Qlossdist,dh'!$C52,0)","v":0},{"$f":"IF(BA53=\"Ja\",'Qlossdist,dh'!$C52,0)","v":0}]
["Qlossdist,l,n [MJ]","segment 46",46,{"$f":"IF(D54=\"Ja\",'Qlossdist,dh'!$C53,0)","v":0},{"$f":"IF(E54=\"Ja\",'Qlossdist,dh'!$C53,0)","v":0},{"$f":"IF(F54=\"Ja\",'Qlossdist,dh'!$C53,0)","v":0},{"$f":"IF(G54=\"Ja\",'Qlossdist,dh'!$C53,0)","v":0},{"$f":"IF(H54=\"Ja\",'Qlossdist,dh'!$C53,0)","v":0},{"$f":"IF(I54=\"Ja\",'Qlossdist,dh'!$C53,0)","v":0},{"$f":"IF(J54=\"Ja\",'Qlossdist,dh'!$C53,0)","v":0},{"$f":"IF(K54=\"Ja\",'Qlossdist,dh'!$C53,0)","v":0},{"$f":"IF(L54=\"Ja\",'Qlossdist,dh'!$C53,0)","v":0},{"$f":"IF(M54=\"Ja\",'Qlossdist,dh'!$C53,0)","v":0},{"$f":"IF(N54=\"Ja\",'Qlossdist,dh'!$C53,0)","v":0},{"$f":"IF(O54=\"Ja\",'Qlossdist,dh'!$C53,0)","v":0},{"$f":"IF(P54=\"Ja\",'Qlossdist,dh'!$C53,0)","v":0},{"$f":"IF(Q54=\"Ja\",'Qlossdist,dh'!$C53,0)","v":0},{"$f":"IF(R54=\"Ja\",'Qlossdist,dh'!$C53,0)","v":0},{"$f":"IF(S54=\"Ja\",'Qlossdist,dh'!$C53,0)","v":0},{"$f":"IF(T54=\"Ja\",'Qlossdist,dh'!$C53,0)","v":0},{"$f":"IF(U54=\"Ja\",'Qlossdist,dh'!$C53,0)","v":0},{"$f":"IF(V54=\"Ja\",'Qlossdist,dh'!$C53,0)","v":0},{"$f":"IF(W54=\"Ja\",'Qlossdist,dh'!$C53,0)","v":0},{"$f":"IF(X54=\"Ja\",'Qlossdist,dh'!$C53,0)","v":0},{"$f":"IF(Y54=\"Ja\",'Qlossdist,dh'!$C53,0)","v":0},{"$f":"IF(Z54=\"Ja\",'Qlossdist,dh'!$C53,0)","v":0},{"$f":"IF(AA54=\"Ja\",'Qlossdist,dh'!$C53,0)","v":0},{"$f":"IF(AB54=\"Ja\",'Qlossdist,dh'!$C53,0)","v":0},{"$f":"IF(AC54=\"Ja\",'Qlossdist,dh'!$C53,0)","v":0},{"$f":"IF(AD54=\"Ja\",'Qlossdist,dh'!$C53,0)","v":0},{"$f":"IF(AE54=\"Ja\",'Qlossdist,dh'!$C53,0)","v":0},{"$f":"IF(AF54=\"Ja\",'Qlossdist,dh'!$C53,0)","v":0},{"$f":"IF(AG54=\"Ja\",'Qlossdist,dh'!$C53,0)","v":0},{"$f":"IF(AH54=\"Ja\",'Qlossdist,dh'!$C53,0)","v":0},{"$f":"IF(AI54=\"Ja\",'Qlossdist,dh'!$C53,0)","v":0},{"$f":"IF(AJ54=\"Ja\",'Qlossdist,dh'!$C53,0)","v":0},{"$f":"IF(AK54=\"Ja\",'Qlossdist,dh'!$C53,0)","v":0},{"$f":"IF(AL54=\"Ja\",'Qlossdist,dh'!$C53,0)","v":0},{"$f":"IF(AM54=\"Ja\",'Qlossdist,dh'!$C53,0)","v":0},{"$f":"IF(AN54=\"Ja\",'Qlossdist,dh'!$C53,0)","v":0},{"$f":"IF(AO54=\"Ja\",'Qlossdist,dh'!$C53,0)","v":0},{"$f":"IF(AP54=\"Ja\",'Qlossdist,dh'!$C53,0)","v":0},{"$f":"IF(AQ54=\"Ja\",'Qlossdist,dh'!$C53,0)","v":0},{"$f":"IF(AR54=\"Ja\",'Qlossdist,dh'!$C53,0)","v":0},{"$f":"IF(AS54=\"Ja\",'Qlossdist,dh'!$C53,0)","v":0},{"$f":"IF(AT54=\"Ja\",'Qlossdist,dh'!$C53,0)","v":0},{"$f":"IF(AU54=\"Ja\",'Qlossdist,dh'!$C53,0)","v":0},{"$f":"IF(AV54=\"Ja\",'Qlossdist,dh'!$C53,0)","v":0},{"$f":"IF(AW54=\"Ja\",'Qlossdist,dh'!$C53,0)","v":0},{"$f":"IF(AX54=\"Ja\",'Qlossdist,dh'!$C53,0)","v":0},{"$f":"IF(AY54=\"Ja\",'Qlossdist,dh'!$C53,0)","v":0},{"$f":"IF(AZ54=\"Ja\",'Qlossdist,dh'!$C53,0)","v":0},{"$f":"IF(BA54=\"Ja\",'Qlossdist,dh'!$C53,0)","v":0}]
["Qlossdist,l,n [MJ]","segment 47",47,{"$f":"IF(D55=\"Ja\",'Qlossdist,dh'!$C54,0)","v":0},{"$f":"IF(E55=\"Ja\",'Qlossdist,dh'!$C54,0)","v":0},{"$f":"IF(F55=\"Ja\",'Qlossdist,dh'!$C54,0)","v":0},{"$f":"IF(G55=\"Ja\",'Qlossdist,dh'!$C54,0)","v":0},{"$f":"IF(H55=\"Ja\",'Qlossdist,dh'!$C54,0)","v":0},{"$f":"IF(I55=\"Ja\",'Qlossdist,dh'!$C54,0)","v":0},{"$f":"IF(J55=\"Ja\",'Qlossdist,dh'!$C54,0)","v":0},{"$f":"IF(K55=\"Ja\",'Qlossdist,dh'!$C54,0)","v":0},{"$f":"IF(L55=\"Ja\",'Qlossdist,dh'!$C54,0)","v":0},{"$f":"IF(M55=\"Ja\",'Qlossdist,dh'!$C54,0)","v":0},{"$f":"IF(N55=\"Ja\",'Qlossdist,dh'!$C54,0)","v":0},{"$f":"IF(O55=\"Ja\",'Qlossdist,dh'!$C54,0)","v":0},{"$f":"IF(P55=\"Ja\",'Qlossdist,dh'!$C54,0)","v":0},{"$f":"IF(Q55=\"Ja\",'Qlossdist,dh'!$C54,0)","v":0},{"$f":"IF(R55=\"Ja\",'Qlossdist,dh'!$C54,0)","v":0},{"$f":"IF(S55=\"Ja\",'Qlossdist,dh'!$C54,0)","v":0},{"$f":"IF(T55=\"Ja\",'Qlossdist,dh'!$C54,0)","v":0},{"$f":"IF(U55=\"Ja\",'Qlossdist,dh'!$C54,0)","v":0},{"$f":"IF(V55=\"Ja\",'Qlossdist,dh'!$C54,0)","v":0},{"$f":"IF(W55=\"Ja\",'Qlossdist,dh'!$C54,0)","v":0},{"$f":"IF(X55=\"Ja\",'Qlossdist,dh'!$C54,0)","v":0},{"$f":"IF(Y55=\"Ja\",'Qlossdist,dh'!$C54,0)","v":0},{"$f":"IF(Z55=\"Ja\",'Qlossdist,dh'!$C54,0)","v":0},{"$f":"IF(AA55=\"Ja\",'Qlossdist,dh'!$C54,0)","v":0},{"$f":"IF(AB55=\"Ja\",'Qlossdist,dh'!$C54,0)","v":0},{"$f":"IF(AC55=\"Ja\",'Qlossdist,dh'!$C54,0)","v":0},{"$f":"IF(AD55=\"Ja\",'Qlossdist,dh'!$C54,0)","v":0},{"$f":"IF(AE55=\"Ja\",'Qlossdist,dh'!$C54,0)","v":0},{"$f":"IF(AF55=\"Ja\",'Qlossdist,dh'!$C54,0)","v":0},{"$f":"IF(AG55=\"Ja\",'Qlossdist,dh'!$C54,0)","v":0},{"$f":"IF(AH55=\"Ja\",'Qlossdist,dh'!$C54,0)","v":0},{"$f":"IF(AI55=\"Ja\",'Qlossdist,dh'!$C54,0)","v":0},{"$f":"IF(AJ55=\"Ja\",'Qlossdist,dh'!$C54,0)","v":0},{"$f":"IF(AK55=\"Ja\",'Qlossdist,dh'!$C54,0)","v":0},{"$f":"IF(AL55=\"Ja\",'Qlossdist,dh'!$C54,0)","v":0},{"$f":"IF(AM55=\"Ja\",'Qlossdist,dh'!$C54,0)","v":0},{"$f":"IF(AN55=\"Ja\",'Qlossdist,dh'!$C54,0)","v":0},{"$f":"IF(AO55=\"Ja\",'Qlossdist,dh'!$C54,0)","v":0},{"$f":"IF(AP55=\"Ja\",'Qlossdist,dh'!$C54,0)","v":0},{"$f":"IF(AQ55=\"Ja\",'Qlossdist,dh'!$C54,0)","v":0},{"$f":"IF(AR55=\"Ja\",'Qlossdist,dh'!$C54,0)","v":0},{"$f":"IF(AS55=\"Ja\",'Qlossdist,dh'!$C54,0)","v":0},{"$f":"IF(AT55=\"Ja\",'Qlossdist,dh'!$C54,0)","v":0},{"$f":"IF(AU55=\"Ja\",'Qlossdist,dh'!$C54,0)","v":0},{"$f":"IF(AV55=\"Ja\",'Qlossdist,dh'!$C54,0)","v":0},{"$f":"IF(AW55=\"Ja\",'Qlossdist,dh'!$C54,0)","v":0},{"$f":"IF(AX55=\"Ja\",'Qlossdist,dh'!$C54,0)","v":0},{"$f":"IF(AY55=\"Ja\",'Qlossdist,dh'!$C54,0)","v":0},{"$f":"IF(AZ55=\"Ja\",'Qlossdist,dh'!$C54,0)","v":0},{"$f":"IF(BA55=\"Ja\",'Qlossdist,dh'!$C54,0)","v":0}]
["Qlossdist,l,n [MJ]","segment 48",48,{"$f":"IF(D56=\"Ja\",'Qlossdist,dh'!$C55,0)","v":0},{"$f":"IF(E56=\"Ja\",'Qlossdist,dh'!$C55,0)","v":0},{"$f":"IF(F56=\"Ja\",'Qlossdist,dh'!$C55,0)","v":0},{"$f":"IF(G56=\"Ja\",'Qlossdist,dh'!$C55,0)","v":0},{"$f":"IF(H56=\"Ja\",'Qlossdist,dh'!$C55,0)","v":0},{"$f":"IF(I56=\"Ja\",'Qlossdist,dh'!$C55,0)","v":0},{"$f":"IF(J56=\"Ja\",'Qlossdist,dh'!$C55,0)","v":0},{"$f":"IF(K56=\"Ja\",'Qlossdist,dh'!$C55,0)","v":0},{"$f":"IF(L56=\"Ja\",'Qlossdist,dh'!$C55,0)","v":0},{"$f":"IF(M56=\"Ja\",'Qlossdist,dh'!$C55,0)","v":0},{"$f":"IF(N56=\"Ja\",'Qlossdist,dh'!$C55,0)","v":0},{"$f":"IF(O56=\"Ja\",'Qlossdist,dh'!$C55,0)","v":0},{"$f":"IF(P56=\"Ja\",'Qlossdist,dh'!$C55,0)","v":0},{"$f":"IF(Q56=\"Ja\",'Qlossdist,dh'!$C55,0)","v":0},{"$f":"IF(R56=\"Ja\",'Qlossdist,dh'!$C55,0)","v":0},{"$f":"IF(S56=\"Ja\",'Qlossdist,dh'!$C55,0)","v":0},{"$f":"IF(T56=\"Ja\",'Qlossdist,dh'!$C55,0)","v":0},{"$f":"IF(U56=\"Ja\",'Qlossdist,dh'!$C55,0)","v":0},{"$f":"IF(V56=\"Ja\",'Qlossdist,dh'!$C55,0)","v":0},{"$f":"IF(W56=\"Ja\",'Qlossdist,dh'!$C55,0)","v":0},{"$f":"IF(X56=\"Ja\",'Qlossdist,dh'!$C55,0)","v":0},{"$f":"IF(Y56=\"Ja\",'Qlossdist,dh'!$C55,0)","v":0},{"$f":"IF(Z56=\"Ja\",'Qlossdist,dh'!$C55,0)","v":0},{"$f":"IF(AA56=\"Ja\",'Qlossdist,dh'!$C55,0)","v":0},{"$f":"IF(AB56=\"Ja\",'Qlossdist,dh'!$C55,0)","v":0},{"$f":"IF(AC56=\"Ja\",'Qlossdist,dh'!$C55,0)","v":0},{"$f":"IF(AD56=\"Ja\",'Qlossdist,dh'!$C55,0)","v":0},{"$f":"IF(AE56=\"Ja\",'Qlossdist,dh'!$C55,0)","v":0},{"$f":"IF(AF56=\"Ja\",'Qlossdist,dh'!$C55,0)","v":0},{"$f":"IF(AG56=\"Ja\",'Qlossdist,dh'!$C55,0)","v":0},{"$f":"IF(AH56=\"Ja\",'Qlossdist,dh'!$C55,0)","v":0},{"$f":"IF(AI56=\"Ja\",'Qlossdist,dh'!$C55,0)","v":0},{"$f":"IF(AJ56=\"Ja\",'Qlossdist,dh'!$C55,0)","v":0},{"$f":"IF(AK56=\"Ja\",'Qlossdist,dh'!$C55,0)","v":0},{"$f":"IF(AL56=\"Ja\",'Qlossdist,dh'!$C55,0)","v":0},{"$f":"IF(AM56=\"Ja\",'Qlossdist,dh'!$C55,0)","v":0},{"$f":"IF(AN56=\"Ja\",'Qlossdist,dh'!$C55,0)","v":0},{"$f":"IF(AO56=\"Ja\",'Qlossdist,dh'!$C55,0)","v":0},{"$f":"IF(AP56=\"Ja\",'Qlossdist,dh'!$C55,0)","v":0},{"$f":"IF(AQ56=\"Ja\",'Qlossdist,dh'!$C55,0)","v":0},{"$f":"IF(AR56=\"Ja\",'Qlossdist,dh'!$C55,0)","v":0},{"$f":"IF(AS56=\"Ja\",'Qlossdist,dh'!$C55,0)","v":0},{"$f":"IF(AT56=\"Ja\",'Qlossdist,dh'!$C55,0)","v":0},{"$f":"IF(AU56=\"Ja\",'Qlossdist,dh'!$C55,0)","v":0},{"$f":"IF(AV56=\"Ja\",'Qlossdist,dh'!$C55,0)","v":0},{"$f":"IF(AW56=\"Ja\",'Qlossdist,dh'!$C55,0)","v":0},{"$f":"IF(AX56=\"Ja\",'Qlossdist,dh'!$C55,0)","v":0},{"$f":"IF(AY56=\"Ja\",'Qlossdist,dh'!$C55,0)","v":0},{"$f":"IF(AZ56=\"Ja\",'Qlossdist,dh'!$C55,0)","v":0},{"$f":"IF(BA56=\"Ja\",'Qlossdist,dh'!$C55,0)","v":0}]
["Qlossdist,l,n [MJ]","segment 49",49,{"$f":"IF(D57=\"Ja\",'Qlossdist,dh'!$C56,0)","v":0},{"$f":"IF(E57=\"Ja\",'Qlossdist,dh'!$C56,0)","v":0},{"$f":"IF(F57=\"Ja\",'Qlossdist,dh'!$C56,0)","v":0},{"$f":"IF(G57=\"Ja\",'Qlossdist,dh'!$C56,0)","v":0},{"$f":"IF(H57=\"Ja\",'Qlossdist,dh'!$C56,0)","v":0},{"$f":"IF(I57=\"Ja\",'Qlossdist,dh'!$C56,0)","v":0},{"$f":"IF(J57=\"Ja\",'Qlossdist,dh'!$C56,0)","v":0},{"$f":"IF(K57=\"Ja\",'Qlossdist,dh'!$C56,0)","v":0},{"$f":"IF(L57=\"Ja\",'Qlossdist,dh'!$C56,0)","v":0},{"$f":"IF(M57=\"Ja\",'Qlossdist,dh'!$C56,0)","v":0},{"$f":"IF(N57=\"Ja\",'Qlossdist,dh'!$C56,0)","v":0},{"$f":"IF(O57=\"Ja\",'Qlossdist,dh'!$C56,0)","v":0},{"$f":"IF(P57=\"Ja\",'Qlossdist,dh'!$C56,0)","v":0},{"$f":"IF(Q57=\"Ja\",'Qlossdist,dh'!$C56,0)","v":0},{"$f":"IF(R57=\"Ja\",'Qlossdist,dh'!$C56,0)","v":0},{"$f":"IF(S57=\"Ja\",'Qlossdist,dh'!$C56,0)","v":0},{"$f":"IF(T57=\"Ja\",'Qlossdist,dh'!$C56,0)","v":0},{"$f":"IF(U57=\"Ja\",'Qlossdist,dh'!$C56,0)","v":0},{"$f":"IF(V57=\"Ja\",'Qlossdist,dh'!$C56,0)","v":0},{"$f":"IF(W57=\"Ja\",'Qlossdist,dh'!$C56,0)","v":0},{"$f":"IF(X57=\"Ja\",'Qlossdist,dh'!$C56,0)","v":0},{"$f":"IF(Y57=\"Ja\",'Qlossdist,dh'!$C56,0)","v":0},{"$f":"IF(Z57=\"Ja\",'Qlossdist,dh'!$C56,0)","v":0},{"$f":"IF(AA57=\"Ja\",'Qlossdist,dh'!$C56,0)","v":0},{"$f":"IF(AB57=\"Ja\",'Qlossdist,dh'!$C56,0)","v":0},{"$f":"IF(AC57=\"Ja\",'Qlossdist,dh'!$C56,0)","v":0},{"$f":"IF(AD57=\"Ja\",'Qlossdist,dh'!$C56,0)","v":0},{"$f":"IF(AE57=\"Ja\",'Qlossdist,dh'!$C56,0)","v":0},{"$f":"IF(AF57=\"Ja\",'Qlossdist,dh'!$C56,0)","v":0},{"$f":"IF(AG57=\"Ja\",'Qlossdist,dh'!$C56,0)","v":0},{"$f":"IF(AH57=\"Ja\",'Qlossdist,dh'!$C56,0)","v":0},{"$f":"IF(AI57=\"Ja\",'Qlossdist,dh'!$C56,0)","v":0},{"$f":"IF(AJ57=\"Ja\",'Qlossdist,dh'!$C56,0)","v":0},{"$f":"IF(AK57=\"Ja\",'Qlossdist,dh'!$C56,0)","v":0},{"$f":"IF(AL57=\"Ja\",'Qlossdist,dh'!$C56,0)","v":0},{"$f":"IF(AM57=\"Ja\",'Qlossdist,dh'!$C56,0)","v":0},{"$f":"IF(AN57=\"Ja\",'Qlossdist,dh'!$C56,0)","v":0},{"$f":"IF(AO57=\"Ja\",'Qlossdist,dh'!$C56,0)","v":0},{"$f":"IF(AP57=\"Ja\",'Qlossdist,dh'!$C56,0)","v":0},{"$f":"IF(AQ57=\"Ja\",'Qlossdist,dh'!$C56,0)","v":0},{"$f":"IF(AR57=\"Ja\",'Qlossdist,dh'!$C56,0)","v":0},{"$f":"IF(AS57=\"Ja\",'Qlossdist,dh'!$C56,0)","v":0},{"$f":"IF(AT57=\"Ja\",'Qlossdist,dh'!$C56,0)","v":0},{"$f":"IF(AU57=\"Ja\",'Qlossdist,dh'!$C56,0)","v":0},{"$f":"IF(AV57=\"Ja\",'Qlossdist,dh'!$C56,0)","v":0},{"$f":"IF(AW57=\"Ja\",'Qlossdist,dh'!$C56,0)","v":0},{"$f":"IF(AX57=\"Ja\",'Qlossdist,dh'!$C56,0)","v":0},{"$f":"IF(AY57=\"Ja\",'Qlossdist,dh'!$C56,0)","v":0},{"$f":"IF(AZ57=\"Ja\",'Qlossdist,dh'!$C56,0)","v":0},{"$f":"IF(BA57=\"Ja\",'Qlossdist,dh'!$C56,0)","v":0}]
["Qlossdist,l,n [MJ]","segment 50",50,{"$f":"IF(D58=\"Ja\",'Qlossdist,dh'!$C57,0)","v":0},{"$f":"IF(E58=\"Ja\",'Qlossdist,dh'!$C57,0)","v":0},{"$f":"IF(F58=\"Ja\",'Qlossdist,dh'!$C57,0)","v":0},{"$f":"IF(G58=\"Ja\",'Qlossdist,dh'!$C57,0)","v":0},{"$f":"IF(H58=\"Ja\",'Qlossdist,dh'!$C57,0)","v":0},{"$f":"IF(I58=\"Ja\",'Qlossdist,dh'!$C57,0)","v":0},{"$f":"IF(J58=\"Ja\",'Qlossdist,dh'!$C57,0)","v":0},{"$f":"IF(K58=\"Ja\",'Qlossdist,dh'!$C57,0)","v":0},{"$f":"IF(L58=\"Ja\",'Qlossdist,dh'!$C57,0)","v":0},{"$f":"IF(M58=\"Ja\",'Qlossdist,dh'!$C57,0)","v":0},{"$f":"IF(N58=\"Ja\",'Qlossdist,dh'!$C57,0)","v":0},{"$f":"IF(O58=\"Ja\",'Qlossdist,dh'!$C57,0)","v":0},{"$f":"IF(P58=\"Ja\",'Qlossdist,dh'!$C57,0)","v":0},{"$f":"IF(Q58=\"Ja\",'Qlossdist,dh'!$C57,0)","v":0},{"$f":"IF(R58=\"Ja\",'Qlossdist,dh'!$C57,0)","v":0},{"$f":"IF(S58=\"Ja\",'Qlossdist,dh'!$C57,0)","v":0},{"$f":"IF(T58=\"Ja\",'Qlossdist,dh'!$C57,0)","v":0},{"$f":"IF(U58=\"Ja\",'Qlossdist,dh'!$C57,0)","v":0},{"$f":"IF(V58=\"Ja\",'Qlossdist,dh'!$C57,0)","v":0},{"$f":"IF(W58=\"Ja\",'Qlossdist,dh'!$C57,0)","v":0},{"$f":"IF(X58=\"Ja\",'Qlossdist,dh'!$C57,0)","v":0},{"$f":"IF(Y58=\"Ja\",'Qlossdist,dh'!$C57,0)","v":0},{"$f":"IF(Z58=\"Ja\",'Qlossdist,dh'!$C57,0)","v":0},{"$f":"IF(AA58=\"Ja\",'Qlossdist,dh'!$C57,0)","v":0},{"$f":"IF(AB58=\"Ja\",'Qlossdist,dh'!$C57,0)","v":0},{"$f":"IF(AC58=\"Ja\",'Qlossdist,dh'!$C57,0)","v":0},{"$f":"IF(AD58=\"Ja\",'Qlossdist,dh'!$C57,0)","v":0},{"$f":"IF(AE58=\"Ja\",'Qlossdist,dh'!$C57,0)","v":0},{"$f":"IF(AF58=\"Ja\",'Qlossdist,dh'!$C57,0)","v":0},{"$f":"IF(AG58=\"Ja\",'Qlossdist,dh'!$C57,0)","v":0},{"$f":"IF(AH58=\"Ja\",'Qlossdist,dh'!$C57,0)","v":0},{"$f":"IF(AI58=\"Ja\",'Qlossdist,dh'!$C57,0)","v":0},{"$f":"IF(AJ58=\"Ja\",'Qlossdist,dh'!$C57,0)","v":0},{"$f":"IF(AK58=\"Ja\",'Qlossdist,dh'!$C57,0)","v":0},{"$f":"IF(AL58=\"Ja\",'Qlossdist,dh'!$C57,0)","v":0},{"$f":"IF(AM58=\"Ja\",'Qlossdist,dh'!$C57,0)","v":0},{"$f":"IF(AN58=\"Ja\",'Qlossdist,dh'!$C57,0)","v":0},{"$f":"IF(AO58=\"Ja\",'Qlossdist,dh'!$C57,0)","v":0},{"$f":"IF(AP58=\"Ja\",'Qlossdist,dh'!$C57,0)","v":0},{"$f":"IF(AQ58=\"Ja\",'Qlossdist,dh'!$C57,0)","v":0},{"$f":"IF(AR58=\"Ja\",'Qlossdist,dh'!$C57,0)","v":0},{"$f":"IF(AS58=\"Ja\",'Qlossdist,dh'!$C57,0)","v":0},{"$f":"IF(AT58=\"Ja\",'Qlossdist,dh'!$C57,0)","v":0},{"$f":"IF(AU58=\"Ja\",'Qlossdist,dh'!$C57,0)","v":0},{"$f":"IF(AV58=\"Ja\",'Qlossdist,dh'!$C57,0)","v":0},{"$f":"IF(AW58=\"Ja\",'Qlossdist,dh'!$C57,0)","v":0},{"$f":"IF(AX58=\"Ja\",'Qlossdist,dh'!$C57,0)","v":0},{"$f":"IF(AY58=\"Ja\",'Qlossdist,dh'!$C57,0)","v":0},{"$f":"IF(AZ58=\"Ja\",'Qlossdist,dh'!$C57,0)","v":0},{"$f":"IF(BA58=\"Ja\",'Qlossdist,dh'!$C57,0)","v":0}]
["Qdel,l,j [MJ]",{"$f":"\"warmtevrager \"&C314","v":"warmtevrager 1"},1,{"$f":"IF(D59=\"Ja\",'Q_del,j en Q_del,dh'!$D8,0)","v":0},{"$f":"IF(E59=\"Ja\",'Q_del,j en Q_del,dh'!$D8,0)","v":0},{"$f":"IF(F59=\"Ja\",'Q_del,j en Q_del,dh'!$D8,0)","v":0},{"$f":"IF(G59=\"Ja\",'Q_del,j en Q_del,dh'!$D8,0)","v":0},{"$f":"IF(H59=\"Ja\",'Q_del,j en Q_del,dh'!$D8,0)","v":0},{"$f":"IF(I59=\"Ja\",'Q_del,j en Q_del,dh'!$D8,0)","v":0},{"$f":"IF(J59=\"Ja\",'Q_del,j en Q_del,dh'!$D8,0)","v":0},{"$f":"IF(K59=\"Ja\",'Q_del,j en Q_del,dh'!$D8,0)","v":0},{"$f":"IF(L59=\"Ja\",'Q_del,j en Q_del,dh'!$D8,0)","v":0},{"$f":"IF(M59=\"Ja\",'Q_del,j en Q_del,dh'!$D8,0)","v":0},{"$f":"IF(N59=\"Ja\",'Q_del,j en Q_del,dh'!$D8,0)","v":0},{"$f":"IF(O59=\"Ja\",'Q_del,j en Q_del,dh'!$D8,0)","v":0},{"$f":"IF(P59=\"Ja\",'Q_del,j en Q_del,dh'!$D8,0)","v":0},{"$f":"IF(Q59=\"Ja\",'Q_del,j en Q_del,dh'!$D8,0)","v":0},{"$f":"IF(R59=\"Ja\",'Q_del,j en Q_del,dh'!$D8,0)","v":0},{"$f":"IF(S59=\"Ja\",'Q_del,j en Q_del,dh'!$D8,0)","v":0},{"$f":"IF(T59=\"Ja\",'Q_del,j en Q_del,dh'!$D8,0)","v":0},{"$f":"IF(U59=\"Ja\",'Q_del,j en Q_del,dh'!$D8,0)","v":0},{"$f":"IF(V59=\"Ja\",'Q_del,j en Q_del,dh'!$D8,0)","v":0},{"$f":"IF(W59=\"Ja\",'Q_del,j en Q_del,dh'!$D8,0)","v":0},{"$f":"IF(X59=\"Ja\",'Q_del,j en Q_del,dh'!$D8,0)","v":0},{"$f":"IF(Y59=\"Ja\",'Q_del,j en Q_del,dh'!$D8,0)","v":0},{"$f":"IF(Z59=\"Ja\",'Q_del,j en Q_del,dh'!$D8,0)","v":0},{"$f":"IF(AA59=\"Ja\",'Q_del,j en Q_del,dh'!$D8,0)","v":0},{"$f":"IF(AB59=\"Ja\",'Q_del,j en Q_del,dh'!$D8,0)","v":0},{"$f":"IF(AC59=\"Ja\",'Q_del,j en Q_del,dh'!$D8,0)","v":0},{"$f":"IF(AD59=\"Ja\",'Q_del,j en Q_del,dh'!$D8,0)","v":0},{"$f":"IF(AE59=\"Ja\",'Q_del,j en Q_del,dh'!$D8,0)","v":0},{"$f":"IF(AF59=\"Ja\",'Q_del,j en Q_del,dh'!$D8,0)","v":0},{"$f":"IF(AG59=\"Ja\",'Q_del,j en Q_del,dh'!$D8,0)","v":0},{"$f":"IF(AH59=\"Ja\",'Q_del,j en Q_del,dh'!$D8,0)","v":0},{"$f":"IF(AI59=\"Ja\",'Q_del,j en Q_del,dh'!$D8,0)","v":0},{"$f":"IF(AJ59=\"Ja\",'Q_del,j en Q_del,dh'!$D8,0)","v":0},{"$f":"IF(AK59=\"Ja\",'Q_del,j en Q_del,dh'!$D8,0)","v":0},{"$f":"IF(AL59=\"Ja\",'Q_del,j en Q_del,dh'!$D8,0)","v":0},{"$f":"IF(AM59=\"Ja\",'Q_del,j en Q_del,dh'!$D8,0)","v":0},{"$f":"IF(AN59=\"Ja\",'Q_del,j en Q_del,dh'!$D8,0)","v":0},{"$f":"IF(AO59=\"Ja\",'Q_del,j en Q_del,dh'!$D8,0)","v":0},{"$f":"IF(AP59=\"Ja\",'Q_del,j en Q_del,dh'!$D8,0)","v":0},{"$f":"IF(AQ59=\"Ja\",'Q_del,j en Q_del,dh'!$D8,0)","v":0},{"$f":"IF(AR59=\"Ja\",'Q_del,j en Q_del,dh'!$D8,0)","v":0},{"$f":"IF(AS59=\"Ja\",'Q_del,j en Q_del,dh'!$D8,0)","v":0},{"$f":"IF(AT59=\"Ja\",'Q_del,j en Q_del,dh'!$D8,0)","v":0},{"$f":"IF(AU59=\"Ja\",'Q_del,j en Q_del,dh'!$D8,0)","v":0},{"$f":"IF(AV59=\"Ja\",'Q_del,j en Q_del,dh'!$D8,0)","v":0},{"$f":"IF(AW59=\"Ja\",'Q_del,j en Q_del,dh'!$D8,0)","v":0},{"$f":"IF(AX59=\"Ja\",'Q_del,j en Q_del,dh'!$D8,0)","v":0},{"$f":"IF(AY59=\"Ja\",'Q_del,j en Q_del,dh'!$D8,0)","v":0},{"$f":"IF(AZ59=\"Ja\",'Q_del,j en Q_del,dh'!$D8,0)","v":0},{"$f":"IF(BA59=\"Ja\",'Q_del,j en Q_del,dh'!$D8,0)","v":0}]
["Qdel,l,j [MJ]",{"$f":"\"warmtevrager \"&C315","v":"warmtevrager 2"},{"$f":"C314+1","v":2},{"$f":"IF(D60=\"Ja\",'Q_del,j en Q_del,dh'!$D9,0)","v":0},{"$f":"IF(E60=\"Ja\",'Q_del,j en Q_del,dh'!$D9,0)","v":0},{"$f":"IF(F60=\"Ja\",'Q_del,j en Q_del,dh'!$D9,0)","v":0},{"$f":"IF(G60=\"Ja\",'Q_del,j en Q_del,dh'!$D9,0)","v":0},{"$f":"IF(H60=\"Ja\",'Q_del,j en Q_del,dh'!$D9,0)","v":0},{"$f":"IF(I60=\"Ja\",'Q_del,j en Q_del,dh'!$D9,0)","v":0},{"$f":"IF(J60=\"Ja\",'Q_del,j en Q_del,dh'!$D9,0)","v":0},{"$f":"IF(K60=\"Ja\",'Q_del,j en Q_del,dh'!$D9,0)","v":0},{"$f":"IF(L60=\"Ja\",'Q_del,j en Q_del,dh'!$D9,0)","v":0},{"$f":"IF(M60=\"Ja\",'Q_del,j en Q_del,dh'!$D9,0)","v":0},{"$f":"IF(N60=\"Ja\",'Q_del,j en Q_del,dh'!$D9,0)","v":0},{"$f":"IF(O60=\"Ja\",'Q_del,j en Q_del,dh'!$D9,0)","v":0},{"$f":"IF(P60=\"Ja\",'Q_del,j en Q_del,dh'!$D9,0)","v":0},{"$f":"IF(Q60=\"Ja\",'Q_del,j en Q_del,dh'!$D9,0)","v":0},{"$f":"IF(R60=\"Ja\",'Q_del,j en Q_del,dh'!$D9,0)","v":0},{"$f":"IF(S60=\"Ja\",'Q_del,j en Q_del,dh'!$D9,0)","v":0},{"$f":"IF(T60=\"Ja\",'Q_del,j en Q_del,dh'!$D9,0)","v":0},{"$f":"IF(U60=\"Ja\",'Q_del,j en Q_del,dh'!$D9,0)","v":0},{"$f":"IF(V60=\"Ja\",'Q_del,j en Q_del,dh'!$D9,0)","v":0},{"$f":"IF(W60=\"Ja\",'Q_del,j en Q_del,dh'!$D9,0)","v":0},{"$f":"IF(X60=\"Ja\",'Q_del,j en Q_del,dh'!$D9,0)","v":0},{"$f":"IF(Y60=\"Ja\",'Q_del,j en Q_del,dh'!$D9,0)","v":0},{"$f":"IF(Z60=\"Ja\",'Q_del,j en Q_del,dh'!$D9,0)","v":0},{"$f":"IF(AA60=\"Ja\",'Q_del,j en Q_del,dh'!$D9,0)","v":0},{"$f":"IF(AB60=\"Ja\",'Q_del,j en Q_del,dh'!$D9,0)","v":0},{"$f":"IF(AC60=\"Ja\",'Q_del,j en Q_del,dh'!$D9,0)","v":0},{"$f":"IF(AD60=\"Ja\",'Q_del,j en Q_del,dh'!$D9,0)","v":0},{"$f":"IF(AE60=\"Ja\",'Q_del,j en Q_del,dh'!$D9,0)","v":0},{"$f":"IF(AF60=\"Ja\",'Q_del,j en Q_del,dh'!$D9,0)","v":0},{"$f":"IF(AG60=\"Ja\",'Q_del,j en Q_del,dh'!$D9,0)","v":0},{"$f":"IF(AH60=\"Ja\",'Q_del,j en Q_del,dh'!$D9,0)","v":0},{"$f":"IF(AI60=\"Ja\",'Q_del,j en Q_del,dh'!$D9,0)","v":0},{"$f":"IF(AJ60=\"Ja\",'Q_del,j en Q_del,dh'!$D9,0)","v":0},{"$f":"IF(AK60=\"Ja\",'Q_del,j en Q_del,dh'!$D9,0)","v":0},{"$f":"IF(AL60=\"Ja\",'Q_del,j en Q_del,dh'!$D9,0)","v":0},{"$f":"IF(AM60=\"Ja\",'Q_del,j en Q_del,dh'!$D9,0)","v":0},{"$f":"IF(AN60=\"Ja\",'Q_del,j en Q_del,dh'!$D9,0)","v":0},{"$f":"IF(AO60=\"Ja\",'Q_del,j en Q_del,dh'!$D9,0)","v":0},{"$f":"IF(AP60=\"Ja\",'Q_del,j en Q_del,dh'!$D9,0)","v":0},{"$f":"IF(AQ60=\"Ja\",'Q_del,j en Q_del,dh'!$D9,0)","v":0},{"$f":"IF(AR60=\"Ja\",'Q_del,j en Q_del,dh'!$D9,0)","v":0},{"$f":"IF(AS60=\"Ja\",'Q_del,j en Q_del,dh'!$D9,0)","v":0},{"$f":"IF(AT60=\"Ja\",'Q_del,j en Q_del,dh'!$D9,0)","v":0},{"$f":"IF(AU60=\"Ja\",'Q_del,j en Q_del,dh'!$D9,0)","v":0},{"$f":"IF(AV60=\"Ja\",'Q_del,j en Q_del,dh'!$D9,0)","v":0},{"$f":"IF(AW60=\"Ja\",'Q_del,j en Q_del,dh'!$D9,0)","v":0},{"$f":"IF(AX60=\"Ja\",'Q_del,j en Q_del,dh'!$D9,0)","v":0},{"$f":"IF(AY60=\"Ja\",'Q_del,j en Q_del,dh'!$D9,0)","v":0},{"$f":"IF(AZ60=\"Ja\",'Q_del,j en Q_del,dh'!$D9,0)","v":0},{"$f":"IF(BA60=\"Ja\",'Q_del,j en Q_del,dh'!$D9,0)","v":0}]
["Qdel,l,j [MJ]",{"$f":"\"warmtevrager \"&C316","v":"warmtevrager 3"},{"$f":"C315+1","v":3},{"$f":"IF(D61=\"Ja\",'Q_del,j en Q_del,dh'!$D10,0)","v":0},{"$f":"IF(E61=\"Ja\",'Q_del,j en Q_del,dh'!$D10,0)","v":0},{"$f":"IF(F61=\"Ja\",'Q_del,j en Q_del,dh'!$D10,0)","v":0},{"$f":"IF(G61=\"Ja\",'Q_del,j en Q_del,dh'!$D10,0)","v":0},{"$f":"IF(H61=\"Ja\",'Q_del,j en Q_del,dh'!$D10,0)","v":0},{"$f":"IF(I61=\"Ja\",'Q_del,j en Q_del,dh'!$D10,0)","v":0},{"$f":"IF(J61=\"Ja\",'Q_del,j en Q_del,dh'!$D10,0)","v":0},{"$f":"IF(K61=\"Ja\",'Q_del,j en Q_del,dh'!$D10,0)","v":0},{"$f":"IF(L61=\"Ja\",'Q_del,j en Q_del,dh'!$D10,0)","v":0},{"$f":"IF(M61=\"Ja\",'Q_del,j en Q_del,dh'!$D10,0)","v":0},{"$f":"IF(N61=\"Ja\",'Q_del,j en Q_del,dh'!$D10,0)","v":0},{"$f":"IF(O61=\"Ja\",'Q_del,j en Q_del,dh'!$D10,0)","v":0},{"$f":"IF(P61=\"Ja\",'Q_del,j en Q_del,dh'!$D10,0)","v":0},{"$f":"IF(Q61=\"Ja\",'Q_del,j en Q_del,dh'!$D10,0)","v":0},{"$f":"IF(R61=\"Ja\",'Q_del,j en Q_del,dh'!$D10,0)","v":0},{"$f":"IF(S61=\"Ja\",'Q_del,j en Q_del,dh'!$D10,0)","v":0},{"$f":"IF(T61=\"Ja\",'Q_del,j en Q_del,dh'!$D10,0)","v":0},{"$f":"IF(U61=\"Ja\",'Q_del,j en Q_del,dh'!$D10,0)","v":0},{"$f":"IF(V61=\"Ja\",'Q_del,j en Q_del,dh'!$D10,0)","v":0},{"$f":"IF(W61=\"Ja\",'Q_del,j en Q_del,dh'!$D10,0)","v":0},{"$f":"IF(X61=\"Ja\",'Q_del,j en Q_del,dh'!$D10,0)","v":0},{"$f":"IF(Y61=\"Ja\",'Q_del,j en Q_del,dh'!$D10,0)","v":0},{"$f":"IF(Z61=\"Ja\",'Q_del,j en Q_del,dh'!$D10,0)","v":0},{"$f":"IF(AA61=\"Ja\",'Q_del,j en Q_del,dh'!$D10,0)","v":0},{"$f":"IF(AB61=\"Ja\",'Q_del,j en Q_del,dh'!$D10,0)","v":0},{"$f":"IF(AC61=\"Ja\",'Q_del,j en Q_del,dh'!$D10,0)","v":0},{"$f":"IF(AD61=\"Ja\",'Q_del,j en Q_del,dh'!$D10,0)","v":0},{"$f":"IF(AE61=\"Ja\",'Q_del,j en Q_del,dh'!$D10,0)","v":0},{"$f":"IF(AF61=\"Ja\",'Q_del,j en Q_del,dh'!$D10,0)","v":0},{"$f":"IF(AG61=\"Ja\",'Q_del,j en Q_del,dh'!$D10,0)","v":0},{"$f":"IF(AH61=\"Ja\",'Q_del,j en Q_del,dh'!$D10,0)","v":0},{"$f":"IF(AI61=\"Ja\",'Q_del,j en Q_del,dh'!$D10,0)","v":0},{"$f":"IF(AJ61=\"Ja\",'Q_del,j en Q_del,dh'!$D10,0)","v":0},{"$f":"IF(AK61=\"Ja\",'Q_del,j en Q_del,dh'!$D10,0)","v":0},{"$f":"IF(AL61=\"Ja\",'Q_del,j en Q_del,dh'!$D10,0)","v":0},{"$f":"IF(AM61=\"Ja\",'Q_del,j en Q_del,dh'!$D10,0)","v":0},{"$f":"IF(AN61=\"Ja\",'Q_del,j en Q_del,dh'!$D10,0)","v":0},{"$f":"IF(AO61=\"Ja\",'Q_del,j en Q_del,dh'!$D10,0)","v":0},{"$f":"IF(AP61=\"Ja\",'Q_del,j en Q_del,dh'!$D10,0)","v":0},{"$f":"IF(AQ61=\"Ja\",'Q_del,j en Q_del,dh'!$D10,0)","v":0},{"$f":"IF(AR61=\"Ja\",'Q_del,j en Q_del,dh'!$D10,0)","v":0},{"$f":"IF(AS61=\"Ja\",'Q_del,j en Q_del,dh'!$D10,0)","v":0},{"$f":"IF(AT61=\"Ja\",'Q_del,j en Q_del,dh'!$D10,0)","v":0},{"$f":"IF(AU61=\"Ja\",'Q_del,j en Q_del,dh'!$D10,0)","v":0},{"$f":"IF(AV61=\"Ja\",'Q_del,j en Q_del,dh'!$D10,0)","v":0},{"$f":"IF(AW61=\"Ja\",'Q_del,j en Q_del,dh'!$D10,0)","v":0},{"$f":"IF(AX61=\"Ja\",'Q_del,j en Q_del,dh'!$D10,0)","v":0},{"$f":"IF(AY61=\"Ja\",'Q_del,j en Q_del,dh'!$D10,0)","v":0},{"$f":"IF(AZ61=\"Ja\",'Q_del,j en Q_del,dh'!$D10,0)","v":0},{"$f":"IF(BA61=\"Ja\",'Q_del,j en Q_del,dh'!$D10,0)","v":0}]
["Qdel,l,j [MJ]","warmtevrager 4",4,{"$f":"IF(D62=\"Ja\",'Q_del,j en Q_del,dh'!$D11,0)","v":0},{"$f":"IF(E62=\"Ja\",'Q_del,j en Q_del,dh'!$D11,0)","v":0},{"$f":"IF(F62=\"Ja\",'Q_del,j en Q_del,dh'!$D11,0)","v":0},{"$f":"IF(G62=\"Ja\",'Q_del,j en Q_del,dh'!$D11,0)","v":0},{"$f":"IF(H62=\"Ja\",'Q_del,j en Q_del,dh'!$D11,0)","v":0},{"$f":"IF(I62=\"Ja\",'Q_del,j en Q_del,dh'!$D11,0)","v":0},{"$f":"IF(J62=\"Ja\",'Q_del,j en Q_del,dh'!$D11,0)","v":0},{"$f":"IF(K62=\"Ja\",'Q_del,j en Q_del,dh'!$D11,0)","v":0},{"$f":"IF(L62=\"Ja\",'Q_del,j en Q_del,dh'!$D11,0)","v":0},{"$f":"IF(M62=\"Ja\",'Q_del,j en Q_del,dh'!$D11,0)","v":0},{"$f":"IF(N62=\"Ja\",'Q_del,j en Q_del,dh'!$D11,0)","v":0},{"$f":"IF(O62=\"Ja\",'Q_del,j en Q_del,dh'!$D11,0)","v":0},{"$f":"IF(P62=\"Ja\",'Q_del,j en Q_del,dh'!$D11,0)","v":0},{"$f":"IF(Q62=\"Ja\",'Q_del,j en Q_del,dh'!$D11,0)","v":0},{"$f":"IF(R62=\"Ja\",'Q_del,j en Q_del,dh'!$D11,0)","v":0},{"$f":"IF(S62=\"Ja\",'Q_del,j en Q_del,dh'!$D11,0)","v":0},{"$f":"IF(T62=\"Ja\",'Q_del,j en Q_del,dh'!$D11,0)","v":0},{"$f":"IF(U62=\"Ja\",'Q_del,j en Q_del,dh'!$D11,0)","v":0},{"$f":"IF(V62=\"Ja\",'Q_del,j en Q_del,dh'!$D11,0)","v":0},{"$f":"IF(W62=\"Ja\",'Q_del,j en Q_del,dh'!$D11,0)","v":0},{"$f":"IF(X62=\"Ja\",'Q_del,j en Q_del,dh'!$D11,0)","v":0},{"$f":"IF(Y62=\"Ja\",'Q_del,j en Q_del,dh'!$D11,0)","v":0},{"$f":"IF(Z62=\"Ja\",'Q_del,j en Q_del,dh'!$D11,0)","v":0},{"$f":"IF(AA62=\"Ja\",'Q_del,j en Q_del,dh'!$D11,0)","v":0},{"$f":"IF(AB62=\"Ja\",'Q_del,j en Q_del,dh'!$D11,0)","v":0},{"$f":"IF(AC62=\"Ja\",'Q_del,j en Q_del,dh'!$D11,0)","v":0},{"$f":"IF(AD62=\"Ja\",'Q_del,j en Q_del,dh'!$D11,0)","v":0},{"$f":"IF(AE62=\"Ja\",'Q_del,j en Q_del,dh'!$D11,0)","v":0},{"$f":"IF(AF62=\"Ja\",'Q_del,j en Q_del,dh'!$D11,0)","v":0},{"$f":"IF(AG62=\"Ja\",'Q_del,j en Q_del,dh'!$D11,0)","v":0},{"$f":"IF(AH62=\"Ja\",'Q_del,j en Q_del,dh'!$D11,0)","v":0},{"$f":"IF(AI62=\"Ja\",'Q_del,j en Q_del,dh'!$D11,0)","v":0},{"$f":"IF(AJ62=\"Ja\",'Q_del,j en Q_del,dh'!$D11,0)","v":0},{"$f":"IF(AK62=\"Ja\",'Q_del,j en Q_del,dh'!$D11,0)","v":0},{"$f":"IF(AL62=\"Ja\",'Q_del,j en Q_del,dh'!$D11,0)","v":0},{"$f":"IF(AM62=\"Ja\",'Q_del,j en Q_del,dh'!$D11,0)","v":0},{"$f":"IF(AN62=\"Ja\",'Q_del,j en Q_del,dh'!$D11,0)","v":0},{"$f":"IF(AO62=\"Ja\",'Q_del,j en Q_del,dh'!$D11,0)","v":0},{"$f":"IF(AP62=\"Ja\",'Q_del,j en Q_del,dh'!$D11,0)","v":0},{"$f":"IF(AQ62=\"Ja\",'Q_del,j en Q_del,dh'!$D11,0)","v":0},{"$f":"IF(AR62=\"Ja\",'Q_del,j en Q_del,dh'!$D11,0)","v":0},{"$f":"IF(AS62=\"Ja\",'Q_del,j en Q_del,dh'!$D11,0)","v":0},{"$f":"IF(AT62=\"Ja\",'Q_del,j en Q_del,dh'!$D11,0)","v":0},{"$f":"IF(AU62=\"Ja\",'Q_del,j en Q_del,dh'!$D11,0)","v":0},{"$f":"IF(AV62=\"Ja\",'Q_del,j en Q_del,dh'!$D11,0)","v":0},{"$f":"IF(AW62=\"Ja\",'Q_del,j en Q_del,dh'!$D11,0)","v":0},{"$f":"IF(AX62=\"Ja\",'Q_del,j en Q_del,dh'!$D11,0)","v":0},{"$f":"IF(AY62=\"Ja\",'Q_del,j en Q_del,dh'!$D11,0)","v":0},{"$f":"IF(AZ62=\"Ja\",'Q_del,j en Q_del,dh'!$D11,0)","v":0},{"$f":"IF(BA62=\"Ja\",'Q_del,j en Q_del,dh'!$D11,0)","v":0}]
["Qdel,l,j [MJ]","warmtevrager 5",5,{"$f":"IF(D63=\"Ja\",'Q_del,j en Q_del,dh'!$D12,0)","v":0},{"$f":"IF(E63=\"Ja\",'Q_del,j en Q_del,dh'!$D12,0)","v":0},{"$f":"IF(F63=\"Ja\",'Q_del,j en Q_del,dh'!$D12,0)","v":0},{"$f":"IF(G63=\"Ja\",'Q_del,j en Q_del,dh'!$D12,0)","v":0},{"$f":"IF(H63=\"Ja\",'Q_del,j en Q_del,dh'!$D12,0)","v":0},{"$f":"IF(I63=\"Ja\",'Q_del,j en Q_del,dh'!$D12,0)","v":0},{"$f":"IF(J63=\"Ja\",'Q_del,j en Q_del,dh'!$D12,0)","v":0},{"$f":"IF(K63=\"Ja\",'Q_del,j en Q_del,dh'!$D12,0)","v":0},{"$f":"IF(L63=\"Ja\",'Q_del,j en Q_del,dh'!$D12,0)","v":0},{"$f":"IF(M63=\"Ja\",'Q_del,j en Q_del,dh'!$D12,0)","v":0},{"$f":"IF(N63=\"Ja\",'Q_del,j en Q_del,dh'!$D12,0)","v":0},{"$f":"IF(O63=\"Ja\",'Q_del,j en Q_del,dh'!$D12,0)","v":0},{"$f":"IF(P63=\"Ja\",'Q_del,j en Q_del,dh'!$D12,0)","v":0},{"$f":"IF(Q63=\"Ja\",'Q_del,j en Q_del,dh'!$D12,0)","v":0},{"$f":"IF(R63=\"Ja\",'Q_del,j en Q_del,dh'!$D12,0)","v":0},{"$f":"IF(S63=\"Ja\",'Q_del,j en Q_del,dh'!$D12,0)","v":0},{"$f":"IF(T63=\"Ja\",'Q_del,j en Q_del,dh'!$D12,0)","v":0},{"$f":"IF(U63=\"Ja\",'Q_del,j en Q_del,dh'!$D12,0)","v":0},{"$f":"IF(V63=\"Ja\",'Q_del,j en Q_del,dh'!$D12,0)","v":0},{"$f":"IF(W63=\"Ja\",'Q_del,j en Q_del,dh'!$D12,0)","v":0},{"$f":"IF(X63=\"Ja\",'Q_del,j en Q_del,dh'!$D12,0)","v":0},{"$f":"IF(Y63=\"Ja\",'Q_del,j en Q_del,dh'!$D12,0)","v":0},{"$f":"IF(Z63=\"Ja\",'Q_del,j en Q_del,dh'!$D12,0)","v":0},{"$f":"IF(AA63=\"Ja\",'Q_del,j en Q_del,dh'!$D12,0)","v":0},{"$f":"IF(AB63=\"Ja\",'Q_del,j en Q_del,dh'!$D12,0)","v":0},{"$f":"IF(AC63=\"Ja\",'Q_del,j en Q_del,dh'!$D12,0)","v":0},{"$f":"IF(AD63=\"Ja\",'Q_del,j en Q_del,dh'!$D12,0)","v":0},{"$f":"IF(AE63=\"Ja\",'Q_del,j en Q_del,dh'!$D12,0)","v":0},{"$f":"IF(AF63=\"Ja\",'Q_del,j en Q_del,dh'!$D12,0)","v":0},{"$f":"IF(AG63=\"Ja\",'Q_del,j en Q_del,dh'!$D12,0)","v":0},{"$f":"IF(AH63=\"Ja\",'Q_del,j en Q_del,dh'!$D12,0)","v":0},{"$f":"IF(AI63=\"Ja\",'Q_del,j en Q_del,dh'!$D12,0)","v":0},{"$f":"IF(AJ63=\"Ja\",'Q_del,j en Q_del,dh'!$D12,0)","v":0},{"$f":"IF(AK63=\"Ja\",'Q_del,j en Q_del,dh'!$D12,0)","v":0},{"$f":"IF(AL63=\"Ja\",'Q_del,j en Q_del,dh'!$D12,0)","v":0},{"$f":"IF(AM63=\"Ja\",'Q_del,j en Q_del,dh'!$D12,0)","v":0},{"$f":"IF(AN63=\"Ja\",'Q_del,j en Q_del,dh'!$D12,0)","v":0},{"$f":"IF(AO63=\"Ja\",'Q_del,j en Q_del,dh'!$D12,0)","v":0},{"$f":"IF(AP63=\"Ja\",'Q_del,j en Q_del,dh'!$D12,0)","v":0},{"$f":"IF(AQ63=\"Ja\",'Q_del,j en Q_del,dh'!$D12,0)","v":0},{"$f":"IF(AR63=\"Ja\",'Q_del,j en Q_del,dh'!$D12,0)","v":0},{"$f":"IF(AS63=\"Ja\",'Q_del,j en Q_del,dh'!$D12,0)","v":0},{"$f":"IF(AT63=\"Ja\",'Q_del,j en Q_del,dh'!$D12,0)","v":0},{"$f":"IF(AU63=\"Ja\",'Q_del,j en Q_del,dh'!$D12,0)","v":0},{"$f":"IF(AV63=\"Ja\",'Q_del,j en Q_del,dh'!$D12,0)","v":0},{"$f":"IF(AW63=\"Ja\",'Q_del,j en Q_del,dh'!$D12,0)","v":0},{"$f":"IF(AX63=\"Ja\",'Q_del,j en Q_del,dh'!$D12,0)","v":0},{"$f":"IF(AY63=\"Ja\",'Q_del,j en Q_del,dh'!$D12,0)","v":0},{"$f":"IF(AZ63=\"Ja\",'Q_del,j en Q_del,dh'!$D12,0)","v":0},{"$f":"IF(BA63=\"Ja\",'Q_del,j en Q_del,dh'!$D12,0)","v":0}]
["Qdel,l,j [MJ]","warmtevrager 6",6,{"$f":"IF(D64=\"Ja\",'Q_del,j en Q_del,dh'!$D13,0)","v":0},{"$f":"IF(E64=\"Ja\",'Q_del,j en Q_del,dh'!$D13,0)","v":0},{"$f":"IF(F64=\"Ja\",'Q_del,j en Q_del,dh'!$D13,0)","v":0},{"$f":"IF(G64=\"Ja\",'Q_del,j en Q_del,dh'!$D13,0)","v":0},{"$f":"IF(H64=\"Ja\",'Q_del,j en Q_del,dh'!$D13,0)","v":0},{"$f":"IF(I64=\"Ja\",'Q_del,j en Q_del,dh'!$D13,0)","v":0},{"$f":"IF(J64=\"Ja\",'Q_del,j en Q_del,dh'!$D13,0)","v":0},{"$f":"IF(K64=\"Ja\",'Q_del,j en Q_del,dh'!$D13,0)","v":0},{"$f":"IF(L64=\"Ja\",'Q_del,j en Q_del,dh'!$D13,0)","v":0},{"$f":"IF(M64=\"Ja\",'Q_del,j en Q_del,dh'!$D13,0)","v":0},{"$f":"IF(N64=\"Ja\",'Q_del,j en Q_del,dh'!$D13,0)","v":0},{"$f":"IF(O64=\"Ja\",'Q_del,j en Q_del,dh'!$D13,0)","v":0},{"$f":"IF(P64=\"Ja\",'Q_del,j en Q_del,dh'!$D13,0)","v":0},{"$f":"IF(Q64=\"Ja\",'Q_del,j en Q_del,dh'!$D13,0)","v":0},{"$f":"IF(R64=\"Ja\",'Q_del,j en Q_del,dh'!$D13,0)","v":0},{"$f":"IF(S64=\"Ja\",'Q_del,j en Q_del,dh'!$D13,0)","v":0},{"$f":"IF(T64=\"Ja\",'Q_del,j en Q_del,dh'!$D13,0)","v":0},{"$f":"IF(U64=\"Ja\",'Q_del,j en Q_del,dh'!$D13,0)","v":0},{"$f":"IF(V64=\"Ja\",'Q_del,j en Q_del,dh'!$D13,0)","v":0},{"$f":"IF(W64=\"Ja\",'Q_del,j en Q_del,dh'!$D13,0)","v":0},{"$f":"IF(X64=\"Ja\",'Q_del,j en Q_del,dh'!$D13,0)","v":0},{"$f":"IF(Y64=\"Ja\",'Q_del,j en Q_del,dh'!$D13,0)","v":0},{"$f":"IF(Z64=\"Ja\",'Q_del,j en Q_del,dh'!$D13,0)","v":0},{"$f":"IF(AA64=\"Ja\",'Q_del,j en Q_del,dh'!$D13,0)","v":0},{"$f":"IF(AB64=\"Ja\",'Q_del,j en Q_del,dh'!$D13,0)","v":0},{"$f":"IF(AC64=\"Ja\",'Q_del,j en Q_del,dh'!$D13,0)","v":0},{"$f":"IF(AD64=\"Ja\",'Q_del,j en Q_del,dh'!$D13,0)","v":0},{"$f":"IF(AE64=\"Ja\",'Q_del,j en Q_del,dh'!$D13,0)","v":0},{"$f":"IF(AF64=\"Ja\",'Q_del,j en Q_del,dh'!$D13,0)","v":0},{"$f":"IF(AG64=\"Ja\",'Q_del,j en Q_del,dh'!$D13,0)","v":0},{"$f":"IF(AH64=\"Ja\",'Q_del,j en Q_del,dh'!$D13,0)","v":0},{"$f":"IF(AI64=\"Ja\",'Q_del,j en Q_del,dh'!$D13,0)","v":0},{"$f":"IF(AJ64=\"Ja\",'Q_del,j en Q_del,dh'!$D13,0)","v":0},{"$f":"IF(AK64=\"Ja\",'Q_del,j en Q_del,dh'!$D13,0)","v":0},{"$f":"IF(AL64=\"Ja\",'Q_del,j en Q_del,dh'!$D13,0)","v":0},{"$f":"IF(AM64=\"Ja\",'Q_del,j en Q_del,dh'!$D13,0)","v":0},{"$f":"IF(AN64=\"Ja\",'Q_del,j en Q_del,dh'!$D13,0)","v":0},{"$f":"IF(AO64=\"Ja\",'Q_del,j en Q_del,dh'!$D13,0)","v":0},{"$f":"IF(AP64=\"Ja\",'Q_del,j en Q_del,dh'!$D13,0)","v":0},{"$f":"IF(AQ64=\"Ja\",'Q_del,j en Q_del,dh'!$D13,0)","v":0},{"$f":"IF(AR64=\"Ja\",'Q_del,j en Q_del,dh'!$D13,0)","v":0},{"$f":"IF(AS64=\"Ja\",'Q_del,j en Q_del,dh'!$D13,0)","v":0},{"$f":"IF(AT64=\"Ja\",'Q_del,j en Q_del,dh'!$D13,0)","v":0},{"$f":"IF(AU64=\"Ja\",'Q_del,j en Q_del,dh'!$D13,0)","v":0},{"$f":"IF(AV64=\"Ja\",'Q_del,j en Q_del,dh'!$D13,0)","v":0},{"$f":"IF(AW64=\"Ja\",'Q_del,j en Q_del,dh'!$D13,0)","v":0},{"$f":"IF(AX64=\"Ja\",'Q_del,j en Q_del,dh'!$D13,0)","v":0},{"$f":"IF(AY64=\"Ja\",'Q_del,j en Q_del,dh'!$D13,0)","v":0},{"$f":"IF(AZ64=\"Ja\",'Q_del,j en Q_del,dh'!$D13,0)","v":0},{"$f":"IF(BA64=\"Ja\",'Q_del,j en Q_del,dh'!$D13,0)","v":0}]
["Qdel,l,j [MJ]","warmtevrager 7",7,{"$f":"IF(D65=\"Ja\",'Q_del,j en Q_del,dh'!$D14,0)","v":0},{"$f":"IF(E65=\"Ja\",'Q_del,j en Q_del,dh'!$D14,0)","v":0},{"$f":"IF(F65=\"Ja\",'Q_del,j en Q_del,dh'!$D14,0)","v":0},{"$f":"IF(G65=\"Ja\",'Q_del,j en Q_del,dh'!$D14,0)","v":0},{"$f":"IF(H65=\"Ja\",'Q_del,j en Q_del,dh'!$D14,0)","v":0},{"$f":"IF(I65=\"Ja\",'Q_del,j en Q_del,dh'!$D14,0)","v":0},{"$f":"IF(J65=\"Ja\",'Q_del,j en Q_del,dh'!$D14,0)","v":0},{"$f":"IF(K65=\"Ja\",'Q_del,j en Q_del,dh'!$D14,0)","v":0},{"$f":"IF(L65=\"Ja\",'Q_del,j en Q_del,dh'!$D14,0)","v":0},{"$f":"IF(M65=\"Ja\",'Q_del,j en Q_del,dh'!$D14,0)","v":0},{"$f":"IF(N65=\"Ja\",'Q_del,j en Q_del,dh'!$D14,0)","v":0},{"$f":"IF(O65=\"Ja\",'Q_del,j en Q_del,dh'!$D14,0)","v":0},{"$f":"IF(P65=\"Ja\",'Q_del,j en Q_del,dh'!$D14,0)","v":0},{"$f":"IF(Q65=\"Ja\",'Q_del,j en Q_del,dh'!$D14,0)","v":0},{"$f":"IF(R65=\"Ja\",'Q_del,j en Q_del,dh'!$D14,0)","v":0},{"$f":"IF(S65=\"Ja\",'Q_del,j en Q_del,dh'!$D14,0)","v":0},{"$f":"IF(T65=\"Ja\",'Q_del,j en Q_del,dh'!$D14,0)","v":0},{"$f":"IF(U65=\"Ja\",'Q_del,j en Q_del,dh'!$D14,0)","v":0},{"$f":"IF(V65=\"Ja\",'Q_del,j en Q_del,dh'!$D14,0)","v":0},{"$f":"IF(W65=\"Ja\",'Q_del,j en Q_del,dh'!$D14,0)","v":0},{"$f":"IF(X65=\"Ja\",'Q_del,j en Q_del,dh'!$D14,0)","v":0},{"$f":"IF(Y65=\"Ja\",'Q_del,j en Q_del,dh'!$D14,0)","v":0},{"$f":"IF(Z65=\"Ja\",'Q_del,j en Q_del,dh'!$D14,0)","v":0},{"$f":"IF(AA65=\"Ja\",'Q_del,j en Q_del,dh'!$D14,0)","v":0},{"$f":"IF(AB65=\"Ja\",'Q_del,j en Q_del,dh'!$D14,0)","v":0},{"$f":"IF(AC65=\"Ja\",'Q_del,j en Q_del,dh'!$D14,0)","v":0},{"$f":"IF(AD65=\"Ja\",'Q_del,j en Q_del,dh'!$D14,0)","v":0},{"$f":"IF(AE65=\"Ja\",'Q_del,j en Q_del,dh'!$D14,0)","v":0},{"$f":"IF(AF65=\"Ja\",'Q_del,j en Q_del,dh'!$D14,0)","v":0},{"$f":"IF(AG65=\"Ja\",'Q_del,j en Q_del,dh'!$D14,0)","v":0},{"$f":"IF(AH65=\"Ja\",'Q_del,j en Q_del,dh'!$D14,0)","v":0},{"$f":"IF(AI65=\"Ja\",'Q_del,j en Q_del,dh'!$D14,0)","v":0},{"$f":"IF(AJ65=\"Ja\",'Q_del,j en Q_del,dh'!$D14,0)","v":0},{"$f":"IF(AK65=\"Ja\",'Q_del,j en Q_del,dh'!$D14,0)","v":0},{"$f":"IF(AL65=\"Ja\",'Q_del,j en Q_del,dh'!$D14,0)","v":0},{"$f":"IF(AM65=\"Ja\",'Q_del,j en Q_del,dh'!$D14,0)","v":0},{"$f":"IF(AN65=\"Ja\",'Q_del,j en Q_del,dh'!$D14,0)","v":0},{"$f":"IF(AO65=\"Ja\",'Q_del,j en Q_del,dh'!$D14,0)","v":0},{"$f":"IF(AP65=\"Ja\",'Q_del,j en Q_del,dh'!$D14,0)","v":0},{"$f":"IF(AQ65=\"Ja\",'Q_del,j en Q_del,dh'!$D14,0)","v":0},{"$f":"IF(AR65=\"Ja\",'Q_del,j en Q_del,dh'!$D14,0)","v":0},{"$f":"IF(AS65=\"Ja\",'Q_del,j en Q_del,dh'!$D14,0)","v":0},{"$f":"IF(AT65=\"Ja\",'Q_del,j en Q_del,dh'!$D14,0)","v":0},{"$f":"IF(AU65=\"Ja\",'Q_del,j en Q_del,dh'!$D14,0)","v":0},{"$f":"IF(AV65=\"Ja\",'Q_del,j en Q_del,dh'!$D14,0)","v":0},{"$f":"IF(AW65=\"Ja\",'Q_del,j en Q_del,dh'!$D14,0)","v":0},{"$f":"IF(AX65=\"Ja\",'Q_del,j en Q_del,dh'!$D14,0)","v":0},{"$f":"IF(AY65=\"Ja\",'Q_del,j en Q_del,dh'!$D14,0)","v":0},{"$f":"IF(AZ65=\"Ja\",'Q_del,j en Q_del,dh'!$D14,0)","v":0},{"$f":"IF(BA65=\"Ja\",'Q_del,j en Q_del,dh'!$D14,0)","v":0}]
["Qdel,l,j [MJ]","warmtevrager 8",8,{"$f":"IF(D66=\"Ja\",'Q_del,j en Q_del,dh'!$D15,0)","v":0},{"$f":"IF(E66=\"Ja\",'Q_del,j en Q_del,dh'!$D15,0)","v":0},{"$f":"IF(F66=\"Ja\",'Q_del,j en Q_del,dh'!$D15,0)","v":0},{"$f":"IF(G66=\"Ja\",'Q_del,j en Q_del,dh'!$D15,0)","v":0},{"$f":"IF(H66=\"Ja\",'Q_del,j en Q_del,dh'!$D15,0)","v":0},{"$f":"IF(I66=\"Ja\",'Q_del,j en Q_del,dh'!$D15,0)","v":0},{"$f":"IF(J66=\"Ja\",'Q_del,j en Q_del,dh'!$D15,0)","v":0},{"$f":"IF(K66=\"Ja\",'Q_del,j en Q_del,dh'!$D15,0)","v":0},{"$f":"IF(L66=\"Ja\",'Q_del,j en Q_del,dh'!$D15,0)","v":0},{"$f":"IF(M66=\"Ja\",'Q_del,j en Q_del,dh'!$D15,0)","v":0},{"$f":"IF(N66=\"Ja\",'Q_del,j en Q_del,dh'!$D15,0)","v":0},{"$f":"IF(O66=\"Ja\",'Q_del,j en Q_del,dh'!$D15,0)","v":0},{"$f":"IF(P66=\"Ja\",'Q_del,j en Q_del,dh'!$D15,0)","v":0},{"$f":"IF(Q66=\"Ja\",'Q_del,j en Q_del,dh'!$D15,0)","v":0},{"$f":"IF(R66=\"Ja\",'Q_del,j en Q_del,dh'!$D15,0)","v":0},{"$f":"IF(S66=\"Ja\",'Q_del,j en Q_del,dh'!$D15,0)","v":0},{"$f":"IF(T66=\"Ja\",'Q_del,j en Q_del,dh'!$D15,0)","v":0},{"$f":"IF(U66=\"Ja\",'Q_del,j en Q_del,dh'!$D15,0)","v":0},{"$f":"IF(V66=\"Ja\",'Q_del,j en Q_del,dh'!$D15,0)","v":0},{"$f":"IF(W66=\"Ja\",'Q_del,j en Q_del,dh'!$D15,0)","v":0},{"$f":"IF(X66=\"Ja\",'Q_del,j en Q_del,dh'!$D15,0)","v":0},{"$f":"IF(Y66=\"Ja\",'Q_del,j en Q_del,dh'!$D15,0)","v":0},{"$f":"IF(Z66=\"Ja\",'Q_del,j en Q_del,dh'!$D15,0)","v":0},{"$f":"IF(AA66=\"Ja\",'Q_del,j en Q_del,dh'!$D15,0)","v":0},{"$f":"IF(AB66=\"Ja\",'Q_del,j en Q_del,dh'!$D15,0)","v":0},{"$f":"IF(AC66=\"Ja\",'Q_del,j en Q_del,dh'!$D15,0)","v":0},{"$f":"IF(AD66=\"Ja\",'Q_del,j en Q_del,dh'!$D15,0)","v":0},{"$f":"IF(AE66=\"Ja\",'Q_del,j en Q_del,dh'!$D15,0)","v":0},{"$f":"IF(AF66=\"Ja\",'Q_del,j en Q_del,dh'!$D15,0)","v":0},{"$f":"IF(AG66=\"Ja\",'Q_del,j en Q_del,dh'!$D15,0)","v":0},{"$f":"IF(AH66=\"Ja\",'Q_del,j en Q_del,dh'!$D15,0)","v":0},{"$f":"IF(AI66=\"Ja\",'Q_del,j en Q_del,dh'!$D15,0)","v":0},{"$f":"IF(AJ66=\"Ja\",'Q_del,j en Q_del,dh'!$D15,0)","v":0},{"$f":"IF(AK66=\"Ja\",'Q_del,j en Q_del,dh'!$D15,0)","v":0},{"$f":"IF(AL66=\"Ja\",'Q_del,j en Q_del,dh'!$D15,0)","v":0},{"$f":"IF(AM66=\"Ja\",'Q_del,j en Q_del,dh'!$D15,0)","v":0},{"$f":"IF(AN66=\"Ja\",'Q_del,j en Q_del,dh'!$D15,0)","v":0},{"$f":"IF(AO66=\"Ja\",'Q_del,j en Q_del,dh'!$D15,0)","v":0},{"$f":"IF(AP66=\"Ja\",'Q_del,j en Q_del,dh'!$D15,0)","v":0},{"$f":"IF(AQ66=\"Ja\",'Q_del,j en Q_del,dh'!$D15,0)","v":0},{"$f":"IF(AR66=\"Ja\",'Q_del,j en Q_del,dh'!$D15,0)","v":0},{"$f":"IF(AS66=\"Ja\",'Q_del,j en Q_del,dh'!$D15,0)","v":0},{"$f":"IF(AT66=\"Ja\",'Q_del,j en Q_del,dh'!$D15,0)","v":0},{"$f":"IF(AU66=\"Ja\",'Q_del,j en Q_del,dh'!$D15,0)","v":0},{"$f":"IF(AV66=\"Ja\",'Q_del,j en Q_del,dh'!$D15,0)","v":0},{"$f":"IF(AW66=\"Ja\",'Q_del,j en Q_del,dh'!$D15,0)","v":0},{"$f":"IF(AX66=\"Ja\",'Q_del,j en Q_del,dh'!$D15,0)","v":0},{"$f":"IF(AY66=\"Ja\",'Q_del,j en Q_del,dh'!$D15,0)","v":0},{"$f":"IF(AZ66=\"Ja\",'Q_del,j en Q_del,dh'!$D15,0)","v":0},{"$f":"IF(BA66=\"Ja\",'Q_del,j en Q_del,dh'!$D15,0)","v":0}]
["Qdel,l,j [MJ]","warmtevrager 9",9,{"$f":"IF(D67=\"Ja\",'Q_del,j en Q_del,dh'!$D16,0)","v":0},{"$f":"IF(E67=\"Ja\",'Q_del,j en Q_del,dh'!$D16,0)","v":0},{"$f":"IF(F67=\"Ja\",'Q_del,j en Q_del,dh'!$D16,0)","v":0},{"$f":"IF(G67=\"Ja\",'Q_del,j en Q_del,dh'!$D16,0)","v":0},{"$f":"IF(H67=\"Ja\",'Q_del,j en Q_del,dh'!$D16,0)","v":0},{"$f":"IF(I67=\"Ja\",'Q_del,j en Q_del,dh'!$D16,0)","v":0},{"$f":"IF(J67=\"Ja\",'Q_del,j en Q_del,dh'!$D16,0)","v":0},{"$f":"IF(K67=\"Ja\",'Q_del,j en Q_del,dh'!$D16,0)","v":0},{"$f":"IF(L67=\"Ja\",'Q_del,j en Q_del,dh'!$D16,0)","v":0},{"$f":"IF(M67=\"Ja\",'Q_del,j en Q_del,dh'!$D16,0)","v":0},{"$f":"IF(N67=\"Ja\",'Q_del,j en Q_del,dh'!$D16,0)","v":0},{"$f":"IF(O67=\"Ja\",'Q_del,j en Q_del,dh'!$D16,0)","v":0},{"$f":"IF(P67=\"Ja\",'Q_del,j en Q_del,dh'!$D16,0)","v":0},{"$f":"IF(Q67=\"Ja\",'Q_del,j en Q_del,dh'!$D16,0)","v":0},{"$f":"IF(R67=\"Ja\",'Q_del,j en Q_del,dh'!$D16,0)","v":0},{"$f":"IF(S67=\"Ja\",'Q_del,j en Q_del,dh'!$D16,0)","v":0},{"$f":"IF(T67=\"Ja\",'Q_del,j en Q_del,dh'!$D16,0)","v":0},{"$f":"IF(U67=\"Ja\",'Q_del,j en Q_del,dh'!$D16,0)","v":0},{"$f":"IF(V67=\"Ja\",'Q_del,j en Q_del,dh'!$D16,0)","v":0},{"$f":"IF(W67=\"Ja\",'Q_del,j en Q_del,dh'!$D16,0)","v":0},{"$f":"IF(X67=\"Ja\",'Q_del,j en Q_del,dh'!$D16,0)","v":0},{"$f":"IF(Y67=\"Ja\",'Q_del,j en Q_del,dh'!$D16,0)","v":0},{"$f":"IF(Z67=\"Ja\",'Q_del,j en Q_del,dh'!$D16,0)","v":0},{"$f":"IF(AA67=\"Ja\",'Q_del,j en Q_del,dh'!$D16,0)","v":0},{"$f":"IF(AB67=\"Ja\",'Q_del,j en Q_del,dh'!$D16,0)","v":0},{"$f":"IF(AC67=\"Ja\",'Q_del,j en Q_del,dh'!$D16,0)","v":0},{"$f":"IF(AD67=\"Ja\",'Q_del,j en Q_del,dh'!$D16,0)","v":0},{"$f":"IF(AE67=\"Ja\",'Q_del,j en Q_del,dh'!$D16,0)","v":0},{"$f":"IF(AF67=\"Ja\",'Q_del,j en Q_del,dh'!$D16,0)","v":0},{"$f":"IF(AG67=\"Ja\",'Q_del,j en Q_del,dh'!$D16,0)","v":0},{"$f":"IF(AH67=\"Ja\",'Q_del,j en Q_del,dh'!$D16,0)","v":0},{"$f":"IF(AI67=\"Ja\",'Q_del,j en Q_del,dh'!$D16,0)","v":0},{"$f":"IF(AJ67=\"Ja\",'Q_del,j en Q_del,dh'!$D16,0)","v":0},{"$f":"IF(AK67=\"Ja\",'Q_del,j en Q_del,dh'!$D16,0)","v":0},{"$f":"IF(AL67=\"Ja\",'Q_del,j en Q_del,dh'!$D16,0)","v":0},{"$f":"IF(AM67=\"Ja\",'Q_del,j en Q_del,dh'!$D16,0)","v":0},{"$f":"IF(AN67=\"Ja\",'Q_del,j en Q_del,dh'!$D16,0)","v":0},{"$f":"IF(AO67=\"Ja\",'Q_del,j en Q_del,dh'!$D16,0)","v":0},{"$f":"IF(AP67=\"Ja\",'Q_del,j en Q_del,dh'!$D16,0)","v":0},{"$f":"IF(AQ67=\"Ja\",'Q_del,j en Q_del,dh'!$D16,0)","v":0},{"$f":"IF(AR67=\"Ja\",'Q_del,j en Q_del,dh'!$D16,0)","v":0},{"$f":"IF(AS67=\"Ja\",'Q_del,j en Q_del,dh'!$D16,0)","v":0},{"$f":"IF(AT67=\"Ja\",'Q_del,j en Q_del,dh'!$D16,0)","v":0},{"$f":"IF(AU67=\"Ja\",'Q_del,j en Q_del,dh'!$D16,0)","v":0},{"$f":"IF(AV67=\"Ja\",'Q_del,j en Q_del,dh'!$D16,0)","v":0},{"$f":"IF(AW67=\"Ja\",'Q_del,j en Q_del,dh'!$D16,0)","v":0},{"$f":"IF(AX67=\"Ja\",'Q_del,j en Q_del,dh'!$D16,0)","v":0},{"$f":"IF(AY67=\"Ja\",'Q_del,j en Q_del,dh'!$D16,0)","v":0},{"$f":"IF(AZ67=\"Ja\",'Q_del,j en Q_del,dh'!$D16,0)","v":0},{"$f":"IF(BA67=\"Ja\",'Q_del,j en Q_del,dh'!$D16,0)","v":0}]
["Qdel,l,j [MJ]","warmtevrager 10",10,{"$f":"IF(D68=\"Ja\",'Q_del,j en Q_del,dh'!$D17,0)","v":0},{"$f":"IF(E68=\"Ja\",'Q_del,j en Q_del,dh'!$D17,0)","v":0},{"$f":"IF(F68=\"Ja\",'Q_del,j en Q_del,dh'!$D17,0)","v":0},{"$f":"IF(G68=\"Ja\",'Q_del,j en Q_del,dh'!$D17,0)","v":0},{"$f":"IF(H68=\"Ja\",'Q_del,j en Q_del,dh'!$D17,0)","v":0},{"$f":"IF(I68=\"Ja\",'Q_del,j en Q_del,dh'!$D17,0)","v":0},{"$f":"IF(J68=\"Ja\",'Q_del,j en Q_del,dh'!$D17,0)","v":0},{"$f":"IF(K68=\"Ja\",'Q_del,j en Q_del,dh'!$D17,0)","v":0},{"$f":"IF(L68=\"Ja\",'Q_del,j en Q_del,dh'!$D17,0)","v":0},{"$f":"IF(M68=\"Ja\",'Q_del,j en Q_del,dh'!$D17,0)","v":0},{"$f":"IF(N68=\"Ja\",'Q_del,j en Q_del,dh'!$D17,0)","v":0},{"$f":"IF(O68=\"Ja\",'Q_del,j en Q_del,dh'!$D17,0)","v":0},{"$f":"IF(P68=\"Ja\",'Q_del,j en Q_del,dh'!$D17,0)","v":0},{"$f":"IF(Q68=\"Ja\",'Q_del,j en Q_del,dh'!$D17,0)","v":0},{"$f":"IF(R68=\"Ja\",'Q_del,j en Q_del,dh'!$D17,0)","v":0},{"$f":"IF(S68=\"Ja\",'Q_del,j en Q_del,dh'!$D17,0)","v":0},{"$f":"IF(T68=\"Ja\",'Q_del,j en Q_del,dh'!$D17,0)","v":0},{"$f":"IF(U68=\"Ja\",'Q_del,j en Q_del,dh'!$D17,0)","v":0},{"$f":"IF(V68=\"Ja\",'Q_del,j en Q_del,dh'!$D17,0)","v":0},{"$f":"IF(W68=\"Ja\",'Q_del,j en Q_del,dh'!$D17,0)","v":0},{"$f":"IF(X68=\"Ja\",'Q_del,j en Q_del,dh'!$D17,0)","v":0},{"$f":"IF(Y68=\"Ja\",'Q_del,j en Q_del,dh'!$D17,0)","v":0},{"$f":"IF(Z68=\"Ja\",'Q_del,j en Q_del,dh'!$D17,0)","v":0},{"$f":"IF(AA68=\"Ja\",'Q_del,j en Q_del,dh'!$D17,0)","v":0},{"$f":"IF(AB68=\"Ja\",'Q_del,j en Q_del,dh'!$D17,0)","v":0},{"$f":"IF(AC68=\"Ja\",'Q_del,j en Q_del,dh'!$D17,0)","v":0},{"$f":"IF(AD68=\"Ja\",'Q_del,j en Q_del,dh'!$D17,0)","v":0},{"$f":"IF(AE68=\"Ja\",'Q_del,j en Q_del,dh'!$D17,0)","v":0},{"$f":"IF(AF68=\"Ja\",'Q_del,j en Q_del,dh'!$D17,0)","v":0},{"$f":"IF(AG68=\"Ja\",'Q_del,j en Q_del,dh'!$D17,0)","v":0},{"$f":"IF(AH68=\"Ja\",'Q_del,j en Q_del,dh'!$D17,0)","v":0},{"$f":"IF(AI68=\"Ja\",'Q_del,j en Q_del,dh'!$D17,0)","v":0},{"$f":"IF(AJ68=\"Ja\",'Q_del,j en Q_del,dh'!$D17,0)","v":0},{"$f":"IF(AK68=\"Ja\",'Q_del,j en Q_del,dh'!$D17,0)","v":0},{"$f":"IF(AL68=\"Ja\",'Q_del,j en Q_del,dh'!$D17,0)","v":0},{"$f":"IF(AM68=\"Ja\",'Q_del,j en Q_del,dh'!$D17,0)","v":0},{"$f":"IF(AN68=\"Ja\",'Q_del,j en Q_del,dh'!$D17,0)","v":0},{"$f":"IF(AO68=\"Ja\",'Q_del,j en Q_del,dh'!$D17,0)","v":0},{"$f":"IF(AP68=\"Ja\",'Q_del,j en Q_del,dh'!$D17,0)","v":0},{"$f":"IF(AQ68=\"Ja\",'Q_del,j en Q_del,dh'!$D17,0)","v":0},{"$f":"IF(AR68=\"Ja\",'Q_del,j en Q_del,dh'!$D17,0)","v":0},{"$f":"IF(AS68=\"Ja\",'Q_del,j en Q_del,dh'!$D17,0)","v":0},{"$f":"IF(AT68=\"Ja\",'Q_del,j en Q_del,dh'!$D17,0)","v":0},{"$f":"IF(AU68=\"Ja\",'Q_del,j en Q_del,dh'!$D17,0)","v":0},{"$f":"IF(AV68=\"Ja\",'Q_del,j en Q_del,dh'!$D17,0)","v":0},{"$f":"IF(AW68=\"Ja\",'Q_del,j en Q_del,dh'!$D17,0)","v":0},{"$f":"IF(AX68=\"Ja\",'Q_del,j en Q_del,dh'!$D17,0)","v":0},{"$f":"IF(AY68=\"Ja\",'Q_del,j en Q_del,dh'!$D17,0)","v":0},{"$f":"IF(AZ68=\"Ja\",'Q_del,j en Q_del,dh'!$D17,0)","v":0},{"$f":"IF(BA68=\"Ja\",'Q_del,j en Q_del,dh'!$D17,0)","v":0}]
["Qdel,l,j [MJ]","warmtevrager 11",11,{"$f":"IF(D69=\"Ja\",'Q_del,j en Q_del,dh'!$D18,0)","v":0},{"$f":"IF(E69=\"Ja\",'Q_del,j en Q_del,dh'!$D18,0)","v":0},{"$f":"IF(F69=\"Ja\",'Q_del,j en Q_del,dh'!$D18,0)","v":0},{"$f":"IF(G69=\"Ja\",'Q_del,j en Q_del,dh'!$D18,0)","v":0},{"$f":"IF(H69=\"Ja\",'Q_del,j en Q_del,dh'!$D18,0)","v":0},{"$f":"IF(I69=\"Ja\",'Q_del,j en Q_del,dh'!$D18,0)","v":0},{"$f":"IF(J69=\"Ja\",'Q_del,j en Q_del,dh'!$D18,0)","v":0},{"$f":"IF(K69=\"Ja\",'Q_del,j en Q_del,dh'!$D18,0)","v":0},{"$f":"IF(L69=\"Ja\",'Q_del,j en Q_del,dh'!$D18,0)","v":0},{"$f":"IF(M69=\"Ja\",'Q_del,j en Q_del,dh'!$D18,0)","v":0},{"$f":"IF(N69=\"Ja\",'Q_del,j en Q_del,dh'!$D18,0)","v":0},{"$f":"IF(O69=\"Ja\",'Q_del,j en Q_del,dh'!$D18,0)","v":0},{"$f":"IF(P69=\"Ja\",'Q_del,j en Q_del,dh'!$D18,0)","v":0},{"$f":"IF(Q69=\"Ja\",'Q_del,j en Q_del,dh'!$D18,0)","v":0},{"$f":"IF(R69=\"Ja\",'Q_del,j en Q_del,dh'!$D18,0)","v":0},{"$f":"IF(S69=\"Ja\",'Q_del,j en Q_del,dh'!$D18,0)","v":0},{"$f":"IF(T69=\"Ja\",'Q_del,j en Q_del,dh'!$D18,0)","v":0},{"$f":"IF(U69=\"Ja\",'Q_del,j en Q_del,dh'!$D18,0)","v":0},{"$f":"IF(V69=\"Ja\",'Q_del,j en Q_del,dh'!$D18,0)","v":0},{"$f":"IF(W69=\"Ja\",'Q_del,j en Q_del,dh'!$D18,0)","v":0},{"$f":"IF(X69=\"Ja\",'Q_del,j en Q_del,dh'!$D18,0)","v":0},{"$f":"IF(Y69=\"Ja\",'Q_del,j en Q_del,dh'!$D18,0)","v":0},{"$f":"IF(Z69=\"Ja\",'Q_del,j en Q_del,dh'!$D18,0)","v":0},{"$f":"IF(AA69=\"Ja\",'Q_del,j en Q_del,dh'!$D18,0)","v":0},{"$f":"IF(AB69=\"Ja\",'Q_del,j en Q_del,dh'!$D18,0)","v":0},{"$f":"IF(AC69=\"Ja\",'Q_del,j en Q_del,dh'!$D18,0)","v":0},{"$f":"IF(AD69=\"Ja\",'Q_del,j en Q_del,dh'!$D18,0)","v":0},{"$f":"IF(AE69=\"Ja\",'Q_del,j en Q_del,dh'!$D18,0)","v":0},{"$f":"IF(AF69=\"Ja\",'Q_del,j en Q_del,dh'!$D18,0)","v":0},{"$f":"IF(AG69=\"Ja\",'Q_del,j en Q_del,dh'!$D18,0)","v":0},{"$f":"IF(AH69=\"Ja\",'Q_del,j en Q_del,dh'!$D18,0)","v":0},{"$f":"IF(AI69=\"Ja\",'Q_del,j en Q_del,dh'!$D18,0)","v":0},{"$f":"IF(AJ69=\"Ja\",'Q_del,j en Q_del,dh'!$D18,0)","v":0},{"$f":"IF(AK69=\"Ja\",'Q_del,j en Q_del,dh'!$D18,0)","v":0},{"$f":"IF(AL69=\"Ja\",'Q_del,j en Q_del,dh'!$D18,0)","v":0},{"$f":"IF(AM69=\"Ja\",'Q_del,j en Q_del,dh'!$D18,0)","v":0},{"$f":"IF(AN69=\"Ja\",'Q_del,j en Q_del,dh'!$D18,0)","v":0},{"$f":"IF(AO69=\"Ja\",'Q_del,j en Q_del,dh'!$D18,0)","v":0},{"$f":"IF(AP69=\"Ja\",'Q_del,j en Q_del,dh'!$D18,0)","v":0},{"$f":"IF(AQ69=\"Ja\",'Q_del,j en Q_del,dh'!$D18,0)","v":0},{"$f":"IF(AR69=\"Ja\",'Q_del,j en Q_del,dh'!$D18,0)","v":0},{"$f":"IF(AS69=\"Ja\",'Q_del,j en Q_del,dh'!$D18,0)","v":0},{"$f":"IF(AT69=\"Ja\",'Q_del,j en Q_del,dh'!$D18,0)","v":0},{"$f":"IF(AU69=\"Ja\",'Q_del,j en Q_del,dh'!$D18,0)","v":0},{"$f":"IF(AV69=\"Ja\",'Q_del,j en Q_del,dh'!$D18,0)","v":0},{"$f":"IF(AW69=\"Ja\",'Q_del,j en Q_del,dh'!$D18,0)","v":0},{"$f":"IF(AX69=\"Ja\",'Q_del,j en Q_del,dh'!$D18,0)","v":0},{"$f":"IF(AY69=\"Ja\",'Q_del,j en Q_del,dh'!$D18,0)","v":0},{"$f":"IF(AZ69=\"Ja\",'Q_del,j en Q_del,dh'!$D18,0)","v":0},{"$f":"IF(BA69=\"Ja\",'Q_del,j en Q_del,dh'!$D18,0)","v":0}]
["Qdel,l,j [MJ]","warmtevrager 12",12,{"$f":"IF(D70=\"Ja\",'Q_del,j en Q_del,dh'!$D19,0)","v":0},{"$f":"IF(E70=\"Ja\",'Q_del,j en Q_del,dh'!$D19,0)","v":0},{"$f":"IF(F70=\"Ja\",'Q_del,j en Q_del,dh'!$D19,0)","v":0},{"$f":"IF(G70=\"Ja\",'Q_del,j en Q_del,dh'!$D19,0)","v":0},{"$f":"IF(H70=\"Ja\",'Q_del,j en Q_del,dh'!$D19,0)","v":0},{"$f":"IF(I70=\"Ja\",'Q_del,j en Q_del,dh'!$D19,0)","v":0},{"$f":"IF(J70=\"Ja\",'Q_del,j en Q_del,dh'!$D19,0)","v":0},{"$f":"IF(K70=\"Ja\",'Q_del,j en Q_del,dh'!$D19,0)","v":0},{"$f":"IF(L70=\"Ja\",'Q_del,j en Q_del,dh'!$D19,0)","v":0},{"$f":"IF(M70=\"Ja\",'Q_del,j en Q_del,dh'!$D19,0)","v":0},{"$f":"IF(N70=\"Ja\",'Q_del,j en Q_del,dh'!$D19,0)","v":0},{"$f":"IF(O70=\"Ja\",'Q_del,j en Q_del,dh'!$D19,0)","v":0},{"$f":"IF(P70=\"Ja\",'Q_del,j en Q_del,dh'!$D19,0)","v":0},{"$f":"IF(Q70=\"Ja\",'Q_del,j en Q_del,dh'!$D19,0)","v":0},{"$f":"IF(R70=\"Ja\",'Q_del,j en Q_del,dh'!$D19,0)","v":0},{"$f":"IF(S70=\"Ja\",'Q_del,j en Q_del,dh'!$D19,0)","v":0},{"$f":"IF(T70=\"Ja\",'Q_del,j en Q_del,dh'!$D19,0)","v":0},{"$f":"IF(U70=\"Ja\",'Q_del,j en Q_del,dh'!$D19,0)","v":0},{"$f":"IF(V70=\"Ja\",'Q_del,j en Q_del,dh'!$D19,0)","v":0},{"$f":"IF(W70=\"Ja\",'Q_del,j en Q_del,dh'!$D19,0)","v":0},{"$f":"IF(X70=\"Ja\",'Q_del,j en Q_del,dh'!$D19,0)","v":0},{"$f":"IF(Y70=\"Ja\",'Q_del,j en Q_del,dh'!$D19,0)","v":0},{"$f":"IF(Z70=\"Ja\",'Q_del,j en Q_del,dh'!$D19,0)","v":0},{"$f":"IF(AA70=\"Ja\",'Q_del,j en Q_del,dh'!$D19,0)","v":0},{"$f":"IF(AB70=\"Ja\",'Q_del,j en Q_del,dh'!$D19,0)","v":0},{"$f":"IF(AC70=\"Ja\",'Q_del,j en Q_del,dh'!$D19,0)","v":0},{"$f":"IF(AD70=\"Ja\",'Q_del,j en Q_del,dh'!$D19,0)","v":0},{"$f":"IF(AE70=\"Ja\",'Q_del,j en Q_del,dh'!$D19,0)","v":0},{"$f":"IF(AF70=\"Ja\",'Q_del,j en Q_del,dh'!$D19,0)","v":0},{"$f":"IF(AG70=\"Ja\",'Q_del,j en Q_del,dh'!$D19,0)","v":0},{"$f":"IF(AH70=\"Ja\",'Q_del,j en Q_del,dh'!$D19,0)","v":0},{"$f":"IF(AI70=\"Ja\",'Q_del,j en Q_del,dh'!$D19,0)","v":0},{"$f":"IF(AJ70=\"Ja\",'Q_del,j en Q_del,dh'!$D19,0)","v":0},{"$f":"IF(AK70=\"Ja\",'Q_del,j en Q_del,dh'!$D19,0)","v":0},{"$f":"IF(AL70=\"Ja\",'Q_del,j en Q_del,dh'!$D19,0)","v":0},{"$f":"IF(AM70=\"Ja\",'Q_del,j en Q_del,dh'!$D19,0)","v":0},{"$f":"IF(AN70=\"Ja\",'Q_del,j en Q_del,dh'!$D19,0)","v":0},{"$f":"IF(AO70=\"Ja\",'Q_del,j en Q_del,dh'!$D19,0)","v":0},{"$f":"IF(AP70=\"Ja\",'Q_del,j en Q_del,dh'!$D19,0)","v":0},{"$f":"IF(AQ70=\"Ja\",'Q_del,j en Q_del,dh'!$D19,0)","v":0},{"$f":"IF(AR70=\"Ja\",'Q_del,j en Q_del,dh'!$D19,0)","v":0},{"$f":"IF(AS70=\"Ja\",'Q_del,j en Q_del,dh'!$D19,0)","v":0},{"$f":"IF(AT70=\"Ja\",'Q_del,j en Q_del,dh'!$D19,0)","v":0},{"$f":"IF(AU70=\"Ja\",'Q_del,j en Q_del,dh'!$D19,0)","v":0},{"$f":"IF(AV70=\"Ja\",'Q_del,j en Q_del,dh'!$D19,0)","v":0},{"$f":"IF(AW70=\"Ja\",'Q_del,j en Q_del,dh'!$D19,0)","v":0},{"$f":"IF(AX70=\"Ja\",'Q_del,j en Q_del,dh'!$D19,0)","v":0},{"$f":"IF(AY70=\"Ja\",'Q_del,j en Q_del,dh'!$D19,0)","v":0},{"$f":"IF(AZ70=\"Ja\",'Q_del,j en Q_del,dh'!$D19,0)","v":0},{"$f":"IF(BA70=\"Ja\",'Q_del,j en Q_del,dh'!$D19,0)","v":0}]
["Qdel,l,j [MJ]","warmtevrager 13",13,{"$f":"IF(D71=\"Ja\",'Q_del,j en Q_del,dh'!$D20,0)","v":0},{"$f":"IF(E71=\"Ja\",'Q_del,j en Q_del,dh'!$D20,0)","v":0},{"$f":"IF(F71=\"Ja\",'Q_del,j en Q_del,dh'!$D20,0)","v":0},{"$f":"IF(G71=\"Ja\",'Q_del,j en Q_del,dh'!$D20,0)","v":0},{"$f":"IF(H71=\"Ja\",'Q_del,j en Q_del,dh'!$D20,0)","v":0},{"$f":"IF(I71=\"Ja\",'Q_del,j en Q_del,dh'!$D20,0)","v":0},{"$f":"IF(J71=\"Ja\",'Q_del,j en Q_del,dh'!$D20,0)","v":0},{"$f":"IF(K71=\"Ja\",'Q_del,j en Q_del,dh'!$D20,0)","v":0},{"$f":"IF(L71=\"Ja\",'Q_del,j en Q_del,dh'!$D20,0)","v":0},{"$f":"IF(M71=\"Ja\",'Q_del,j en Q_del,dh'!$D20,0)","v":0},{"$f":"IF(N71=\"Ja\",'Q_del,j en Q_del,dh'!$D20,0)","v":0},{"$f":"IF(O71=\"Ja\",'Q_del,j en Q_del,dh'!$D20,0)","v":0},{"$f":"IF(P71=\"Ja\",'Q_del,j en Q_del,dh'!$D20,0)","v":0},{"$f":"IF(Q71=\"Ja\",'Q_del,j en Q_del,dh'!$D20,0)","v":0},{"$f":"IF(R71=\"Ja\",'Q_del,j en Q_del,dh'!$D20,0)","v":0},{"$f":"IF(S71=\"Ja\",'Q_del,j en Q_del,dh'!$D20,0)","v":0},{"$f":"IF(T71=\"Ja\",'Q_del,j en Q_del,dh'!$D20,0)","v":0},{"$f":"IF(U71=\"Ja\",'Q_del,j en Q_del,dh'!$D20,0)","v":0},{"$f":"IF(V71=\"Ja\",'Q_del,j en Q_del,dh'!$D20,0)","v":0},{"$f":"IF(W71=\"Ja\",'Q_del,j en Q_del,dh'!$D20,0)","v":0},{"$f":"IF(X71=\"Ja\",'Q_del,j en Q_del,dh'!$D20,0)","v":0},{"$f":"IF(Y71=\"Ja\",'Q_del,j en Q_del,dh'!$D20,0)","v":0},{"$f":"IF(Z71=\"Ja\",'Q_del,j en Q_del,dh'!$D20,0)","v":0},{"$f":"IF(AA71=\"Ja\",'Q_del,j en Q_del,dh'!$D20,0)","v":0},{"$f":"IF(AB71=\"Ja\",'Q_del,j en Q_del,dh'!$D20,0)","v":0},{"$f":"IF(AC71=\"Ja\",'Q_del,j en Q_del,dh'!$D20,0)","v":0},{"$f":"IF(AD71=\"Ja\",'Q_del,j en Q_del,dh'!$D20,0)","v":0},{"$f":"IF(AE71=\"Ja\",'Q_del,j en Q_del,dh'!$D20,0)","v":0},{"$f":"IF(AF71=\"Ja\",'Q_del,j en Q_del,dh'!$D20,0)","v":0},{"$f":"IF(AG71=\"Ja\",'Q_del,j en Q_del,dh'!$D20,0)","v":0},{"$f":"IF(AH71=\"Ja\",'Q_del,j en Q_del,dh'!$D20,0)","v":0},{"$f":"IF(AI71=\"Ja\",'Q_del,j en Q_del,dh'!$D20,0)","v":0},{"$f":"IF(AJ71=\"Ja\",'Q_del,j en Q_del,dh'!$D20,0)","v":0},{"$f":"IF(AK71=\"Ja\",'Q_del,j en Q_del,dh'!$D20,0)","v":0},{"$f":"IF(AL71=\"Ja\",'Q_del,j en Q_del,dh'!$D20,0)","v":0},{"$f":"IF(AM71=\"Ja\",'Q_del,j en Q_del,dh'!$D20,0)","v":0},{"$f":"IF(AN71=\"Ja\",'Q_del,j en Q_del,dh'!$D20,0)","v":0},{"$f":"IF(AO71=\"Ja\",'Q_del,j en Q_del,dh'!$D20,0)","v":0},{"$f":"IF(AP71=\"Ja\",'Q_del,j en Q_del,dh'!$D20,0)","v":0},{"$f":"IF(AQ71=\"Ja\",'Q_del,j en Q_del,dh'!$D20,0)","v":0},{"$f":"IF(AR71=\"Ja\",'Q_del,j en Q_del,dh'!$D20,0)","v":0},{"$f":"IF(AS71=\"Ja\",'Q_del,j en Q_del,dh'!$D20,0)","v":0},{"$f":"IF(AT71=\"Ja\",'Q_del,j en Q_del,dh'!$D20,0)","v":0},{"$f":"IF(AU71=\"Ja\",'Q_del,j en Q_del,dh'!$D20,0)","v":0},{"$f":"IF(AV71=\"Ja\",'Q_del,j en Q_del,dh'!$D20,0)","v":0},{"$f":"IF(AW71=\"Ja\",'Q_del,j en Q_del,dh'!$D20,0)","v":0},{"$f":"IF(AX71=\"Ja\",'Q_del,j en Q_del,dh'!$D20,0)","v":0},{"$f":"IF(AY71=\"Ja\",'Q_del,j en Q_del,dh'!$D20,0)","v":0},{"$f":"IF(AZ71=\"Ja\",'Q_del,j en Q_del,dh'!$D20,0)","v":0},{"$f":"IF(BA71=\"Ja\",'Q_del,j en Q_del,dh'!$D20,0)","v":0}]
["Qdel,l,j [MJ]","warmtevrager 14",14,{"$f":"IF(D72=\"Ja\",'Q_del,j en Q_del,dh'!$D21,0)","v":0},{"$f":"IF(E72=\"Ja\",'Q_del,j en Q_del,dh'!$D21,0)","v":0},{"$f":"IF(F72=\"Ja\",'Q_del,j en Q_del,dh'!$D21,0)","v":0},{"$f":"IF(G72=\"Ja\",'Q_del,j en Q_del,dh'!$D21,0)","v":0},{"$f":"IF(H72=\"Ja\",'Q_del,j en Q_del,dh'!$D21,0)","v":0},{"$f":"IF(I72=\"Ja\",'Q_del,j en Q_del,dh'!$D21,0)","v":0},{"$f":"IF(J72=\"Ja\",'Q_del,j en Q_del,dh'!$D21,0)","v":0},{"$f":"IF(K72=\"Ja\",'Q_del,j en Q_del,dh'!$D21,0)","v":0},{"$f":"IF(L72=\"Ja\",'Q_del,j en Q_del,dh'!$D21,0)","v":0},{"$f":"IF(M72=\"Ja\",'Q_del,j en Q_del,dh'!$D21,0)","v":0},{"$f":"IF(N72=\"Ja\",'Q_del,j en Q_del,dh'!$D21,0)","v":0},{"$f":"IF(O72=\"Ja\",'Q_del,j en Q_del,dh'!$D21,0)","v":0},{"$f":"IF(P72=\"Ja\",'Q_del,j en Q_del,dh'!$D21,0)","v":0},{"$f":"IF(Q72=\"Ja\",'Q_del,j en Q_del,dh'!$D21,0)","v":0},{"$f":"IF(R72=\"Ja\",'Q_del,j en Q_del,dh'!$D21,0)","v":0},{"$f":"IF(S72=\"Ja\",'Q_del,j en Q_del,dh'!$D21,0)","v":0},{"$f":"IF(T72=\"Ja\",'Q_del,j en Q_del,dh'!$D21,0)","v":0},{"$f":"IF(U72=\"Ja\",'Q_del,j en Q_del,dh'!$D21,0)","v":0},{"$f":"IF(V72=\"Ja\",'Q_del,j en Q_del,dh'!$D21,0)","v":0},{"$f":"IF(W72=\"Ja\",'Q_del,j en Q_del,dh'!$D21,0)","v":0},{"$f":"IF(X72=\"Ja\",'Q_del,j en Q_del,dh'!$D21,0)","v":0},{"$f":"IF(Y72=\"Ja\",'Q_del,j en Q_del,dh'!$D21,0)","v":0},{"$f":"IF(Z72=\"Ja\",'Q_del,j en Q_del,dh'!$D21,0)","v":0},{"$f":"IF(AA72=\"Ja\",'Q_del,j en Q_del,dh'!$D21,0)","v":0},{"$f":"IF(AB72=\"Ja\",'Q_del,j en Q_del,dh'!$D21,0)","v":0},{"$f":"IF(AC72=\"Ja\",'Q_del,j en Q_del,dh'!$D21,0)","v":0},{"$f":"IF(AD72=\"Ja\",'Q_del,j en Q_del,dh'!$D21,0)","v":0},{"$f":"IF(AE72=\"Ja\",'Q_del,j en Q_del,dh'!$D21,0)","v":0},{"$f":"IF(AF72=\"Ja\",'Q_del,j en Q_del,dh'!$D21,0)","v":0},{"$f":"IF(AG72=\"Ja\",'Q_del,j en Q_del,dh'!$D21,0)","v":0},{"$f":"IF(AH72=\"Ja\",'Q_del,j en Q_del,dh'!$D21,0)","v":0},{"$f":"IF(AI72=\"Ja\",'Q_del,j en Q_del,dh'!$D21,0)","v":0},{"$f":"IF(AJ72=\"Ja\",'Q_del,j en Q_del,dh'!$D21,0)","v":0},{"$f":"IF(AK72=\"Ja\",'Q_del,j en Q_del,dh'!$D21,0)","v":0},{"$f":"IF(AL72=\"Ja\",'Q_del,j en Q_del,dh'!$D21,0)","v":0},{"$f":"IF(AM72=\"Ja\",'Q_del,j en Q_del,dh'!$D21,0)","v":0},{"$f":"IF(AN72=\"Ja\",'Q_del,j en Q_del,dh'!$D21,0)","v":0},{"$f":"IF(AO72=\"Ja\",'Q_del,j en Q_del,dh'!$D21,0)","v":0},{"$f":"IF(AP72=\"Ja\",'Q_del,j en Q_del,dh'!$D21,0)","v":0},{"$f":"IF(AQ72=\"Ja\",'Q_del,j en Q_del,dh'!$D21,0)","v":0},{"$f":"IF(AR72=\"Ja\",'Q_del,j en Q_del,dh'!$D21,0)","v":0},{"$f":"IF(AS72=\"Ja\",'Q_del,j en Q_del,dh'!$D21,0)","v":0},{"$f":"IF(AT72=\"Ja\",'Q_del,j en Q_del,dh'!$D21,0)","v":0},{"$f":"IF(AU72=\"Ja\",'Q_del,j en Q_del,dh'!$D21,0)","v":0},{"$f":"IF(AV72=\"Ja\",'Q_del,j en Q_del,dh'!$D21,0)","v":0},{"$f":"IF(AW72=\"Ja\",'Q_del,j en Q_del,dh'!$D21,0)","v":0},{"$f":"IF(AX72=\"Ja\",'Q_del,j en Q_del,dh'!$D21,0)","v":0},{"$f":"IF(AY72=\"Ja\",'Q_del,j en Q_del,dh'!$D21,0)","v":0},{"$f":"IF(AZ72=\"Ja\",'Q_del,j en Q_del,dh'!$D21,0)","v":0},{"$f":"IF(BA72=\"Ja\",'Q_del,j en Q_del,dh'!$D21,0)","v":0}]
["Qdel,l,j [MJ]","warmtevrager 15",15,{"$f":"IF(D73=\"Ja\",'Q_del,j en Q_del,dh'!$D22,0)","v":0},{"$f":"IF(E73=\"Ja\",'Q_del,j en Q_del,dh'!$D22,0)","v":0},{"$f":"IF(F73=\"Ja\",'Q_del,j en Q_del,dh'!$D22,0)","v":0},{"$f":"IF(G73=\"Ja\",'Q_del,j en Q_del,dh'!$D22,0)","v":0},{"$f":"IF(H73=\"Ja\",'Q_del,j en Q_del,dh'!$D22,0)","v":0},{"$f":"IF(I73=\"Ja\",'Q_del,j en Q_del,dh'!$D22,0)","v":0},{"$f":"IF(J73=\"Ja\",'Q_del,j en Q_del,dh'!$D22,0)","v":0},{"$f":"IF(K73=\"Ja\",'Q_del,j en Q_del,dh'!$D22,0)","v":0},{"$f":"IF(L73=\"Ja\",'Q_del,j en Q_del,dh'!$D22,0)","v":0},{"$f":"IF(M73=\"Ja\",'Q_del,j en Q_del,dh'!$D22,0)","v":0},{"$f":"IF(N73=\"Ja\",'Q_del,j en Q_del,dh'!$D22,0)","v":0},{"$f":"IF(O73=\"Ja\",'Q_del,j en Q_del,dh'!$D22,0)","v":0},{"$f":"IF(P73=\"Ja\",'Q_del,j en Q_del,dh'!$D22,0)","v":0},{"$f":"IF(Q73=\"Ja\",'Q_del,j en Q_del,dh'!$D22,0)","v":0},{"$f":"IF(R73=\"Ja\",'Q_del,j en Q_del,dh'!$D22,0)","v":0},{"$f":"IF(S73=\"Ja\",'Q_del,j en Q_del,dh'!$D22,0)","v":0},{"$f":"IF(T73=\"Ja\",'Q_del,j en Q_del,dh'!$D22,0)","v":0},{"$f":"IF(U73=\"Ja\",'Q_del,j en Q_del,dh'!$D22,0)","v":0},{"$f":"IF(V73=\"Ja\",'Q_del,j en Q_del,dh'!$D22,0)","v":0},{"$f":"IF(W73=\"Ja\",'Q_del,j en Q_del,dh'!$D22,0)","v":0},{"$f":"IF(X73=\"Ja\",'Q_del,j en Q_del,dh'!$D22,0)","v":0},{"$f":"IF(Y73=\"Ja\",'Q_del,j en Q_del,dh'!$D22,0)","v":0},{"$f":"IF(Z73=\"Ja\",'Q_del,j en Q_del,dh'!$D22,0)","v":0},{"$f":"IF(AA73=\"Ja\",'Q_del,j en Q_del,dh'!$D22,0)","v":0},{"$f":"IF(AB73=\"Ja\",'Q_del,j en Q_del,dh'!$D22,0)","v":0},{"$f":"IF(AC73=\"Ja\",'Q_del,j en Q_del,dh'!$D22,0)","v":0},{"$f":"IF(AD73=\"Ja\",'Q_del,j en Q_del,dh'!$D22,0)","v":0},{"$f":"IF(AE73=\"Ja\",'Q_del,j en Q_del,dh'!$D22,0)","v":0},{"$f":"IF(AF73=\"Ja\",'Q_del,j en Q_del,dh'!$D22,0)","v":0},{"$f":"IF(AG73=\"Ja\",'Q_del,j en Q_del,dh'!$D22,0)","v":0},{"$f":"IF(AH73=\"Ja\",'Q_del,j en Q_del,dh'!$D22,0)","v":0},{"$f":"IF(AI73=\"Ja\",'Q_del,j en Q_del,dh'!$D22,0)","v":0},{"$f":"IF(AJ73=\"Ja\",'Q_del,j en Q_del,dh'!$D22,0)","v":0},{"$f":"IF(AK73=\"Ja\",'Q_del,j en Q_del,dh'!$D22,0)","v":0},{"$f":"IF(AL73=\"Ja\",'Q_del,j en Q_del,dh'!$D22,0)","v":0},{"$f":"IF(AM73=\"Ja\",'Q_del,j en Q_del,dh'!$D22,0)","v":0},{"$f":"IF(AN73=\"Ja\",'Q_del,j en Q_del,dh'!$D22,0)","v":0},{"$f":"IF(AO73=\"Ja\",'Q_del,j en Q_del,dh'!$D22,0)","v":0},{"$f":"IF(AP73=\"Ja\",'Q_del,j en Q_del,dh'!$D22,0)","v":0},{"$f":"IF(AQ73=\"Ja\",'Q_del,j en Q_del,dh'!$D22,0)","v":0},{"$f":"IF(AR73=\"Ja\",'Q_del,j en Q_del,dh'!$D22,0)","v":0},{"$f":"IF(AS73=\"Ja\",'Q_del,j en Q_del,dh'!$D22,0)","v":0},{"$f":"IF(AT73=\"Ja\",'Q_del,j en Q_del,dh'!$D22,0)","v":0},{"$f":"IF(AU73=\"Ja\",'Q_del,j en Q_del,dh'!$D22,0)","v":0},{"$f":"IF(AV73=\"Ja\",'Q_del,j en Q_del,dh'!$D22,0)","v":0},{"$f":"IF(AW73=\"Ja\",'Q_del,j en Q_del,dh'!$D22,0)","v":0},{"$f":"IF(AX73=\"Ja\",'Q_del,j en Q_del,dh'!$D22,0)","v":0},{"$f":"IF(AY73=\"Ja\",'Q_del,j en Q_del,dh'!$D22,0)","v":0},{"$f":"IF(AZ73=\"Ja\",'Q_del,j en Q_del,dh'!$D22,0)","v":0},{"$f":"IF(BA73=\"Ja\",'Q_del,j en Q_del,dh'!$D22,0)","v":0}]
["Qdel,l,j [MJ]","warmtevrager 16",16,{"$f":"IF(D74=\"Ja\",'Q_del,j en Q_del,dh'!$D23,0)","v":0},{"$f":"IF(E74=\"Ja\",'Q_del,j en Q_del,dh'!$D23,0)","v":0},{"$f":"IF(F74=\"Ja\",'Q_del,j en Q_del,dh'!$D23,0)","v":0},{"$f":"IF(G74=\"Ja\",'Q_del,j en Q_del,dh'!$D23,0)","v":0},{"$f":"IF(H74=\"Ja\",'Q_del,j en Q_del,dh'!$D23,0)","v":0},{"$f":"IF(I74=\"Ja\",'Q_del,j en Q_del,dh'!$D23,0)","v":0},{"$f":"IF(J74=\"Ja\",'Q_del,j en Q_del,dh'!$D23,0)","v":0},{"$f":"IF(K74=\"Ja\",'Q_del,j en Q_del,dh'!$D23,0)","v":0},{"$f":"IF(L74=\"Ja\",'Q_del,j en Q_del,dh'!$D23,0)","v":0},{"$f":"IF(M74=\"Ja\",'Q_del,j en Q_del,dh'!$D23,0)","v":0},{"$f":"IF(N74=\"Ja\",'Q_del,j en Q_del,dh'!$D23,0)","v":0},{"$f":"IF(O74=\"Ja\",'Q_del,j en Q_del,dh'!$D23,0)","v":0},{"$f":"IF(P74=\"Ja\",'Q_del,j en Q_del,dh'!$D23,0)","v":0},{"$f":"IF(Q74=\"Ja\",'Q_del,j en Q_del,dh'!$D23,0)","v":0},{"$f":"IF(R74=\"Ja\",'Q_del,j en Q_del,dh'!$D23,0)","v":0},{"$f":"IF(S74=\"Ja\",'Q_del,j en Q_del,dh'!$D23,0)","v":0},{"$f":"IF(T74=\"Ja\",'Q_del,j en Q_del,dh'!$D23,0)","v":0},{"$f":"IF(U74=\"Ja\",'Q_del,j en Q_del,dh'!$D23,0)","v":0},{"$f":"IF(V74=\"Ja\",'Q_del,j en Q_del,dh'!$D23,0)","v":0},{"$f":"IF(W74=\"Ja\",'Q_del,j en Q_del,dh'!$D23,0)","v":0},{"$f":"IF(X74=\"Ja\",'Q_del,j en Q_del,dh'!$D23,0)","v":0},{"$f":"IF(Y74=\"Ja\",'Q_del,j en Q_del,dh'!$D23,0)","v":0},{"$f":"IF(Z74=\"Ja\",'Q_del,j en Q_del,dh'!$D23,0)","v":0},{"$f":"IF(AA74=\"Ja\",'Q_del,j en Q_del,dh'!$D23,0)","v":0},{"$f":"IF(AB74=\"Ja\",'Q_del,j en Q_del,dh'!$D23,0)","v":0},{"$f":"IF(AC74=\"Ja\",'Q_del,j en Q_del,dh'!$D23,0)","v":0},{"$f":"IF(AD74=\"Ja\",'Q_del,j en Q_del,dh'!$D23,0)","v":0},{"$f":"IF(AE74=\"Ja\",'Q_del,j en Q_del,dh'!$D23,0)","v":0},{"$f":"IF(AF74=\"Ja\",'Q_del,j en Q_del,dh'!$D23,0)","v":0},{"$f":"IF(AG74=\"Ja\",'Q_del,j en Q_del,dh'!$D23,0)","v":0},{"$f":"IF(AH74=\"Ja\",'Q_del,j en Q_del,dh'!$D23,0)","v":0},{"$f":"IF(AI74=\"Ja\",'Q_del,j en Q_del,dh'!$D23,0)","v":0},{"$f":"IF(AJ74=\"Ja\",'Q_del,j en Q_del,dh'!$D23,0)","v":0},{"$f":"IF(AK74=\"Ja\",'Q_del,j en Q_del,dh'!$D23,0)","v":0},{"$f":"IF(AL74=\"Ja\",'Q_del,j en Q_del,dh'!$D23,0)","v":0},{"$f":"IF(AM74=\"Ja\",'Q_del,j en Q_del,dh'!$D23,0)","v":0},{"$f":"IF(AN74=\"Ja\",'Q_del,j en Q_del,dh'!$D23,0)","v":0},{"$f":"IF(AO74=\"Ja\",'Q_del,j en Q_del,dh'!$D23,0)","v":0},{"$f":"IF(AP74=\"Ja\",'Q_del,j en Q_del,dh'!$D23,0)","v":0},{"$f":"IF(AQ74=\"Ja\",'Q_del,j en Q_del,dh'!$D23,0)","v":0},{"$f":"IF(AR74=\"Ja\",'Q_del,j en Q_del,dh'!$D23,0)","v":0},{"$f":"IF(AS74=\"Ja\",'Q_del,j en Q_del,dh'!$D23,0)","v":0},{"$f":"IF(AT74=\"Ja\",'Q_del,j en Q_del,dh'!$D23,0)","v":0},{"$f":"IF(AU74=\"Ja\",'Q_del,j en Q_del,dh'!$D23,0)","v":0},{"$f":"IF(AV74=\"Ja\",'Q_del,j en Q_del,dh'!$D23,0)","v":0},{"$f":"IF(AW74=\"Ja\",'Q_del,j en Q_del,dh'!$D23,0)","v":0},{"$f":"IF(AX74=\"Ja\",'Q_del,j en Q_del,dh'!$D23,0)","v":0},{"$f":"IF(AY74=\"Ja\",'Q_del,j en Q_del,dh'!$D23,0)","v":0},{"$f":"IF(AZ74=\"Ja\",'Q_del,j en Q_del,dh'!$D23,0)","v":0},{"$f":"IF(BA74=\"Ja\",'Q_del,j en Q_del,dh'!$D23,0)","v":0}]
["Qdel,l,j [MJ]","warmtevrager 17",17,{"$f":"IF(D75=\"Ja\",'Q_del,j en Q_del,dh'!$D24,0)","v":0},{"$f":"IF(E75=\"Ja\",'Q_del,j en Q_del,dh'!$D24,0)","v":0},{"$f":"IF(F75=\"Ja\",'Q_del,j en Q_del,dh'!$D24,0)","v":0},{"$f":"IF(G75=\"Ja\",'Q_del,j en Q_del,dh'!$D24,0)","v":0},{"$f":"IF(H75=\"Ja\",'Q_del,j en Q_del,dh'!$D24,0)","v":0},{"$f":"IF(I75=\"Ja\",'Q_del,j en Q_del,dh'!$D24,0)","v":0},{"$f":"IF(J75=\"Ja\",'Q_del,j en Q_del,dh'!$D24,0)","v":0},{"$f":"IF(K75=\"Ja\",'Q_del,j en Q_del,dh'!$D24,0)","v":0},{"$f":"IF(L75=\"Ja\",'Q_del,j en Q_del,dh'!$D24,0)","v":0},{"$f":"IF(M75=\"Ja\",'Q_del,j en Q_del,dh'!$D24,0)","v":0},{"$f":"IF(N75=\"Ja\",'Q_del,j en Q_del,dh'!$D24,0)","v":0},{"$f":"IF(O75=\"Ja\",'Q_del,j en Q_del,dh'!$D24,0)","v":0},{"$f":"IF(P75=\"Ja\",'Q_del,j en Q_del,dh'!$D24,0)","v":0},{"$f":"IF(Q75=\"Ja\",'Q_del,j en Q_del,dh'!$D24,0)","v":0},{"$f":"IF(R75=\"Ja\",'Q_del,j en Q_del,dh'!$D24,0)","v":0},{"$f":"IF(S75=\"Ja\",'Q_del,j en Q_del,dh'!$D24,0)","v":0},{"$f":"IF(T75=\"Ja\",'Q_del,j en Q_del,dh'!$D24,0)","v":0},{"$f":"IF(U75=\"Ja\",'Q_del,j en Q_del,dh'!$D24,0)","v":0},{"$f":"IF(V75=\"Ja\",'Q_del,j en Q_del,dh'!$D24,0)","v":0},{"$f":"IF(W75=\"Ja\",'Q_del,j en Q_del,dh'!$D24,0)","v":0},{"$f":"IF(X75=\"Ja\",'Q_del,j en Q_del,dh'!$D24,0)","v":0},{"$f":"IF(Y75=\"Ja\",'Q_del,j en Q_del,dh'!$D24,0)","v":0},{"$f":"IF(Z75=\"Ja\",'Q_del,j en Q_del,dh'!$D24,0)","v":0},{"$f":"IF(AA75=\"Ja\",'Q_del,j en Q_del,dh'!$D24,0)","v":0},{"$f":"IF(AB75=\"Ja\",'Q_del,j en Q_del,dh'!$D24,0)","v":0},{"$f":"IF(AC75=\"Ja\",'Q_del,j en Q_del,dh'!$D24,0)","v":0},{"$f":"IF(AD75=\"Ja\",'Q_del,j en Q_del,dh'!$D24,0)","v":0},{"$f":"IF(AE75=\"Ja\",'Q_del,j en Q_del,dh'!$D24,0)","v":0},{"$f":"IF(AF75=\"Ja\",'Q_del,j en Q_del,dh'!$D24,0)","v":0},{"$f":"IF(AG75=\"Ja\",'Q_del,j en Q_del,dh'!$D24,0)","v":0},{"$f":"IF(AH75=\"Ja\",'Q_del,j en Q_del,dh'!$D24,0)","v":0},{"$f":"IF(AI75=\"Ja\",'Q_del,j en Q_del,dh'!$D24,0)","v":0},{"$f":"IF(AJ75=\"Ja\",'Q_del,j en Q_del,dh'!$D24,0)","v":0},{"$f":"IF(AK75=\"Ja\",'Q_del,j en Q_del,dh'!$D24,0)","v":0},{"$f":"IF(AL75=\"Ja\",'Q_del,j en Q_del,dh'!$D24,0)","v":0},{"$f":"IF(AM75=\"Ja\",'Q_del,j en Q_del,dh'!$D24,0)","v":0},{"$f":"IF(AN75=\"Ja\",'Q_del,j en Q_del,dh'!$D24,0)","v":0},{"$f":"IF(AO75=\"Ja\",'Q_del,j en Q_del,dh'!$D24,0)","v":0},{"$f":"IF(AP75=\"Ja\",'Q_del,j en Q_del,dh'!$D24,0)","v":0},{"$f":"IF(AQ75=\"Ja\",'Q_del,j en Q_del,dh'!$D24,0)","v":0},{"$f":"IF(AR75=\"Ja\",'Q_del,j en Q_del,dh'!$D24,0)","v":0},{"$f":"IF(AS75=\"Ja\",'Q_del,j en Q_del,dh'!$D24,0)","v":0},{"$f":"IF(AT75=\"Ja\",'Q_del,j en Q_del,dh'!$D24,0)","v":0},{"$f":"IF(AU75=\"Ja\",'Q_del,j en Q_del,dh'!$D24,0)","v":0},{"$f":"IF(AV75=\"Ja\",'Q_del,j en Q_del,dh'!$D24,0)","v":0},{"$f":"IF(AW75=\"Ja\",'Q_del,j en Q_del,dh'!$D24,0)","v":0},{"$f":"IF(AX75=\"Ja\",'Q_del,j en Q_del,dh'!$D24,0)","v":0},{"$f":"IF(AY75=\"Ja\",'Q_del,j en Q_del,dh'!$D24,0)","v":0},{"$f":"IF(AZ75=\"Ja\",'Q_del,j en Q_del,dh'!$D24,0)","v":0},{"$f":"IF(BA75=\"Ja\",'Q_del,j en Q_del,dh'!$D24,0)","v":0}]
["Qdel,l,j [MJ]","warmtevrager 18",18,{"$f":"IF(D76=\"Ja\",'Q_del,j en Q_del,dh'!$D25,0)","v":0},{"$f":"IF(E76=\"Ja\",'Q_del,j en Q_del,dh'!$D25,0)","v":0},{"$f":"IF(F76=\"Ja\",'Q_del,j en Q_del,dh'!$D25,0)","v":0},{"$f":"IF(G76=\"Ja\",'Q_del,j en Q_del,dh'!$D25,0)","v":0},{"$f":"IF(H76=\"Ja\",'Q_del,j en Q_del,dh'!$D25,0)","v":0},{"$f":"IF(I76=\"Ja\",'Q_del,j en Q_del,dh'!$D25,0)","v":0},{"$f":"IF(J76=\"Ja\",'Q_del,j en Q_del,dh'!$D25,0)","v":0},{"$f":"IF(K76=\"Ja\",'Q_del,j en Q_del,dh'!$D25,0)","v":0},{"$f":"IF(L76=\"Ja\",'Q_del,j en Q_del,dh'!$D25,0)","v":0},{"$f":"IF(M76=\"Ja\",'Q_del,j en Q_del,dh'!$D25,0)","v":0},{"$f":"IF(N76=\"Ja\",'Q_del,j en Q_del,dh'!$D25,0)","v":0},{"$f":"IF(O76=\"Ja\",'Q_del,j en Q_del,dh'!$D25,0)","v":0},{"$f":"IF(P76=\"Ja\",'Q_del,j en Q_del,dh'!$D25,0)","v":0},{"$f":"IF(Q76=\"Ja\",'Q_del,j en Q_del,dh'!$D25,0)","v":0},{"$f":"IF(R76=\"Ja\",'Q_del,j en Q_del,dh'!$D25,0)","v":0},{"$f":"IF(S76=\"Ja\",'Q_del,j en Q_del,dh'!$D25,0)","v":0},{"$f":"IF(T76=\"Ja\",'Q_del,j en Q_del,dh'!$D25,0)","v":0},{"$f":"IF(U76=\"Ja\",'Q_del,j en Q_del,dh'!$D25,0)","v":0},{"$f":"IF(V76=\"Ja\",'Q_del,j en Q_del,dh'!$D25,0)","v":0},{"$f":"IF(W76=\"Ja\",'Q_del,j en Q_del,dh'!$D25,0)","v":0},{"$f":"IF(X76=\"Ja\",'Q_del,j en Q_del,dh'!$D25,0)","v":0},{"$f":"IF(Y76=\"Ja\",'Q_del,j en Q_del,dh'!$D25,0)","v":0},{"$f":"IF(Z76=\"Ja\",'Q_del,j en Q_del,dh'!$D25,0)","v":0},{"$f":"IF(AA76=\"Ja\",'Q_del,j en Q_del,dh'!$D25,0)","v":0},{"$f":"IF(AB76=\"Ja\",'Q_del,j en Q_del,dh'!$D25,0)","v":0},{"$f":"IF(AC76=\"Ja\",'Q_del,j en Q_del,dh'!$D25,0)","v":0},{"$f":"IF(AD76=\"Ja\",'Q_del,j en Q_del,dh'!$D25,0)","v":0},{"$f":"IF(AE76=\"Ja\",'Q_del,j en Q_del,dh'!$D25,0)","v":0},{"$f":"IF(AF76=\"Ja\",'Q_del,j en Q_del,dh'!$D25,0)","v":0},{"$f":"IF(AG76=\"Ja\",'Q_del,j en Q_del,dh'!$D25,0)","v":0},{"$f":"IF(AH76=\"Ja\",'Q_del,j en Q_del,dh'!$D25,0)","v":0},{"$f":"IF(AI76=\"Ja\",'Q_del,j en Q_del,dh'!$D25,0)","v":0},{"$f":"IF(AJ76=\"Ja\",'Q_del,j en Q_del,dh'!$D25,0)","v":0},{"$f":"IF(AK76=\"Ja\",'Q_del,j en Q_del,dh'!$D25,0)","v":0},{"$f":"IF(AL76=\"Ja\",'Q_del,j en Q_del,dh'!$D25,0)","v":0},{"$f":"IF(AM76=\"Ja\",'Q_del,j en Q_del,dh'!$D25,0)","v":0},{"$f":"IF(AN76=\"Ja\",'Q_del,j en Q_del,dh'!$D25,0)","v":0},{"$f":"IF(AO76=\"Ja\",'Q_del,j en Q_del,dh'!$D25,0)","v":0},{"$f":"IF(AP76=\"Ja\",'Q_del,j en Q_del,dh'!$D25,0)","v":0},{"$f":"IF(AQ76=\"Ja\",'Q_del,j en Q_del,dh'!$D25,0)","v":0},{"$f":"IF(AR76=\"Ja\",'Q_del,j en Q_del,dh'!$D25,0)","v":0},{"$f":"IF(AS76=\"Ja\",'Q_del,j en Q_del,dh'!$D25,0)","v":0},{"$f":"IF(AT76=\"Ja\",'Q_del,j en Q_del,dh'!$D25,0)","v":0},{"$f":"IF(AU76=\"Ja\",'Q_del,j en Q_del,dh'!$D25,0)","v":0},{"$f":"IF(AV76=\"Ja\",'Q_del,j en Q_del,dh'!$D25,0)","v":0},{"$f":"IF(AW76=\"Ja\",'Q_del,j en Q_del,dh'!$D25,0)","v":0},{"$f":"IF(AX76=\"Ja\",'Q_del,j en Q_del,dh'!$D25,0)","v":0},{"$f":"IF(AY76=\"Ja\",'Q_del,j en Q_del,dh'!$D25,0)","v":0},{"$f":"IF(AZ76=\"Ja\",'Q_del,j en Q_del,dh'!$D25,0)","v":0},{"$f":"IF(BA76=\"Ja\",'Q_del,j en Q_del,dh'!$D25,0)","v":0}]
["Qdel,l,j [MJ]","warmtevrager 19",19,{"$f":"IF(D77=\"Ja\",'Q_del,j en Q_del,dh'!$D26,0)","v":0},{"$f":"IF(E77=\"Ja\",'Q_del,j en Q_del,dh'!$D26,0)","v":0},{"$f":"IF(F77=\"Ja\",'Q_del,j en Q_del,dh'!$D26,0)","v":0},{"$f":"IF(G77=\"Ja\",'Q_del,j en Q_del,dh'!$D26,0)","v":0},{"$f":"IF(H77=\"Ja\",'Q_del,j en Q_del,dh'!$D26,0)","v":0},{"$f":"IF(I77=\"Ja\",'Q_del,j en Q_del,dh'!$D26,0)","v":0},{"$f":"IF(J77=\"Ja\",'Q_del,j en Q_del,dh'!$D26,0)","v":0},{"$f":"IF(K77=\"Ja\",'Q_del,j en Q_del,dh'!$D26,0)","v":0},{"$f":"IF(L77=\"Ja\",'Q_del,j en Q_del,dh'!$D26,0)","v":0},{"$f":"IF(M77=\"Ja\",'Q_del,j en Q_del,dh'!$D26,0)","v":0},{"$f":"IF(N77=\"Ja\",'Q_del,j en Q_del,dh'!$D26,0)","v":0},{"$f":"IF(O77=\"Ja\",'Q_del,j en Q_del,dh'!$D26,0)","v":0},{"$f":"IF(P77=\"Ja\",'Q_del,j en Q_del,dh'!$D26,0)","v":0},{"$f":"IF(Q77=\"Ja\",'Q_del,j en Q_del,dh'!$D26,0)","v":0},{"$f":"IF(R77=\"Ja\",'Q_del,j en Q_del,dh'!$D26,0)","v":0},{"$f":"IF(S77=\"Ja\",'Q_del,j en Q_del,dh'!$D26,0)","v":0},{"$f":"IF(T77=\"Ja\",'Q_del,j en Q_del,dh'!$D26,0)","v":0},{"$f":"IF(U77=\"Ja\",'Q_del,j en Q_del,dh'!$D26,0)","v":0},{"$f":"IF(V77=\"Ja\",'Q_del,j en Q_del,dh'!$D26,0)","v":0},{"$f":"IF(W77=\"Ja\",'Q_del,j en Q_del,dh'!$D26,0)","v":0},{"$f":"IF(X77=\"Ja\",'Q_del,j en Q_del,dh'!$D26,0)","v":0},{"$f":"IF(Y77=\"Ja\",'Q_del,j en Q_del,dh'!$D26,0)","v":0},{"$f":"IF(Z77=\"Ja\",'Q_del,j en Q_del,dh'!$D26,0)","v":0},{"$f":"IF(AA77=\"Ja\",'Q_del,j en Q_del,dh'!$D26,0)","v":0},{"$f":"IF(AB77=\"Ja\",'Q_del,j en Q_del,dh'!$D26,0)","v":0},{"$f":"IF(AC77=\"Ja\",'Q_del,j en Q_del,dh'!$D26,0)","v":0},{"$f":"IF(AD77=\"Ja\",'Q_del,j en Q_del,dh'!$D26,0)","v":0},{"$f":"IF(AE77=\"Ja\",'Q_del,j en Q_del,dh'!$D26,0)","v":0},{"$f":"IF(AF77=\"Ja\",'Q_del,j en Q_del,dh'!$D26,0)","v":0},{"$f":"IF(AG77=\"Ja\",'Q_del,j en Q_del,dh'!$D26,0)","v":0},{"$f":"IF(AH77=\"Ja\",'Q_del,j en Q_del,dh'!$D26,0)","v":0},{"$f":"IF(AI77=\"Ja\",'Q_del,j en Q_del,dh'!$D26,0)","v":0},{"$f":"IF(AJ77=\"Ja\",'Q_del,j en Q_del,dh'!$D26,0)","v":0},{"$f":"IF(AK77=\"Ja\",'Q_del,j en Q_del,dh'!$D26,0)","v":0},{"$f":"IF(AL77=\"Ja\",'Q_del,j en Q_del,dh'!$D26,0)","v":0},{"$f":"IF(AM77=\"Ja\",'Q_del,j en Q_del,dh'!$D26,0)","v":0},{"$f":"IF(AN77=\"Ja\",'Q_del,j en Q_del,dh'!$D26,0)","v":0},{"$f":"IF(AO77=\"Ja\",'Q_del,j en Q_del,dh'!$D26,0)","v":0},{"$f":"IF(AP77=\"Ja\",'Q_del,j en Q_del,dh'!$D26,0)","v":0},{"$f":"IF(AQ77=\"Ja\",'Q_del,j en Q_del,dh'!$D26,0)","v":0},{"$f":"IF(AR77=\"Ja\",'Q_del,j en Q_del,dh'!$D26,0)","v":0},{"$f":"IF(AS77=\"Ja\",'Q_del,j en Q_del,dh'!$D26,0)","v":0},{"$f":"IF(AT77=\"Ja\",'Q_del,j en Q_del,dh'!$D26,0)","v":0},{"$f":"IF(AU77=\"Ja\",'Q_del,j en Q_del,dh'!$D26,0)","v":0},{"$f":"IF(AV77=\"Ja\",'Q_del,j en Q_del,dh'!$D26,0)","v":0},{"$f":"IF(AW77=\"Ja\",'Q_del,j en Q_del,dh'!$D26,0)","v":0},{"$f":"IF(AX77=\"Ja\",'Q_del,j en Q_del,dh'!$D26,0)","v":0},{"$f":"IF(AY77=\"Ja\",'Q_del,j en Q_del,dh'!$D26,0)","v":0},{"$f":"IF(AZ77=\"Ja\",'Q_del,j en Q_del,dh'!$D26,0)","v":0},{"$f":"IF(BA77=\"Ja\",'Q_del,j en Q_del,dh'!$D26,0)","v":0}]
["Qdel,l,j [MJ]","warmtevrager 20",20,{"$f":"IF(D78=\"Ja\",'Q_del,j en Q_del,dh'!$D27,0)","v":0},{"$f":"IF(E78=\"Ja\",'Q_del,j en Q_del,dh'!$D27,0)","v":0},{"$f":"IF(F78=\"Ja\",'Q_del,j en Q_del,dh'!$D27,0)","v":0},{"$f":"IF(G78=\"Ja\",'Q_del,j en Q_del,dh'!$D27,0)","v":0},{"$f":"IF(H78=\"Ja\",'Q_del,j en Q_del,dh'!$D27,0)","v":0},{"$f":"IF(I78=\"Ja\",'Q_del,j en Q_del,dh'!$D27,0)","v":0},{"$f":"IF(J78=\"Ja\",'Q_del,j en Q_del,dh'!$D27,0)","v":0},{"$f":"IF(K78=\"Ja\",'Q_del,j en Q_del,dh'!$D27,0)","v":0},{"$f":"IF(L78=\"Ja\",'Q_del,j en Q_del,dh'!$D27,0)","v":0},{"$f":"IF(M78=\"Ja\",'Q_del,j en Q_del,dh'!$D27,0)","v":0},{"$f":"IF(N78=\"Ja\",'Q_del,j en Q_del,dh'!$D27,0)","v":0},{"$f":"IF(O78=\"Ja\",'Q_del,j en Q_del,dh'!$D27,0)","v":0},{"$f":"IF(P78=\"Ja\",'Q_del,j en Q_del,dh'!$D27,0)","v":0},{"$f":"IF(Q78=\"Ja\",'Q_del,j en Q_del,dh'!$D27,0)","v":0},{"$f":"IF(R78=\"Ja\",'Q_del,j en Q_del,dh'!$D27,0)","v":0},{"$f":"IF(S78=\"Ja\",'Q_del,j en Q_del,dh'!$D27,0)","v":0},{"$f":"IF(T78=\"Ja\",'Q_del,j en Q_del,dh'!$D27,0)","v":0},{"$f":"IF(U78=\"Ja\",'Q_del,j en Q_del,dh'!$D27,0)","v":0},{"$f":"IF(V78=\"Ja\",'Q_del,j en Q_del,dh'!$D27,0)","v":0},{"$f":"IF(W78=\"Ja\",'Q_del,j en Q_del,dh'!$D27,0)","v":0},{"$f":"IF(X78=\"Ja\",'Q_del,j en Q_del,dh'!$D27,0)","v":0},{"$f":"IF(Y78=\"Ja\",'Q_del,j en Q_del,dh'!$D27,0)","v":0},{"$f":"IF(Z78=\"Ja\",'Q_del,j en Q_del,dh'!$D27,0)","v":0},{"$f":"IF(AA78=\"Ja\",'Q_del,j en Q_del,dh'!$D27,0)","v":0},{"$f":"IF(AB78=\"Ja\",'Q_del,j en Q_del,dh'!$D27,0)","v":0},{"$f":"IF(AC78=\"Ja\",'Q_del,j en Q_del,dh'!$D27,0)","v":0},{"$f":"IF(AD78=\"Ja\",'Q_del,j en Q_del,dh'!$D27,0)","v":0},{"$f":"IF(AE78=\"Ja\",'Q_del,j en Q_del,dh'!$D27,0)","v":0},{"$f":"IF(AF78=\"Ja\",'Q_del,j en Q_del,dh'!$D27,0)","v":0},{"$f":"IF(AG78=\"Ja\",'Q_del,j en Q_del,dh'!$D27,0)","v":0},{"$f":"IF(AH78=\"Ja\",'Q_del,j en Q_del,dh'!$D27,0)","v":0},{"$f":"IF(AI78=\"Ja\",'Q_del,j en Q_del,dh'!$D27,0)","v":0},{"$f":"IF(AJ78=\"Ja\",'Q_del,j en Q_del,dh'!$D27,0)","v":0},{"$f":"IF(AK78=\"Ja\",'Q_del,j en Q_del,dh'!$D27,0)","v":0},{"$f":"IF(AL78=\"Ja\",'Q_del,j en Q_del,dh'!$D27,0)","v":0},{"$f":"IF(AM78=\"Ja\",'Q_del,j en Q_del,dh'!$D27,0)","v":0},{"$f":"IF(AN78=\"Ja\",'Q_del,j en Q_del,dh'!$D27,0)","v":0},{"$f":"IF(AO78=\"Ja\",'Q_del,j en Q_del,dh'!$D27,0)","v":0},{"$f":"IF(AP78=\"Ja\",'Q_del,j en Q_del,dh'!$D27,0)","v":0},{"$f":"IF(AQ78=\"Ja\",'Q_del,j en Q_del,dh'!$D27,0)","v":0},{"$f":"IF(AR78=\"Ja\",'Q_del,j en Q_del,dh'!$D27,0)","v":0},{"$f":"IF(AS78=\"Ja\",'Q_del,j en Q_del,dh'!$D27,0)","v":0},{"$f":"IF(AT78=\"Ja\",'Q_del,j en Q_del,dh'!$D27,0)","v":0},{"$f":"IF(AU78=\"Ja\",'Q_del,j en Q_del,dh'!$D27,0)","v":0},{"$f":"IF(AV78=\"Ja\",'Q_del,j en Q_del,dh'!$D27,0)","v":0},{"$f":"IF(AW78=\"Ja\",'Q_del,j en Q_del,dh'!$D27,0)","v":0},{"$f":"IF(AX78=\"Ja\",'Q_del,j en Q_del,dh'!$D27,0)","v":0},{"$f":"IF(AY78=\"Ja\",'Q_del,j en Q_del,dh'!$D27,0)","v":0},{"$f":"IF(AZ78=\"Ja\",'Q_del,j en Q_del,dh'!$D27,0)","v":0},{"$f":"IF(BA78=\"Ja\",'Q_del,j en Q_del,dh'!$D27,0)","v":0}]
["Qdel,l,j [MJ]","warmtevrager 21",21,{"$f":"IF(D79=\"Ja\",'Q_del,j en Q_del,dh'!$D28,0)","v":0},{"$f":"IF(E79=\"Ja\",'Q_del,j en Q_del,dh'!$D28,0)","v":0},{"$f":"IF(F79=\"Ja\",'Q_del,j en Q_del,dh'!$D28,0)","v":0},{"$f":"IF(G79=\"Ja\",'Q_del,j en Q_del,dh'!$D28,0)","v":0},{"$f":"IF(H79=\"Ja\",'Q_del,j en Q_del,dh'!$D28,0)","v":0},{"$f":"IF(I79=\"Ja\",'Q_del,j en Q_del,dh'!$D28,0)","v":0},{"$f":"IF(J79=\"Ja\",'Q_del,j en Q_del,dh'!$D28,0)","v":0},{"$f":"IF(K79=\"Ja\",'Q_del,j en Q_del,dh'!$D28,0)","v":0},{"$f":"IF(L79=\"Ja\",'Q_del,j en Q_del,dh'!$D28,0)","v":0},{"$f":"IF(M79=\"Ja\",'Q_del,j en Q_del,dh'!$D28,0)","v":0},{"$f":"IF(N79=\"Ja\",'Q_del,j en Q_del,dh'!$D28,0)","v":0},{"$f":"IF(O79=\"Ja\",'Q_del,j en Q_del,dh'!$D28,0)","v":0},{"$f":"IF(P79=\"Ja\",'Q_del,j en Q_del,dh'!$D28,0)","v":0},{"$f":"IF(Q79=\"Ja\",'Q_del,j en Q_del,dh'!$D28,0)","v":0},{"$f":"IF(R79=\"Ja\",'Q_del,j en Q_del,dh'!$D28,0)","v":0},{"$f":"IF(S79=\"Ja\",'Q_del,j en Q_del,dh'!$D28,0)","v":0},{"$f":"IF(T79=\"Ja\",'Q_del,j en Q_del,dh'!$D28,0)","v":0},{"$f":"IF(U79=\"Ja\",'Q_del,j en Q_del,dh'!$D28,0)","v":0},{"$f":"IF(V79=\"Ja\",'Q_del,j en Q_del,dh'!$D28,0)","v":0},{"$f":"IF(W79=\"Ja\",'Q_del,j en Q_del,dh'!$D28,0)","v":0},{"$f":"IF(X79=\"Ja\",'Q_del,j en Q_del,dh'!$D28,0)","v":0},{"$f":"IF(Y79=\"Ja\",'Q_del,j en Q_del,dh'!$D28,0)","v":0},{"$f":"IF(Z79=\"Ja\",'Q_del,j en Q_del,dh'!$D28,0)","v":0},{"$f":"IF(AA79=\"Ja\",'Q_del,j en Q_del,dh'!$D28,0)","v":0},{"$f":"IF(AB79=\"Ja\",'Q_del,j en Q_del,dh'!$D28,0)","v":0},{"$f":"IF(AC79=\"Ja\",'Q_del,j en Q_del,dh'!$D28,0)","v":0},{"$f":"IF(AD79=\"Ja\",'Q_del,j en Q_del,dh'!$D28,0)","v":0},{"$f":"IF(AE79=\"Ja\",'Q_del,j en Q_del,dh'!$D28,0)","v":0},{"$f":"IF(AF79=\"Ja\",'Q_del,j en Q_del,dh'!$D28,0)","v":0},{"$f":"IF(AG79=\"Ja\",'Q_del,j en Q_del,dh'!$D28,0)","v":0},{"$f":"IF(AH79=\"Ja\",'Q_del,j en Q_del,dh'!$D28,0)","v":0},{"$f":"IF(AI79=\"Ja\",'Q_del,j en Q_del,dh'!$D28,0)","v":0},{"$f":"IF(AJ79=\"Ja\",'Q_del,j en Q_del,dh'!$D28,0)","v":0},{"$f":"IF(AK79=\"Ja\",'Q_del,j en Q_del,dh'!$D28,0)","v":0},{"$f":"IF(AL79=\"Ja\",'Q_del,j en Q_del,dh'!$D28,0)","v":0},{"$f":"IF(AM79=\"Ja\",'Q_del,j en Q_del,dh'!$D28,0)","v":0},{"$f":"IF(AN79=\"Ja\",'Q_del,j en Q_del,dh'!$D28,0)","v":0},{"$f":"IF(AO79=\"Ja\",'Q_del,j en Q_del,dh'!$D28,0)","v":0},{"$f":"IF(AP79=\"Ja\",'Q_del,j en Q_del,dh'!$D28,0)","v":0},{"$f":"IF(AQ79=\"Ja\",'Q_del,j en Q_del,dh'!$D28,0)","v":0},{"$f":"IF(AR79=\"Ja\",'Q_del,j en Q_del,dh'!$D28,0)","v":0},{"$f":"IF(AS79=\"Ja\",'Q_del,j en Q_del,dh'!$D28,0)","v":0},{"$f":"IF(AT79=\"Ja\",'Q_del,j en Q_del,dh'!$D28,0)","v":0},{"$f":"IF(AU79=\"Ja\",'Q_del,j en Q_del,dh'!$D28,0)","v":0},{"$f":"IF(AV79=\"Ja\",'Q_del,j en Q_del,dh'!$D28,0)","v":0},{"$f":"IF(AW79=\"Ja\",'Q_del,j en Q_del,dh'!$D28,0)","v":0},{"$f":"IF(AX79=\"Ja\",'Q_del,j en Q_del,dh'!$D28,0)","v":0},{"$f":"IF(AY79=\"Ja\",'Q_del,j en Q_del,dh'!$D28,0)","v":0},{"$f":"IF(AZ79=\"Ja\",'Q_del,j en Q_del,dh'!$D28,0)","v":0},{"$f":"IF(BA79=\"Ja\",'Q_del,j en Q_del,dh'!$D28,0)","v":0}]
["Qdel,l,j [MJ]","warmtevrager 22",22,{"$f":"IF(D80=\"Ja\",'Q_del,j en Q_del,dh'!$D29,0)","v":0},{"$f":"IF(E80=\"Ja\",'Q_del,j en Q_del,dh'!$D29,0)","v":0},{"$f":"IF(F80=\"Ja\",'Q_del,j en Q_del,dh'!$D29,0)","v":0},{"$f":"IF(G80=\"Ja\",'Q_del,j en Q_del,dh'!$D29,0)","v":0},{"$f":"IF(H80=\"Ja\",'Q_del,j en Q_del,dh'!$D29,0)","v":0},{"$f":"IF(I80=\"Ja\",'Q_del,j en Q_del,dh'!$D29,0)","v":0},{"$f":"IF(J80=\"Ja\",'Q_del,j en Q_del,dh'!$D29,0)","v":0},{"$f":"IF(K80=\"Ja\",'Q_del,j en Q_del,dh'!$D29,0)","v":0},{"$f":"IF(L80=\"Ja\",'Q_del,j en Q_del,dh'!$D29,0)","v":0},{"$f":"IF(M80=\"Ja\",'Q_del,j en Q_del,dh'!$D29,0)","v":0},{"$f":"IF(N80=\"Ja\",'Q_del,j en Q_del,dh'!$D29,0)","v":0},{"$f":"IF(O80=\"Ja\",'Q_del,j en Q_del,dh'!$D29,0)","v":0},{"$f":"IF(P80=\"Ja\",'Q_del,j en Q_del,dh'!$D29,0)","v":0},{"$f":"IF(Q80=\"Ja\",'Q_del,j en Q_del,dh'!$D29,0)","v":0},{"$f":"IF(R80=\"Ja\",'Q_del,j en Q_del,dh'!$D29,0)","v":0},{"$f":"IF(S80=\"Ja\",'Q_del,j en Q_del,dh'!$D29,0)","v":0},{"$f":"IF(T80=\"Ja\",'Q_del,j en Q_del,dh'!$D29,0)","v":0},{"$f":"IF(U80=\"Ja\",'Q_del,j en Q_del,dh'!$D29,0)","v":0},{"$f":"IF(V80=\"Ja\",'Q_del,j en Q_del,dh'!$D29,0)","v":0},{"$f":"IF(W80=\"Ja\",'Q_del,j en Q_del,dh'!$D29,0)","v":0},{"$f":"IF(X80=\"Ja\",'Q_del,j en Q_del,dh'!$D29,0)","v":0},{"$f":"IF(Y80=\"Ja\",'Q_del,j en Q_del,dh'!$D29,0)","v":0},{"$f":"IF(Z80=\"Ja\",'Q_del,j en Q_del,dh'!$D29,0)","v":0},{"$f":"IF(AA80=\"Ja\",'Q_del,j en Q_del,dh'!$D29,0)","v":0},{"$f":"IF(AB80=\"Ja\",'Q_del,j en Q_del,dh'!$D29,0)","v":0},{"$f":"IF(AC80=\"Ja\",'Q_del,j en Q_del,dh'!$D29,0)","v":0},{"$f":"IF(AD80=\"Ja\",'Q_del,j en Q_del,dh'!$D29,0)","v":0},{"$f":"IF(AE80=\"Ja\",'Q_del,j en Q_del,dh'!$D29,0)","v":0},{"$f":"IF(AF80=\"Ja\",'Q_del,j en Q_del,dh'!$D29,0)","v":0},{"$f":"IF(AG80=\"Ja\",'Q_del,j en Q_del,dh'!$D29,0)","v":0},{"$f":"IF(AH80=\"Ja\",'Q_del,j en Q_del,dh'!$D29,0)","v":0},{"$f":"IF(AI80=\"Ja\",'Q_del,j en Q_del,dh'!$D29,0)","v":0},{"$f":"IF(AJ80=\"Ja\",'Q_del,j en Q_del,dh'!$D29,0)","v":0},{"$f":"IF(AK80=\"Ja\",'Q_del,j en Q_del,dh'!$D29,0)","v":0},{"$f":"IF(AL80=\"Ja\",'Q_del,j en Q_del,dh'!$D29,0)","v":0},{"$f":"IF(AM80=\"Ja\",'Q_del,j en Q_del,dh'!$D29,0)","v":0},{"$f":"IF(AN80=\"Ja\",'Q_del,j en Q_del,dh'!$D29,0)","v":0},{"$f":"IF(AO80=\"Ja\",'Q_del,j en Q_del,dh'!$D29,0)","v":0},{"$f":"IF(AP80=\"Ja\",'Q_del,j en Q_del,dh'!$D29,0)","v":0},{"$f":"IF(AQ80=\"Ja\",'Q_del,j en Q_del,dh'!$D29,0)","v":0},{"$f":"IF(AR80=\"Ja\",'Q_del,j en Q_del,dh'!$D29,0)","v":0},{"$f":"IF(AS80=\"Ja\",'Q_del,j en Q_del,dh'!$D29,0)","v":0},{"$f":"IF(AT80=\"Ja\",'Q_del,j en Q_del,dh'!$D29,0)","v":0},{"$f":"IF(AU80=\"Ja\",'Q_del,j en Q_del,dh'!$D29,0)","v":0},{"$f":"IF(AV80=\"Ja\",'Q_del,j en Q_del,dh'!$D29,0)","v":0},{"$f":"IF(AW80=\"Ja\",'Q_del,j en Q_del,dh'!$D29,0)","v":0},{"$f":"IF(AX80=\"Ja\",'Q_del,j en Q_del,dh'!$D29,0)","v":0},{"$f":"IF(AY80=\"Ja\",'Q_del,j en Q_del,dh'!$D29,0)","v":0},{"$f":"IF(AZ80=\"Ja\",'Q_del,j en Q_del,dh'!$D29,0)","v":0},{"$f":"IF(BA80=\"Ja\",'Q_del,j en Q_del,dh'!$D29,0)","v":0}]
["Qdel,l,j [MJ]","warmtevrager 23",23,{"$f":"IF(D81=\"Ja\",'Q_del,j en Q_del,dh'!$D30,0)","v":0},{"$f":"IF(E81=\"Ja\",'Q_del,j en Q_del,dh'!$D30,0)","v":0},{"$f":"IF(F81=\"Ja\",'Q_del,j en Q_del,dh'!$D30,0)","v":0},{"$f":"IF(G81=\"Ja\",'Q_del,j en Q_del,dh'!$D30,0)","v":0},{"$f":"IF(H81=\"Ja\",'Q_del,j en Q_del,dh'!$D30,0)","v":0},{"$f":"IF(I81=\"Ja\",'Q_del,j en Q_del,dh'!$D30,0)","v":0},{"$f":"IF(J81=\"Ja\",'Q_del,j en Q_del,dh'!$D30,0)","v":0},{"$f":"IF(K81=\"Ja\",'Q_del,j en Q_del,dh'!$D30,0)","v":0},{"$f":"IF(L81=\"Ja\",'Q_del,j en Q_del,dh'!$D30,0)","v":0},{"$f":"IF(M81=\"Ja\",'Q_del,j en Q_del,dh'!$D30,0)","v":0},{"$f":"IF(N81=\"Ja\",'Q_del,j en Q_del,dh'!$D30,0)","v":0},{"$f":"IF(O81=\"Ja\",'Q_del,j en Q_del,dh'!$D30,0)","v":0},{"$f":"IF(P81=\"Ja\",'Q_del,j en Q_del,dh'!$D30,0)","v":0},{"$f":"IF(Q81=\"Ja\",'Q_del,j en Q_del,dh'!$D30,0)","v":0},{"$f":"IF(R81=\"Ja\",'Q_del,j en Q_del,dh'!$D30,0)","v":0},{"$f":"IF(S81=\"Ja\",'Q_del,j en Q_del,dh'!$D30,0)","v":0},{"$f":"IF(T81=\"Ja\",'Q_del,j en Q_del,dh'!$D30,0)","v":0},{"$f":"IF(U81=\"Ja\",'Q_del,j en Q_del,dh'!$D30,0)","v":0},{"$f":"IF(V81=\"Ja\",'Q_del,j en Q_del,dh'!$D30,0)","v":0},{"$f":"IF(W81=\"Ja\",'Q_del,j en Q_del,dh'!$D30,0)","v":0},{"$f":"IF(X81=\"Ja\",'Q_del,j en Q_del,dh'!$D30,0)","v":0},{"$f":"IF(Y81=\"Ja\",'Q_del,j en Q_del,dh'!$D30,0)","v":0},{"$f":"IF(Z81=\"Ja\",'Q_del,j en Q_del,dh'!$D30,0)","v":0},{"$f":"IF(AA81=\"Ja\",'Q_del,j en Q_del,dh'!$D30,0)","v":0},{"$f":"IF(AB81=\"Ja\",'Q_del,j en Q_del,dh'!$D30,0)","v":0},{"$f":"IF(AC81=\"Ja\",'Q_del,j en Q_del,dh'!$D30,0)","v":0},{"$f":"IF(AD81=\"Ja\",'Q_del,j en Q_del,dh'!$D30,0)","v":0},{"$f":"IF(AE81=\"Ja\",'Q_del,j en Q_del,dh'!$D30,0)","v":0},{"$f":"IF(AF81=\"Ja\",'Q_del,j en Q_del,dh'!$D30,0)","v":0},{"$f":"IF(AG81=\"Ja\",'Q_del,j en Q_del,dh'!$D30,0)","v":0},{"$f":"IF(AH81=\"Ja\",'Q_del,j en Q_del,dh'!$D30,0)","v":0},{"$f":"IF(AI81=\"Ja\",'Q_del,j en Q_del,dh'!$D30,0)","v":0},{"$f":"IF(AJ81=\"Ja\",'Q_del,j en Q_del,dh'!$D30,0)","v":0},{"$f":"IF(AK81=\"Ja\",'Q_del,j en Q_del,dh'!$D30,0)","v":0},{"$f":"IF(AL81=\"Ja\",'Q_del,j en Q_del,dh'!$D30,0)","v":0},{"$f":"IF(AM81=\"Ja\",'Q_del,j en Q_del,dh'!$D30,0)","v":0},{"$f":"IF(AN81=\"Ja\",'Q_del,j en Q_del,dh'!$D30,0)","v":0},{"$f":"IF(AO81=\"Ja\",'Q_del,j en Q_del,dh'!$D30,0)","v":0},{"$f":"IF(AP81=\"Ja\",'Q_del,j en Q_del,dh'!$D30,0)","v":0},{"$f":"IF(AQ81=\"Ja\",'Q_del,j en Q_del,dh'!$D30,0)","v":0},{"$f":"IF(AR81=\"Ja\",'Q_del,j en Q_del,dh'!$D30,0)","v":0},{"$f":"IF(AS81=\"Ja\",'Q_del,j en Q_del,dh'!$D30,0)","v":0},{"$f":"IF(AT81=\"Ja\",'Q_del,j en Q_del,dh'!$D30,0)","v":0},{"$f":"IF(AU81=\"Ja\",'Q_del,j en Q_del,dh'!$D30,0)","v":0},{"$f":"IF(AV81=\"Ja\",'Q_del,j en Q_del,dh'!$D30,0)","v":0},{"$f":"IF(AW81=\"Ja\",'Q_del,j en Q_del,dh'!$D30,0)","v":0},{"$f":"IF(AX81=\"Ja\",'Q_del,j en Q_del,dh'!$D30,0)","v":0},{"$f":"IF(AY81=\"Ja\",'Q_del,j en Q_del,dh'!$D30,0)","v":0},{"$f":"IF(AZ81=\"Ja\",'Q_del,j en Q_del,dh'!$D30,0)","v":0},{"$f":"IF(BA81=\"Ja\",'Q_del,j en Q_del,dh'!$D30,0)","v":0}]
["Qdel,l,j [MJ]","warmtevrager 24",24,{"$f":"IF(D82=\"Ja\",'Q_del,j en Q_del,dh'!$D31,0)","v":0},{"$f":"IF(E82=\"Ja\",'Q_del,j en Q_del,dh'!$D31,0)","v":0},{"$f":"IF(F82=\"Ja\",'Q_del,j en Q_del,dh'!$D31,0)","v":0},{"$f":"IF(G82=\"Ja\",'Q_del,j en Q_del,dh'!$D31,0)","v":0},{"$f":"IF(H82=\"Ja\",'Q_del,j en Q_del,dh'!$D31,0)","v":0},{"$f":"IF(I82=\"Ja\",'Q_del,j en Q_del,dh'!$D31,0)","v":0},{"$f":"IF(J82=\"Ja\",'Q_del,j en Q_del,dh'!$D31,0)","v":0},{"$f":"IF(K82=\"Ja\",'Q_del,j en Q_del,dh'!$D31,0)","v":0},{"$f":"IF(L82=\"Ja\",'Q_del,j en Q_del,dh'!$D31,0)","v":0},{"$f":"IF(M82=\"Ja\",'Q_del,j en Q_del,dh'!$D31,0)","v":0},{"$f":"IF(N82=\"Ja\",'Q_del,j en Q_del,dh'!$D31,0)","v":0},{"$f":"IF(O82=\"Ja\",'Q_del,j en Q_del,dh'!$D31,0)","v":0},{"$f":"IF(P82=\"Ja\",'Q_del,j en Q_del,dh'!$D31,0)","v":0},{"$f":"IF(Q82=\"Ja\",'Q_del,j en Q_del,dh'!$D31,0)","v":0},{"$f":"IF(R82=\"Ja\",'Q_del,j en Q_del,dh'!$D31,0)","v":0},{"$f":"IF(S82=\"Ja\",'Q_del,j en Q_del,dh'!$D31,0)","v":0},{"$f":"IF(T82=\"Ja\",'Q_del,j en Q_del,dh'!$D31,0)","v":0},{"$f":"IF(U82=\"Ja\",'Q_del,j en Q_del,dh'!$D31,0)","v":0},{"$f":"IF(V82=\"Ja\",'Q_del,j en Q_del,dh'!$D31,0)","v":0},{"$f":"IF(W82=\"Ja\",'Q_del,j en Q_del,dh'!$D31,0)","v":0},{"$f":"IF(X82=\"Ja\",'Q_del,j en Q_del,dh'!$D31,0)","v":0},{"$f":"IF(Y82=\"Ja\",'Q_del,j en Q_del,dh'!$D31,0)","v":0},{"$f":"IF(Z82=\"Ja\",'Q_del,j en Q_del,dh'!$D31,0)","v":0},{"$f":"IF(AA82=\"Ja\",'Q_del,j en Q_del,dh'!$D31,0)","v":0},{"$f":"IF(AB82=\"Ja\",'Q_del,j en Q_del,dh'!$D31,0)","v":0},{"$f":"IF(AC82=\"Ja\",'Q_del,j en Q_del,dh'!$D31,0)","v":0},{"$f":"IF(AD82=\"Ja\",'Q_del,j en Q_del,dh'!$D31,0)","v":0},{"$f":"IF(AE82=\"Ja\",'Q_del,j en Q_del,dh'!$D31,0)","v":0},{"$f":"IF(AF82=\"Ja\",'Q_del,j en Q_del,dh'!$D31,0)","v":0},{"$f":"IF(AG82=\"Ja\",'Q_del,j en Q_del,dh'!$D31,0)","v":0},{"$f":"IF(AH82=\"Ja\",'Q_del,j en Q_del,dh'!$D31,0)","v":0},{"$f":"IF(AI82=\"Ja\",'Q_del,j en Q_del,dh'!$D31,0)","v":0},{"$f":"IF(AJ82=\"Ja\",'Q_del,j en Q_del,dh'!$D31,0)","v":0},{"$f":"IF(AK82=\"Ja\",'Q_del,j en Q_del,dh'!$D31,0)","v":0},{"$f":"IF(AL82=\"Ja\",'Q_del,j en Q_del,dh'!$D31,0)","v":0},{"$f":"IF(AM82=\"Ja\",'Q_del,j en Q_del,dh'!$D31,0)","v":0},{"$f":"IF(AN82=\"Ja\",'Q_del,j en Q_del,dh'!$D31,0)","v":0},{"$f":"IF(AO82=\"Ja\",'Q_del,j en Q_del,dh'!$D31,0)","v":0},{"$f":"IF(AP82=\"Ja\",'Q_del,j en Q_del,dh'!$D31,0)","v":0},{"$f":"IF(AQ82=\"Ja\",'Q_del,j en Q_del,dh'!$D31,0)","v":0},{"$f":"IF(AR82=\"Ja\",'Q_del,j en Q_del,dh'!$D31,0)","v":0},{"$f":"IF(AS82=\"Ja\",'Q_del,j en Q_del,dh'!$D31,0)","v":0},{"$f":"IF(AT82=\"Ja\",'Q_del,j en Q_del,dh'!$D31,0)","v":0},{"$f":"IF(AU82=\"Ja\",'Q_del,j en Q_del,dh'!$D31,0)","v":0},{"$f":"IF(AV82=\"Ja\",'Q_del,j en Q_del,dh'!$D31,0)","v":0},{"$f":"IF(AW82=\"Ja\",'Q_del,j en Q_del,dh'!$D31,0)","v":0},{"$f":"IF(AX82=\"Ja\",'Q_del,j en Q_del,dh'!$D31,0)","v":0},{"$f":"IF(AY82=\"Ja\",'Q_del,j en Q_del,dh'!$D31,0)","v":0},{"$f":"IF(AZ82=\"Ja\",'Q_del,j en Q_del,dh'!$D31,0)","v":0},{"$f":"IF(BA82=\"Ja\",'Q_del,j en Q_del,dh'!$D31,0)","v":0}]
["Qdel,l,j [MJ]","warmtevrager 25",25,{"$f":"IF(D83=\"Ja\",'Q_del,j en Q_del,dh'!$D32,0)","v":0},{"$f":"IF(E83=\"Ja\",'Q_del,j en Q_del,dh'!$D32,0)","v":0},{"$f":"IF(F83=\"Ja\",'Q_del,j en Q_del,dh'!$D32,0)","v":0},{"$f":"IF(G83=\"Ja\",'Q_del,j en Q_del,dh'!$D32,0)","v":0},{"$f":"IF(H83=\"Ja\",'Q_del,j en Q_del,dh'!$D32,0)","v":0},{"$f":"IF(I83=\"Ja\",'Q_del,j en Q_del,dh'!$D32,0)","v":0},{"$f":"IF(J83=\"Ja\",'Q_del,j en Q_del,dh'!$D32,0)","v":0},{"$f":"IF(K83=\"Ja\",'Q_del,j en Q_del,dh'!$D32,0)","v":0},{"$f":"IF(L83=\"Ja\",'Q_del,j en Q_del,dh'!$D32,0)","v":0},{"$f":"IF(M83=\"Ja\",'Q_del,j en Q_del,dh'!$D32,0)","v":0},{"$f":"IF(N83=\"Ja\",'Q_del,j en Q_del,dh'!$D32,0)","v":0},{"$f":"IF(O83=\"Ja\",'Q_del,j en Q_del,dh'!$D32,0)","v":0},{"$f":"IF(P83=\"Ja\",'Q_del,j en Q_del,dh'!$D32,0)","v":0},{"$f":"IF(Q83=\"Ja\",'Q_del,j en Q_del,dh'!$D32,0)","v":0},{"$f":"IF(R83=\"Ja\",'Q_del,j en Q_del,dh'!$D32,0)","v":0},{"$f":"IF(S83=\"Ja\",'Q_del,j en Q_del,dh'!$D32,0)","v":0},{"$f":"IF(T83=\"Ja\",'Q_del,j en Q_del,dh'!$D32,0)","v":0},{"$f":"IF(U83=\"Ja\",'Q_del,j en Q_del,dh'!$D32,0)","v":0},{"$f":"IF(V83=\"Ja\",'Q_del,j en Q_del,dh'!$D32,0)","v":0},{"$f":"IF(W83=\"Ja\",'Q_del,j en Q_del,dh'!$D32,0)","v":0},{"$f":"IF(X83=\"Ja\",'Q_del,j en Q_del,dh'!$D32,0)","v":0},{"$f":"IF(Y83=\"Ja\",'Q_del,j en Q_del,dh'!$D32,0)","v":0},{"$f":"IF(Z83=\"Ja\",'Q_del,j en Q_del,dh'!$D32,0)","v":0},{"$f":"IF(AA83=\"Ja\",'Q_del,j en Q_del,dh'!$D32,0)","v":0},{"$f":"IF(AB83=\"Ja\",'Q_del,j en Q_del,dh'!$D32,0)","v":0},{"$f":"IF(AC83=\"Ja\",'Q_del,j en Q_del,dh'!$D32,0)","v":0},{"$f":"IF(AD83=\"Ja\",'Q_del,j en Q_del,dh'!$D32,0)","v":0},{"$f":"IF(AE83=\"Ja\",'Q_del,j en Q_del,dh'!$D32,0)","v":0},{"$f":"IF(AF83=\"Ja\",'Q_del,j en Q_del,dh'!$D32,0)","v":0},{"$f":"IF(AG83=\"Ja\",'Q_del,j en Q_del,dh'!$D32,0)","v":0},{"$f":"IF(AH83=\"Ja\",'Q_del,j en Q_del,dh'!$D32,0)","v":0},{"$f":"IF(AI83=\"Ja\",'Q_del,j en Q_del,dh'!$D32,0)","v":0},{"$f":"IF(AJ83=\"Ja\",'Q_del,j en Q_del,dh'!$D32,0)","v":0},{"$f":"IF(AK83=\"Ja\",'Q_del,j en Q_del,dh'!$D32,0)","v":0},{"$f":"IF(AL83=\"Ja\",'Q_del,j en Q_del,dh'!$D32,0)","v":0},{"$f":"IF(AM83=\"Ja\",'Q_del,j en Q_del,dh'!$D32,0)","v":0},{"$f":"IF(AN83=\"Ja\",'Q_del,j en Q_del,dh'!$D32,0)","v":0},{"$f":"IF(AO83=\"Ja\",'Q_del,j en Q_del,dh'!$D32,0)","v":0},{"$f":"IF(AP83=\"Ja\",'Q_del,j en Q_del,dh'!$D32,0)","v":0},{"$f":"IF(AQ83=\"Ja\",'Q_del,j en Q_del,dh'!$D32,0)","v":0},{"$f":"IF(AR83=\"Ja\",'Q_del,j en Q_del,dh'!$D32,0)","v":0},{"$f":"IF(AS83=\"Ja\",'Q_del,j en Q_del,dh'!$D32,0)","v":0},{"$f":"IF(AT83=\"Ja\",'Q_del,j en Q_del,dh'!$D32,0)","v":0},{"$f":"IF(AU83=\"Ja\",'Q_del,j en Q_del,dh'!$D32,0)","v":0},{"$f":"IF(AV83=\"Ja\",'Q_del,j en Q_del,dh'!$D32,0)","v":0},{"$f":"IF(AW83=\"Ja\",'Q_del,j en Q_del,dh'!$D32,0)","v":0},{"$f":"IF(AX83=\"Ja\",'Q_del,j en Q_del,dh'!$D32,0)","v":0},{"$f":"IF(AY83=\"Ja\",'Q_del,j en Q_del,dh'!$D32,0)","v":0},{"$f":"IF(AZ83=\"Ja\",'Q_del,j en Q_del,dh'!$D32,0)","v":0},{"$f":"IF(BA83=\"Ja\",'Q_del,j en Q_del,dh'!$D32,0)","v":0}]
["Qdel,l,j [MJ]","warmtevrager 26",26,{"$f":"IF(D84=\"Ja\",'Q_del,j en Q_del,dh'!$D33,0)","v":0},{"$f":"IF(E84=\"Ja\",'Q_del,j en Q_del,dh'!$D33,0)","v":0},{"$f":"IF(F84=\"Ja\",'Q_del,j en Q_del,dh'!$D33,0)","v":0},{"$f":"IF(G84=\"Ja\",'Q_del,j en Q_del,dh'!$D33,0)","v":0},{"$f":"IF(H84=\"Ja\",'Q_del,j en Q_del,dh'!$D33,0)","v":0},{"$f":"IF(I84=\"Ja\",'Q_del,j en Q_del,dh'!$D33,0)","v":0},{"$f":"IF(J84=\"Ja\",'Q_del,j en Q_del,dh'!$D33,0)","v":0},{"$f":"IF(K84=\"Ja\",'Q_del,j en Q_del,dh'!$D33,0)","v":0},{"$f":"IF(L84=\"Ja\",'Q_del,j en Q_del,dh'!$D33,0)","v":0},{"$f":"IF(M84=\"Ja\",'Q_del,j en Q_del,dh'!$D33,0)","v":0},{"$f":"IF(N84=\"Ja\",'Q_del,j en Q_del,dh'!$D33,0)","v":0},{"$f":"IF(O84=\"Ja\",'Q_del,j en Q_del,dh'!$D33,0)","v":0},{"$f":"IF(P84=\"Ja\",'Q_del,j en Q_del,dh'!$D33,0)","v":0},{"$f":"IF(Q84=\"Ja\",'Q_del,j en Q_del,dh'!$D33,0)","v":0},{"$f":"IF(R84=\"Ja\",'Q_del,j en Q_del,dh'!$D33,0)","v":0},{"$f":"IF(S84=\"Ja\",'Q_del,j en Q_del,dh'!$D33,0)","v":0},{"$f":"IF(T84=\"Ja\",'Q_del,j en Q_del,dh'!$D33,0)","v":0},{"$f":"IF(U84=\"Ja\",'Q_del,j en Q_del,dh'!$D33,0)","v":0},{"$f":"IF(V84=\"Ja\",'Q_del,j en Q_del,dh'!$D33,0)","v":0},{"$f":"IF(W84=\"Ja\",'Q_del,j en Q_del,dh'!$D33,0)","v":0},{"$f":"IF(X84=\"Ja\",'Q_del,j en Q_del,dh'!$D33,0)","v":0},{"$f":"IF(Y84=\"Ja\",'Q_del,j en Q_del,dh'!$D33,0)","v":0},{"$f":"IF(Z84=\"Ja\",'Q_del,j en Q_del,dh'!$D33,0)","v":0},{"$f":"IF(AA84=\"Ja\",'Q_del,j en Q_del,dh'!$D33,0)","v":0},{"$f":"IF(AB84=\"Ja\",'Q_del,j en Q_del,dh'!$D33,0)","v":0},{"$f":"IF(AC84=\"Ja\",'Q_del,j en Q_del,dh'!$D33,0)","v":0},{"$f":"IF(AD84=\"Ja\",'Q_del,j en Q_del,dh'!$D33,0)","v":0},{"$f":"IF(AE84=\"Ja\",'Q_del,j en Q_del,dh'!$D33,0)","v":0},{"$f":"IF(AF84=\"Ja\",'Q_del,j en Q_del,dh'!$D33,0)","v":0},{"$f":"IF(AG84=\"Ja\",'Q_del,j en Q_del,dh'!$D33,0)","v":0},{"$f":"IF(AH84=\"Ja\",'Q_del,j en Q_del,dh'!$D33,0)","v":0},{"$f":"IF(AI84=\"Ja\",'Q_del,j en Q_del,dh'!$D33,0)","v":0},{"$f":"IF(AJ84=\"Ja\",'Q_del,j en Q_del,dh'!$D33,0)","v":0},{"$f":"IF(AK84=\"Ja\",'Q_del,j en Q_del,dh'!$D33,0)","v":0},{"$f":"IF(AL84=\"Ja\",'Q_del,j en Q_del,dh'!$D33,0)","v":0},{"$f":"IF(AM84=\"Ja\",'Q_del,j en Q_del,dh'!$D33,0)","v":0},{"$f":"IF(AN84=\"Ja\",'Q_del,j en Q_del,dh'!$D33,0)","v":0},{"$f":"IF(AO84=\"Ja\",'Q_del,j en Q_del,dh'!$D33,0)","v":0},{"$f":"IF(AP84=\"Ja\",'Q_del,j en Q_del,dh'!$D33,0)","v":0},{"$f":"IF(AQ84=\"Ja\",'Q_del,j en Q_del,dh'!$D33,0)","v":0},{"$f":"IF(AR84=\"Ja\",'Q_del,j en Q_del,dh'!$D33,0)","v":0},{"$f":"IF(AS84=\"Ja\",'Q_del,j en Q_del,dh'!$D33,0)","v":0},{"$f":"IF(AT84=\"Ja\",'Q_del,j en Q_del,dh'!$D33,0)","v":0},{"$f":"IF(AU84=\"Ja\",'Q_del,j en Q_del,dh'!$D33,0)","v":0},{"$f":"IF(AV84=\"Ja\",'Q_del,j en Q_del,dh'!$D33,0)","v":0},{"$f":"IF(AW84=\"Ja\",'Q_del,j en Q_del,dh'!$D33,0)","v":0},{"$f":"IF(AX84=\"Ja\",'Q_del,j en Q_del,dh'!$D33,0)","v":0},{"$f":"IF(AY84=\"Ja\",'Q_del,j en Q_del,dh'!$D33,0)","v":0},{"$f":"IF(AZ84=\"Ja\",'Q_del,j en Q_del,dh'!$D33,0)","v":0},{"$f":"IF(BA84=\"Ja\",'Q_del,j en Q_del,dh'!$D33,0)","v":0}]
["Qdel,l,j [MJ]","warmtevrager 27",27,{"$f":"IF(D85=\"Ja\",'Q_del,j en Q_del,dh'!$D34,0)","v":0},{"$f":"IF(E85=\"Ja\",'Q_del,j en Q_del,dh'!$D34,0)","v":0},{"$f":"IF(F85=\"Ja\",'Q_del,j en Q_del,dh'!$D34,0)","v":0},{"$f":"IF(G85=\"Ja\",'Q_del,j en Q_del,dh'!$D34,0)","v":0},{"$f":"IF(H85=\"Ja\",'Q_del,j en Q_del,dh'!$D34,0)","v":0},{"$f":"IF(I85=\"Ja\",'Q_del,j en Q_del,dh'!$D34,0)","v":0},{"$f":"IF(J85=\"Ja\",'Q_del,j en Q_del,dh'!$D34,0)","v":0},{"$f":"IF(K85=\"Ja\",'Q_del,j en Q_del,dh'!$D34,0)","v":0},{"$f":"IF(L85=\"Ja\",'Q_del,j en Q_del,dh'!$D34,0)","v":0},{"$f":"IF(M85=\"Ja\",'Q_del,j en Q_del,dh'!$D34,0)","v":0},{"$f":"IF(N85=\"Ja\",'Q_del,j en Q_del,dh'!$D34,0)","v":0},{"$f":"IF(O85=\"Ja\",'Q_del,j en Q_del,dh'!$D34,0)","v":0},{"$f":"IF(P85=\"Ja\",'Q_del,j en Q_del,dh'!$D34,0)","v":0},{"$f":"IF(Q85=\"Ja\",'Q_del,j en Q_del,dh'!$D34,0)","v":0},{"$f":"IF(R85=\"Ja\",'Q_del,j en Q_del,dh'!$D34,0)","v":0},{"$f":"IF(S85=\"Ja\",'Q_del,j en Q_del,dh'!$D34,0)","v":0},{"$f":"IF(T85=\"Ja\",'Q_del,j en Q_del,dh'!$D34,0)","v":0},{"$f":"IF(U85=\"Ja\",'Q_del,j en Q_del,dh'!$D34,0)","v":0},{"$f":"IF(V85=\"Ja\",'Q_del,j en Q_del,dh'!$D34,0)","v":0},{"$f":"IF(W85=\"Ja\",'Q_del,j en Q_del,dh'!$D34,0)","v":0},{"$f":"IF(X85=\"Ja\",'Q_del,j en Q_del,dh'!$D34,0)","v":0},{"$f":"IF(Y85=\"Ja\",'Q_del,j en Q_del,dh'!$D34,0)","v":0},{"$f":"IF(Z85=\"Ja\",'Q_del,j en Q_del,dh'!$D34,0)","v":0},{"$f":"IF(AA85=\"Ja\",'Q_del,j en Q_del,dh'!$D34,0)","v":0},{"$f":"IF(AB85=\"Ja\",'Q_del,j en Q_del,dh'!$D34,0)","v":0},{"$f":"IF(AC85=\"Ja\",'Q_del,j en Q_del,dh'!$D34,0)","v":0},{"$f":"IF(AD85=\"Ja\",'Q_del,j en Q_del,dh'!$D34,0)","v":0},{"$f":"IF(AE85=\"Ja\",'Q_del,j en Q_del,dh'!$D34,0)","v":0},{"$f":"IF(AF85=\"Ja\",'Q_del,j en Q_del,dh'!$D34,0)","v":0},{"$f":"IF(AG85=\"Ja\",'Q_del,j en Q_del,dh'!$D34,0)","v":0},{"$f":"IF(AH85=\"Ja\",'Q_del,j en Q_del,dh'!$D34,0)","v":0},{"$f":"IF(AI85=\"Ja\",'Q_del,j en Q_del,dh'!$D34,0)","v":0},{"$f":"IF(AJ85=\"Ja\",'Q_del,j en Q_del,dh'!$D34,0)","v":0},{"$f":"IF(AK85=\"Ja\",'Q_del,j en Q_del,dh'!$D34,0)","v":0},{"$f":"IF(AL85=\"Ja\",'Q_del,j en Q_del,dh'!$D34,0)","v":0},{"$f":"IF(AM85=\"Ja\",'Q_del,j en Q_del,dh'!$D34,0)","v":0},{"$f":"IF(AN85=\"Ja\",'Q_del,j en Q_del,dh'!$D34,0)","v":0},{"$f":"IF(AO85=\"Ja\",'Q_del,j en Q_del,dh'!$D34,0)","v":0},{"$f":"IF(AP85=\"Ja\",'Q_del,j en Q_del,dh'!$D34,0)","v":0},{"$f":"IF(AQ85=\"Ja\",'Q_del,j en Q_del,dh'!$D34,0)","v":0},{"$f":"IF(AR85=\"Ja\",'Q_del,j en Q_del,dh'!$D34,0)","v":0},{"$f":"IF(AS85=\"Ja\",'Q_del,j en Q_del,dh'!$D34,0)","v":0},{"$f":"IF(AT85=\"Ja\",'Q_del,j en Q_del,dh'!$D34,0)","v":0},{"$f":"IF(AU85=\"Ja\",'Q_del,j en Q_del,dh'!$D34,0)","v":0},{"$f":"IF(AV85=\"Ja\",'Q_del,j en Q_del,dh'!$D34,0)","v":0},{"$f":"IF(AW85=\"Ja\",'Q_del,j en Q_del,dh'!$D34,0)","v":0},{"$f":"IF(AX85=\"Ja\",'Q_del,j en Q_del,dh'!$D34,0)","v":0},{"$f":"IF(AY85=\"Ja\",'Q_del,j en Q_del,dh'!$D34,0)","v":0},{"$f":"IF(AZ85=\"Ja\",'Q_del,j en Q_del,dh'!$D34,0)","v":0},{"$f":"IF(BA85=\"Ja\",'Q_del,j en Q_del,dh'!$D34,0)","v":0}]
["Qdel,l,j [MJ]","warmtevrager 28",28,{"$f":"IF(D86=\"Ja\",'Q_del,j en Q_del,dh'!$D35,0)","v":0},{"$f":"IF(E86=\"Ja\",'Q_del,j en Q_del,dh'!$D35,0)","v":0},{"$f":"IF(F86=\"Ja\",'Q_del,j en Q_del,dh'!$D35,0)","v":0},{"$f":"IF(G86=\"Ja\",'Q_del,j en Q_del,dh'!$D35,0)","v":0},{"$f":"IF(H86=\"Ja\",'Q_del,j en Q_del,dh'!$D35,0)","v":0},{"$f":"IF(I86=\"Ja\",'Q_del,j en Q_del,dh'!$D35,0)","v":0},{"$f":"IF(J86=\"Ja\",'Q_del,j en Q_del,dh'!$D35,0)","v":0},{"$f":"IF(K86=\"Ja\",'Q_del,j en Q_del,dh'!$D35,0)","v":0},{"$f":"IF(L86=\"Ja\",'Q_del,j en Q_del,dh'!$D35,0)","v":0},{"$f":"IF(M86=\"Ja\",'Q_del,j en Q_del,dh'!$D35,0)","v":0},{"$f":"IF(N86=\"Ja\",'Q_del,j en Q_del,dh'!$D35,0)","v":0},{"$f":"IF(O86=\"Ja\",'Q_del,j en Q_del,dh'!$D35,0)","v":0},{"$f":"IF(P86=\"Ja\",'Q_del,j en Q_del,dh'!$D35,0)","v":0},{"$f":"IF(Q86=\"Ja\",'Q_del,j en Q_del,dh'!$D35,0)","v":0},{"$f":"IF(R86=\"Ja\",'Q_del,j en Q_del,dh'!$D35,0)","v":0},{"$f":"IF(S86=\"Ja\",'Q_del,j en Q_del,dh'!$D35,0)","v":0},{"$f":"IF(T86=\"Ja\",'Q_del,j en Q_del,dh'!$D35,0)","v":0},{"$f":"IF(U86=\"Ja\",'Q_del,j en Q_del,dh'!$D35,0)","v":0},{"$f":"IF(V86=\"Ja\",'Q_del,j en Q_del,dh'!$D35,0)","v":0},{"$f":"IF(W86=\"Ja\",'Q_del,j en Q_del,dh'!$D35,0)","v":0},{"$f":"IF(X86=\"Ja\",'Q_del,j en Q_del,dh'!$D35,0)","v":0},{"$f":"IF(Y86=\"Ja\",'Q_del,j en Q_del,dh'!$D35,0)","v":0},{"$f":"IF(Z86=\"Ja\",'Q_del,j en Q_del,dh'!$D35,0)","v":0},{"$f":"IF(AA86=\"Ja\",'Q_del,j en Q_del,dh'!$D35,0)","v":0},{"$f":"IF(AB86=\"Ja\",'Q_del,j en Q_del,dh'!$D35,0)","v":0},{"$f":"IF(AC86=\"Ja\",'Q_del,j en Q_del,dh'!$D35,0)","v":0},{"$f":"IF(AD86=\"Ja\",'Q_del,j en Q_del,dh'!$D35,0)","v":0},{"$f":"IF(AE86=\"Ja\",'Q_del,j en Q_del,dh'!$D35,0)","v":0},{"$f":"IF(AF86=\"Ja\",'Q_del,j en Q_del,dh'!$D35,0)","v":0},{"$f":"IF(AG86=\"Ja\",'Q_del,j en Q_del,dh'!$D35,0)","v":0},{"$f":"IF(AH86=\"Ja\",'Q_del,j en Q_del,dh'!$D35,0)","v":0},{"$f":"IF(AI86=\"Ja\",'Q_del,j en Q_del,dh'!$D35,0)","v":0},{"$f":"IF(AJ86=\"Ja\",'Q_del,j en Q_del,dh'!$D35,0)","v":0},{"$f":"IF(AK86=\"Ja\",'Q_del,j en Q_del,dh'!$D35,0)","v":0},{"$f":"IF(AL86=\"Ja\",'Q_del,j en Q_del,dh'!$D35,0)","v":0},{"$f":"IF(AM86=\"Ja\",'Q_del,j en Q_del,dh'!$D35,0)","v":0},{"$f":"IF(AN86=\"Ja\",'Q_del,j en Q_del,dh'!$D35,0)","v":0},{"$f":"IF(AO86=\"Ja\",'Q_del,j en Q_del,dh'!$D35,0)","v":0},{"$f":"IF(AP86=\"Ja\",'Q_del,j en Q_del,dh'!$D35,0)","v":0},{"$f":"IF(AQ86=\"Ja\",'Q_del,j en Q_del,dh'!$D35,0)","v":0},{"$f":"IF(AR86=\"Ja\",'Q_del,j en Q_del,dh'!$D35,0)","v":0},{"$f":"IF(AS86=\"Ja\",'Q_del,j en Q_del,dh'!$D35,0)","v":0},{"$f":"IF(AT86=\"Ja\",'Q_del,j en Q_del,dh'!$D35,0)","v":0},{"$f":"IF(AU86=\"Ja\",'Q_del,j en Q_del,dh'!$D35,0)","v":0},{"$f":"IF(AV86=\"Ja\",'Q_del,j en Q_del,dh'!$D35,0)","v":0},{"$f":"IF(AW86=\"Ja\",'Q_del,j en Q_del,dh'!$D35,0)","v":0},{"$f":"IF(AX86=\"Ja\",'Q_del,j en Q_del,dh'!$D35,0)","v":0},{"$f":"IF(AY86=\"Ja\",'Q_del,j en Q_del,dh'!$D35,0)","v":0},{"$f":"IF(AZ86=\"Ja\",'Q_del,j en Q_del,dh'!$D35,0)","v":0},{"$f":"IF(BA86=\"Ja\",'Q_del,j en Q_del,dh'!$D35,0)","v":0}]
["Qdel,l,j [MJ]","warmtevrager 29",29,{"$f":"IF(D87=\"Ja\",'Q_del,j en Q_del,dh'!$D36,0)","v":0},{"$f":"IF(E87=\"Ja\",'Q_del,j en Q_del,dh'!$D36,0)","v":0},{"$f":"IF(F87=\"Ja\",'Q_del,j en Q_del,dh'!$D36,0)","v":0},{"$f":"IF(G87=\"Ja\",'Q_del,j en Q_del,dh'!$D36,0)","v":0},{"$f":"IF(H87=\"Ja\",'Q_del,j en Q_del,dh'!$D36,0)","v":0},{"$f":"IF(I87=\"Ja\",'Q_del,j en Q_del,dh'!$D36,0)","v":0},{"$f":"IF(J87=\"Ja\",'Q_del,j en Q_del,dh'!$D36,0)","v":0},{"$f":"IF(K87=\"Ja\",'Q_del,j en Q_del,dh'!$D36,0)","v":0},{"$f":"IF(L87=\"Ja\",'Q_del,j en Q_del,dh'!$D36,0)","v":0},{"$f":"IF(M87=\"Ja\",'Q_del,j en Q_del,dh'!$D36,0)","v":0},{"$f":"IF(N87=\"Ja\",'Q_del,j en Q_del,dh'!$D36,0)","v":0},{"$f":"IF(O87=\"Ja\",'Q_del,j en Q_del,dh'!$D36,0)","v":0},{"$f":"IF(P87=\"Ja\",'Q_del,j en Q_del,dh'!$D36,0)","v":0},{"$f":"IF(Q87=\"Ja\",'Q_del,j en Q_del,dh'!$D36,0)","v":0},{"$f":"IF(R87=\"Ja\",'Q_del,j en Q_del,dh'!$D36,0)","v":0},{"$f":"IF(S87=\"Ja\",'Q_del,j en Q_del,dh'!$D36,0)","v":0},{"$f":"IF(T87=\"Ja\",'Q_del,j en Q_del,dh'!$D36,0)","v":0},{"$f":"IF(U87=\"Ja\",'Q_del,j en Q_del,dh'!$D36,0)","v":0},{"$f":"IF(V87=\"Ja\",'Q_del,j en Q_del,dh'!$D36,0)","v":0},{"$f":"IF(W87=\"Ja\",'Q_del,j en Q_del,dh'!$D36,0)","v":0},{"$f":"IF(X87=\"Ja\",'Q_del,j en Q_del,dh'!$D36,0)","v":0},{"$f":"IF(Y87=\"Ja\",'Q_del,j en Q_del,dh'!$D36,0)","v":0},{"$f":"IF(Z87=\"Ja\",'Q_del,j en Q_del,dh'!$D36,0)","v":0},{"$f":"IF(AA87=\"Ja\",'Q_del,j en Q_del,dh'!$D36,0)","v":0},{"$f":"IF(AB87=\"Ja\",'Q_del,j en Q_del,dh'!$D36,0)","v":0},{"$f":"IF(AC87=\"Ja\",'Q_del,j en Q_del,dh'!$D36,0)","v":0},{"$f":"IF(AD87=\"Ja\",'Q_del,j en Q_del,dh'!$D36,0)","v":0},{"$f":"IF(AE87=\"Ja\",'Q_del,j en Q_del,dh'!$D36,0)","v":0},{"$f":"IF(AF87=\"Ja\",'Q_del,j en Q_del,dh'!$D36,0)","v":0},{"$f":"IF(AG87=\"Ja\",'Q_del,j en Q_del,dh'!$D36,0)","v":0},{"$f":"IF(AH87=\"Ja\",'Q_del,j en Q_del,dh'!$D36,0)","v":0},{"$f":"IF(AI87=\"Ja\",'Q_del,j en Q_del,dh'!$D36,0)","v":0},{"$f":"IF(AJ87=\"Ja\",'Q_del,j en Q_del,dh'!$D36,0)","v":0},{"$f":"IF(AK87=\"Ja\",'Q_del,j en Q_del,dh'!$D36,0)","v":0},{"$f":"IF(AL87=\"Ja\",'Q_del,j en Q_del,dh'!$D36,0)","v":0},{"$f":"IF(AM87=\"Ja\",'Q_del,j en Q_del,dh'!$D36,0)","v":0},{"$f":"IF(AN87=\"Ja\",'Q_del,j en Q_del,dh'!$D36,0)","v":0},{"$f":"IF(AO87=\"Ja\",'Q_del,j en Q_del,dh'!$D36,0)","v":0},{"$f":"IF(AP87=\"Ja\",'Q_del,j en Q_del,dh'!$D36,0)","v":0},{"$f":"IF(AQ87=\"Ja\",'Q_del,j en Q_del,dh'!$D36,0)","v":0},{"$f":"IF(AR87=\"Ja\",'Q_del,j en Q_del,dh'!$D36,0)","v":0},{"$f":"IF(AS87=\"Ja\",'Q_del,j en Q_del,dh'!$D36,0)","v":0},{"$f":"IF(AT87=\"Ja\",'Q_del,j en Q_del,dh'!$D36,0)","v":0},{"$f":"IF(AU87=\"Ja\",'Q_del,j en Q_del,dh'!$D36,0)","v":0},{"$f":"IF(AV87=\"Ja\",'Q_del,j en Q_del,dh'!$D36,0)","v":0},{"$f":"IF(AW87=\"Ja\",'Q_del,j en Q_del,dh'!$D36,0)","v":0},{"$f":"IF(AX87=\"Ja\",'Q_del,j en Q_del,dh'!$D36,0)","v":0},{"$f":"IF(AY87=\"Ja\",'Q_del,j en Q_del,dh'!$D36,0)","v":0},{"$f":"IF(AZ87=\"Ja\",'Q_del,j en Q_del,dh'!$D36,0)","v":0},{"$f":"IF(BA87=\"Ja\",'Q_del,j en Q_del,dh'!$D36,0)","v":0}]
["Qdel,l,j [MJ]","warmtevrager 30",30,{"$f":"IF(D88=\"Ja\",'Q_del,j en Q_del,dh'!$D37,0)","v":0},{"$f":"IF(E88=\"Ja\",'Q_del,j en Q_del,dh'!$D37,0)","v":0},{"$f":"IF(F88=\"Ja\",'Q_del,j en Q_del,dh'!$D37,0)","v":0},{"$f":"IF(G88=\"Ja\",'Q_del,j en Q_del,dh'!$D37,0)","v":0},{"$f":"IF(H88=\"Ja\",'Q_del,j en Q_del,dh'!$D37,0)","v":0},{"$f":"IF(I88=\"Ja\",'Q_del,j en Q_del,dh'!$D37,0)","v":0},{"$f":"IF(J88=\"Ja\",'Q_del,j en Q_del,dh'!$D37,0)","v":0},{"$f":"IF(K88=\"Ja\",'Q_del,j en Q_del,dh'!$D37,0)","v":0},{"$f":"IF(L88=\"Ja\",'Q_del,j en Q_del,dh'!$D37,0)","v":0},{"$f":"IF(M88=\"Ja\",'Q_del,j en Q_del,dh'!$D37,0)","v":0},{"$f":"IF(N88=\"Ja\",'Q_del,j en Q_del,dh'!$D37,0)","v":0},{"$f":"IF(O88=\"Ja\",'Q_del,j en Q_del,dh'!$D37,0)","v":0},{"$f":"IF(P88=\"Ja\",'Q_del,j en Q_del,dh'!$D37,0)","v":0},{"$f":"IF(Q88=\"Ja\",'Q_del,j en Q_del,dh'!$D37,0)","v":0},{"$f":"IF(R88=\"Ja\",'Q_del,j en Q_del,dh'!$D37,0)","v":0},{"$f":"IF(S88=\"Ja\",'Q_del,j en Q_del,dh'!$D37,0)","v":0},{"$f":"IF(T88=\"Ja\",'Q_del,j en Q_del,dh'!$D37,0)","v":0},{"$f":"IF(U88=\"Ja\",'Q_del,j en Q_del,dh'!$D37,0)","v":0},{"$f":"IF(V88=\"Ja\",'Q_del,j en Q_del,dh'!$D37,0)","v":0},{"$f":"IF(W88=\"Ja\",'Q_del,j en Q_del,dh'!$D37,0)","v":0},{"$f":"IF(X88=\"Ja\",'Q_del,j en Q_del,dh'!$D37,0)","v":0},{"$f":"IF(Y88=\"Ja\",'Q_del,j en Q_del,dh'!$D37,0)","v":0},{"$f":"IF(Z88=\"Ja\",'Q_del,j en Q_del,dh'!$D37,0)","v":0},{"$f":"IF(AA88=\"Ja\",'Q_del,j en Q_del,dh'!$D37,0)","v":0},{"$f":"IF(AB88=\"Ja\",'Q_del,j en Q_del,dh'!$D37,0)","v":0},{"$f":"IF(AC88=\"Ja\",'Q_del,j en Q_del,dh'!$D37,0)","v":0},{"$f":"IF(AD88=\"Ja\",'Q_del,j en Q_del,dh'!$D37,0)","v":0},{"$f":"IF(AE88=\"Ja\",'Q_del,j en Q_del,dh'!$D37,0)","v":0},{"$f":"IF(AF88=\"Ja\",'Q_del,j en Q_del,dh'!$D37,0)","v":0},{"$f":"IF(AG88=\"Ja\",'Q_del,j en Q_del,dh'!$D37,0)","v":0},{"$f":"IF(AH88=\"Ja\",'Q_del,j en Q_del,dh'!$D37,0)","v":0},{"$f":"IF(AI88=\"Ja\",'Q_del,j en Q_del,dh'!$D37,0)","v":0},{"$f":"IF(AJ88=\"Ja\",'Q_del,j en Q_del,dh'!$D37,0)","v":0},{"$f":"IF(AK88=\"Ja\",'Q_del,j en Q_del,dh'!$D37,0)","v":0},{"$f":"IF(AL88=\"Ja\",'Q_del,j en Q_del,dh'!$D37,0)","v":0},{"$f":"IF(AM88=\"Ja\",'Q_del,j en Q_del,dh'!$D37,0)","v":0},{"$f":"IF(AN88=\"Ja\",'Q_del,j en Q_del,dh'!$D37,0)","v":0},{"$f":"IF(AO88=\"Ja\",'Q_del,j en Q_del,dh'!$D37,0)","v":0},{"$f":"IF(AP88=\"Ja\",'Q_del,j en Q_del,dh'!$D37,0)","v":0},{"$f":"IF(AQ88=\"Ja\",'Q_del,j en Q_del,dh'!$D37,0)","v":0},{"$f":"IF(AR88=\"Ja\",'Q_del,j en Q_del,dh'!$D37,0)","v":0},{"$f":"IF(AS88=\"Ja\",'Q_del,j en Q_del,dh'!$D37,0)","v":0},{"$f":"IF(AT88=\"Ja\",'Q_del,j en Q_del,dh'!$D37,0)","v":0},{"$f":"IF(AU88=\"Ja\",'Q_del,j en Q_del,dh'!$D37,0)","v":0},{"$f":"IF(AV88=\"Ja\",'Q_del,j en Q_del,dh'!$D37,0)","v":0},{"$f":"IF(AW88=\"Ja\",'Q_del,j en Q_del,dh'!$D37,0)","v":0},{"$f":"IF(AX88=\"Ja\",'Q_del,j en Q_del,dh'!$D37,0)","v":0},{"$f":"IF(AY88=\"Ja\",'Q_del,j en Q_del,dh'!$D37,0)","v":0},{"$f":"IF(AZ88=\"Ja\",'Q_del,j en Q_del,dh'!$D37,0)","v":0},{"$f":"IF(BA88=\"Ja\",'Q_del,j en Q_del,dh'!$D37,0)","v":0}]
["Qdel,l,j [MJ]","warmtevrager 31",31,{"$f":"IF(D89=\"Ja\",'Q_del,j en Q_del,dh'!$D38,0)","v":0},{"$f":"IF(E89=\"Ja\",'Q_del,j en Q_del,dh'!$D38,0)","v":0},{"$f":"IF(F89=\"Ja\",'Q_del,j en Q_del,dh'!$D38,0)","v":0},{"$f":"IF(G89=\"Ja\",'Q_del,j en Q_del,dh'!$D38,0)","v":0},{"$f":"IF(H89=\"Ja\",'Q_del,j en Q_del,dh'!$D38,0)","v":0},{"$f":"IF(I89=\"Ja\",'Q_del,j en Q_del,dh'!$D38,0)","v":0},{"$f":"IF(J89=\"Ja\",'Q_del,j en Q_del,dh'!$D38,0)","v":0},{"$f":"IF(K89=\"Ja\",'Q_del,j en Q_del,dh'!$D38,0)","v":0},{"$f":"IF(L89=\"Ja\",'Q_del,j en Q_del,dh'!$D38,0)","v":0},{"$f":"IF(M89=\"Ja\",'Q_del,j en Q_del,dh'!$D38,0)","v":0},{"$f":"IF(N89=\"Ja\",'Q_del,j en Q_del,dh'!$D38,0)","v":0},{"$f":"IF(O89=\"Ja\",'Q_del,j en Q_del,dh'!$D38,0)","v":0},{"$f":"IF(P89=\"Ja\",'Q_del,j en Q_del,dh'!$D38,0)","v":0},{"$f":"IF(Q89=\"Ja\",'Q_del,j en Q_del,dh'!$D38,0)","v":0},{"$f":"IF(R89=\"Ja\",'Q_del,j en Q_del,dh'!$D38,0)","v":0},{"$f":"IF(S89=\"Ja\",'Q_del,j en Q_del,dh'!$D38,0)","v":0},{"$f":"IF(T89=\"Ja\",'Q_del,j en Q_del,dh'!$D38,0)","v":0},{"$f":"IF(U89=\"Ja\",'Q_del,j en Q_del,dh'!$D38,0)","v":0},{"$f":"IF(V89=\"Ja\",'Q_del,j en Q_del,dh'!$D38,0)","v":0},{"$f":"IF(W89=\"Ja\",'Q_del,j en Q_del,dh'!$D38,0)","v":0},{"$f":"IF(X89=\"Ja\",'Q_del,j en Q_del,dh'!$D38,0)","v":0},{"$f":"IF(Y89=\"Ja\",'Q_del,j en Q_del,dh'!$D38,0)","v":0},{"$f":"IF(Z89=\"Ja\",'Q_del,j en Q_del,dh'!$D38,0)","v":0},{"$f":"IF(AA89=\"Ja\",'Q_del,j en Q_del,dh'!$D38,0)","v":0},{"$f":"IF(AB89=\"Ja\",'Q_del,j en Q_del,dh'!$D38,0)","v":0},{"$f":"IF(AC89=\"Ja\",'Q_del,j en Q_del,dh'!$D38,0)","v":0},{"$f":"IF(AD89=\"Ja\",'Q_del,j en Q_del,dh'!$D38,0)","v":0},{"$f":"IF(AE89=\"Ja\",'Q_del,j en Q_del,dh'!$D38,0)","v":0},{"$f":"IF(AF89=\"Ja\",'Q_del,j en Q_del,dh'!$D38,0)","v":0},{"$f":"IF(AG89=\"Ja\",'Q_del,j en Q_del,dh'!$D38,0)","v":0},{"$f":"IF(AH89=\"Ja\",'Q_del,j en Q_del,dh'!$D38,0)","v":0},{"$f":"IF(AI89=\"Ja\",'Q_del,j en Q_del,dh'!$D38,0)","v":0},{"$f":"IF(AJ89=\"Ja\",'Q_del,j en Q_del,dh'!$D38,0)","v":0},{"$f":"IF(AK89=\"Ja\",'Q_del,j en Q_del,dh'!$D38,0)","v":0},{"$f":"IF(AL89=\"Ja\",'Q_del,j en Q_del,dh'!$D38,0)","v":0},{"$f":"IF(AM89=\"Ja\",'Q_del,j en Q_del,dh'!$D38,0)","v":0},{"$f":"IF(AN89=\"Ja\",'Q_del,j en Q_del,dh'!$D38,0)","v":0},{"$f":"IF(AO89=\"Ja\",'Q_del,j en Q_del,dh'!$D38,0)","v":0},{"$f":"IF(AP89=\"Ja\",'Q_del,j en Q_del,dh'!$D38,0)","v":0},{"$f":"IF(AQ89=\"Ja\",'Q_del,j en Q_del,dh'!$D38,0)","v":0},{"$f":"IF(AR89=\"Ja\",'Q_del,j en Q_del,dh'!$D38,0)","v":0},{"$f":"IF(AS89=\"Ja\",'Q_del,j en Q_del,dh'!$D38,0)","v":0},{"$f":"IF(AT89=\"Ja\",'Q_del,j en Q_del,dh'!$D38,0)","v":0},{"$f":"IF(AU89=\"Ja\",'Q_del,j en Q_del,dh'!$D38,0)","v":0},{"$f":"IF(AV89=\"Ja\",'Q_del,j en Q_del,dh'!$D38,0)","v":0},{"$f":"IF(AW89=\"Ja\",'Q_del,j en Q_del,dh'!$D38,0)","v":0},{"$f":"IF(AX89=\"Ja\",'Q_del,j en Q_del,dh'!$D38,0)","v":0},{"$f":"IF(AY89=\"Ja\",'Q_del,j en Q_del,dh'!$D38,0)","v":0},{"$f":"IF(AZ89=\"Ja\",'Q_del,j en Q_del,dh'!$D38,0)","v":0},{"$f":"IF(BA89=\"Ja\",'Q_del,j en Q_del,dh'!$D38,0)","v":0}]
["Qdel,l,j [MJ]","warmtevrager 32",32,{"$f":"IF(D90=\"Ja\",'Q_del,j en Q_del,dh'!$D39,0)","v":0},{"$f":"IF(E90=\"Ja\",'Q_del,j en Q_del,dh'!$D39,0)","v":0},{"$f":"IF(F90=\"Ja\",'Q_del,j en Q_del,dh'!$D39,0)","v":0},{"$f":"IF(G90=\"Ja\",'Q_del,j en Q_del,dh'!$D39,0)","v":0},{"$f":"IF(H90=\"Ja\",'Q_del,j en Q_del,dh'!$D39,0)","v":0},{"$f":"IF(I90=\"Ja\",'Q_del,j en Q_del,dh'!$D39,0)","v":0},{"$f":"IF(J90=\"Ja\",'Q_del,j en Q_del,dh'!$D39,0)","v":0},{"$f":"IF(K90=\"Ja\",'Q_del,j en Q_del,dh'!$D39,0)","v":0},{"$f":"IF(L90=\"Ja\",'Q_del,j en Q_del,dh'!$D39,0)","v":0},{"$f":"IF(M90=\"Ja\",'Q_del,j en Q_del,dh'!$D39,0)","v":0},{"$f":"IF(N90=\"Ja\",'Q_del,j en Q_del,dh'!$D39,0)","v":0},{"$f":"IF(O90=\"Ja\",'Q_del,j en Q_del,dh'!$D39,0)","v":0},{"$f":"IF(P90=\"Ja\",'Q_del,j en Q_del,dh'!$D39,0)","v":0},{"$f":"IF(Q90=\"Ja\",'Q_del,j en Q_del,dh'!$D39,0)","v":0},{"$f":"IF(R90=\"Ja\",'Q_del,j en Q_del,dh'!$D39,0)","v":0},{"$f":"IF(S90=\"Ja\",'Q_del,j en Q_del,dh'!$D39,0)","v":0},{"$f":"IF(T90=\"Ja\",'Q_del,j en Q_del,dh'!$D39,0)","v":0},{"$f":"IF(U90=\"Ja\",'Q_del,j en Q_del,dh'!$D39,0)","v":0},{"$f":"IF(V90=\"Ja\",'Q_del,j en Q_del,dh'!$D39,0)","v":0},{"$f":"IF(W90=\"Ja\",'Q_del,j en Q_del,dh'!$D39,0)","v":0},{"$f":"IF(X90=\"Ja\",'Q_del,j en Q_del,dh'!$D39,0)","v":0},{"$f":"IF(Y90=\"Ja\",'Q_del,j en Q_del,dh'!$D39,0)","v":0},{"$f":"IF(Z90=\"Ja\",'Q_del,j en Q_del,dh'!$D39,0)","v":0},{"$f":"IF(AA90=\"Ja\",'Q_del,j en Q_del,dh'!$D39,0)","v":0},{"$f":"IF(AB90=\"Ja\",'Q_del,j en Q_del,dh'!$D39,0)","v":0},{"$f":"IF(AC90=\"Ja\",'Q_del,j en Q_del,dh'!$D39,0)","v":0},{"$f":"IF(AD90=\"Ja\",'Q_del,j en Q_del,dh'!$D39,0)","v":0},{"$f":"IF(AE90=\"Ja\",'Q_del,j en Q_del,dh'!$D39,0)","v":0},{"$f":"IF(AF90=\"Ja\",'Q_del,j en Q_del,dh'!$D39,0)","v":0},{"$f":"IF(AG90=\"Ja\",'Q_del,j en Q_del,dh'!$D39,0)","v":0},{"$f":"IF(AH90=\"Ja\",'Q_del,j en Q_del,dh'!$D39,0)","v":0},{"$f":"IF(AI90=\"Ja\",'Q_del,j en Q_del,dh'!$D39,0)","v":0},{"$f":"IF(AJ90=\"Ja\",'Q_del,j en Q_del,dh'!$D39,0)","v":0},{"$f":"IF(AK90=\"Ja\",'Q_del,j en Q_del,dh'!$D39,0)","v":0},{"$f":"IF(AL90=\"Ja\",'Q_del,j en Q_del,dh'!$D39,0)","v":0},{"$f":"IF(AM90=\"Ja\",'Q_del,j en Q_del,dh'!$D39,0)","v":0},{"$f":"IF(AN90=\"Ja\",'Q_del,j en Q_del,dh'!$D39,0)","v":0},{"$f":"IF(AO90=\"Ja\",'Q_del,j en Q_del,dh'!$D39,0)","v":0},{"$f":"IF(AP90=\"Ja\",'Q_del,j en Q_del,dh'!$D39,0)","v":0},{"$f":"IF(AQ90=\"Ja\",'Q_del,j en Q_del,dh'!$D39,0)","v":0},{"$f":"IF(AR90=\"Ja\",'Q_del,j en Q_del,dh'!$D39,0)","v":0},{"$f":"IF(AS90=\"Ja\",'Q_del,j en Q_del,dh'!$D39,0)","v":0},{"$f":"IF(AT90=\"Ja\",'Q_del,j en Q_del,dh'!$D39,0)","v":0},{"$f":"IF(AU90=\"Ja\",'Q_del,j en Q_del,dh'!$D39,0)","v":0},{"$f":"IF(AV90=\"Ja\",'Q_del,j en Q_del,dh'!$D39,0)","v":0},{"$f":"IF(AW90=\"Ja\",'Q_del,j en Q_del,dh'!$D39,0)","v":0},{"$f":"IF(AX90=\"Ja\",'Q_del,j en Q_del,dh'!$D39,0)","v":0},{"$f":"IF(AY90=\"Ja\",'Q_del,j en Q_del,dh'!$D39,0)","v":0},{"$f":"IF(AZ90=\"Ja\",'Q_del,j en Q_del,dh'!$D39,0)","v":0},{"$f":"IF(BA90=\"Ja\",'Q_del,j en Q_del,dh'!$D39,0)","v":0}]
["Qdel,l,j [MJ]","warmtevrager 33",33,{"$f":"IF(D91=\"Ja\",'Q_del,j en Q_del,dh'!$D40,0)","v":0},{"$f":"IF(E91=\"Ja\",'Q_del,j en Q_del,dh'!$D40,0)","v":0},{"$f":"IF(F91=\"Ja\",'Q_del,j en Q_del,dh'!$D40,0)","v":0},{"$f":"IF(G91=\"Ja\",'Q_del,j en Q_del,dh'!$D40,0)","v":0},{"$f":"IF(H91=\"Ja\",'Q_del,j en Q_del,dh'!$D40,0)","v":0},{"$f":"IF(I91=\"Ja\",'Q_del,j en Q_del,dh'!$D40,0)","v":0},{"$f":"IF(J91=\"Ja\",'Q_del,j en Q_del,dh'!$D40,0)","v":0},{"$f":"IF(K91=\"Ja\",'Q_del,j en Q_del,dh'!$D40,0)","v":0},{"$f":"IF(L91=\"Ja\",'Q_del,j en Q_del,dh'!$D40,0)","v":0},{"$f":"IF(M91=\"Ja\",'Q_del,j en Q_del,dh'!$D40,0)","v":0},{"$f":"IF(N91=\"Ja\",'Q_del,j en Q_del,dh'!$D40,0)","v":0},{"$f":"IF(O91=\"Ja\",'Q_del,j en Q_del,dh'!$D40,0)","v":0},{"$f":"IF(P91=\"Ja\",'Q_del,j en Q_del,dh'!$D40,0)","v":0},{"$f":"IF(Q91=\"Ja\",'Q_del,j en Q_del,dh'!$D40,0)","v":0},{"$f":"IF(R91=\"Ja\",'Q_del,j en Q_del,dh'!$D40,0)","v":0},{"$f":"IF(S91=\"Ja\",'Q_del,j en Q_del,dh'!$D40,0)","v":0},{"$f":"IF(T91=\"Ja\",'Q_del,j en Q_del,dh'!$D40,0)","v":0},{"$f":"IF(U91=\"Ja\",'Q_del,j en Q_del,dh'!$D40,0)","v":0},{"$f":"IF(V91=\"Ja\",'Q_del,j en Q_del,dh'!$D40,0)","v":0},{"$f":"IF(W91=\"Ja\",'Q_del,j en Q_del,dh'!$D40,0)","v":0},{"$f":"IF(X91=\"Ja\",'Q_del,j en Q_del,dh'!$D40,0)","v":0},{"$f":"IF(Y91=\"Ja\",'Q_del,j en Q_del,dh'!$D40,0)","v":0},{"$f":"IF(Z91=\"Ja\",'Q_del,j en Q_del,dh'!$D40,0)","v":0},{"$f":"IF(AA91=\"Ja\",'Q_del,j en Q_del,dh'!$D40,0)","v":0},{"$f":"IF(AB91=\"Ja\",'Q_del,j en Q_del,dh'!$D40,0)","v":0},{"$f":"IF(AC91=\"Ja\",'Q_del,j en Q_del,dh'!$D40,0)","v":0},{"$f":"IF(AD91=\"Ja\",'Q_del,j en Q_del,dh'!$D40,0)","v":0},{"$f":"IF(AE91=\"Ja\",'Q_del,j en Q_del,dh'!$D40,0)","v":0},{"$f":"IF(AF91=\"Ja\",'Q_del,j en Q_del,dh'!$D40,0)","v":0},{"$f":"IF(AG91=\"Ja\",'Q_del,j en Q_del,dh'!$D40,0)","v":0},{"$f":"IF(AH91=\"Ja\",'Q_del,j en Q_del,dh'!$D40,0)","v":0},{"$f":"IF(AI91=\"Ja\",'Q_del,j en Q_del,dh'!$D40,0)","v":0},{"$f":"IF(AJ91=\"Ja\",'Q_del,j en Q_del,dh'!$D40,0)","v":0},{"$f":"IF(AK91=\"Ja\",'Q_del,j en Q_del,dh'!$D40,0)","v":0},{"$f":"IF(AL91=\"Ja\",'Q_del,j en Q_del,dh'!$D40,0)","v":0},{"$f":"IF(AM91=\"Ja\",'Q_del,j en Q_del,dh'!$D40,0)","v":0},{"$f":"IF(AN91=\"Ja\",'Q_del,j en Q_del,dh'!$D40,0)","v":0},{"$f":"IF(AO91=\"Ja\",'Q_del,j en Q_del,dh'!$D40,0)","v":0},{"$f":"IF(AP91=\"Ja\",'Q_del,j en Q_del,dh'!$D40,0)","v":0},{"$f":"IF(AQ91=\"Ja\",'Q_del,j en Q_del,dh'!$D40,0)","v":0},{"$f":"IF(AR91=\"Ja\",'Q_del,j en Q_del,dh'!$D40,0)","v":0},{"$f":"IF(AS91=\"Ja\",'Q_del,j en Q_del,dh'!$D40,0)","v":0},{"$f":"IF(AT91=\"Ja\",'Q_del,j en Q_del,dh'!$D40,0)","v":0},{"$f":"IF(AU91=\"Ja\",'Q_del,j en Q_del,dh'!$D40,0)","v":0},{"$f":"IF(AV91=\"Ja\",'Q_del,j en Q_del,dh'!$D40,0)","v":0},{"$f":"IF(AW91=\"Ja\",'Q_del,j en Q_del,dh'!$D40,0)","v":0},{"$f":"IF(AX91=\"Ja\",'Q_del,j en Q_del,dh'!$D40,0)","v":0},{"$f":"IF(AY91=\"Ja\",'Q_del,j en Q_del,dh'!$D40,0)","v":0},{"$f":"IF(AZ91=\"Ja\",'Q_del,j en Q_del,dh'!$D40,0)","v":0},{"$f":"IF(BA91=\"Ja\",'Q_del,j en Q_del,dh'!$D40,0)","v":0}]
["Qdel,l,j [MJ]","warmtevrager 34",34,{"$f":"IF(D92=\"Ja\",'Q_del,j en Q_del,dh'!$D41,0)","v":0},{"$f":"IF(E92=\"Ja\",'Q_del,j en Q_del,dh'!$D41,0)","v":0},{"$f":"IF(F92=\"Ja\",'Q_del,j en Q_del,dh'!$D41,0)","v":0},{"$f":"IF(G92=\"Ja\",'Q_del,j en Q_del,dh'!$D41,0)","v":0},{"$f":"IF(H92=\"Ja\",'Q_del,j en Q_del,dh'!$D41,0)","v":0},{"$f":"IF(I92=\"Ja\",'Q_del,j en Q_del,dh'!$D41,0)","v":0},{"$f":"IF(J92=\"Ja\",'Q_del,j en Q_del,dh'!$D41,0)","v":0},{"$f":"IF(K92=\"Ja\",'Q_del,j en Q_del,dh'!$D41,0)","v":0},{"$f":"IF(L92=\"Ja\",'Q_del,j en Q_del,dh'!$D41,0)","v":0},{"$f":"IF(M92=\"Ja\",'Q_del,j en Q_del,dh'!$D41,0)","v":0},{"$f":"IF(N92=\"Ja\",'Q_del,j en Q_del,dh'!$D41,0)","v":0},{"$f":"IF(O92=\"Ja\",'Q_del,j en Q_del,dh'!$D41,0)","v":0},{"$f":"IF(P92=\"Ja\",'Q_del,j en Q_del,dh'!$D41,0)","v":0},{"$f":"IF(Q92=\"Ja\",'Q_del,j en Q_del,dh'!$D41,0)","v":0},{"$f":"IF(R92=\"Ja\",'Q_del,j en Q_del,dh'!$D41,0)","v":0},{"$f":"IF(S92=\"Ja\",'Q_del,j en Q_del,dh'!$D41,0)","v":0},{"$f":"IF(T92=\"Ja\",'Q_del,j en Q_del,dh'!$D41,0)","v":0},{"$f":"IF(U92=\"Ja\",'Q_del,j en Q_del,dh'!$D41,0)","v":0},{"$f":"IF(V92=\"Ja\",'Q_del,j en Q_del,dh'!$D41,0)","v":0},{"$f":"IF(W92=\"Ja\",'Q_del,j en Q_del,dh'!$D41,0)","v":0},{"$f":"IF(X92=\"Ja\",'Q_del,j en Q_del,dh'!$D41,0)","v":0},{"$f":"IF(Y92=\"Ja\",'Q_del,j en Q_del,dh'!$D41,0)","v":0},{"$f":"IF(Z92=\"Ja\",'Q_del,j en Q_del,dh'!$D41,0)","v":0},{"$f":"IF(AA92=\"Ja\",'Q_del,j en Q_del,dh'!$D41,0)","v":0},{"$f":"IF(AB92=\"Ja\",'Q_del,j en Q_del,dh'!$D41,0)","v":0},{"$f":"IF(AC92=\"Ja\",'Q_del,j en Q_del,dh'!$D41,0)","v":0},{"$f":"IF(AD92=\"Ja\",'Q_del,j en Q_del,dh'!$D41,0)","v":0},{"$f":"IF(AE92=\"Ja\",'Q_del,j en Q_del,dh'!$D41,0)","v":0},{"$f":"IF(AF92=\"Ja\",'Q_del,j en Q_del,dh'!$D41,0)","v":0},{"$f":"IF(AG92=\"Ja\",'Q_del,j en Q_del,dh'!$D41,0)","v":0},{"$f":"IF(AH92=\"Ja\",'Q_del,j en Q_del,dh'!$D41,0)","v":0},{"$f":"IF(AI92=\"Ja\",'Q_del,j en Q_del,dh'!$D41,0)","v":0},{"$f":"IF(AJ92=\"Ja\",'Q_del,j en Q_del,dh'!$D41,0)","v":0},{"$f":"IF(AK92=\"Ja\",'Q_del,j en Q_del,dh'!$D41,0)","v":0},{"$f":"IF(AL92=\"Ja\",'Q_del,j en Q_del,dh'!$D41,0)","v":0},{"$f":"IF(AM92=\"Ja\",'Q_del,j en Q_del,dh'!$D41,0)","v":0},{"$f":"IF(AN92=\"Ja\",'Q_del,j en Q_del,dh'!$D41,0)","v":0},{"$f":"IF(AO92=\"Ja\",'Q_del,j en Q_del,dh'!$D41,0)","v":0},{"$f":"IF(AP92=\"Ja\",'Q_del,j en Q_del,dh'!$D41,0)","v":0},{"$f":"IF(AQ92=\"Ja\",'Q_del,j en Q_del,dh'!$D41,0)","v":0},{"$f":"IF(AR92=\"Ja\",'Q_del,j en Q_del,dh'!$D41,0)","v":0},{"$f":"IF(AS92=\"Ja\",'Q_del,j en Q_del,dh'!$D41,0)","v":0},{"$f":"IF(AT92=\"Ja\",'Q_del,j en Q_del,dh'!$D41,0)","v":0},{"$f":"IF(AU92=\"Ja\",'Q_del,j en Q_del,dh'!$D41,0)","v":0},{"$f":"IF(AV92=\"Ja\",'Q_del,j en Q_del,dh'!$D41,0)","v":0},{"$f":"IF(AW92=\"Ja\",'Q_del,j en Q_del,dh'!$D41,0)","v":0},{"$f":"IF(AX92=\"Ja\",'Q_del,j en Q_del,dh'!$D41,0)","v":0},{"$f":"IF(AY92=\"Ja\",'Q_del,j en Q_del,dh'!$D41,0)","v":0},{"$f":"IF(AZ92=\"Ja\",'Q_del,j en Q_del,dh'!$D41,0)","v":0},{"$f":"IF(BA92=\"Ja\",'Q_del,j en Q_del,dh'!$D41,0)","v":0}]
["Qdel,l,j [MJ]","warmtevrager 35",35,{"$f":"IF(D93=\"Ja\",'Q_del,j en Q_del,dh'!$D42,0)","v":0},{"$f":"IF(E93=\"Ja\",'Q_del,j en Q_del,dh'!$D42,0)","v":0},{"$f":"IF(F93=\"Ja\",'Q_del,j en Q_del,dh'!$D42,0)","v":0},{"$f":"IF(G93=\"Ja\",'Q_del,j en Q_del,dh'!$D42,0)","v":0},{"$f":"IF(H93=\"Ja\",'Q_del,j en Q_del,dh'!$D42,0)","v":0},{"$f":"IF(I93=\"Ja\",'Q_del,j en Q_del,dh'!$D42,0)","v":0},{"$f":"IF(J93=\"Ja\",'Q_del,j en Q_del,dh'!$D42,0)","v":0},{"$f":"IF(K93=\"Ja\",'Q_del,j en Q_del,dh'!$D42,0)","v":0},{"$f":"IF(L93=\"Ja\",'Q_del,j en Q_del,dh'!$D42,0)","v":0},{"$f":"IF(M93=\"Ja\",'Q_del,j en Q_del,dh'!$D42,0)","v":0},{"$f":"IF(N93=\"Ja\",'Q_del,j en Q_del,dh'!$D42,0)","v":0},{"$f":"IF(O93=\"Ja\",'Q_del,j en Q_del,dh'!$D42,0)","v":0},{"$f":"IF(P93=\"Ja\",'Q_del,j en Q_del,dh'!$D42,0)","v":0},{"$f":"IF(Q93=\"Ja\",'Q_del,j en Q_del,dh'!$D42,0)","v":0},{"$f":"IF(R93=\"Ja\",'Q_del,j en Q_del,dh'!$D42,0)","v":0},{"$f":"IF(S93=\"Ja\",'Q_del,j en Q_del,dh'!$D42,0)","v":0},{"$f":"IF(T93=\"Ja\",'Q_del,j en Q_del,dh'!$D42,0)","v":0},{"$f":"IF(U93=\"Ja\",'Q_del,j en Q_del,dh'!$D42,0)","v":0},{"$f":"IF(V93=\"Ja\",'Q_del,j en Q_del,dh'!$D42,0)","v":0},{"$f":"IF(W93=\"Ja\",'Q_del,j en Q_del,dh'!$D42,0)","v":0},{"$f":"IF(X93=\"Ja\",'Q_del,j en Q_del,dh'!$D42,0)","v":0},{"$f":"IF(Y93=\"Ja\",'Q_del,j en Q_del,dh'!$D42,0)","v":0},{"$f":"IF(Z93=\"Ja\",'Q_del,j en Q_del,dh'!$D42,0)","v":0},{"$f":"IF(AA93=\"Ja\",'Q_del,j en Q_del,dh'!$D42,0)","v":0},{"$f":"IF(AB93=\"Ja\",'Q_del,j en Q_del,dh'!$D42,0)","v":0},{"$f":"IF(AC93=\"Ja\",'Q_del,j en Q_del,dh'!$D42,0)","v":0},{"$f":"IF(AD93=\"Ja\",'Q_del,j en Q_del,dh'!$D42,0)","v":0},{"$f":"IF(AE93=\"Ja\",'Q_del,j en Q_del,dh'!$D42,0)","v":0},{"$f":"IF(AF93=\"Ja\",'Q_del,j en Q_del,dh'!$D42,0)","v":0},{"$f":"IF(AG93=\"Ja\",'Q_del,j en Q_del,dh'!$D42,0)","v":0},{"$f":"IF(AH93=\"Ja\",'Q_del,j en Q_del,dh'!$D42,0)","v":0},{"$f":"IF(AI93=\"Ja\",'Q_del,j en Q_del,dh'!$D42,0)","v":0},{"$f":"IF(AJ93=\"Ja\",'Q_del,j en Q_del,dh'!$D42,0)","v":0},{"$f":"IF(AK93=\"Ja\",'Q_del,j en Q_del,dh'!$D42,0)","v":0},{"$f":"IF(AL93=\"Ja\",'Q_del,j en Q_del,dh'!$D42,0)","v":0},{"$f":"IF(AM93=\"Ja\",'Q_del,j en Q_del,dh'!$D42,0)","v":0},{"$f":"IF(AN93=\"Ja\",'Q_del,j en Q_del,dh'!$D42,0)","v":0},{"$f":"IF(AO93=\"Ja\",'Q_del,j en Q_del,dh'!$D42,0)","v":0},{"$f":"IF(AP93=\"Ja\",'Q_del,j en Q_del,dh'!$D42,0)","v":0},{"$f":"IF(AQ93=\"Ja\",'Q_del,j en Q_del,dh'!$D42,0)","v":0},{"$f":"IF(AR93=\"Ja\",'Q_del,j en Q_del,dh'!$D42,0)","v":0},{"$f":"IF(AS93=\"Ja\",'Q_del,j en Q_del,dh'!$D42,0)","v":0},{"$f":"IF(AT93=\"Ja\",'Q_del,j en Q_del,dh'!$D42,0)","v":0},{"$f":"IF(AU93=\"Ja\",'Q_del,j en Q_del,dh'!$D42,0)","v":0},{"$f":"IF(AV93=\"Ja\",'Q_del,j en Q_del,dh'!$D42,0)","v":0},{"$f":"IF(AW93=\"Ja\",'Q_del,j en Q_del,dh'!$D42,0)","v":0},{"$f":"IF(AX93=\"Ja\",'Q_del,j en Q_del,dh'!$D42,0)","v":0},{"$f":"IF(AY93=\"Ja\",'Q_del,j en Q_del,dh'!$D42,0)","v":0},{"$f":"IF(AZ93=\"Ja\",'Q_del,j en Q_del,dh'!$D42,0)","v":0},{"$f":"IF(BA93=\"Ja\",'Q_del,j en Q_del,dh'!$D42,0)","v":0}]
["Qdel,l,j [MJ]","warmtevrager 36",36,{"$f":"IF(D94=\"Ja\",'Q_del,j en Q_del,dh'!$D43,0)","v":0},{"$f":"IF(E94=\"Ja\",'Q_del,j en Q_del,dh'!$D43,0)","v":0},{"$f":"IF(F94=\"Ja\",'Q_del,j en Q_del,dh'!$D43,0)","v":0},{"$f":"IF(G94=\"Ja\",'Q_del,j en Q_del,dh'!$D43,0)","v":0},{"$f":"IF(H94=\"Ja\",'Q_del,j en Q_del,dh'!$D43,0)","v":0},{"$f":"IF(I94=\"Ja\",'Q_del,j en Q_del,dh'!$D43,0)","v":0},{"$f":"IF(J94=\"Ja\",'Q_del,j en Q_del,dh'!$D43,0)","v":0},{"$f":"IF(K94=\"Ja\",'Q_del,j en Q_del,dh'!$D43,0)","v":0},{"$f":"IF(L94=\"Ja\",'Q_del,j en Q_del,dh'!$D43,0)","v":0},{"$f":"IF(M94=\"Ja\",'Q_del,j en Q_del,dh'!$D43,0)","v":0},{"$f":"IF(N94=\"Ja\",'Q_del,j en Q_del,dh'!$D43,0)","v":0},{"$f":"IF(O94=\"Ja\",'Q_del,j en Q_del,dh'!$D43,0)","v":0},{"$f":"IF(P94=\"Ja\",'Q_del,j en Q_del,dh'!$D43,0)","v":0},{"$f":"IF(Q94=\"Ja\",'Q_del,j en Q_del,dh'!$D43,0)","v":0},{"$f":"IF(R94=\"Ja\",'Q_del,j en Q_del,dh'!$D43,0)","v":0},{"$f":"IF(S94=\"Ja\",'Q_del,j en Q_del,dh'!$D43,0)","v":0},{"$f":"IF(T94=\"Ja\",'Q_del,j en Q_del,dh'!$D43,0)","v":0},{"$f":"IF(U94=\"Ja\",'Q_del,j en Q_del,dh'!$D43,0)","v":0},{"$f":"IF(V94=\"Ja\",'Q_del,j en Q_del,dh'!$D43,0)","v":0},{"$f":"IF(W94=\"Ja\",'Q_del,j en Q_del,dh'!$D43,0)","v":0},{"$f":"IF(X94=\"Ja\",'Q_del,j en Q_del,dh'!$D43,0)","v":0},{"$f":"IF(Y94=\"Ja\",'Q_del,j en Q_del,dh'!$D43,0)","v":0},{"$f":"IF(Z94=\"Ja\",'Q_del,j en Q_del,dh'!$D43,0)","v":0},{"$f":"IF(AA94=\"Ja\",'Q_del,j en Q_del,dh'!$D43,0)","v":0},{"$f":"IF(AB94=\"Ja\",'Q_del,j en Q_del,dh'!$D43,0)","v":0},{"$f":"IF(AC94=\"Ja\",'Q_del,j en Q_del,dh'!$D43,0)","v":0},{"$f":"IF(AD94=\"Ja\",'Q_del,j en Q_del,dh'!$D43,0)","v":0},{"$f":"IF(AE94=\"Ja\",'Q_del,j en Q_del,dh'!$D43,0)","v":0},{"$f":"IF(AF94=\"Ja\",'Q_del,j en Q_del,dh'!$D43,0)","v":0},{"$f":"IF(AG94=\"Ja\",'Q_del,j en Q_del,dh'!$D43,0)","v":0},{"$f":"IF(AH94=\"Ja\",'Q_del,j en Q_del,dh'!$D43,0)","v":0},{"$f":"IF(AI94=\"Ja\",'Q_del,j en Q_del,dh'!$D43,0)","v":0},{"$f":"IF(AJ94=\"Ja\",'Q_del,j en Q_del,dh'!$D43,0)","v":0},{"$f":"IF(AK94=\"Ja\",'Q_del,j en Q_del,dh'!$D43,0)","v":0},{"$f":"IF(AL94=\"Ja\",'Q_del,j en Q_del,dh'!$D43,0)","v":0},{"$f":"IF(AM94=\"Ja\",'Q_del,j en Q_del,dh'!$D43,0)","v":0},{"$f":"IF(AN94=\"Ja\",'Q_del,j en Q_del,dh'!$D43,0)","v":0},{"$f":"IF(AO94=\"Ja\",'Q_del,j en Q_del,dh'!$D43,0)","v":0},{"$f":"IF(AP94=\"Ja\",'Q_del,j en Q_del,dh'!$D43,0)","v":0},{"$f":"IF(AQ94=\"Ja\",'Q_del,j en Q_del,dh'!$D43,0)","v":0},{"$f":"IF(AR94=\"Ja\",'Q_del,j en Q_del,dh'!$D43,0)","v":0},{"$f":"IF(AS94=\"Ja\",'Q_del,j en Q_del,dh'!$D43,0)","v":0},{"$f":"IF(AT94=\"Ja\",'Q_del,j en Q_del,dh'!$D43,0)","v":0},{"$f":"IF(AU94=\"Ja\",'Q_del,j en Q_del,dh'!$D43,0)","v":0},{"$f":"IF(AV94=\"Ja\",'Q_del,j en Q_del,dh'!$D43,0)","v":0},{"$f":"IF(AW94=\"Ja\",'Q_del,j en Q_del,dh'!$D43,0)","v":0},{"$f":"IF(AX94=\"Ja\",'Q_del,j en Q_del,dh'!$D43,0)","v":0},{"$f":"IF(AY94=\"Ja\",'Q_del,j en Q_del,dh'!$D43,0)","v":0},{"$f":"IF(AZ94=\"Ja\",'Q_del,j en Q_del,dh'!$D43,0)","v":0},{"$f":"IF(BA94=\"Ja\",'Q_del,j en Q_del,dh'!$D43,0)","v":0}]
["Qdel,l,j [MJ]","warmtevrager 37",37,{"$f":"IF(D95=\"Ja\",'Q_del,j en Q_del,dh'!$D44,0)","v":0},{"$f":"IF(E95=\"Ja\",'Q_del,j en Q_del,dh'!$D44,0)","v":0},{"$f":"IF(F95=\"Ja\",'Q_del,j en Q_del,dh'!$D44,0)","v":0},{"$f":"IF(G95=\"Ja\",'Q_del,j en Q_del,dh'!$D44,0)","v":0},{"$f":"IF(H95=\"Ja\",'Q_del,j en Q_del,dh'!$D44,0)","v":0},{"$f":"IF(I95=\"Ja\",'Q_del,j en Q_del,dh'!$D44,0)","v":0},{"$f":"IF(J95=\"Ja\",'Q_del,j en Q_del,dh'!$D44,0)","v":0},{"$f":"IF(K95=\"Ja\",'Q_del,j en Q_del,dh'!$D44,0)","v":0},{"$f":"IF(L95=\"Ja\",'Q_del,j en Q_del,dh'!$D44,0)","v":0},{"$f":"IF(M95=\"Ja\",'Q_del,j en Q_del,dh'!$D44,0)","v":0},{"$f":"IF(N95=\"Ja\",'Q_del,j en Q_del,dh'!$D44,0)","v":0},{"$f":"IF(O95=\"Ja\",'Q_del,j en Q_del,dh'!$D44,0)","v":0},{"$f":"IF(P95=\"Ja\",'Q_del,j en Q_del,dh'!$D44,0)","v":0},{"$f":"IF(Q95=\"Ja\",'Q_del,j en Q_del,dh'!$D44,0)","v":0},{"$f":"IF(R95=\"Ja\",'Q_del,j en Q_del,dh'!$D44,0)","v":0},{"$f":"IF(S95=\"Ja\",'Q_del,j en Q_del,dh'!$D44,0)","v":0},{"$f":"IF(T95=\"Ja\",'Q_del,j en Q_del,dh'!$D44,0)","v":0},{"$f":"IF(U95=\"Ja\",'Q_del,j en Q_del,dh'!$D44,0)","v":0},{"$f":"IF(V95=\"Ja\",'Q_del,j en Q_del,dh'!$D44,0)","v":0},{"$f":"IF(W95=\"Ja\",'Q_del,j en Q_del,dh'!$D44,0)","v":0},{"$f":"IF(X95=\"Ja\",'Q_del,j en Q_del,dh'!$D44,0)","v":0},{"$f":"IF(Y95=\"Ja\",'Q_del,j en Q_del,dh'!$D44,0)","v":0},{"$f":"IF(Z95=\"Ja\",'Q_del,j en Q_del,dh'!$D44,0)","v":0},{"$f":"IF(AA95=\"Ja\",'Q_del,j en Q_del,dh'!$D44,0)","v":0},{"$f":"IF(AB95=\"Ja\",'Q_del,j en Q_del,dh'!$D44,0)","v":0},{"$f":"IF(AC95=\"Ja\",'Q_del,j en Q_del,dh'!$D44,0)","v":0},{"$f":"IF(AD95=\"Ja\",'Q_del,j en Q_del,dh'!$D44,0)","v":0},{"$f":"IF(AE95=\"Ja\",'Q_del,j en Q_del,dh'!$D44,0)","v":0},{"$f":"IF(AF95=\"Ja\",'Q_del,j en Q_del,dh'!$D44,0)","v":0},{"$f":"IF(AG95=\"Ja\",'Q_del,j en Q_del,dh'!$D44,0)","v":0},{"$f":"IF(AH95=\"Ja\",'Q_del,j en Q_del,dh'!$D44,0)","v":0},{"$f":"IF(AI95=\"Ja\",'Q_del,j en Q_del,dh'!$D44,0)","v":0},{"$f":"IF(AJ95=\"Ja\",'Q_del,j en Q_del,dh'!$D44,0)","v":0},{"$f":"IF(AK95=\"Ja\",'Q_del,j en Q_del,dh'!$D44,0)","v":0},{"$f":"IF(AL95=\"Ja\",'Q_del,j en Q_del,dh'!$D44,0)","v":0},{"$f":"IF(AM95=\"Ja\",'Q_del,j en Q_del,dh'!$D44,0)","v":0},{"$f":"IF(AN95=\"Ja\",'Q_del,j en Q_del,dh'!$D44,0)","v":0},{"$f":"IF(AO95=\"Ja\",'Q_del,j en Q_del,dh'!$D44,0)","v":0},{"$f":"IF(AP95=\"Ja\",'Q_del,j en Q_del,dh'!$D44,0)","v":0},{"$f":"IF(AQ95=\"Ja\",'Q_del,j en Q_del,dh'!$D44,0)","v":0},{"$f":"IF(AR95=\"Ja\",'Q_del,j en Q_del,dh'!$D44,0)","v":0},{"$f":"IF(AS95=\"Ja\",'Q_del,j en Q_del,dh'!$D44,0)","v":0},{"$f":"IF(AT95=\"Ja\",'Q_del,j en Q_del,dh'!$D44,0)","v":0},{"$f":"IF(AU95=\"Ja\",'Q_del,j en Q_del,dh'!$D44,0)","v":0},{"$f":"IF(AV95=\"Ja\",'Q_del,j en Q_del,dh'!$D44,0)","v":0},{"$f":"IF(AW95=\"Ja\",'Q_del,j en Q_del,dh'!$D44,0)","v":0},{"$f":"IF(AX95=\"Ja\",'Q_del,j en Q_del,dh'!$D44,0)","v":0},{"$f":"IF(AY95=\"Ja\",'Q_del,j en Q_del,dh'!$D44,0)","v":0},{"$f":"IF(AZ95=\"Ja\",'Q_del,j en Q_del,dh'!$D44,0)","v":0},{"$f":"IF(BA95=\"Ja\",'Q_del,j en Q_del,dh'!$D44,0)","v":0}]
["Qdel,l,j [MJ]","warmtevrager 38",38,{"$f":"IF(D96=\"Ja\",'Q_del,j en Q_del,dh'!$D45,0)","v":0},{"$f":"IF(E96=\"Ja\",'Q_del,j en Q_del,dh'!$D45,0)","v":0},{"$f":"IF(F96=\"Ja\",'Q_del,j en Q_del,dh'!$D45,0)","v":0},{"$f":"IF(G96=\"Ja\",'Q_del,j en Q_del,dh'!$D45,0)","v":0},{"$f":"IF(H96=\"Ja\",'Q_del,j en Q_del,dh'!$D45,0)","v":0},{"$f":"IF(I96=\"Ja\",'Q_del,j en Q_del,dh'!$D45,0)","v":0},{"$f":"IF(J96=\"Ja\",'Q_del,j en Q_del,dh'!$D45,0)","v":0},{"$f":"IF(K96=\"Ja\",'Q_del,j en Q_del,dh'!$D45,0)","v":0},{"$f":"IF(L96=\"Ja\",'Q_del,j en Q_del,dh'!$D45,0)","v":0},{"$f":"IF(M96=\"Ja\",'Q_del,j en Q_del,dh'!$D45,0)","v":0},{"$f":"IF(N96=\"Ja\",'Q_del,j en Q_del,dh'!$D45,0)","v":0},{"$f":"IF(O96=\"Ja\",'Q_del,j en Q_del,dh'!$D45,0)","v":0},{"$f":"IF(P96=\"Ja\",'Q_del,j en Q_del,dh'!$D45,0)","v":0},{"$f":"IF(Q96=\"Ja\",'Q_del,j en Q_del,dh'!$D45,0)","v":0},{"$f":"IF(R96=\"Ja\",'Q_del,j en Q_del,dh'!$D45,0)","v":0},{"$f":"IF(S96=\"Ja\",'Q_del,j en Q_del,dh'!$D45,0)","v":0},{"$f":"IF(T96=\"Ja\",'Q_del,j en Q_del,dh'!$D45,0)","v":0},{"$f":"IF(U96=\"Ja\",'Q_del,j en Q_del,dh'!$D45,0)","v":0},{"$f":"IF(V96=\"Ja\",'Q_del,j en Q_del,dh'!$D45,0)","v":0},{"$f":"IF(W96=\"Ja\",'Q_del,j en Q_del,dh'!$D45,0)","v":0},{"$f":"IF(X96=\"Ja\",'Q_del,j en Q_del,dh'!$D45,0)","v":0},{"$f":"IF(Y96=\"Ja\",'Q_del,j en Q_del,dh'!$D45,0)","v":0},{"$f":"IF(Z96=\"Ja\",'Q_del,j en Q_del,dh'!$D45,0)","v":0},{"$f":"IF(AA96=\"Ja\",'Q_del,j en Q_del,dh'!$D45,0)","v":0},{"$f":"IF(AB96=\"Ja\",'Q_del,j en Q_del,dh'!$D45,0)","v":0},{"$f":"IF(AC96=\"Ja\",'Q_del,j en Q_del,dh'!$D45,0)","v":0},{"$f":"IF(AD96=\"Ja\",'Q_del,j en Q_del,dh'!$D45,0)","v":0},{"$f":"IF(AE96=\"Ja\",'Q_del,j en Q_del,dh'!$D45,0)","v":0},{"$f":"IF(AF96=\"Ja\",'Q_del,j en Q_del,dh'!$D45,0)","v":0},{"$f":"IF(AG96=\"Ja\",'Q_del,j en Q_del,dh'!$D45,0)","v":0},{"$f":"IF(AH96=\"Ja\",'Q_del,j en Q_del,dh'!$D45,0)","v":0},{"$f":"IF(AI96=\"Ja\",'Q_del,j en Q_del,dh'!$D45,0)","v":0},{"$f":"IF(AJ96=\"Ja\",'Q_del,j en Q_del,dh'!$D45,0)","v":0},{"$f":"IF(AK96=\"Ja\",'Q_del,j en Q_del,dh'!$D45,0)","v":0},{"$f":"IF(AL96=\"Ja\",'Q_del,j en Q_del,dh'!$D45,0)","v":0},{"$f":"IF(AM96=\"Ja\",'Q_del,j en Q_del,dh'!$D45,0)","v":0},{"$f":"IF(AN96=\"Ja\",'Q_del,j en Q_del,dh'!$D45,0)","v":0},{"$f":"IF(AO96=\"Ja\",'Q_del,j en Q_del,dh'!$D45,0)","v":0},{"$f":"IF(AP96=\"Ja\",'Q_del,j en Q_del,dh'!$D45,0)","v":0},{"$f":"IF(AQ96=\"Ja\",'Q_del,j en Q_del,dh'!$D45,0)","v":0},{"$f":"IF(AR96=\"Ja\",'Q_del,j en Q_del,dh'!$D45,0)","v":0},{"$f":"IF(AS96=\"Ja\",'Q_del,j en Q_del,dh'!$D45,0)","v":0},{"$f":"IF(AT96=\"Ja\",'Q_del,j en Q_del,dh'!$D45,0)","v":0},{"$f":"IF(AU96=\"Ja\",'Q_del,j en Q_del,dh'!$D45,0)","v":0},{"$f":"IF(AV96=\"Ja\",'Q_del,j en Q_del,dh'!$D45,0)","v":0},{"$f":"IF(AW96=\"Ja\",'Q_del,j en Q_del,dh'!$D45,0)","v":0},{"$f":"IF(AX96=\"Ja\",'Q_del,j en Q_del,dh'!$D45,0)","v":0},{"$f":"IF(AY96=\"Ja\",'Q_del,j en Q_del,dh'!$D45,0)","v":0},{"$f":"IF(AZ96=\"Ja\",'Q_del,j en Q_del,dh'!$D45,0)","v":0},{"$f":"IF(BA96=\"Ja\",'Q_del,j en Q_del,dh'!$D45,0)","v":0}]
["Qdel,l,j [MJ]","warmtevrager 39",39,{"$f":"IF(D97=\"Ja\",'Q_del,j en Q_del,dh'!$D46,0)","v":0},{"$f":"IF(E97=\"Ja\",'Q_del,j en Q_del,dh'!$D46,0)","v":0},{"$f":"IF(F97=\"Ja\",'Q_del,j en Q_del,dh'!$D46,0)","v":0},{"$f":"IF(G97=\"Ja\",'Q_del,j en Q_del,dh'!$D46,0)","v":0},{"$f":"IF(H97=\"Ja\",'Q_del,j en Q_del,dh'!$D46,0)","v":0},{"$f":"IF(I97=\"Ja\",'Q_del,j en Q_del,dh'!$D46,0)","v":0},{"$f":"IF(J97=\"Ja\",'Q_del,j en Q_del,dh'!$D46,0)","v":0},{"$f":"IF(K97=\"Ja\",'Q_del,j en Q_del,dh'!$D46,0)","v":0},{"$f":"IF(L97=\"Ja\",'Q_del,j en Q_del,dh'!$D46,0)","v":0},{"$f":"IF(M97=\"Ja\",'Q_del,j en Q_del,dh'!$D46,0)","v":0},{"$f":"IF(N97=\"Ja\",'Q_del,j en Q_del,dh'!$D46,0)","v":0},{"$f":"IF(O97=\"Ja\",'Q_del,j en Q_del,dh'!$D46,0)","v":0},{"$f":"IF(P97=\"Ja\",'Q_del,j en Q_del,dh'!$D46,0)","v":0},{"$f":"IF(Q97=\"Ja\",'Q_del,j en Q_del,dh'!$D46,0)","v":0},{"$f":"IF(R97=\"Ja\",'Q_del,j en Q_del,dh'!$D46,0)","v":0},{"$f":"IF(S97=\"Ja\",'Q_del,j en Q_del,dh'!$D46,0)","v":0},{"$f":"IF(T97=\"Ja\",'Q_del,j en Q_del,dh'!$D46,0)","v":0},{"$f":"IF(U97=\"Ja\",'Q_del,j en Q_del,dh'!$D46,0)","v":0},{"$f":"IF(V97=\"Ja\",'Q_del,j en Q_del,dh'!$D46,0)","v":0},{"$f":"IF(W97=\"Ja\",'Q_del,j en Q_del,dh'!$D46,0)","v":0},{"$f":"IF(X97=\"Ja\",'Q_del,j en Q_del,dh'!$D46,0)","v":0},{"$f":"IF(Y97=\"Ja\",'Q_del,j en Q_del,dh'!$D46,0)","v":0},{"$f":"IF(Z97=\"Ja\",'Q_del,j en Q_del,dh'!$D46,0)","v":0},{"$f":"IF(AA97=\"Ja\",'Q_del,j en Q_del,dh'!$D46,0)","v":0},{"$f":"IF(AB97=\"Ja\",'Q_del,j en Q_del,dh'!$D46,0)","v":0},{"$f":"IF(AC97=\"Ja\",'Q_del,j en Q_del,dh'!$D46,0)","v":0},{"$f":"IF(AD97=\"Ja\",'Q_del,j en Q_del,dh'!$D46,0)","v":0},{"$f":"IF(AE97=\"Ja\",'Q_del,j en Q_del,dh'!$D46,0)","v":0},{"$f":"IF(AF97=\"Ja\",'Q_del,j en Q_del,dh'!$D46,0)","v":0},{"$f":"IF(AG97=\"Ja\",'Q_del,j en Q_del,dh'!$D46,0)","v":0},{"$f":"IF(AH97=\"Ja\",'Q_del,j en Q_del,dh'!$D46,0)","v":0},{"$f":"IF(AI97=\"Ja\",'Q_del,j en Q_del,dh'!$D46,0)","v":0},{"$f":"IF(AJ97=\"Ja\",'Q_del,j en Q_del,dh'!$D46,0)","v":0},{"$f":"IF(AK97=\"Ja\",'Q_del,j en Q_del,dh'!$D46,0)","v":0},{"$f":"IF(AL97=\"Ja\",'Q_del,j en Q_del,dh'!$D46,0)","v":0},{"$f":"IF(AM97=\"Ja\",'Q_del,j en Q_del,dh'!$D46,0)","v":0},{"$f":"IF(AN97=\"Ja\",'Q_del,j en Q_del,dh'!$D46,0)","v":0},{"$f":"IF(AO97=\"Ja\",'Q_del,j en Q_del,dh'!$D46,0)","v":0},{"$f":"IF(AP97=\"Ja\",'Q_del,j en Q_del,dh'!$D46,0)","v":0},{"$f":"IF(AQ97=\"Ja\",'Q_del,j en Q_del,dh'!$D46,0)","v":0},{"$f":"IF(AR97=\"Ja\",'Q_del,j en Q_del,dh'!$D46,0)","v":0},{"$f":"IF(AS97=\"Ja\",'Q_del,j en Q_del,dh'!$D46,0)","v":0},{"$f":"IF(AT97=\"Ja\",'Q_del,j en Q_del,dh'!$D46,0)","v":0},{"$f":"IF(AU97=\"Ja\",'Q_del,j en Q_del,dh'!$D46,0)","v":0},{"$f":"IF(AV97=\"Ja\",'Q_del,j en Q_del,dh'!$D46,0)","v":0},{"$f":"IF(AW97=\"Ja\",'Q_del,j en Q_del,dh'!$D46,0)","v":0},{"$f":"IF(AX97=\"Ja\",'Q_del,j en Q_del,dh'!$D46,0)","v":0},{"$f":"IF(AY97=\"Ja\",'Q_del,j en Q_del,dh'!$D46,0)","v":0},{"$f":"IF(AZ97=\"Ja\",'Q_del,j en Q_del,dh'!$D46,0)","v":0},{"$f":"IF(BA97=\"Ja\",'Q_del,j en Q_del,dh'!$D46,0)","v":0}]
["Qdel,l,j [MJ]","warmtevrager 40",40,{"$f":"IF(D98=\"Ja\",'Q_del,j en Q_del,dh'!$D47,0)","v":0},{"$f":"IF(E98=\"Ja\",'Q_del,j en Q_del,dh'!$D47,0)","v":0},{"$f":"IF(F98=\"Ja\",'Q_del,j en Q_del,dh'!$D47,0)","v":0},{"$f":"IF(G98=\"Ja\",'Q_del,j en Q_del,dh'!$D47,0)","v":0},{"$f":"IF(H98=\"Ja\",'Q_del,j en Q_del,dh'!$D47,0)","v":0},{"$f":"IF(I98=\"Ja\",'Q_del,j en Q_del,dh'!$D47,0)","v":0},{"$f":"IF(J98=\"Ja\",'Q_del,j en Q_del,dh'!$D47,0)","v":0},{"$f":"IF(K98=\"Ja\",'Q_del,j en Q_del,dh'!$D47,0)","v":0},{"$f":"IF(L98=\"Ja\",'Q_del,j en Q_del,dh'!$D47,0)","v":0},{"$f":"IF(M98=\"Ja\",'Q_del,j en Q_del,dh'!$D47,0)","v":0},{"$f":"IF(N98=\"Ja\",'Q_del,j en Q_del,dh'!$D47,0)","v":0},{"$f":"IF(O98=\"Ja\",'Q_del,j en Q_del,dh'!$D47,0)","v":0},{"$f":"IF(P98=\"Ja\",'Q_del,j en Q_del,dh'!$D47,0)","v":0},{"$f":"IF(Q98=\"Ja\",'Q_del,j en Q_del,dh'!$D47,0)","v":0},{"$f":"IF(R98=\"Ja\",'Q_del,j en Q_del,dh'!$D47,0)","v":0},{"$f":"IF(S98=\"Ja\",'Q_del,j en Q_del,dh'!$D47,0)","v":0},{"$f":"IF(T98=\"Ja\",'Q_del,j en Q_del,dh'!$D47,0)","v":0},{"$f":"IF(U98=\"Ja\",'Q_del,j en Q_del,dh'!$D47,0)","v":0},{"$f":"IF(V98=\"Ja\",'Q_del,j en Q_del,dh'!$D47,0)","v":0},{"$f":"IF(W98=\"Ja\",'Q_del,j en Q_del,dh'!$D47,0)","v":0},{"$f":"IF(X98=\"Ja\",'Q_del,j en Q_del,dh'!$D47,0)","v":0},{"$f":"IF(Y98=\"Ja\",'Q_del,j en Q_del,dh'!$D47,0)","v":0},{"$f":"IF(Z98=\"Ja\",'Q_del,j en Q_del,dh'!$D47,0)","v":0},{"$f":"IF(AA98=\"Ja\",'Q_del,j en Q_del,dh'!$D47,0)","v":0},{"$f":"IF(AB98=\"Ja\",'Q_del,j en Q_del,dh'!$D47,0)","v":0},{"$f":"IF(AC98=\"Ja\",'Q_del,j en Q_del,dh'!$D47,0)","v":0},{"$f":"IF(AD98=\"Ja\",'Q_del,j en Q_del,dh'!$D47,0)","v":0},{"$f":"IF(AE98=\"Ja\",'Q_del,j en Q_del,dh'!$D47,0)","v":0},{"$f":"IF(AF98=\"Ja\",'Q_del,j en Q_del,dh'!$D47,0)","v":0},{"$f":"IF(AG98=\"Ja\",'Q_del,j en Q_del,dh'!$D47,0)","v":0},{"$f":"IF(AH98=\"Ja\",'Q_del,j en Q_del,dh'!$D47,0)","v":0},{"$f":"IF(AI98=\"Ja\",'Q_del,j en Q_del,dh'!$D47,0)","v":0},{"$f":"IF(AJ98=\"Ja\",'Q_del,j en Q_del,dh'!$D47,0)","v":0},{"$f":"IF(AK98=\"Ja\",'Q_del,j en Q_del,dh'!$D47,0)","v":0},{"$f":"IF(AL98=\"Ja\",'Q_del,j en Q_del,dh'!$D47,0)","v":0},{"$f":"IF(AM98=\"Ja\",'Q_del,j en Q_del,dh'!$D47,0)","v":0},{"$f":"IF(AN98=\"Ja\",'Q_del,j en Q_del,dh'!$D47,0)","v":0},{"$f":"IF(AO98=\"Ja\",'Q_del,j en Q_del,dh'!$D47,0)","v":0},{"$f":"IF(AP98=\"Ja\",'Q_del,j en Q_del,dh'!$D47,0)","v":0},{"$f":"IF(AQ98=\"Ja\",'Q_del,j en Q_del,dh'!$D47,0)","v":0},{"$f":"IF(AR98=\"Ja\",'Q_del,j en Q_del,dh'!$D47,0)","v":0},{"$f":"IF(AS98=\"Ja\",'Q_del,j en Q_del,dh'!$D47,0)","v":0},{"$f":"IF(AT98=\"Ja\",'Q_del,j en Q_del,dh'!$D47,0)","v":0},{"$f":"IF(AU98=\"Ja\",'Q_del,j en Q_del,dh'!$D47,0)","v":0},{"$f":"IF(AV98=\"Ja\",'Q_del,j en Q_del,dh'!$D47,0)","v":0},{"$f":"IF(AW98=\"Ja\",'Q_del,j en Q_del,dh'!$D47,0)","v":0},{"$f":"IF(AX98=\"Ja\",'Q_del,j en Q_del,dh'!$D47,0)","v":0},{"$f":"IF(AY98=\"Ja\",'Q_del,j en Q_del,dh'!$D47,0)","v":0},{"$f":"IF(AZ98=\"Ja\",'Q_del,j en Q_del,dh'!$D47,0)","v":0},{"$f":"IF(BA98=\"Ja\",'Q_del,j en Q_del,dh'!$D47,0)","v":0}]
["Qdel,l,j [MJ]","warmtevrager 41",41,{"$f":"IF(D99=\"Ja\",'Q_del,j en Q_del,dh'!$D48,0)","v":0},{"$f":"IF(E99=\"Ja\",'Q_del,j en Q_del,dh'!$D48,0)","v":0},{"$f":"IF(F99=\"Ja\",'Q_del,j en Q_del,dh'!$D48,0)","v":0},{"$f":"IF(G99=\"Ja\",'Q_del,j en Q_del,dh'!$D48,0)","v":0},{"$f":"IF(H99=\"Ja\",'Q_del,j en Q_del,dh'!$D48,0)","v":0},{"$f":"IF(I99=\"Ja\",'Q_del,j en Q_del,dh'!$D48,0)","v":0},{"$f":"IF(J99=\"Ja\",'Q_del,j en Q_del,dh'!$D48,0)","v":0},{"$f":"IF(K99=\"Ja\",'Q_del,j en Q_del,dh'!$D48,0)","v":0},{"$f":"IF(L99=\"Ja\",'Q_del,j en Q_del,dh'!$D48,0)","v":0},{"$f":"IF(M99=\"Ja\",'Q_del,j en Q_del,dh'!$D48,0)","v":0},{"$f":"IF(N99=\"Ja\",'Q_del,j en Q_del,dh'!$D48,0)","v":0},{"$f":"IF(O99=\"Ja\",'Q_del,j en Q_del,dh'!$D48,0)","v":0},{"$f":"IF(P99=\"Ja\",'Q_del,j en Q_del,dh'!$D48,0)","v":0},{"$f":"IF(Q99=\"Ja\",'Q_del,j en Q_del,dh'!$D48,0)","v":0},{"$f":"IF(R99=\"Ja\",'Q_del,j en Q_del,dh'!$D48,0)","v":0},{"$f":"IF(S99=\"Ja\",'Q_del,j en Q_del,dh'!$D48,0)","v":0},{"$f":"IF(T99=\"Ja\",'Q_del,j en Q_del,dh'!$D48,0)","v":0},{"$f":"IF(U99=\"Ja\",'Q_del,j en Q_del,dh'!$D48,0)","v":0},{"$f":"IF(V99=\"Ja\",'Q_del,j en Q_del,dh'!$D48,0)","v":0},{"$f":"IF(W99=\"Ja\",'Q_del,j en Q_del,dh'!$D48,0)","v":0},{"$f":"IF(X99=\"Ja\",'Q_del,j en Q_del,dh'!$D48,0)","v":0},{"$f":"IF(Y99=\"Ja\",'Q_del,j en Q_del,dh'!$D48,0)","v":0},{"$f":"IF(Z99=\"Ja\",'Q_del,j en Q_del,dh'!$D48,0)","v":0},{"$f":"IF(AA99=\"Ja\",'Q_del,j en Q_del,dh'!$D48,0)","v":0},{"$f":"IF(AB99=\"Ja\",'Q_del,j en Q_del,dh'!$D48,0)","v":0},{"$f":"IF(AC99=\"Ja\",'Q_del,j en Q_del,dh'!$D48,0)","v":0},{"$f":"IF(AD99=\"Ja\",'Q_del,j en Q_del,dh'!$D48,0)","v":0},{"$f":"IF(AE99=\"Ja\",'Q_del,j en Q_del,dh'!$D48,0)","v":0},{"$f":"IF(AF99=\"Ja\",'Q_del,j en Q_del,dh'!$D48,0)","v":0},{"$f":"IF(AG99=\"Ja\",'Q_del,j en Q_del,dh'!$D48,0)","v":0},{"$f":"IF(AH99=\"Ja\",'Q_del,j en Q_del,dh'!$D48,0)","v":0},{"$f":"IF(AI99=\"Ja\",'Q_del,j en Q_del,dh'!$D48,0)","v":0},{"$f":"IF(AJ99=\"Ja\",'Q_del,j en Q_del,dh'!$D48,0)","v":0},{"$f":"IF(AK99=\"Ja\",'Q_del,j en Q_del,dh'!$D48,0)","v":0},{"$f":"IF(AL99=\"Ja\",'Q_del,j en Q_del,dh'!$D48,0)","v":0},{"$f":"IF(AM99=\"Ja\",'Q_del,j en Q_del,dh'!$D48,0)","v":0},{"$f":"IF(AN99=\"Ja\",'Q_del,j en Q_del,dh'!$D48,0)","v":0},{"$f":"IF(AO99=\"Ja\",'Q_del,j en Q_del,dh'!$D48,0)","v":0},{"$f":"IF(AP99=\"Ja\",'Q_del,j en Q_del,dh'!$D48,0)","v":0},{"$f":"IF(AQ99=\"Ja\",'Q_del,j en Q_del,dh'!$D48,0)","v":0},{"$f":"IF(AR99=\"Ja\",'Q_del,j en Q_del,dh'!$D48,0)","v":0},{"$f":"IF(AS99=\"Ja\",'Q_del,j en Q_del,dh'!$D48,0)","v":0},{"$f":"IF(AT99=\"Ja\",'Q_del,j en Q_del,dh'!$D48,0)","v":0},{"$f":"IF(AU99=\"Ja\",'Q_del,j en Q_del,dh'!$D48,0)","v":0},{"$f":"IF(AV99=\"Ja\",'Q_del,j en Q_del,dh'!$D48,0)","v":0},{"$f":"IF(AW99=\"Ja\",'Q_del,j en Q_del,dh'!$D48,0)","v":0},{"$f":"IF(AX99=\"Ja\",'Q_del,j en Q_del,dh'!$D48,0)","v":0},{"$f":"IF(AY99=\"Ja\",'Q_del,j en Q_del,dh'!$D48,0)","v":0},{"$f":"IF(AZ99=\"Ja\",'Q_del,j en Q_del,dh'!$D48,0)","v":0},{"$f":"IF(BA99=\"Ja\",'Q_del,j en Q_del,dh'!$D48,0)","v":0}]
["Qdel,l,j [MJ]","warmtevrager 42",42,{"$f":"IF(D100=\"Ja\",'Q_del,j en Q_del,dh'!$D49,0)","v":0},{"$f":"IF(E100=\"Ja\",'Q_del,j en Q_del,dh'!$D49,0)","v":0},{"$f":"IF(F100=\"Ja\",'Q_del,j en Q_del,dh'!$D49,0)","v":0},{"$f":"IF(G100=\"Ja\",'Q_del,j en Q_del,dh'!$D49,0)","v":0},{"$f":"IF(H100=\"Ja\",'Q_del,j en Q_del,dh'!$D49,0)","v":0},{"$f":"IF(I100=\"Ja\",'Q_del,j en Q_del,dh'!$D49,0)","v":0},{"$f":"IF(J100=\"Ja\",'Q_del,j en Q_del,dh'!$D49,0)","v":0},{"$f":"IF(K100=\"Ja\",'Q_del,j en Q_del,dh'!$D49,0)","v":0},{"$f":"IF(L100=\"Ja\",'Q_del,j en Q_del,dh'!$D49,0)","v":0},{"$f":"IF(M100=\"Ja\",'Q_del,j en Q_del,dh'!$D49,0)","v":0},{"$f":"IF(N100=\"Ja\",'Q_del,j en Q_del,dh'!$D49,0)","v":0},{"$f":"IF(O100=\"Ja\",'Q_del,j en Q_del,dh'!$D49,0)","v":0},{"$f":"IF(P100=\"Ja\",'Q_del,j en Q_del,dh'!$D49,0)","v":0},{"$f":"IF(Q100=\"Ja\",'Q_del,j en Q_del,dh'!$D49,0)","v":0},{"$f":"IF(R100=\"Ja\",'Q_del,j en Q_del,dh'!$D49,0)","v":0},{"$f":"IF(S100=\"Ja\",'Q_del,j en Q_del,dh'!$D49,0)","v":0},{"$f":"IF(T100=\"Ja\",'Q_del,j en Q_del,dh'!$D49,0)","v":0},{"$f":"IF(U100=\"Ja\",'Q_del,j en Q_del,dh'!$D49,0)","v":0},{"$f":"IF(V100=\"Ja\",'Q_del,j en Q_del,dh'!$D49,0)","v":0},{"$f":"IF(W100=\"Ja\",'Q_del,j en Q_del,dh'!$D49,0)","v":0},{"$f":"IF(X100=\"Ja\",'Q_del,j en Q_del,dh'!$D49,0)","v":0},{"$f":"IF(Y100=\"Ja\",'Q_del,j en Q_del,dh'!$D49,0)","v":0},{"$f":"IF(Z100=\"Ja\",'Q_del,j en Q_del,dh'!$D49,0)","v":0},{"$f":"IF(AA100=\"Ja\",'Q_del,j en Q_del,dh'!$D49,0)","v":0},{"$f":"IF(AB100=\"Ja\",'Q_del,j en Q_del,dh'!$D49,0)","v":0},{"$f":"IF(AC100=\"Ja\",'Q_del,j en Q_del,dh'!$D49,0)","v":0},{"$f":"IF(AD100=\"Ja\",'Q_del,j en Q_del,dh'!$D49,0)","v":0},{"$f":"IF(AE100=\"Ja\",'Q_del,j en Q_del,dh'!$D49,0)","v":0},{"$f":"IF(AF100=\"Ja\",'Q_del,j en Q_del,dh'!$D49,0)","v":0},{"$f":"IF(AG100=\"Ja\",'Q_del,j en Q_del,dh'!$D49,0)","v":0},{"$f":"IF(AH100=\"Ja\",'Q_del,j en Q_del,dh'!$D49,0)","v":0},{"$f":"IF(AI100=\"Ja\",'Q_del,j en Q_del,dh'!$D49,0)","v":0},{"$f":"IF(AJ100=\"Ja\",'Q_del,j en Q_del,dh'!$D49,0)","v":0},{"$f":"IF(AK100=\"Ja\",'Q_del,j en Q_del,dh'!$D49,0)","v":0},{"$f":"IF(AL100=\"Ja\",'Q_del,j en Q_del,dh'!$D49,0)","v":0},{"$f":"IF(AM100=\"Ja\",'Q_del,j en Q_del,dh'!$D49,0)","v":0},{"$f":"IF(AN100=\"Ja\",'Q_del,j en Q_del,dh'!$D49,0)","v":0},{"$f":"IF(AO100=\"Ja\",'Q_del,j en Q_del,dh'!$D49,0)","v":0},{"$f":"IF(AP100=\"Ja\",'Q_del,j en Q_del,dh'!$D49,0)","v":0},{"$f":"IF(AQ100=\"Ja\",'Q_del,j en Q_del,dh'!$D49,0)","v":0},{"$f":"IF(AR100=\"Ja\",'Q_del,j en Q_del,dh'!$D49,0)","v":0},{"$f":"IF(AS100=\"Ja\",'Q_del,j en Q_del,dh'!$D49,0)","v":0},{"$f":"IF(AT100=\"Ja\",'Q_del,j en Q_del,dh'!$D49,0)","v":0},{"$f":"IF(AU100=\"Ja\",'Q_del,j en Q_del,dh'!$D49,0)","v":0},{"$f":"IF(AV100=\"Ja\",'Q_del,j en Q_del,dh'!$D49,0)","v":0},{"$f":"IF(AW100=\"Ja\",'Q_del,j en Q_del,dh'!$D49,0)","v":0},{"$f":"IF(AX100=\"Ja\",'Q_del,j en Q_del,dh'!$D49,0)","v":0},{"$f":"IF(AY100=\"Ja\",'Q_del,j en Q_del,dh'!$D49,0)","v":0},{"$f":"IF(AZ100=\"Ja\",'Q_del,j en Q_del,dh'!$D49,0)","v":0},{"$f":"IF(BA100=\"Ja\",'Q_del,j en Q_del,dh'!$D49,0)","v":0}]
["Qdel,l,j [MJ]","warmtevrager 43",43,{"$f":"IF(D101=\"Ja\",'Q_del,j en Q_del,dh'!$D50,0)","v":0},{"$f":"IF(E101=\"Ja\",'Q_del,j en Q_del,dh'!$D50,0)","v":0},{"$f":"IF(F101=\"Ja\",'Q_del,j en Q_del,dh'!$D50,0)","v":0},{"$f":"IF(G101=\"Ja\",'Q_del,j en Q_del,dh'!$D50,0)","v":0},{"$f":"IF(H101=\"Ja\",'Q_del,j en Q_del,dh'!$D50,0)","v":0},{"$f":"IF(I101=\"Ja\",'Q_del,j en Q_del,dh'!$D50,0)","v":0},{"$f":"IF(J101=\"Ja\",'Q_del,j en Q_del,dh'!$D50,0)","v":0},{"$f":"IF(K101=\"Ja\",'Q_del,j en Q_del,dh'!$D50,0)","v":0},{"$f":"IF(L101=\"Ja\",'Q_del,j en Q_del,dh'!$D50,0)","v":0},{"$f":"IF(M101=\"Ja\",'Q_del,j en Q_del,dh'!$D50,0)","v":0},{"$f":"IF(N101=\"Ja\",'Q_del,j en Q_del,dh'!$D50,0)","v":0},{"$f":"IF(O101=\"Ja\",'Q_del,j en Q_del,dh'!$D50,0)","v":0},{"$f":"IF(P101=\"Ja\",'Q_del,j en Q_del,dh'!$D50,0)","v":0},{"$f":"IF(Q101=\"Ja\",'Q_del,j en Q_del,dh'!$D50,0)","v":0},{"$f":"IF(R101=\"Ja\",'Q_del,j en Q_del,dh'!$D50,0)","v":0},{"$f":"IF(S101=\"Ja\",'Q_del,j en Q_del,dh'!$D50,0)","v":0},{"$f":"IF(T101=\"Ja\",'Q_del,j en Q_del,dh'!$D50,0)","v":0},{"$f":"IF(U101=\"Ja\",'Q_del,j en Q_del,dh'!$D50,0)","v":0},{"$f":"IF(V101=\"Ja\",'Q_del,j en Q_del,dh'!$D50,0)","v":0},{"$f":"IF(W101=\"Ja\",'Q_del,j en Q_del,dh'!$D50,0)","v":0},{"$f":"IF(X101=\"Ja\",'Q_del,j en Q_del,dh'!$D50,0)","v":0},{"$f":"IF(Y101=\"Ja\",'Q_del,j en Q_del,dh'!$D50,0)","v":0},{"$f":"IF(Z101=\"Ja\",'Q_del,j en Q_del,dh'!$D50,0)","v":0},{"$f":"IF(AA101=\"Ja\",'Q_del,j en Q_del,dh'!$D50,0)","v":0},{"$f":"IF(AB101=\"Ja\",'Q_del,j en Q_del,dh'!$D50,0)","v":0},{"$f":"IF(AC101=\"Ja\",'Q_del,j en Q_del,dh'!$D50,0)","v":0},{"$f":"IF(AD101=\"Ja\",'Q_del,j en Q_del,dh'!$D50,0)","v":0},{"$f":"IF(AE101=\"Ja\",'Q_del,j en Q_del,dh'!$D50,0)","v":0},{"$f":"IF(AF101=\"Ja\",'Q_del,j en Q_del,dh'!$D50,0)","v":0},{"$f":"IF(AG101=\"Ja\",'Q_del,j en Q_del,dh'!$D50,0)","v":0},{"$f":"IF(AH101=\"Ja\",'Q_del,j en Q_del,dh'!$D50,0)","v":0},{"$f":"IF(AI101=\"Ja\",'Q_del,j en Q_del,dh'!$D50,0)","v":0},{"$f":"IF(AJ101=\"Ja\",'Q_del,j en Q_del,dh'!$D50,0)","v":0},{"$f":"IF(AK101=\"Ja\",'Q_del,j en Q_del,dh'!$D50,0)","v":0},{"$f":"IF(AL101=\"Ja\",'Q_del,j en Q_del,dh'!$D50,0)","v":0},{"$f":"IF(AM101=\"Ja\",'Q_del,j en Q_del,dh'!$D50,0)","v":0},{"$f":"IF(AN101=\"Ja\",'Q_del,j en Q_del,dh'!$D50,0)","v":0},{"$f":"IF(AO101=\"Ja\",'Q_del,j en Q_del,dh'!$D50,0)","v":0},{"$f":"IF(AP101=\"Ja\",'Q_del,j en Q_del,dh'!$D50,0)","v":0},{"$f":"IF(AQ101=\"Ja\",'Q_del,j en Q_del,dh'!$D50,0)","v":0},{"$f":"IF(AR101=\"Ja\",'Q_del,j en Q_del,dh'!$D50,0)","v":0},{"$f":"IF(AS101=\"Ja\",'Q_del,j en Q_del,dh'!$D50,0)","v":0},{"$f":"IF(AT101=\"Ja\",'Q_del,j en Q_del,dh'!$D50,0)","v":0},{"$f":"IF(AU101=\"Ja\",'Q_del,j en Q_del,dh'!$D50,0)","v":0},{"$f":"IF(AV101=\"Ja\",'Q_del,j en Q_del,dh'!$D50,0)","v":0},{"$f":"IF(AW101=\"Ja\",'Q_del,j en Q_del,dh'!$D50,0)","v":0},{"$f":"IF(AX101=\"Ja\",'Q_del,j en Q_del,dh'!$D50,0)","v":0},{"$f":"IF(AY101=\"Ja\",'Q_del,j en Q_del,dh'!$D50,0)","v":0},{"$f":"IF(AZ101=\"Ja\",'Q_del,j en Q_del,dh'!$D50,0)","v":0},{"$f":"IF(BA101=\"Ja\",'Q_del,j en Q_del,dh'!$D50,0)","v":0}]
["Qdel,l,j [MJ]","warmtevrager 44",44,{"$f":"IF(D102=\"Ja\",'Q_del,j en Q_del,dh'!$D51,0)","v":0},{"$f":"IF(E102=\"Ja\",'Q_del,j en Q_del,dh'!$D51,0)","v":0},{"$f":"IF(F102=\"Ja\",'Q_del,j en Q_del,dh'!$D51,0)","v":0},{"$f":"IF(G102=\"Ja\",'Q_del,j en Q_del,dh'!$D51,0)","v":0},{"$f":"IF(H102=\"Ja\",'Q_del,j en Q_del,dh'!$D51,0)","v":0},{"$f":"IF(I102=\"Ja\",'Q_del,j en Q_del,dh'!$D51,0)","v":0},{"$f":"IF(J102=\"Ja\",'Q_del,j en Q_del,dh'!$D51,0)","v":0},{"$f":"IF(K102=\"Ja\",'Q_del,j en Q_del,dh'!$D51,0)","v":0},{"$f":"IF(L102=\"Ja\",'Q_del,j en Q_del,dh'!$D51,0)","v":0},{"$f":"IF(M102=\"Ja\",'Q_del,j en Q_del,dh'!$D51,0)","v":0},{"$f":"IF(N102=\"Ja\",'Q_del,j en Q_del,dh'!$D51,0)","v":0},{"$f":"IF(O102=\"Ja\",'Q_del,j en Q_del,dh'!$D51,0)","v":0},{"$f":"IF(P102=\"Ja\",'Q_del,j en Q_del,dh'!$D51,0)","v":0},{"$f":"IF(Q102=\"Ja\",'Q_del,j en Q_del,dh'!$D51,0)","v":0},{"$f":"IF(R102=\"Ja\",'Q_del,j en Q_del,dh'!$D51,0)","v":0},{"$f":"IF(S102=\"Ja\",'Q_del,j en Q_del,dh'!$D51,0)","v":0},{"$f":"IF(T102=\"Ja\",'Q_del,j en Q_del,dh'!$D51,0)","v":0},{"$f":"IF(U102=\"Ja\",'Q_del,j en Q_del,dh'!$D51,0)","v":0},{"$f":"IF(V102=\"Ja\",'Q_del,j en Q_del,dh'!$D51,0)","v":0},{"$f":"IF(W102=\"Ja\",'Q_del,j en Q_del,dh'!$D51,0)","v":0},{"$f":"IF(X102=\"Ja\",'Q_del,j en Q_del,dh'!$D51,0)","v":0},{"$f":"IF(Y102=\"Ja\",'Q_del,j en Q_del,dh'!$D51,0)","v":0},{"$f":"IF(Z102=\"Ja\",'Q_del,j en Q_del,dh'!$D51,0)","v":0},{"$f":"IF(AA102=\"Ja\",'Q_del,j en Q_del,dh'!$D51,0)","v":0},{"$f":"IF(AB102=\"Ja\",'Q_del,j en Q_del,dh'!$D51,0)","v":0},{"$f":"IF(AC102=\"Ja\",'Q_del,j en Q_del,dh'!$D51,0)","v":0},{"$f":"IF(AD102=\"Ja\",'Q_del,j en Q_del,dh'!$D51,0)","v":0},{"$f":"IF(AE102=\"Ja\",'Q_del,j en Q_del,dh'!$D51,0)","v":0},{"$f":"IF(AF102=\"Ja\",'Q_del,j en Q_del,dh'!$D51,0)","v":0},{"$f":"IF(AG102=\"Ja\",'Q_del,j en Q_del,dh'!$D51,0)","v":0},{"$f":"IF(AH102=\"Ja\",'Q_del,j en Q_del,dh'!$D51,0)","v":0},{"$f":"IF(AI102=\"Ja\",'Q_del,j en Q_del,dh'!$D51,0)","v":0},{"$f":"IF(AJ102=\"Ja\",'Q_del,j en Q_del,dh'!$D51,0)","v":0},{"$f":"IF(AK102=\"Ja\",'Q_del,j en Q_del,dh'!$D51,0)","v":0},{"$f":"IF(AL102=\"Ja\",'Q_del,j en Q_del,dh'!$D51,0)","v":0},{"$f":"IF(AM102=\"Ja\",'Q_del,j en Q_del,dh'!$D51,0)","v":0},{"$f":"IF(AN102=\"Ja\",'Q_del,j en Q_del,dh'!$D51,0)","v":0},{"$f":"IF(AO102=\"Ja\",'Q_del,j en Q_del,dh'!$D51,0)","v":0},{"$f":"IF(AP102=\"Ja\",'Q_del,j en Q_del,dh'!$D51,0)","v":0},{"$f":"IF(AQ102=\"Ja\",'Q_del,j en Q_del,dh'!$D51,0)","v":0},{"$f":"IF(AR102=\"Ja\",'Q_del,j en Q_del,dh'!$D51,0)","v":0},{"$f":"IF(AS102=\"Ja\",'Q_del,j en Q_del,dh'!$D51,0)","v":0},{"$f":"IF(AT102=\"Ja\",'Q_del,j en Q_del,dh'!$D51,0)","v":0},{"$f":"IF(AU102=\"Ja\",'Q_del,j en Q_del,dh'!$D51,0)","v":0},{"$f":"IF(AV102=\"Ja\",'Q_del,j en Q_del,dh'!$D51,0)","v":0},{"$f":"IF(AW102=\"Ja\",'Q_del,j en Q_del,dh'!$D51,0)","v":0},{"$f":"IF(AX102=\"Ja\",'Q_del,j en Q_del,dh'!$D51,0)","v":0},{"$f":"IF(AY102=\"Ja\",'Q_del,j en Q_del,dh'!$D51,0)","v":0},{"$f":"IF(AZ102=\"Ja\",'Q_del,j en Q_del,dh'!$D51,0)","v":0},{"$f":"IF(BA102=\"Ja\",'Q_del,j en Q_del,dh'!$D51,0)","v":0}]
["Qdel,l,j [MJ]","warmtevrager 45",45,{"$f":"IF(D103=\"Ja\",'Q_del,j en Q_del,dh'!$D52,0)","v":0},{"$f":"IF(E103=\"Ja\",'Q_del,j en Q_del,dh'!$D52,0)","v":0},{"$f":"IF(F103=\"Ja\",'Q_del,j en Q_del,dh'!$D52,0)","v":0},{"$f":"IF(G103=\"Ja\",'Q_del,j en Q_del,dh'!$D52,0)","v":0},{"$f":"IF(H103=\"Ja\",'Q_del,j en Q_del,dh'!$D52,0)","v":0},{"$f":"IF(I103=\"Ja\",'Q_del,j en Q_del,dh'!$D52,0)","v":0},{"$f":"IF(J103=\"Ja\",'Q_del,j en Q_del,dh'!$D52,0)","v":0},{"$f":"IF(K103=\"Ja\",'Q_del,j en Q_del,dh'!$D52,0)","v":0},{"$f":"IF(L103=\"Ja\",'Q_del,j en Q_del,dh'!$D52,0)","v":0},{"$f":"IF(M103=\"Ja\",'Q_del,j en Q_del,dh'!$D52,0)","v":0},{"$f":"IF(N103=\"Ja\",'Q_del,j en Q_del,dh'!$D52,0)","v":0},{"$f":"IF(O103=\"Ja\",'Q_del,j en Q_del,dh'!$D52,0)","v":0},{"$f":"IF(P103=\"Ja\",'Q_del,j en Q_del,dh'!$D52,0)","v":0},{"$f":"IF(Q103=\"Ja\",'Q_del,j en Q_del,dh'!$D52,0)","v":0},{"$f":"IF(R103=\"Ja\",'Q_del,j en Q_del,dh'!$D52,0)","v":0},{"$f":"IF(S103=\"Ja\",'Q_del,j en Q_del,dh'!$D52,0)","v":0},{"$f":"IF(T103=\"Ja\",'Q_del,j en Q_del,dh'!$D52,0)","v":0},{"$f":"IF(U103=\"Ja\",'Q_del,j en Q_del,dh'!$D52,0)","v":0},{"$f":"IF(V103=\"Ja\",'Q_del,j en Q_del,dh'!$D52,0)","v":0},{"$f":"IF(W103=\"Ja\",'Q_del,j en Q_del,dh'!$D52,0)","v":0},{"$f":"IF(X103=\"Ja\",'Q_del,j en Q_del,dh'!$D52,0)","v":0},{"$f":"IF(Y103=\"Ja\",'Q_del,j en Q_del,dh'!$D52,0)","v":0},{"$f":"IF(Z103=\"Ja\",'Q_del,j en Q_del,dh'!$D52,0)","v":0},{"$f":"IF(AA103=\"Ja\",'Q_del,j en Q_del,dh'!$D52,0)","v":0},{"$f":"IF(AB103=\"Ja\",'Q_del,j en Q_del,dh'!$D52,0)","v":0},{"$f":"IF(AC103=\"Ja\",'Q_del,j en Q_del,dh'!$D52,0)","v":0},{"$f":"IF(AD103=\"Ja\",'Q_del,j en Q_del,dh'!$D52,0)","v":0},{"$f":"IF(AE103=\"Ja\",'Q_del,j en Q_del,dh'!$D52,0)","v":0},{"$f":"IF(AF103=\"Ja\",'Q_del,j en Q_del,dh'!$D52,0)","v":0},{"$f":"IF(AG103=\"Ja\",'Q_del,j en Q_del,dh'!$D52,0)","v":0},{"$f":"IF(AH103=\"Ja\",'Q_del,j en Q_del,dh'!$D52,0)","v":0},{"$f":"IF(AI103=\"Ja\",'Q_del,j en Q_del,dh'!$D52,0)","v":0},{"$f":"IF(AJ103=\"Ja\",'Q_del,j en Q_del,dh'!$D52,0)","v":0},{"$f":"IF(AK103=\"Ja\",'Q_del,j en Q_del,dh'!$D52,0)","v":0},{"$f":"IF(AL103=\"Ja\",'Q_del,j en Q_del,dh'!$D52,0)","v":0},{"$f":"IF(AM103=\"Ja\",'Q_del,j en Q_del,dh'!$D52,0)","v":0},{"$f":"IF(AN103=\"Ja\",'Q_del,j en Q_del,dh'!$D52,0)","v":0},{"$f":"IF(AO103=\"Ja\",'Q_del,j en Q_del,dh'!$D52,0)","v":0},{"$f":"IF(AP103=\"Ja\",'Q_del,j en Q_del,dh'!$D52,0)","v":0},{"$f":"IF(AQ103=\"Ja\",'Q_del,j en Q_del,dh'!$D52,0)","v":0},{"$f":"IF(AR103=\"Ja\",'Q_del,j en Q_del,dh'!$D52,0)","v":0},{"$f":"IF(AS103=\"Ja\",'Q_del,j en Q_del,dh'!$D52,0)","v":0},{"$f":"IF(AT103=\"Ja\",'Q_del,j en Q_del,dh'!$D52,0)","v":0},{"$f":"IF(AU103=\"Ja\",'Q_del,j en Q_del,dh'!$D52,0)","v":0},{"$f":"IF(AV103=\"Ja\",'Q_del,j en Q_del,dh'!$D52,0)","v":0},{"$f":"IF(AW103=\"Ja\",'Q_del,j en Q_del,dh'!$D52,0)","v":0},{"$f":"IF(AX103=\"Ja\",'Q_del,j en Q_del,dh'!$D52,0)","v":0},{"$f":"IF(AY103=\"Ja\",'Q_del,j en Q_del,dh'!$D52,0)","v":0},{"$f":"IF(AZ103=\"Ja\",'Q_del,j en Q_del,dh'!$D52,0)","v":0},{"$f":"IF(BA103=\"Ja\",'Q_del,j en Q_del,dh'!$D52,0)","v":0}]
["Qdel,l,j [MJ]","warmtevrager 46",46,{"$f":"IF(D104=\"Ja\",'Q_del,j en Q_del,dh'!$D53,0)","v":0},{"$f":"IF(E104=\"Ja\",'Q_del,j en Q_del,dh'!$D53,0)","v":0},{"$f":"IF(F104=\"Ja\",'Q_del,j en Q_del,dh'!$D53,0)","v":0},{"$f":"IF(G104=\"Ja\",'Q_del,j en Q_del,dh'!$D53,0)","v":0},{"$f":"IF(H104=\"Ja\",'Q_del,j en Q_del,dh'!$D53,0)","v":0},{"$f":"IF(I104=\"Ja\",'Q_del,j en Q_del,dh'!$D53,0)","v":0},{"$f":"IF(J104=\"Ja\",'Q_del,j en Q_del,dh'!$D53,0)","v":0},{"$f":"IF(K104=\"Ja\",'Q_del,j en Q_del,dh'!$D53,0)","v":0},{"$f":"IF(L104=\"Ja\",'Q_del,j en Q_del,dh'!$D53,0)","v":0},{"$f":"IF(M104=\"Ja\",'Q_del,j en Q_del,dh'!$D53,0)","v":0},{"$f":"IF(N104=\"Ja\",'Q_del,j en Q_del,dh'!$D53,0)","v":0},{"$f":"IF(O104=\"Ja\",'Q_del,j en Q_del,dh'!$D53,0)","v":0},{"$f":"IF(P104=\"Ja\",'Q_del,j en Q_del,dh'!$D53,0)","v":0},{"$f":"IF(Q104=\"Ja\",'Q_del,j en Q_del,dh'!$D53,0)","v":0},{"$f":"IF(R104=\"Ja\",'Q_del,j en Q_del,dh'!$D53,0)","v":0},{"$f":"IF(S104=\"Ja\",'Q_del,j en Q_del,dh'!$D53,0)","v":0},{"$f":"IF(T104=\"Ja\",'Q_del,j en Q_del,dh'!$D53,0)","v":0},{"$f":"IF(U104=\"Ja\",'Q_del,j en Q_del,dh'!$D53,0)","v":0},{"$f":"IF(V104=\"Ja\",'Q_del,j en Q_del,dh'!$D53,0)","v":0},{"$f":"IF(W104=\"Ja\",'Q_del,j en Q_del,dh'!$D53,0)","v":0},{"$f":"IF(X104=\"Ja\",'Q_del,j en Q_del,dh'!$D53,0)","v":0},{"$f":"IF(Y104=\"Ja\",'Q_del,j en Q_del,dh'!$D53,0)","v":0},{"$f":"IF(Z104=\"Ja\",'Q_del,j en Q_del,dh'!$D53,0)","v":0},{"$f":"IF(AA104=\"Ja\",'Q_del,j en Q_del,dh'!$D53,0)","v":0},{"$f":"IF(AB104=\"Ja\",'Q_del,j en Q_del,dh'!$D53,0)","v":0},{"$f":"IF(AC104=\"Ja\",'Q_del,j en Q_del,dh'!$D53,0)","v":0},{"$f":"IF(AD104=\"Ja\",'Q_del,j en Q_del,dh'!$D53,0)","v":0},{"$f":"IF(AE104=\"Ja\",'Q_del,j en Q_del,dh'!$D53,0)","v":0},{"$f":"IF(AF104=\"Ja\",'Q_del,j en Q_del,dh'!$D53,0)","v":0},{"$f":"IF(AG104=\"Ja\",'Q_del,j en Q_del,dh'!$D53,0)","v":0},{"$f":"IF(AH104=\"Ja\",'Q_del,j en Q_del,dh'!$D53,0)","v":0},{"$f":"IF(AI104=\"Ja\",'Q_del,j en Q_del,dh'!$D53,0)","v":0},{"$f":"IF(AJ104=\"Ja\",'Q_del,j en Q_del,dh'!$D53,0)","v":0},{"$f":"IF(AK104=\"Ja\",'Q_del,j en Q_del,dh'!$D53,0)","v":0},{"$f":"IF(AL104=\"Ja\",'Q_del,j en Q_del,dh'!$D53,0)","v":0},{"$f":"IF(AM104=\"Ja\",'Q_del,j en Q_del,dh'!$D53,0)","v":0},{"$f":"IF(AN104=\"Ja\",'Q_del,j en Q_del,dh'!$D53,0)","v":0},{"$f":"IF(AO104=\"Ja\",'Q_del,j en Q_del,dh'!$D53,0)","v":0},{"$f":"IF(AP104=\"Ja\",'Q_del,j en Q_del,dh'!$D53,0)","v":0},{"$f":"IF(AQ104=\"Ja\",'Q_del,j en Q_del,dh'!$D53,0)","v":0},{"$f":"IF(AR104=\"Ja\",'Q_del,j en Q_del,dh'!$D53,0)","v":0},{"$f":"IF(AS104=\"Ja\",'Q_del,j en Q_del,dh'!$D53,0)","v":0},{"$f":"IF(AT104=\"Ja\",'Q_del,j en Q_del,dh'!$D53,0)","v":0},{"$f":"IF(AU104=\"Ja\",'Q_del,j en Q_del,dh'!$D53,0)","v":0},{"$f":"IF(AV104=\"Ja\",'Q_del,j en Q_del,dh'!$D53,0)","v":0},{"$f":"IF(AW104=\"Ja\",'Q_del,j en Q_del,dh'!$D53,0)","v":0},{"$f":"IF(AX104=\"Ja\",'Q_del,j en Q_del,dh'!$D53,0)","v":0},{"$f":"IF(AY104=\"Ja\",'Q_del,j en Q_del,dh'!$D53,0)","v":0},{"$f":"IF(AZ104=\"Ja\",'Q_del,j en Q_del,dh'!$D53,0)","v":0},{"$f":"IF(BA104=\"Ja\",'Q_del,j en Q_del,dh'!$D53,0)","v":0}]
["Qdel,l,j [MJ]","warmtevrager 47",47,{"$f":"IF(D105=\"Ja\",'Q_del,j en Q_del,dh'!$D54,0)","v":0},{"$f":"IF(E105=\"Ja\",'Q_del,j en Q_del,dh'!$D54,0)","v":0},{"$f":"IF(F105=\"Ja\",'Q_del,j en Q_del,dh'!$D54,0)","v":0},{"$f":"IF(G105=\"Ja\",'Q_del,j en Q_del,dh'!$D54,0)","v":0},{"$f":"IF(H105=\"Ja\",'Q_del,j en Q_del,dh'!$D54,0)","v":0},{"$f":"IF(I105=\"Ja\",'Q_del,j en Q_del,dh'!$D54,0)","v":0},{"$f":"IF(J105=\"Ja\",'Q_del,j en Q_del,dh'!$D54,0)","v":0},{"$f":"IF(K105=\"Ja\",'Q_del,j en Q_del,dh'!$D54,0)","v":0},{"$f":"IF(L105=\"Ja\",'Q_del,j en Q_del,dh'!$D54,0)","v":0},{"$f":"IF(M105=\"Ja\",'Q_del,j en Q_del,dh'!$D54,0)","v":0},{"$f":"IF(N105=\"Ja\",'Q_del,j en Q_del,dh'!$D54,0)","v":0},{"$f":"IF(O105=\"Ja\",'Q_del,j en Q_del,dh'!$D54,0)","v":0},{"$f":"IF(P105=\"Ja\",'Q_del,j en Q_del,dh'!$D54,0)","v":0},{"$f":"IF(Q105=\"Ja\",'Q_del,j en Q_del,dh'!$D54,0)","v":0},{"$f":"IF(R105=\"Ja\",'Q_del,j en Q_del,dh'!$D54,0)","v":0},{"$f":"IF(S105=\"Ja\",'Q_del,j en Q_del,dh'!$D54,0)","v":0},{"$f":"IF(T105=\"Ja\",'Q_del,j en Q_del,dh'!$D54,0)","v":0},{"$f":"IF(U105=\"Ja\",'Q_del,j en Q_del,dh'!$D54,0)","v":0},{"$f":"IF(V105=\"Ja\",'Q_del,j en Q_del,dh'!$D54,0)","v":0},{"$f":"IF(W105=\"Ja\",'Q_del,j en Q_del,dh'!$D54,0)","v":0},{"$f":"IF(X105=\"Ja\",'Q_del,j en Q_del,dh'!$D54,0)","v":0},{"$f":"IF(Y105=\"Ja\",'Q_del,j en Q_del,dh'!$D54,0)","v":0},{"$f":"IF(Z105=\"Ja\",'Q_del,j en Q_del,dh'!$D54,0)","v":0},{"$f":"IF(AA105=\"Ja\",'Q_del,j en Q_del,dh'!$D54,0)","v":0},{"$f":"IF(AB105=\"Ja\",'Q_del,j en Q_del,dh'!$D54,0)","v":0},{"$f":"IF(AC105=\"Ja\",'Q_del,j en Q_del,dh'!$D54,0)","v":0},{"$f":"IF(AD105=\"Ja\",'Q_del,j en Q_del,dh'!$D54,0)","v":0},{"$f":"IF(AE105=\"Ja\",'Q_del,j en Q_del,dh'!$D54,0)","v":0},{"$f":"IF(AF105=\"Ja\",'Q_del,j en Q_del,dh'!$D54,0)","v":0},{"$f":"IF(AG105=\"Ja\",'Q_del,j en Q_del,dh'!$D54,0)","v":0},{"$f":"IF(AH105=\"Ja\",'Q_del,j en Q_del,dh'!$D54,0)","v":0},{"$f":"IF(AI105=\"Ja\",'Q_del,j en Q_del,dh'!$D54,0)","v":0},{"$f":"IF(AJ105=\"Ja\",'Q_del,j en Q_del,dh'!$D54,0)","v":0},{"$f":"IF(AK105=\"Ja\",'Q_del,j en Q_del,dh'!$D54,0)","v":0},{"$f":"IF(AL105=\"Ja\",'Q_del,j en Q_del,dh'!$D54,0)","v":0},{"$f":"IF(AM105=\"Ja\",'Q_del,j en Q_del,dh'!$D54,0)","v":0},{"$f":"IF(AN105=\"Ja\",'Q_del,j en Q_del,dh'!$D54,0)","v":0},{"$f":"IF(AO105=\"Ja\",'Q_del,j en Q_del,dh'!$D54,0)","v":0},{"$f":"IF(AP105=\"Ja\",'Q_del,j en Q_del,dh'!$D54,0)","v":0},{"$f":"IF(AQ105=\"Ja\",'Q_del,j en Q_del,dh'!$D54,0)","v":0},{"$f":"IF(AR105=\"Ja\",'Q_del,j en Q_del,dh'!$D54,0)","v":0},{"$f":"IF(AS105=\"Ja\",'Q_del,j en Q_del,dh'!$D54,0)","v":0},{"$f":"IF(AT105=\"Ja\",'Q_del,j en Q_del,dh'!$D54,0)","v":0},{"$f":"IF(AU105=\"Ja\",'Q_del,j en Q_del,dh'!$D54,0)","v":0},{"$f":"IF(AV105=\"Ja\",'Q_del,j en Q_del,dh'!$D54,0)","v":0},{"$f":"IF(AW105=\"Ja\",'Q_del,j en Q_del,dh'!$D54,0)","v":0},{"$f":"IF(AX105=\"Ja\",'Q_del,j en Q_del,dh'!$D54,0)","v":0},{"$f":"IF(AY105=\"Ja\",'Q_del,j en Q_del,dh'!$D54,0)","v":0},{"$f":"IF(AZ105=\"Ja\",'Q_del,j en Q_del,dh'!$D54,0)","v":0},{"$f":"IF(BA105=\"Ja\",'Q_del,j en Q_del,dh'!$D54,0)","v":0}]
["Qdel,l,j [MJ]","warmtevrager 48",48,{"$f":"IF(D106=\"Ja\",'Q_del,j en Q_del,dh'!$D55,0)","v":0},{"$f":"IF(E106=\"Ja\",'Q_del,j en Q_del,dh'!$D55,0)","v":0},{"$f":"IF(F106=\"Ja\",'Q_del,j en Q_del,dh'!$D55,0)","v":0},{"$f":"IF(G106=\"Ja\",'Q_del,j en Q_del,dh'!$D55,0)","v":0},{"$f":"IF(H106=\"Ja\",'Q_del,j en Q_del,dh'!$D55,0)","v":0},{"$f":"IF(I106=\"Ja\",'Q_del,j en Q_del,dh'!$D55,0)","v":0},{"$f":"IF(J106=\"Ja\",'Q_del,j en Q_del,dh'!$D55,0)","v":0},{"$f":"IF(K106=\"Ja\",'Q_del,j en Q_del,dh'!$D55,0)","v":0},{"$f":"IF(L106=\"Ja\",'Q_del,j en Q_del,dh'!$D55,0)","v":0},{"$f":"IF(M106=\"Ja\",'Q_del,j en Q_del,dh'!$D55,0)","v":0},{"$f":"IF(N106=\"Ja\",'Q_del,j en Q_del,dh'!$D55,0)","v":0},{"$f":"IF(O106=\"Ja\",'Q_del,j en Q_del,dh'!$D55,0)","v":0},{"$f":"IF(P106=\"Ja\",'Q_del,j en Q_del,dh'!$D55,0)","v":0},{"$f":"IF(Q106=\"Ja\",'Q_del,j en Q_del,dh'!$D55,0)","v":0},{"$f":"IF(R106=\"Ja\",'Q_del,j en Q_del,dh'!$D55,0)","v":0},{"$f":"IF(S106=\"Ja\",'Q_del,j en Q_del,dh'!$D55,0)","v":0},{"$f":"IF(T106=\"Ja\",'Q_del,j en Q_del,dh'!$D55,0)","v":0},{"$f":"IF(U106=\"Ja\",'Q_del,j en Q_del,dh'!$D55,0)","v":0},{"$f":"IF(V106=\"Ja\",'Q_del,j en Q_del,dh'!$D55,0)","v":0},{"$f":"IF(W106=\"Ja\",'Q_del,j en Q_del,dh'!$D55,0)","v":0},{"$f":"IF(X106=\"Ja\",'Q_del,j en Q_del,dh'!$D55,0)","v":0},{"$f":"IF(Y106=\"Ja\",'Q_del,j en Q_del,dh'!$D55,0)","v":0},{"$f":"IF(Z106=\"Ja\",'Q_del,j en Q_del,dh'!$D55,0)","v":0},{"$f":"IF(AA106=\"Ja\",'Q_del,j en Q_del,dh'!$D55,0)","v":0},{"$f":"IF(AB106=\"Ja\",'Q_del,j en Q_del,dh'!$D55,0)","v":0},{"$f":"IF(AC106=\"Ja\",'Q_del,j en Q_del,dh'!$D55,0)","v":0},{"$f":"IF(AD106=\"Ja\",'Q_del,j en Q_del,dh'!$D55,0)","v":0},{"$f":"IF(AE106=\"Ja\",'Q_del,j en Q_del,dh'!$D55,0)","v":0},{"$f":"IF(AF106=\"Ja\",'Q_del,j en Q_del,dh'!$D55,0)","v":0},{"$f":"IF(AG106=\"Ja\",'Q_del,j en Q_del,dh'!$D55,0)","v":0},{"$f":"IF(AH106=\"Ja\",'Q_del,j en Q_del,dh'!$D55,0)","v":0},{"$f":"IF(AI106=\"Ja\",'Q_del,j en Q_del,dh'!$D55,0)","v":0},{"$f":"IF(AJ106=\"Ja\",'Q_del,j en Q_del,dh'!$D55,0)","v":0},{"$f":"IF(AK106=\"Ja\",'Q_del,j en Q_del,dh'!$D55,0)","v":0},{"$f":"IF(AL106=\"Ja\",'Q_del,j en Q_del,dh'!$D55,0)","v":0},{"$f":"IF(AM106=\"Ja\",'Q_del,j en Q_del,dh'!$D55,0)","v":0},{"$f":"IF(AN106=\"Ja\",'Q_del,j en Q_del,dh'!$D55,0)","v":0},{"$f":"IF(AO106=\"Ja\",'Q_del,j en Q_del,dh'!$D55,0)","v":0},{"$f":"IF(AP106=\"Ja\",'Q_del,j en Q_del,dh'!$D55,0)","v":0},{"$f":"IF(AQ106=\"Ja\",'Q_del,j en Q_del,dh'!$D55,0)","v":0},{"$f":"IF(AR106=\"Ja\",'Q_del,j en Q_del,dh'!$D55,0)","v":0},{"$f":"IF(AS106=\"Ja\",'Q_del,j en Q_del,dh'!$D55,0)","v":0},{"$f":"IF(AT106=\"Ja\",'Q_del,j en Q_del,dh'!$D55,0)","v":0},{"$f":"IF(AU106=\"Ja\",'Q_del,j en Q_del,dh'!$D55,0)","v":0},{"$f":"IF(AV106=\"Ja\",'Q_del,j en Q_del,dh'!$D55,0)","v":0},{"$f":"IF(AW106=\"Ja\",'Q_del,j en Q_del,dh'!$D55,0)","v":0},{"$f":"IF(AX106=\"Ja\",'Q_del,j en Q_del,dh'!$D55,0)","v":0},{"$f":"IF(AY106=\"Ja\",'Q_del,j en Q_del,dh'!$D55,0)","v":0},{"$f":"IF(AZ106=\"Ja\",'Q_del,j en Q_del,dh'!$D55,0)","v":0},{"$f":"IF(BA106=\"Ja\",'Q_del,j en Q_del,dh'!$D55,0)","v":0}]
["Qdel,l,j [MJ]","warmtevrager 49",49,{"$f":"IF(D107=\"Ja\",'Q_del,j en Q_del,dh'!$D56,0)","v":0},{"$f":"IF(E107=\"Ja\",'Q_del,j en Q_del,dh'!$D56,0)","v":0},{"$f":"IF(F107=\"Ja\",'Q_del,j en Q_del,dh'!$D56,0)","v":0},{"$f":"IF(G107=\"Ja\",'Q_del,j en Q_del,dh'!$D56,0)","v":0},{"$f":"IF(H107=\"Ja\",'Q_del,j en Q_del,dh'!$D56,0)","v":0},{"$f":"IF(I107=\"Ja\",'Q_del,j en Q_del,dh'!$D56,0)","v":0},{"$f":"IF(J107=\"Ja\",'Q_del,j en Q_del,dh'!$D56,0)","v":0},{"$f":"IF(K107=\"Ja\",'Q_del,j en Q_del,dh'!$D56,0)","v":0},{"$f":"IF(L107=\"Ja\",'Q_del,j en Q_del,dh'!$D56,0)","v":0},{"$f":"IF(M107=\"Ja\",'Q_del,j en Q_del,dh'!$D56,0)","v":0},{"$f":"IF(N107=\"Ja\",'Q_del,j en Q_del,dh'!$D56,0)","v":0},{"$f":"IF(O107=\"Ja\",'Q_del,j en Q_del,dh'!$D56,0)","v":0},{"$f":"IF(P107=\"Ja\",'Q_del,j en Q_del,dh'!$D56,0)","v":0},{"$f":"IF(Q107=\"Ja\",'Q_del,j en Q_del,dh'!$D56,0)","v":0},{"$f":"IF(R107=\"Ja\",'Q_del,j en Q_del,dh'!$D56,0)","v":0},{"$f":"IF(S107=\"Ja\",'Q_del,j en Q_del,dh'!$D56,0)","v":0},{"$f":"IF(T107=\"Ja\",'Q_del,j en Q_del,dh'!$D56,0)","v":0},{"$f":"IF(U107=\"Ja\",'Q_del,j en Q_del,dh'!$D56,0)","v":0},{"$f":"IF(V107=\"Ja\",'Q_del,j en Q_del,dh'!$D56,0)","v":0},{"$f":"IF(W107=\"Ja\",'Q_del,j en Q_del,dh'!$D56,0)","v":0},{"$f":"IF(X107=\"Ja\",'Q_del,j en Q_del,dh'!$D56,0)","v":0},{"$f":"IF(Y107=\"Ja\",'Q_del,j en Q_del,dh'!$D56,0)","v":0},{"$f":"IF(Z107=\"Ja\",'Q_del,j en Q_del,dh'!$D56,0)","v":0},{"$f":"IF(AA107=\"Ja\",'Q_del,j en Q_del,dh'!$D56,0)","v":0},{"$f":"IF(AB107=\"Ja\",'Q_del,j en Q_del,dh'!$D56,0)","v":0},{"$f":"IF(AC107=\"Ja\",'Q_del,j en Q_del,dh'!$D56,0)","v":0},{"$f":"IF(AD107=\"Ja\",'Q_del,j en Q_del,dh'!$D56,0)","v":0},{"$f":"IF(AE107=\"Ja\",'Q_del,j en Q_del,dh'!$D56,0)","v":0},{"$f":"IF(AF107=\"Ja\",'Q_del,j en Q_del,dh'!$D56,0)","v":0},{"$f":"IF(AG107=\"Ja\",'Q_del,j en Q_del,dh'!$D56,0)","v":0},{"$f":"IF(AH107=\"Ja\",'Q_del,j en Q_del,dh'!$D56,0)","v":0},{"$f":"IF(AI107=\"Ja\",'Q_del,j en Q_del,dh'!$D56,0)","v":0},{"$f":"IF(AJ107=\"Ja\",'Q_del,j en Q_del,dh'!$D56,0)","v":0},{"$f":"IF(AK107=\"Ja\",'Q_del,j en Q_del,dh'!$D56,0)","v":0},{"$f":"IF(AL107=\"Ja\",'Q_del,j en Q_del,dh'!$D56,0)","v":0},{"$f":"IF(AM107=\"Ja\",'Q_del,j en Q_del,dh'!$D56,0)","v":0},{"$f":"IF(AN107=\"Ja\",'Q_del,j en Q_del,dh'!$D56,0)","v":0},{"$f":"IF(AO107=\"Ja\",'Q_del,j en Q_del,dh'!$D56,0)","v":0},{"$f":"IF(AP107=\"Ja\",'Q_del,j en Q_del,dh'!$D56,0)","v":0},{"$f":"IF(AQ107=\"Ja\",'Q_del,j en Q_del,dh'!$D56,0)","v":0},{"$f":"IF(AR107=\"Ja\",'Q_del,j en Q_del,dh'!$D56,0)","v":0},{"$f":"IF(AS107=\"Ja\",'Q_del,j en Q_del,dh'!$D56,0)","v":0},{"$f":"IF(AT107=\"Ja\",'Q_del,j en Q_del,dh'!$D56,0)","v":0},{"$f":"IF(AU107=\"Ja\",'Q_del,j en Q_del,dh'!$D56,0)","v":0},{"$f":"IF(AV107=\"Ja\",'Q_del,j en Q_del,dh'!$D56,0)","v":0},{"$f":"IF(AW107=\"Ja\",'Q_del,j en Q_del,dh'!$D56,0)","v":0},{"$f":"IF(AX107=\"Ja\",'Q_del,j en Q_del,dh'!$D56,0)","v":0},{"$f":"IF(AY107=\"Ja\",'Q_del,j en Q_del,dh'!$D56,0)","v":0},{"$f":"IF(AZ107=\"Ja\",'Q_del,j en Q_del,dh'!$D56,0)","v":0},{"$f":"IF(BA107=\"Ja\",'Q_del,j en Q_del,dh'!$D56,0)","v":0}]
["Qdel,l,j [MJ]","warmtevrager 50",50,{"$f":"IF(D108=\"Ja\",'Q_del,j en Q_del,dh'!$D57,0)","v":0},{"$f":"IF(E108=\"Ja\",'Q_del,j en Q_del,dh'!$D57,0)","v":0},{"$f":"IF(F108=\"Ja\",'Q_del,j en Q_del,dh'!$D57,0)","v":0},{"$f":"IF(G108=\"Ja\",'Q_del,j en Q_del,dh'!$D57,0)","v":0},{"$f":"IF(H108=\"Ja\",'Q_del,j en Q_del,dh'!$D57,0)","v":0},{"$f":"IF(I108=\"Ja\",'Q_del,j en Q_del,dh'!$D57,0)","v":0},{"$f":"IF(J108=\"Ja\",'Q_del,j en Q_del,dh'!$D57,0)","v":0},{"$f":"IF(K108=\"Ja\",'Q_del,j en Q_del,dh'!$D57,0)","v":0},{"$f":"IF(L108=\"Ja\",'Q_del,j en Q_del,dh'!$D57,0)","v":0},{"$f":"IF(M108=\"Ja\",'Q_del,j en Q_del,dh'!$D57,0)","v":0},{"$f":"IF(N108=\"Ja\",'Q_del,j en Q_del,dh'!$D57,0)","v":0},{"$f":"IF(O108=\"Ja\",'Q_del,j en Q_del,dh'!$D57,0)","v":0},{"$f":"IF(P108=\"Ja\",'Q_del,j en Q_del,dh'!$D57,0)","v":0},{"$f":"IF(Q108=\"Ja\",'Q_del,j en Q_del,dh'!$D57,0)","v":0},{"$f":"IF(R108=\"Ja\",'Q_del,j en Q_del,dh'!$D57,0)","v":0},{"$f":"IF(S108=\"Ja\",'Q_del,j en Q_del,dh'!$D57,0)","v":0},{"$f":"IF(T108=\"Ja\",'Q_del,j en Q_del,dh'!$D57,0)","v":0},{"$f":"IF(U108=\"Ja\",'Q_del,j en Q_del,dh'!$D57,0)","v":0},{"$f":"IF(V108=\"Ja\",'Q_del,j en Q_del,dh'!$D57,0)","v":0},{"$f":"IF(W108=\"Ja\",'Q_del,j en Q_del,dh'!$D57,0)","v":0},{"$f":"IF(X108=\"Ja\",'Q_del,j en Q_del,dh'!$D57,0)","v":0},{"$f":"IF(Y108=\"Ja\",'Q_del,j en Q_del,dh'!$D57,0)","v":0},{"$f":"IF(Z108=\"Ja\",'Q_del,j en Q_del,dh'!$D57,0)","v":0},{"$f":"IF(AA108=\"Ja\",'Q_del,j en Q_del,dh'!$D57,0)","v":0},{"$f":"IF(AB108=\"Ja\",'Q_del,j en Q_del,dh'!$D57,0)","v":0},{"$f":"IF(AC108=\"Ja\",'Q_del,j en Q_del,dh'!$D57,0)","v":0},{"$f":"IF(AD108=\"Ja\",'Q_del,j en Q_del,dh'!$D57,0)","v":0},{"$f":"IF(AE108=\"Ja\",'Q_del,j en Q_del,dh'!$D57,0)","v":0},{"$f":"IF(AF108=\"Ja\",'Q_del,j en Q_del,dh'!$D57,0)","v":0},{"$f":"IF(AG108=\"Ja\",'Q_del,j en Q_del,dh'!$D57,0)","v":0},{"$f":"IF(AH108=\"Ja\",'Q_del,j en Q_del,dh'!$D57,0)","v":0},{"$f":"IF(AI108=\"Ja\",'Q_del,j en Q_del,dh'!$D57,0)","v":0},{"$f":"IF(AJ108=\"Ja\",'Q_del,j en Q_del,dh'!$D57,0)","v":0},{"$f":"IF(AK108=\"Ja\",'Q_del,j en Q_del,dh'!$D57,0)","v":0},{"$f":"IF(AL108=\"Ja\",'Q_del,j en Q_del,dh'!$D57,0)","v":0},{"$f":"IF(AM108=\"Ja\",'Q_del,j en Q_del,dh'!$D57,0)","v":0},{"$f":"IF(AN108=\"Ja\",'Q_del,j en Q_del,dh'!$D57,0)","v":0},{"$f":"IF(AO108=\"Ja\",'Q_del,j en Q_del,dh'!$D57,0)","v":0},{"$f":"IF(AP108=\"Ja\",'Q_del,j en Q_del,dh'!$D57,0)","v":0},{"$f":"IF(AQ108=\"Ja\",'Q_del,j en Q_del,dh'!$D57,0)","v":0},{"$f":"IF(AR108=\"Ja\",'Q_del,j en Q_del,dh'!$D57,0)","v":0},{"$f":"IF(AS108=\"Ja\",'Q_del,j en Q_del,dh'!$D57,0)","v":0},{"$f":"IF(AT108=\"Ja\",'Q_del,j en Q_del,dh'!$D57,0)","v":0},{"$f":"IF(AU108=\"Ja\",'Q_del,j en Q_del,dh'!$D57,0)","v":0},{"$f":"IF(AV108=\"Ja\",'Q_del,j en Q_del,dh'!$D57,0)","v":0},{"$f":"IF(AW108=\"Ja\",'Q_del,j en Q_del,dh'!$D57,0)","v":0},{"$f":"IF(AX108=\"Ja\",'Q_del,j en Q_del,dh'!$D57,0)","v":0},{"$f":"IF(AY108=\"Ja\",'Q_del,j en Q_del,dh'!$D57,0)","v":0},{"$f":"IF(AZ108=\"Ja\",'Q_del,j en Q_del,dh'!$D57,0)","v":0},{"$f":"IF(BA108=\"Ja\",'Q_del,j en Q_del,dh'!$D57,0)","v":0}]
["Qdel,l,j [MJ]","warmtevrager 51",51,{"$f":"IF(D109=\"Ja\",'Q_del,j en Q_del,dh'!$D58,0)","v":0},{"$f":"IF(E109=\"Ja\",'Q_del,j en Q_del,dh'!$D58,0)","v":0},{"$f":"IF(F109=\"Ja\",'Q_del,j en Q_del,dh'!$D58,0)","v":0},{"$f":"IF(G109=\"Ja\",'Q_del,j en Q_del,dh'!$D58,0)","v":0},{"$f":"IF(H109=\"Ja\",'Q_del,j en Q_del,dh'!$D58,0)","v":0},{"$f":"IF(I109=\"Ja\",'Q_del,j en Q_del,dh'!$D58,0)","v":0},{"$f":"IF(J109=\"Ja\",'Q_del,j en Q_del,dh'!$D58,0)","v":0},{"$f":"IF(K109=\"Ja\",'Q_del,j en Q_del,dh'!$D58,0)","v":0},{"$f":"IF(L109=\"Ja\",'Q_del,j en Q_del,dh'!$D58,0)","v":0},{"$f":"IF(M109=\"Ja\",'Q_del,j en Q_del,dh'!$D58,0)","v":0},{"$f":"IF(N109=\"Ja\",'Q_del,j en Q_del,dh'!$D58,0)","v":0},{"$f":"IF(O109=\"Ja\",'Q_del,j en Q_del,dh'!$D58,0)","v":0},{"$f":"IF(P109=\"Ja\",'Q_del,j en Q_del,dh'!$D58,0)","v":0},{"$f":"IF(Q109=\"Ja\",'Q_del,j en Q_del,dh'!$D58,0)","v":0},{"$f":"IF(R109=\"Ja\",'Q_del,j en Q_del,dh'!$D58,0)","v":0},{"$f":"IF(S109=\"Ja\",'Q_del,j en Q_del,dh'!$D58,0)","v":0},{"$f":"IF(T109=\"Ja\",'Q_del,j en Q_del,dh'!$D58,0)","v":0},{"$f":"IF(U109=\"Ja\",'Q_del,j en Q_del,dh'!$D58,0)","v":0},{"$f":"IF(V109=\"Ja\",'Q_del,j en Q_del,dh'!$D58,0)","v":0},{"$f":"IF(W109=\"Ja\",'Q_del,j en Q_del,dh'!$D58,0)","v":0},{"$f":"IF(X109=\"Ja\",'Q_del,j en Q_del,dh'!$D58,0)","v":0},{"$f":"IF(Y109=\"Ja\",'Q_del,j en Q_del,dh'!$D58,0)","v":0},{"$f":"IF(Z109=\"Ja\",'Q_del,j en Q_del,dh'!$D58,0)","v":0},{"$f":"IF(AA109=\"Ja\",'Q_del,j en Q_del,dh'!$D58,0)","v":0},{"$f":"IF(AB109=\"Ja\",'Q_del,j en Q_del,dh'!$D58,0)","v":0},{"$f":"IF(AC109=\"Ja\",'Q_del,j en Q_del,dh'!$D58,0)","v":0},{"$f":"IF(AD109=\"Ja\",'Q_del,j en Q_del,dh'!$D58,0)","v":0},{"$f":"IF(AE109=\"Ja\",'Q_del,j en Q_del,dh'!$D58,0)","v":0},{"$f":"IF(AF109=\"Ja\",'Q_del,j en Q_del,dh'!$D58,0)","v":0},{"$f":"IF(AG109=\"Ja\",'Q_del,j en Q_del,dh'!$D58,0)","v":0},{"$f":"IF(AH109=\"Ja\",'Q_del,j en Q_del,dh'!$D58,0)","v":0},{"$f":"IF(AI109=\"Ja\",'Q_del,j en Q_del,dh'!$D58,0)","v":0},{"$f":"IF(AJ109=\"Ja\",'Q_del,j en Q_del,dh'!$D58,0)","v":0},{"$f":"IF(AK109=\"Ja\",'Q_del,j en Q_del,dh'!$D58,0)","v":0},{"$f":"IF(AL109=\"Ja\",'Q_del,j en Q_del,dh'!$D58,0)","v":0},{"$f":"IF(AM109=\"Ja\",'Q_del,j en Q_del,dh'!$D58,0)","v":0},{"$f":"IF(AN109=\"Ja\",'Q_del,j en Q_del,dh'!$D58,0)","v":0},{"$f":"IF(AO109=\"Ja\",'Q_del,j en Q_del,dh'!$D58,0)","v":0},{"$f":"IF(AP109=\"Ja\",'Q_del,j en Q_del,dh'!$D58,0)","v":0},{"$f":"IF(AQ109=\"Ja\",'Q_del,j en Q_del,dh'!$D58,0)","v":0},{"$f":"IF(AR109=\"Ja\",'Q_del,j en Q_del,dh'!$D58,0)","v":0},{"$f":"IF(AS109=\"Ja\",'Q_del,j en Q_del,dh'!$D58,0)","v":0},{"$f":"IF(AT109=\"Ja\",'Q_del,j en Q_del,dh'!$D58,0)","v":0},{"$f":"IF(AU109=\"Ja\",'Q_del,j en Q_del,dh'!$D58,0)","v":0},{"$f":"IF(AV109=\"Ja\",'Q_del,j en Q_del,dh'!$D58,0)","v":0},{"$f":"IF(AW109=\"Ja\",'Q_del,j en Q_del,dh'!$D58,0)","v":0},{"$f":"IF(AX109=\"Ja\",'Q_del,j en Q_del,dh'!$D58,0)","v":0},{"$f":"IF(AY109=\"Ja\",'Q_del,j en Q_del,dh'!$D58,0)","v":0},{"$f":"IF(AZ109=\"Ja\",'Q_del,j en Q_del,dh'!$D58,0)","v":0},{"$f":"IF(BA109=\"Ja\",'Q_del,j en Q_del,dh'!$D58,0)","v":0}]
["Qdel,l,j [MJ]","warmtevrager 52",52,{"$f":"IF(D110=\"Ja\",'Q_del,j en Q_del,dh'!$D59,0)","v":0},{"$f":"IF(E110=\"Ja\",'Q_del,j en Q_del,dh'!$D59,0)","v":0},{"$f":"IF(F110=\"Ja\",'Q_del,j en Q_del,dh'!$D59,0)","v":0},{"$f":"IF(G110=\"Ja\",'Q_del,j en Q_del,dh'!$D59,0)","v":0},{"$f":"IF(H110=\"Ja\",'Q_del,j en Q_del,dh'!$D59,0)","v":0},{"$f":"IF(I110=\"Ja\",'Q_del,j en Q_del,dh'!$D59,0)","v":0},{"$f":"IF(J110=\"Ja\",'Q_del,j en Q_del,dh'!$D59,0)","v":0},{"$f":"IF(K110=\"Ja\",'Q_del,j en Q_del,dh'!$D59,0)","v":0},{"$f":"IF(L110=\"Ja\",'Q_del,j en Q_del,dh'!$D59,0)","v":0},{"$f":"IF(M110=\"Ja\",'Q_del,j en Q_del,dh'!$D59,0)","v":0},{"$f":"IF(N110=\"Ja\",'Q_del,j en Q_del,dh'!$D59,0)","v":0},{"$f":"IF(O110=\"Ja\",'Q_del,j en Q_del,dh'!$D59,0)","v":0},{"$f":"IF(P110=\"Ja\",'Q_del,j en Q_del,dh'!$D59,0)","v":0},{"$f":"IF(Q110=\"Ja\",'Q_del,j en Q_del,dh'!$D59,0)","v":0},{"$f":"IF(R110=\"Ja\",'Q_del,j en Q_del,dh'!$D59,0)","v":0},{"$f":"IF(S110=\"Ja\",'Q_del,j en Q_del,dh'!$D59,0)","v":0},{"$f":"IF(T110=\"Ja\",'Q_del,j en Q_del,dh'!$D59,0)","v":0},{"$f":"IF(U110=\"Ja\",'Q_del,j en Q_del,dh'!$D59,0)","v":0},{"$f":"IF(V110=\"Ja\",'Q_del,j en Q_del,dh'!$D59,0)","v":0},{"$f":"IF(W110=\"Ja\",'Q_del,j en Q_del,dh'!$D59,0)","v":0},{"$f":"IF(X110=\"Ja\",'Q_del,j en Q_del,dh'!$D59,0)","v":0},{"$f":"IF(Y110=\"Ja\",'Q_del,j en Q_del,dh'!$D59,0)","v":0},{"$f":"IF(Z110=\"Ja\",'Q_del,j en Q_del,dh'!$D59,0)","v":0},{"$f":"IF(AA110=\"Ja\",'Q_del,j en Q_del,dh'!$D59,0)","v":0},{"$f":"IF(AB110=\"Ja\",'Q_del,j en Q_del,dh'!$D59,0)","v":0},{"$f":"IF(AC110=\"Ja\",'Q_del,j en Q_del,dh'!$D59,0)","v":0},{"$f":"IF(AD110=\"Ja\",'Q_del,j en Q_del,dh'!$D59,0)","v":0},{"$f":"IF(AE110=\"Ja\",'Q_del,j en Q_del,dh'!$D59,0)","v":0},{"$f":"IF(AF110=\"Ja\",'Q_del,j en Q_del,dh'!$D59,0)","v":0},{"$f":"IF(AG110=\"Ja\",'Q_del,j en Q_del,dh'!$D59,0)","v":0},{"$f":"IF(AH110=\"Ja\",'Q_del,j en Q_del,dh'!$D59,0)","v":0},{"$f":"IF(AI110=\"Ja\",'Q_del,j en Q_del,dh'!$D59,0)","v":0},{"$f":"IF(AJ110=\"Ja\",'Q_del,j en Q_del,dh'!$D59,0)","v":0},{"$f":"IF(AK110=\"Ja\",'Q_del,j en Q_del,dh'!$D59,0)","v":0},{"$f":"IF(AL110=\"Ja\",'Q_del,j en Q_del,dh'!$D59,0)","v":0},{"$f":"IF(AM110=\"Ja\",'Q_del,j en Q_del,dh'!$D59,0)","v":0},{"$f":"IF(AN110=\"Ja\",'Q_del,j en Q_del,dh'!$D59,0)","v":0},{"$f":"IF(AO110=\"Ja\",'Q_del,j en Q_del,dh'!$D59,0)","v":0},{"$f":"IF(AP110=\"Ja\",'Q_del,j en Q_del,dh'!$D59,0)","v":0},{"$f":"IF(AQ110=\"Ja\",'Q_del,j en Q_del,dh'!$D59,0)","v":0},{"$f":"IF(AR110=\"Ja\",'Q_del,j en Q_del,dh'!$D59,0)","v":0},{"$f":"IF(AS110=\"Ja\",'Q_del,j en Q_del,dh'!$D59,0)","v":0},{"$f":"IF(AT110=\"Ja\",'Q_del,j en Q_del,dh'!$D59,0)","v":0},{"$f":"IF(AU110=\"Ja\",'Q_del,j en Q_del,dh'!$D59,0)","v":0},{"$f":"IF(AV110=\"Ja\",'Q_del,j en Q_del,dh'!$D59,0)","v":0},{"$f":"IF(AW110=\"Ja\",'Q_del,j en Q_del,dh'!$D59,0)","v":0},{"$f":"IF(AX110=\"Ja\",'Q_del,j en Q_del,dh'!$D59,0)","v":0},{"$f":"IF(AY110=\"Ja\",'Q_del,j en Q_del,dh'!$D59,0)","v":0},{"$f":"IF(AZ110=\"Ja\",'Q_del,j en Q_del,dh'!$D59,0)","v":0},{"$f":"IF(BA110=\"Ja\",'Q_del,j en Q_del,dh'!$D59,0)","v":0}]
["Qdel,l,j [MJ]","warmtevrager 53",53,{"$f":"IF(D111=\"Ja\",'Q_del,j en Q_del,dh'!$D60,0)","v":0},{"$f":"IF(E111=\"Ja\",'Q_del,j en Q_del,dh'!$D60,0)","v":0},{"$f":"IF(F111=\"Ja\",'Q_del,j en Q_del,dh'!$D60,0)","v":0},{"$f":"IF(G111=\"Ja\",'Q_del,j en Q_del,dh'!$D60,0)","v":0},{"$f":"IF(H111=\"Ja\",'Q_del,j en Q_del,dh'!$D60,0)","v":0},{"$f":"IF(I111=\"Ja\",'Q_del,j en Q_del,dh'!$D60,0)","v":0},{"$f":"IF(J111=\"Ja\",'Q_del,j en Q_del,dh'!$D60,0)","v":0},{"$f":"IF(K111=\"Ja\",'Q_del,j en Q_del,dh'!$D60,0)","v":0},{"$f":"IF(L111=\"Ja\",'Q_del,j en Q_del,dh'!$D60,0)","v":0},{"$f":"IF(M111=\"Ja\",'Q_del,j en Q_del,dh'!$D60,0)","v":0},{"$f":"IF(N111=\"Ja\",'Q_del,j en Q_del,dh'!$D60,0)","v":0},{"$f":"IF(O111=\"Ja\",'Q_del,j en Q_del,dh'!$D60,0)","v":0},{"$f":"IF(P111=\"Ja\",'Q_del,j en Q_del,dh'!$D60,0)","v":0},{"$f":"IF(Q111=\"Ja\",'Q_del,j en Q_del,dh'!$D60,0)","v":0},{"$f":"IF(R111=\"Ja\",'Q_del,j en Q_del,dh'!$D60,0)","v":0},{"$f":"IF(S111=\"Ja\",'Q_del,j en Q_del,dh'!$D60,0)","v":0},{"$f":"IF(T111=\"Ja\",'Q_del,j en Q_del,dh'!$D60,0)","v":0},{"$f":"IF(U111=\"Ja\",'Q_del,j en Q_del,dh'!$D60,0)","v":0},{"$f":"IF(V111=\"Ja\",'Q_del,j en Q_del,dh'!$D60,0)","v":0},{"$f":"IF(W111=\"Ja\",'Q_del,j en Q_del,dh'!$D60,0)","v":0},{"$f":"IF(X111=\"Ja\",'Q_del,j en Q_del,dh'!$D60,0)","v":0},{"$f":"IF(Y111=\"Ja\",'Q_del,j en Q_del,dh'!$D60,0)","v":0},{"$f":"IF(Z111=\"Ja\",'Q_del,j en Q_del,dh'!$D60,0)","v":0},{"$f":"IF(AA111=\"Ja\",'Q_del,j en Q_del,dh'!$D60,0)","v":0},{"$f":"IF(AB111=\"Ja\",'Q_del,j en Q_del,dh'!$D60,0)","v":0},{"$f":"IF(AC111=\"Ja\",'Q_del,j en Q_del,dh'!$D60,0)","v":0},{"$f":"IF(AD111=\"Ja\",'Q_del,j en Q_del,dh'!$D60,0)","v":0},{"$f":"IF(AE111=\"Ja\",'Q_del,j en Q_del,dh'!$D60,0)","v":0},{"$f":"IF(AF111=\"Ja\",'Q_del,j en Q_del,dh'!$D60,0)","v":0},{"$f":"IF(AG111=\"Ja\",'Q_del,j en Q_del,dh'!$D60,0)","v":0},{"$f":"IF(AH111=\"Ja\",'Q_del,j en Q_del,dh'!$D60,0)","v":0},{"$f":"IF(AI111=\"Ja\",'Q_del,j en Q_del,dh'!$D60,0)","v":0},{"$f":"IF(AJ111=\"Ja\",'Q_del,j en Q_del,dh'!$D60,0)","v":0},{"$f":"IF(AK111=\"Ja\",'Q_del,j en Q_del,dh'!$D60,0)","v":0},{"$f":"IF(AL111=\"Ja\",'Q_del,j en Q_del,dh'!$D60,0)","v":0},{"$f":"IF(AM111=\"Ja\",'Q_del,j en Q_del,dh'!$D60,0)","v":0},{"$f":"IF(AN111=\"Ja\",'Q_del,j en Q_del,dh'!$D60,0)","v":0},{"$f":"IF(AO111=\"Ja\",'Q_del,j en Q_del,dh'!$D60,0)","v":0},{"$f":"IF(AP111=\"Ja\",'Q_del,j en Q_del,dh'!$D60,0)","v":0},{"$f":"IF(AQ111=\"Ja\",'Q_del,j en Q_del,dh'!$D60,0)","v":0},{"$f":"IF(AR111=\"Ja\",'Q_del,j en Q_del,dh'!$D60,0)","v":0},{"$f":"IF(AS111=\"Ja\",'Q_del,j en Q_del,dh'!$D60,0)","v":0},{"$f":"IF(AT111=\"Ja\",'Q_del,j en Q_del,dh'!$D60,0)","v":0},{"$f":"IF(AU111=\"Ja\",'Q_del,j en Q_del,dh'!$D60,0)","v":0},{"$f":"IF(AV111=\"Ja\",'Q_del,j en Q_del,dh'!$D60,0)","v":0},{"$f":"IF(AW111=\"Ja\",'Q_del,j en Q_del,dh'!$D60,0)","v":0},{"$f":"IF(AX111=\"Ja\",'Q_del,j en Q_del,dh'!$D60,0)","v":0},{"$f":"IF(AY111=\"Ja\",'Q_del,j en Q_del,dh'!$D60,0)","v":0},{"$f":"IF(AZ111=\"Ja\",'Q_del,j en Q_del,dh'!$D60,0)","v":0},{"$f":"IF(BA111=\"Ja\",'Q_del,j en Q_del,dh'!$D60,0)","v":0}]
["Qdel,l,j [MJ]","warmtevrager 54",54,{"$f":"IF(D112=\"Ja\",'Q_del,j en Q_del,dh'!$D61,0)","v":0},{"$f":"IF(E112=\"Ja\",'Q_del,j en Q_del,dh'!$D61,0)","v":0},{"$f":"IF(F112=\"Ja\",'Q_del,j en Q_del,dh'!$D61,0)","v":0},{"$f":"IF(G112=\"Ja\",'Q_del,j en Q_del,dh'!$D61,0)","v":0},{"$f":"IF(H112=\"Ja\",'Q_del,j en Q_del,dh'!$D61,0)","v":0},{"$f":"IF(I112=\"Ja\",'Q_del,j en Q_del,dh'!$D61,0)","v":0},{"$f":"IF(J112=\"Ja\",'Q_del,j en Q_del,dh'!$D61,0)","v":0},{"$f":"IF(K112=\"Ja\",'Q_del,j en Q_del,dh'!$D61,0)","v":0},{"$f":"IF(L112=\"Ja\",'Q_del,j en Q_del,dh'!$D61,0)","v":0},{"$f":"IF(M112=\"Ja\",'Q_del,j en Q_del,dh'!$D61,0)","v":0},{"$f":"IF(N112=\"Ja\",'Q_del,j en Q_del,dh'!$D61,0)","v":0},{"$f":"IF(O112=\"Ja\",'Q_del,j en Q_del,dh'!$D61,0)","v":0},{"$f":"IF(P112=\"Ja\",'Q_del,j en Q_del,dh'!$D61,0)","v":0},{"$f":"IF(Q112=\"Ja\",'Q_del,j en Q_del,dh'!$D61,0)","v":0},{"$f":"IF(R112=\"Ja\",'Q_del,j en Q_del,dh'!$D61,0)","v":0},{"$f":"IF(S112=\"Ja\",'Q_del,j en Q_del,dh'!$D61,0)","v":0},{"$f":"IF(T112=\"Ja\",'Q_del,j en Q_del,dh'!$D61,0)","v":0},{"$f":"IF(U112=\"Ja\",'Q_del,j en Q_del,dh'!$D61,0)","v":0},{"$f":"IF(V112=\"Ja\",'Q_del,j en Q_del,dh'!$D61,0)","v":0},{"$f":"IF(W112=\"Ja\",'Q_del,j en Q_del,dh'!$D61,0)","v":0},{"$f":"IF(X112=\"Ja\",'Q_del,j en Q_del,dh'!$D61,0)","v":0},{"$f":"IF(Y112=\"Ja\",'Q_del,j en Q_del,dh'!$D61,0)","v":0},{"$f":"IF(Z112=\"Ja\",'Q_del,j en Q_del,dh'!$D61,0)","v":0},{"$f":"IF(AA112=\"Ja\",'Q_del,j en Q_del,dh'!$D61,0)","v":0},{"$f":"IF(AB112=\"Ja\",'Q_del,j en Q_del,dh'!$D61,0)","v":0},{"$f":"IF(AC112=\"Ja\",'Q_del,j en Q_del,dh'!$D61,0)","v":0},{"$f":"IF(AD112=\"Ja\",'Q_del,j en Q_del,dh'!$D61,0)","v":0},{"$f":"IF(AE112=\"Ja\",'Q_del,j en Q_del,dh'!$D61,0)","v":0},{"$f":"IF(AF112=\"Ja\",'Q_del,j en Q_del,dh'!$D61,0)","v":0},{"$f":"IF(AG112=\"Ja\",'Q_del,j en Q_del,dh'!$D61,0)","v":0},{"$f":"IF(AH112=\"Ja\",'Q_del,j en Q_del,dh'!$D61,0)","v":0},{"$f":"IF(AI112=\"Ja\",'Q_del,j en Q_del,dh'!$D61,0)","v":0},{"$f":"IF(AJ112=\"Ja\",'Q_del,j en Q_del,dh'!$D61,0)","v":0},{"$f":"IF(AK112=\"Ja\",'Q_del,j en Q_del,dh'!$D61,0)","v":0},{"$f":"IF(AL112=\"Ja\",'Q_del,j en Q_del,dh'!$D61,0)","v":0},{"$f":"IF(AM112=\"Ja\",'Q_del,j en Q_del,dh'!$D61,0)","v":0},{"$f":"IF(AN112=\"Ja\",'Q_del,j en Q_del,dh'!$D61,0)","v":0},{"$f":"IF(AO112=\"Ja\",'Q_del,j en Q_del,dh'!$D61,0)","v":0},{"$f":"IF(AP112=\"Ja\",'Q_del,j en Q_del,dh'!$D61,0)","v":0},{"$f":"IF(AQ112=\"Ja\",'Q_del,j en Q_del,dh'!$D61,0)","v":0},{"$f":"IF(AR112=\"Ja\",'Q_del,j en Q_del,dh'!$D61,0)","v":0},{"$f":"IF(AS112=\"Ja\",'Q_del,j en Q_del,dh'!$D61,0)","v":0},{"$f":"IF(AT112=\"Ja\",'Q_del,j en Q_del,dh'!$D61,0)","v":0},{"$f":"IF(AU112=\"Ja\",'Q_del,j en Q_del,dh'!$D61,0)","v":0},{"$f":"IF(AV112=\"Ja\",'Q_del,j en Q_del,dh'!$D61,0)","v":0},{"$f":"IF(AW112=\"Ja\",'Q_del,j en Q_del,dh'!$D61,0)","v":0},{"$f":"IF(AX112=\"Ja\",'Q_del,j en Q_del,dh'!$D61,0)","v":0},{"$f":"IF(AY112=\"Ja\",'Q_del,j en Q_del,dh'!$D61,0)","v":0},{"$f":"IF(AZ112=\"Ja\",'Q_del,j en Q_del,dh'!$D61,0)","v":0},{"$f":"IF(BA112=\"Ja\",'Q_del,j en Q_del,dh'!$D61,0)","v":0}]
["Qdel,l,j [MJ]","warmtevrager 55",55,{"$f":"IF(D113=\"Ja\",'Q_del,j en Q_del,dh'!$D62,0)","v":0},{"$f":"IF(E113=\"Ja\",'Q_del,j en Q_del,dh'!$D62,0)","v":0},{"$f":"IF(F113=\"Ja\",'Q_del,j en Q_del,dh'!$D62,0)","v":0},{"$f":"IF(G113=\"Ja\",'Q_del,j en Q_del,dh'!$D62,0)","v":0},{"$f":"IF(H113=\"Ja\",'Q_del,j en Q_del,dh'!$D62,0)","v":0},{"$f":"IF(I113=\"Ja\",'Q_del,j en Q_del,dh'!$D62,0)","v":0},{"$f":"IF(J113=\"Ja\",'Q_del,j en Q_del,dh'!$D62,0)","v":0},{"$f":"IF(K113=\"Ja\",'Q_del,j en Q_del,dh'!$D62,0)","v":0},{"$f":"IF(L113=\"Ja\",'Q_del,j en Q_del,dh'!$D62,0)","v":0},{"$f":"IF(M113=\"Ja\",'Q_del,j en Q_del,dh'!$D62,0)","v":0},{"$f":"IF(N113=\"Ja\",'Q_del,j en Q_del,dh'!$D62,0)","v":0},{"$f":"IF(O113=\"Ja\",'Q_del,j en Q_del,dh'!$D62,0)","v":0},{"$f":"IF(P113=\"Ja\",'Q_del,j en Q_del,dh'!$D62,0)","v":0},{"$f":"IF(Q113=\"Ja\",'Q_del,j en Q_del,dh'!$D62,0)","v":0},{"$f":"IF(R113=\"Ja\",'Q_del,j en Q_del,dh'!$D62,0)","v":0},{"$f":"IF(S113=\"Ja\",'Q_del,j en Q_del,dh'!$D62,0)","v":0},{"$f":"IF(T113=\"Ja\",'Q_del,j en Q_del,dh'!$D62,0)","v":0},{"$f":"IF(U113=\"Ja\",'Q_del,j en Q_del,dh'!$D62,0)","v":0},{"$f":"IF(V113=\"Ja\",'Q_del,j en Q_del,dh'!$D62,0)","v":0},{"$f":"IF(W113=\"Ja\",'Q_del,j en Q_del,dh'!$D62,0)","v":0},{"$f":"IF(X113=\"Ja\",'Q_del,j en Q_del,dh'!$D62,0)","v":0},{"$f":"IF(Y113=\"Ja\",'Q_del,j en Q_del,dh'!$D62,0)","v":0},{"$f":"IF(Z113=\"Ja\",'Q_del,j en Q_del,dh'!$D62,0)","v":0},{"$f":"IF(AA113=\"Ja\",'Q_del,j en Q_del,dh'!$D62,0)","v":0},{"$f":"IF(AB113=\"Ja\",'Q_del,j en Q_del,dh'!$D62,0)","v":0},{"$f":"IF(AC113=\"Ja\",'Q_del,j en Q_del,dh'!$D62,0)","v":0},{"$f":"IF(AD113=\"Ja\",'Q_del,j en Q_del,dh'!$D62,0)","v":0},{"$f":"IF(AE113=\"Ja\",'Q_del,j en Q_del,dh'!$D62,0)","v":0},{"$f":"IF(AF113=\"Ja\",'Q_del,j en Q_del,dh'!$D62,0)","v":0},{"$f":"IF(AG113=\"Ja\",'Q_del,j en Q_del,dh'!$D62,0)","v":0},{"$f":"IF(AH113=\"Ja\",'Q_del,j en Q_del,dh'!$D62,0)","v":0},{"$f":"IF(AI113=\"Ja\",'Q_del,j en Q_del,dh'!$D62,0)","v":0},{"$f":"IF(AJ113=\"Ja\",'Q_del,j en Q_del,dh'!$D62,0)","v":0},{"$f":"IF(AK113=\"Ja\",'Q_del,j en Q_del,dh'!$D62,0)","v":0},{"$f":"IF(AL113=\"Ja\",'Q_del,j en Q_del,dh'!$D62,0)","v":0},{"$f":"IF(AM113=\"Ja\",'Q_del,j en Q_del,dh'!$D62,0)","v":0},{"$f":"IF(AN113=\"Ja\",'Q_del,j en Q_del,dh'!$D62,0)","v":0},{"$f":"IF(AO113=\"Ja\",'Q_del,j en Q_del,dh'!$D62,0)","v":0},{"$f":"IF(AP113=\"Ja\",'Q_del,j en Q_del,dh'!$D62,0)","v":0},{"$f":"IF(AQ113=\"Ja\",'Q_del,j en Q_del,dh'!$D62,0)","v":0},{"$f":"IF(AR113=\"Ja\",'Q_del,j en Q_del,dh'!$D62,0)","v":0},{"$f":"IF(AS113=\"Ja\",'Q_del,j en Q_del,dh'!$D62,0)","v":0},{"$f":"IF(AT113=\"Ja\",'Q_del,j en Q_del,dh'!$D62,0)","v":0},{"$f":"IF(AU113=\"Ja\",'Q_del,j en Q_del,dh'!$D62,0)","v":0},{"$f":"IF(AV113=\"Ja\",'Q_del,j en Q_del,dh'!$D62,0)","v":0},{"$f":"IF(AW113=\"Ja\",'Q_del,j en Q_del,dh'!$D62,0)","v":0},{"$f":"IF(AX113=\"Ja\",'Q_del,j en Q_del,dh'!$D62,0)","v":0},{"$f":"IF(AY113=\"Ja\",'Q_del,j en Q_del,dh'!$D62,0)","v":0},{"$f":"IF(AZ113=\"Ja\",'Q_del,j en Q_del,dh'!$D62,0)","v":0},{"$f":"IF(BA113=\"Ja\",'Q_del,j en Q_del,dh'!$D62,0)","v":0}]
["Qdel,l,j [MJ]","warmtevrager 56",56,{"$f":"IF(D114=\"Ja\",'Q_del,j en Q_del,dh'!$D63,0)","v":0},{"$f":"IF(E114=\"Ja\",'Q_del,j en Q_del,dh'!$D63,0)","v":0},{"$f":"IF(F114=\"Ja\",'Q_del,j en Q_del,dh'!$D63,0)","v":0},{"$f":"IF(G114=\"Ja\",'Q_del,j en Q_del,dh'!$D63,0)","v":0},{"$f":"IF(H114=\"Ja\",'Q_del,j en Q_del,dh'!$D63,0)","v":0},{"$f":"IF(I114=\"Ja\",'Q_del,j en Q_del,dh'!$D63,0)","v":0},{"$f":"IF(J114=\"Ja\",'Q_del,j en Q_del,dh'!$D63,0)","v":0},{"$f":"IF(K114=\"Ja\",'Q_del,j en Q_del,dh'!$D63,0)","v":0},{"$f":"IF(L114=\"Ja\",'Q_del,j en Q_del,dh'!$D63,0)","v":0},{"$f":"IF(M114=\"Ja\",'Q_del,j en Q_del,dh'!$D63,0)","v":0},{"$f":"IF(N114=\"Ja\",'Q_del,j en Q_del,dh'!$D63,0)","v":0},{"$f":"IF(O114=\"Ja\",'Q_del,j en Q_del,dh'!$D63,0)","v":0},{"$f":"IF(P114=\"Ja\",'Q_del,j en Q_del,dh'!$D63,0)","v":0},{"$f":"IF(Q114=\"Ja\",'Q_del,j en Q_del,dh'!$D63,0)","v":0},{"$f":"IF(R114=\"Ja\",'Q_del,j en Q_del,dh'!$D63,0)","v":0},{"$f":"IF(S114=\"Ja\",'Q_del,j en Q_del,dh'!$D63,0)","v":0},{"$f":"IF(T114=\"Ja\",'Q_del,j en Q_del,dh'!$D63,0)","v":0},{"$f":"IF(U114=\"Ja\",'Q_del,j en Q_del,dh'!$D63,0)","v":0},{"$f":"IF(V114=\"Ja\",'Q_del,j en Q_del,dh'!$D63,0)","v":0},{"$f":"IF(W114=\"Ja\",'Q_del,j en Q_del,dh'!$D63,0)","v":0},{"$f":"IF(X114=\"Ja\",'Q_del,j en Q_del,dh'!$D63,0)","v":0},{"$f":"IF(Y114=\"Ja\",'Q_del,j en Q_del,dh'!$D63,0)","v":0},{"$f":"IF(Z114=\"Ja\",'Q_del,j en Q_del,dh'!$D63,0)","v":0},{"$f":"IF(AA114=\"Ja\",'Q_del,j en Q_del,dh'!$D63,0)","v":0},{"$f":"IF(AB114=\"Ja\",'Q_del,j en Q_del,dh'!$D63,0)","v":0},{"$f":"IF(AC114=\"Ja\",'Q_del,j en Q_del,dh'!$D63,0)","v":0},{"$f":"IF(AD114=\"Ja\",'Q_del,j en Q_del,dh'!$D63,0)","v":0},{"$f":"IF(AE114=\"Ja\",'Q_del,j en Q_del,dh'!$D63,0)","v":0},{"$f":"IF(AF114=\"Ja\",'Q_del,j en Q_del,dh'!$D63,0)","v":0},{"$f":"IF(AG114=\"Ja\",'Q_del,j en Q_del,dh'!$D63,0)","v":0},{"$f":"IF(AH114=\"Ja\",'Q_del,j en Q_del,dh'!$D63,0)","v":0},{"$f":"IF(AI114=\"Ja\",'Q_del,j en Q_del,dh'!$D63,0)","v":0},{"$f":"IF(AJ114=\"Ja\",'Q_del,j en Q_del,dh'!$D63,0)","v":0},{"$f":"IF(AK114=\"Ja\",'Q_del,j en Q_del,dh'!$D63,0)","v":0},{"$f":"IF(AL114=\"Ja\",'Q_del,j en Q_del,dh'!$D63,0)","v":0},{"$f":"IF(AM114=\"Ja\",'Q_del,j en Q_del,dh'!$D63,0)","v":0},{"$f":"IF(AN114=\"Ja\",'Q_del,j en Q_del,dh'!$D63,0)","v":0},{"$f":"IF(AO114=\"Ja\",'Q_del,j en Q_del,dh'!$D63,0)","v":0},{"$f":"IF(AP114=\"Ja\",'Q_del,j en Q_del,dh'!$D63,0)","v":0},{"$f":"IF(AQ114=\"Ja\",'Q_del,j en Q_del,dh'!$D63,0)","v":0},{"$f":"IF(AR114=\"Ja\",'Q_del,j en Q_del,dh'!$D63,0)","v":0},{"$f":"IF(AS114=\"Ja\",'Q_del,j en Q_del,dh'!$D63,0)","v":0},{"$f":"IF(AT114=\"Ja\",'Q_del,j en Q_del,dh'!$D63,0)","v":0},{"$f":"IF(AU114=\"Ja\",'Q_del,j en Q_del,dh'!$D63,0)","v":0},{"$f":"IF(AV114=\"Ja\",'Q_del,j en Q_del,dh'!$D63,0)","v":0},{"$f":"IF(AW114=\"Ja\",'Q_del,j en Q_del,dh'!$D63,0)","v":0},{"$f":"IF(AX114=\"Ja\",'Q_del,j en Q_del,dh'!$D63,0)","v":0},{"$f":"IF(AY114=\"Ja\",'Q_del,j en Q_del,dh'!$D63,0)","v":0},{"$f":"IF(AZ114=\"Ja\",'Q_del,j en Q_del,dh'!$D63,0)","v":0},{"$f":"IF(BA114=\"Ja\",'Q_del,j en Q_del,dh'!$D63,0)","v":0}]
["Qdel,l,j [MJ]","warmtevrager 57",57,{"$f":"IF(D115=\"Ja\",'Q_del,j en Q_del,dh'!$D64,0)","v":0},{"$f":"IF(E115=\"Ja\",'Q_del,j en Q_del,dh'!$D64,0)","v":0},{"$f":"IF(F115=\"Ja\",'Q_del,j en Q_del,dh'!$D64,0)","v":0},{"$f":"IF(G115=\"Ja\",'Q_del,j en Q_del,dh'!$D64,0)","v":0},{"$f":"IF(H115=\"Ja\",'Q_del,j en Q_del,dh'!$D64,0)","v":0},{"$f":"IF(I115=\"Ja\",'Q_del,j en Q_del,dh'!$D64,0)","v":0},{"$f":"IF(J115=\"Ja\",'Q_del,j en Q_del,dh'!$D64,0)","v":0},{"$f":"IF(K115=\"Ja\",'Q_del,j en Q_del,dh'!$D64,0)","v":0},{"$f":"IF(L115=\"Ja\",'Q_del,j en Q_del,dh'!$D64,0)","v":0},{"$f":"IF(M115=\"Ja\",'Q_del,j en Q_del,dh'!$D64,0)","v":0},{"$f":"IF(N115=\"Ja\",'Q_del,j en Q_del,dh'!$D64,0)","v":0},{"$f":"IF(O115=\"Ja\",'Q_del,j en Q_del,dh'!$D64,0)","v":0},{"$f":"IF(P115=\"Ja\",'Q_del,j en Q_del,dh'!$D64,0)","v":0},{"$f":"IF(Q115=\"Ja\",'Q_del,j en Q_del,dh'!$D64,0)","v":0},{"$f":"IF(R115=\"Ja\",'Q_del,j en Q_del,dh'!$D64,0)","v":0},{"$f":"IF(S115=\"Ja\",'Q_del,j en Q_del,dh'!$D64,0)","v":0},{"$f":"IF(T115=\"Ja\",'Q_del,j en Q_del,dh'!$D64,0)","v":0},{"$f":"IF(U115=\"Ja\",'Q_del,j en Q_del,dh'!$D64,0)","v":0},{"$f":"IF(V115=\"Ja\",'Q_del,j en Q_del,dh'!$D64,0)","v":0},{"$f":"IF(W115=\"Ja\",'Q_del,j en Q_del,dh'!$D64,0)","v":0},{"$f":"IF(X115=\"Ja\",'Q_del,j en Q_del,dh'!$D64,0)","v":0},{"$f":"IF(Y115=\"Ja\",'Q_del,j en Q_del,dh'!$D64,0)","v":0},{"$f":"IF(Z115=\"Ja\",'Q_del,j en Q_del,dh'!$D64,0)","v":0},{"$f":"IF(AA115=\"Ja\",'Q_del,j en Q_del,dh'!$D64,0)","v":0},{"$f":"IF(AB115=\"Ja\",'Q_del,j en Q_del,dh'!$D64,0)","v":0},{"$f":"IF(AC115=\"Ja\",'Q_del,j en Q_del,dh'!$D64,0)","v":0},{"$f":"IF(AD115=\"Ja\",'Q_del,j en Q_del,dh'!$D64,0)","v":0},{"$f":"IF(AE115=\"Ja\",'Q_del,j en Q_del,dh'!$D64,0)","v":0},{"$f":"IF(AF115=\"Ja\",'Q_del,j en Q_del,dh'!$D64,0)","v":0},{"$f":"IF(AG115=\"Ja\",'Q_del,j en Q_del,dh'!$D64,0)","v":0},{"$f":"IF(AH115=\"Ja\",'Q_del,j en Q_del,dh'!$D64,0)","v":0},{"$f":"IF(AI115=\"Ja\",'Q_del,j en Q_del,dh'!$D64,0)","v":0},{"$f":"IF(AJ115=\"Ja\",'Q_del,j en Q_del,dh'!$D64,0)","v":0},{"$f":"IF(AK115=\"Ja\",'Q_del,j en Q_del,dh'!$D64,0)","v":0},{"$f":"IF(AL115=\"Ja\",'Q_del,j en Q_del,dh'!$D64,0)","v":0},{"$f":"IF(AM115=\"Ja\",'Q_del,j en Q_del,dh'!$D64,0)","v":0},{"$f":"IF(AN115=\"Ja\",'Q_del,j en Q_del,dh'!$D64,0)","v":0},{"$f":"IF(AO115=\"Ja\",'Q_del,j en Q_del,dh'!$D64,0)","v":0},{"$f":"IF(AP115=\"Ja\",'Q_del,j en Q_del,dh'!$D64,0)","v":0},{"$f":"IF(AQ115=\"Ja\",'Q_del,j en Q_del,dh'!$D64,0)","v":0},{"$f":"IF(AR115=\"Ja\",'Q_del,j en Q_del,dh'!$D64,0)","v":0},{"$f":"IF(AS115=\"Ja\",'Q_del,j en Q_del,dh'!$D64,0)","v":0},{"$f":"IF(AT115=\"Ja\",'Q_del,j en Q_del,dh'!$D64,0)","v":0},{"$f":"IF(AU115=\"Ja\",'Q_del,j en Q_del,dh'!$D64,0)","v":0},{"$f":"IF(AV115=\"Ja\",'Q_del,j en Q_del,dh'!$D64,0)","v":0},{"$f":"IF(AW115=\"Ja\",'Q_del,j en Q_del,dh'!$D64,0)","v":0},{"$f":"IF(AX115=\"Ja\",'Q_del,j en Q_del,dh'!$D64,0)","v":0},{"$f":"IF(AY115=\"Ja\",'Q_del,j en Q_del,dh'!$D64,0)","v":0},{"$f":"IF(AZ115=\"Ja\",'Q_del,j en Q_del,dh'!$D64,0)","v":0},{"$f":"IF(BA115=\"Ja\",'Q_del,j en Q_del,dh'!$D64,0)","v":0}]
["Qdel,l,j [MJ]","warmtevrager 58",58,{"$f":"IF(D116=\"Ja\",'Q_del,j en Q_del,dh'!$D65,0)","v":0},{"$f":"IF(E116=\"Ja\",'Q_del,j en Q_del,dh'!$D65,0)","v":0},{"$f":"IF(F116=\"Ja\",'Q_del,j en Q_del,dh'!$D65,0)","v":0},{"$f":"IF(G116=\"Ja\",'Q_del,j en Q_del,dh'!$D65,0)","v":0},{"$f":"IF(H116=\"Ja\",'Q_del,j en Q_del,dh'!$D65,0)","v":0},{"$f":"IF(I116=\"Ja\",'Q_del,j en Q_del,dh'!$D65,0)","v":0},{"$f":"IF(J116=\"Ja\",'Q_del,j en Q_del,dh'!$D65,0)","v":0},{"$f":"IF(K116=\"Ja\",'Q_del,j en Q_del,dh'!$D65,0)","v":0},{"$f":"IF(L116=\"Ja\",'Q_del,j en Q_del,dh'!$D65,0)","v":0},{"$f":"IF(M116=\"Ja\",'Q_del,j en Q_del,dh'!$D65,0)","v":0},{"$f":"IF(N116=\"Ja\",'Q_del,j en Q_del,dh'!$D65,0)","v":0},{"$f":"IF(O116=\"Ja\",'Q_del,j en Q_del,dh'!$D65,0)","v":0},{"$f":"IF(P116=\"Ja\",'Q_del,j en Q_del,dh'!$D65,0)","v":0},{"$f":"IF(Q116=\"Ja\",'Q_del,j en Q_del,dh'!$D65,0)","v":0},{"$f":"IF(R116=\"Ja\",'Q_del,j en Q_del,dh'!$D65,0)","v":0},{"$f":"IF(S116=\"Ja\",'Q_del,j en Q_del,dh'!$D65,0)","v":0},{"$f":"IF(T116=\"Ja\",'Q_del,j en Q_del,dh'!$D65,0)","v":0},{"$f":"IF(U116=\"Ja\",'Q_del,j en Q_del,dh'!$D65,0)","v":0},{"$f":"IF(V116=\"Ja\",'Q_del,j en Q_del,dh'!$D65,0)","v":0},{"$f":"IF(W116=\"Ja\",'Q_del,j en Q_del,dh'!$D65,0)","v":0},{"$f":"IF(X116=\"Ja\",'Q_del,j en Q_del,dh'!$D65,0)","v":0},{"$f":"IF(Y116=\"Ja\",'Q_del,j en Q_del,dh'!$D65,0)","v":0},{"$f":"IF(Z116=\"Ja\",'Q_del,j en Q_del,dh'!$D65,0)","v":0},{"$f":"IF(AA116=\"Ja\",'Q_del,j en Q_del,dh'!$D65,0)","v":0},{"$f":"IF(AB116=\"Ja\",'Q_del,j en Q_del,dh'!$D65,0)","v":0},{"$f":"IF(AC116=\"Ja\",'Q_del,j en Q_del,dh'!$D65,0)","v":0},{"$f":"IF(AD116=\"Ja\",'Q_del,j en Q_del,dh'!$D65,0)","v":0},{"$f":"IF(AE116=\"Ja\",'Q_del,j en Q_del,dh'!$D65,0)","v":0},{"$f":"IF(AF116=\"Ja\",'Q_del,j en Q_del,dh'!$D65,0)","v":0},{"$f":"IF(AG116=\"Ja\",'Q_del,j en Q_del,dh'!$D65,0)","v":0},{"$f":"IF(AH116=\"Ja\",'Q_del,j en Q_del,dh'!$D65,0)","v":0},{"$f":"IF(AI116=\"Ja\",'Q_del,j en Q_del,dh'!$D65,0)","v":0},{"$f":"IF(AJ116=\"Ja\",'Q_del,j en Q_del,dh'!$D65,0)","v":0},{"$f":"IF(AK116=\"Ja\",'Q_del,j en Q_del,dh'!$D65,0)","v":0},{"$f":"IF(AL116=\"Ja\",'Q_del,j en Q_del,dh'!$D65,0)","v":0},{"$f":"IF(AM116=\"Ja\",'Q_del,j en Q_del,dh'!$D65,0)","v":0},{"$f":"IF(AN116=\"Ja\",'Q_del,j en Q_del,dh'!$D65,0)","v":0},{"$f":"IF(AO116=\"Ja\",'Q_del,j en Q_del,dh'!$D65,0)","v":0},{"$f":"IF(AP116=\"Ja\",'Q_del,j en Q_del,dh'!$D65,0)","v":0},{"$f":"IF(AQ116=\"Ja\",'Q_del,j en Q_del,dh'!$D65,0)","v":0},{"$f":"IF(AR116=\"Ja\",'Q_del,j en Q_del,dh'!$D65,0)","v":0},{"$f":"IF(AS116=\"Ja\",'Q_del,j en Q_del,dh'!$D65,0)","v":0},{"$f":"IF(AT116=\"Ja\",'Q_del,j en Q_del,dh'!$D65,0)","v":0},{"$f":"IF(AU116=\"Ja\",'Q_del,j en Q_del,dh'!$D65,0)","v":0},{"$f":"IF(AV116=\"Ja\",'Q_del,j en Q_del,dh'!$D65,0)","v":0},{"$f":"IF(AW116=\"Ja\",'Q_del,j en Q_del,dh'!$D65,0)","v":0},{"$f":"IF(AX116=\"Ja\",'Q_del,j en Q_del,dh'!$D65,0)","v":0},{"$f":"IF(AY116=\"Ja\",'Q_del,j en Q_del,dh'!$D65,0)","v":0},{"$f":"IF(AZ116=\"Ja\",'Q_del,j en Q_del,dh'!$D65,0)","v":0},{"$f":"IF(BA116=\"Ja\",'Q_del,j en Q_del,dh'!$D65,0)","v":0}]
["Qdel,l,j [MJ]","warmtevrager 59",59,{"$f":"IF(D117=\"Ja\",'Q_del,j en Q_del,dh'!$D66,0)","v":0},{"$f":"IF(E117=\"Ja\",'Q_del,j en Q_del,dh'!$D66,0)","v":0},{"$f":"IF(F117=\"Ja\",'Q_del,j en Q_del,dh'!$D66,0)","v":0},{"$f":"IF(G117=\"Ja\",'Q_del,j en Q_del,dh'!$D66,0)","v":0},{"$f":"IF(H117=\"Ja\",'Q_del,j en Q_del,dh'!$D66,0)","v":0},{"$f":"IF(I117=\"Ja\",'Q_del,j en Q_del,dh'!$D66,0)","v":0},{"$f":"IF(J117=\"Ja\",'Q_del,j en Q_del,dh'!$D66,0)","v":0},{"$f":"IF(K117=\"Ja\",'Q_del,j en Q_del,dh'!$D66,0)","v":0},{"$f":"IF(L117=\"Ja\",'Q_del,j en Q_del,dh'!$D66,0)","v":0},{"$f":"IF(M117=\"Ja\",'Q_del,j en Q_del,dh'!$D66,0)","v":0},{"$f":"IF(N117=\"Ja\",'Q_del,j en Q_del,dh'!$D66,0)","v":0},{"$f":"IF(O117=\"Ja\",'Q_del,j en Q_del,dh'!$D66,0)","v":0},{"$f":"IF(P117=\"Ja\",'Q_del,j en Q_del,dh'!$D66,0)","v":0},{"$f":"IF(Q117=\"Ja\",'Q_del,j en Q_del,dh'!$D66,0)","v":0},{"$f":"IF(R117=\"Ja\",'Q_del,j en Q_del,dh'!$D66,0)","v":0},{"$f":"IF(S117=\"Ja\",'Q_del,j en Q_del,dh'!$D66,0)","v":0},{"$f":"IF(T117=\"Ja\",'Q_del,j en Q_del,dh'!$D66,0)","v":0},{"$f":"IF(U117=\"Ja\",'Q_del,j en Q_del,dh'!$D66,0)","v":0},{"$f":"IF(V117=\"Ja\",'Q_del,j en Q_del,dh'!$D66,0)","v":0},{"$f":"IF(W117=\"Ja\",'Q_del,j en Q_del,dh'!$D66,0)","v":0},{"$f":"IF(X117=\"Ja\",'Q_del,j en Q_del,dh'!$D66,0)","v":0},{"$f":"IF(Y117=\"Ja\",'Q_del,j en Q_del,dh'!$D66,0)","v":0},{"$f":"IF(Z117=\"Ja\",'Q_del,j en Q_del,dh'!$D66,0)","v":0},{"$f":"IF(AA117=\"Ja\",'Q_del,j en Q_del,dh'!$D66,0)","v":0},{"$f":"IF(AB117=\"Ja\",'Q_del,j en Q_del,dh'!$D66,0)","v":0},{"$f":"IF(AC117=\"Ja\",'Q_del,j en Q_del,dh'!$D66,0)","v":0},{"$f":"IF(AD117=\"Ja\",'Q_del,j en Q_del,dh'!$D66,0)","v":0},{"$f":"IF(AE117=\"Ja\",'Q_del,j en Q_del,dh'!$D66,0)","v":0},{"$f":"IF(AF117=\"Ja\",'Q_del,j en Q_del,dh'!$D66,0)","v":0},{"$f":"IF(AG117=\"Ja\",'Q_del,j en Q_del,dh'!$D66,0)","v":0},{"$f":"IF(AH117=\"Ja\",'Q_del,j en Q_del,dh'!$D66,0)","v":0},{"$f":"IF(AI117=\"Ja\",'Q_del,j en Q_del,dh'!$D66,0)","v":0},{"$f":"IF(AJ117=\"Ja\",'Q_del,j en Q_del,dh'!$D66,0)","v":0},{"$f":"IF(AK117=\"Ja\",'Q_del,j en Q_del,dh'!$D66,0)","v":0},{"$f":"IF(AL117=\"Ja\",'Q_del,j en Q_del,dh'!$D66,0)","v":0},{"$f":"IF(AM117=\"Ja\",'Q_del,j en Q_del,dh'!$D66,0)","v":0},{"$f":"IF(AN117=\"Ja\",'Q_del,j en Q_del,dh'!$D66,0)","v":0},{"$f":"IF(AO117=\"Ja\",'Q_del,j en Q_del,dh'!$D66,0)","v":0},{"$f":"IF(AP117=\"Ja\",'Q_del,j en Q_del,dh'!$D66,0)","v":0},{"$f":"IF(AQ117=\"Ja\",'Q_del,j en Q_del,dh'!$D66,0)","v":0},{"$f":"IF(AR117=\"Ja\",'Q_del,j en Q_del,dh'!$D66,0)","v":0},{"$f":"IF(AS117=\"Ja\",'Q_del,j en Q_del,dh'!$D66,0)","v":0},{"$f":"IF(AT117=\"Ja\",'Q_del,j en Q_del,dh'!$D66,0)","v":0},{"$f":"IF(AU117=\"Ja\",'Q_del,j en Q_del,dh'!$D66,0)","v":0},{"$f":"IF(AV117=\"Ja\",'Q_del,j en Q_del,dh'!$D66,0)","v":0},{"$f":"IF(AW117=\"Ja\",'Q_del,j en Q_del,dh'!$D66,0)","v":0},{"$f":"IF(AX117=\"Ja\",'Q_del,j en Q_del,dh'!$D66,0)","v":0},{"$f":"IF(AY117=\"Ja\",'Q_del,j en Q_del,dh'!$D66,0)","v":0},{"$f":"IF(AZ117=\"Ja\",'Q_del,j en Q_del,dh'!$D66,0)","v":0},{"$f":"IF(BA117=\"Ja\",'Q_del,j en Q_del,dh'!$D66,0)","v":0}]
["Qdel,l,j [MJ]","warmtevrager 60",60,{"$f":"IF(D118=\"Ja\",'Q_del,j en Q_del,dh'!$D67,0)","v":0},{"$f":"IF(E118=\"Ja\",'Q_del,j en Q_del,dh'!$D67,0)","v":0},{"$f":"IF(F118=\"Ja\",'Q_del,j en Q_del,dh'!$D67,0)","v":0},{"$f":"IF(G118=\"Ja\",'Q_del,j en Q_del,dh'!$D67,0)","v":0},{"$f":"IF(H118=\"Ja\",'Q_del,j en Q_del,dh'!$D67,0)","v":0},{"$f":"IF(I118=\"Ja\",'Q_del,j en Q_del,dh'!$D67,0)","v":0},{"$f":"IF(J118=\"Ja\",'Q_del,j en Q_del,dh'!$D67,0)","v":0},{"$f":"IF(K118=\"Ja\",'Q_del,j en Q_del,dh'!$D67,0)","v":0},{"$f":"IF(L118=\"Ja\",'Q_del,j en Q_del,dh'!$D67,0)","v":0},{"$f":"IF(M118=\"Ja\",'Q_del,j en Q_del,dh'!$D67,0)","v":0},{"$f":"IF(N118=\"Ja\",'Q_del,j en Q_del,dh'!$D67,0)","v":0},{"$f":"IF(O118=\"Ja\",'Q_del,j en Q_del,dh'!$D67,0)","v":0},{"$f":"IF(P118=\"Ja\",'Q_del,j en Q_del,dh'!$D67,0)","v":0},{"$f":"IF(Q118=\"Ja\",'Q_del,j en Q_del,dh'!$D67,0)","v":0},{"$f":"IF(R118=\"Ja\",'Q_del,j en Q_del,dh'!$D67,0)","v":0},{"$f":"IF(S118=\"Ja\",'Q_del,j en Q_del,dh'!$D67,0)","v":0},{"$f":"IF(T118=\"Ja\",'Q_del,j en Q_del,dh'!$D67,0)","v":0},{"$f":"IF(U118=\"Ja\",'Q_del,j en Q_del,dh'!$D67,0)","v":0},{"$f":"IF(V118=\"Ja\",'Q_del,j en Q_del,dh'!$D67,0)","v":0},{"$f":"IF(W118=\"Ja\",'Q_del,j en Q_del,dh'!$D67,0)","v":0},{"$f":"IF(X118=\"Ja\",'Q_del,j en Q_del,dh'!$D67,0)","v":0},{"$f":"IF(Y118=\"Ja\",'Q_del,j en Q_del,dh'!$D67,0)","v":0},{"$f":"IF(Z118=\"Ja\",'Q_del,j en Q_del,dh'!$D67,0)","v":0},{"$f":"IF(AA118=\"Ja\",'Q_del,j en Q_del,dh'!$D67,0)","v":0},{"$f":"IF(AB118=\"Ja\",'Q_del,j en Q_del,dh'!$D67,0)","v":0},{"$f":"IF(AC118=\"Ja\",'Q_del,j en Q_del,dh'!$D67,0)","v":0},{"$f":"IF(AD118=\"Ja\",'Q_del,j en Q_del,dh'!$D67,0)","v":0},{"$f":"IF(AE118=\"Ja\",'Q_del,j en Q_del,dh'!$D67,0)","v":0},{"$f":"IF(AF118=\"Ja\",'Q_del,j en Q_del,dh'!$D67,0)","v":0},{"$f":"IF(AG118=\"Ja\",'Q_del,j en Q_del,dh'!$D67,0)","v":0},{"$f":"IF(AH118=\"Ja\",'Q_del,j en Q_del,dh'!$D67,0)","v":0},{"$f":"IF(AI118=\"Ja\",'Q_del,j en Q_del,dh'!$D67,0)","v":0},{"$f":"IF(AJ118=\"Ja\",'Q_del,j en Q_del,dh'!$D67,0)","v":0},{"$f":"IF(AK118=\"Ja\",'Q_del,j en Q_del,dh'!$D67,0)","v":0},{"$f":"IF(AL118=\"Ja\",'Q_del,j en Q_del,dh'!$D67,0)","v":0},{"$f":"IF(AM118=\"Ja\",'Q_del,j en Q_del,dh'!$D67,0)","v":0},{"$f":"IF(AN118=\"Ja\",'Q_del,j en Q_del,dh'!$D67,0)","v":0},{"$f":"IF(AO118=\"Ja\",'Q_del,j en Q_del,dh'!$D67,0)","v":0},{"$f":"IF(AP118=\"Ja\",'Q_del,j en Q_del,dh'!$D67,0)","v":0},{"$f":"IF(AQ118=\"Ja\",'Q_del,j en Q_del,dh'!$D67,0)","v":0},{"$f":"IF(AR118=\"Ja\",'Q_del,j en Q_del,dh'!$D67,0)","v":0},{"$f":"IF(AS118=\"Ja\",'Q_del,j en Q_del,dh'!$D67,0)","v":0},{"$f":"IF(AT118=\"Ja\",'Q_del,j en Q_del,dh'!$D67,0)","v":0},{"$f":"IF(AU118=\"Ja\",'Q_del,j en Q_del,dh'!$D67,0)","v":0},{"$f":"IF(AV118=\"Ja\",'Q_del,j en Q_del,dh'!$D67,0)","v":0},{"$f":"IF(AW118=\"Ja\",'Q_del,j en Q_del,dh'!$D67,0)","v":0},{"$f":"IF(AX118=\"Ja\",'Q_del,j en Q_del,dh'!$D67,0)","v":0},{"$f":"IF(AY118=\"Ja\",'Q_del,j en Q_del,dh'!$D67,0)","v":0},{"$f":"IF(AZ118=\"Ja\",'Q_del,j en Q_del,dh'!$D67,0)","v":0},{"$f":"IF(BA118=\"Ja\",'Q_del,j en Q_del,dh'!$D67,0)","v":0}]
["Qdel,l,j [MJ]","warmtevrager 61",61,{"$f":"IF(D119=\"Ja\",'Q_del,j en Q_del,dh'!$D68,0)","v":0},{"$f":"IF(E119=\"Ja\",'Q_del,j en Q_del,dh'!$D68,0)","v":0},{"$f":"IF(F119=\"Ja\",'Q_del,j en Q_del,dh'!$D68,0)","v":0},{"$f":"IF(G119=\"Ja\",'Q_del,j en Q_del,dh'!$D68,0)","v":0},{"$f":"IF(H119=\"Ja\",'Q_del,j en Q_del,dh'!$D68,0)","v":0},{"$f":"IF(I119=\"Ja\",'Q_del,j en Q_del,dh'!$D68,0)","v":0},{"$f":"IF(J119=\"Ja\",'Q_del,j en Q_del,dh'!$D68,0)","v":0},{"$f":"IF(K119=\"Ja\",'Q_del,j en Q_del,dh'!$D68,0)","v":0},{"$f":"IF(L119=\"Ja\",'Q_del,j en Q_del,dh'!$D68,0)","v":0},{"$f":"IF(M119=\"Ja\",'Q_del,j en Q_del,dh'!$D68,0)","v":0},{"$f":"IF(N119=\"Ja\",'Q_del,j en Q_del,dh'!$D68,0)","v":0},{"$f":"IF(O119=\"Ja\",'Q_del,j en Q_del,dh'!$D68,0)","v":0},{"$f":"IF(P119=\"Ja\",'Q_del,j en Q_del,dh'!$D68,0)","v":0},{"$f":"IF(Q119=\"Ja\",'Q_del,j en Q_del,dh'!$D68,0)","v":0},{"$f":"IF(R119=\"Ja\",'Q_del,j en Q_del,dh'!$D68,0)","v":0},{"$f":"IF(S119=\"Ja\",'Q_del,j en Q_del,dh'!$D68,0)","v":0},{"$f":"IF(T119=\"Ja\",'Q_del,j en Q_del,dh'!$D68,0)","v":0},{"$f":"IF(U119=\"Ja\",'Q_del,j en Q_del,dh'!$D68,0)","v":0},{"$f":"IF(V119=\"Ja\",'Q_del,j en Q_del,dh'!$D68,0)","v":0},{"$f":"IF(W119=\"Ja\",'Q_del,j en Q_del,dh'!$D68,0)","v":0},{"$f":"IF(X119=\"Ja\",'Q_del,j en Q_del,dh'!$D68,0)","v":0},{"$f":"IF(Y119=\"Ja\",'Q_del,j en Q_del,dh'!$D68,0)","v":0},{"$f":"IF(Z119=\"Ja\",'Q_del,j en Q_del,dh'!$D68,0)","v":0},{"$f":"IF(AA119=\"Ja\",'Q_del,j en Q_del,dh'!$D68,0)","v":0},{"$f":"IF(AB119=\"Ja\",'Q_del,j en Q_del,dh'!$D68,0)","v":0},{"$f":"IF(AC119=\"Ja\",'Q_del,j en Q_del,dh'!$D68,0)","v":0},{"$f":"IF(AD119=\"Ja\",'Q_del,j en Q_del,dh'!$D68,0)","v":0},{"$f":"IF(AE119=\"Ja\",'Q_del,j en Q_del,dh'!$D68,0)","v":0},{"$f":"IF(AF119=\"Ja\",'Q_del,j en Q_del,dh'!$D68,0)","v":0},{"$f":"IF(AG119=\"Ja\",'Q_del,j en Q_del,dh'!$D68,0)","v":0},{"$f":"IF(AH119=\"Ja\",'Q_del,j en Q_del,dh'!$D68,0)","v":0},{"$f":"IF(AI119=\"Ja\",'Q_del,j en Q_del,dh'!$D68,0)","v":0},{"$f":"IF(AJ119=\"Ja\",'Q_del,j en Q_del,dh'!$D68,0)","v":0},{"$f":"IF(AK119=\"Ja\",'Q_del,j en Q_del,dh'!$D68,0)","v":0},{"$f":"IF(AL119=\"Ja\",'Q_del,j en Q_del,dh'!$D68,0)","v":0},{"$f":"IF(AM119=\"Ja\",'Q_del,j en Q_del,dh'!$D68,0)","v":0},{"$f":"IF(AN119=\"Ja\",'Q_del,j en Q_del,dh'!$D68,0)","v":0},{"$f":"IF(AO119=\"Ja\",'Q_del,j en Q_del,dh'!$D68,0)","v":0},{"$f":"IF(AP119=\"Ja\",'Q_del,j en Q_del,dh'!$D68,0)","v":0},{"$f":"IF(AQ119=\"Ja\",'Q_del,j en Q_del,dh'!$D68,0)","v":0},{"$f":"IF(AR119=\"Ja\",'Q_del,j en Q_del,dh'!$D68,0)","v":0},{"$f":"IF(AS119=\"Ja\",'Q_del,j en Q_del,dh'!$D68,0)","v":0},{"$f":"IF(AT119=\"Ja\",'Q_del,j en Q_del,dh'!$D68,0)","v":0},{"$f":"IF(AU119=\"Ja\",'Q_del,j en Q_del,dh'!$D68,0)","v":0},{"$f":"IF(AV119=\"Ja\",'Q_del,j en Q_del,dh'!$D68,0)","v":0},{"$f":"IF(AW119=\"Ja\",'Q_del,j en Q_del,dh'!$D68,0)","v":0},{"$f":"IF(AX119=\"Ja\",'Q_del,j en Q_del,dh'!$D68,0)","v":0},{"$f":"IF(AY119=\"Ja\",'Q_del,j en Q_del,dh'!$D68,0)","v":0},{"$f":"IF(AZ119=\"Ja\",'Q_del,j en Q_del,dh'!$D68,0)","v":0},{"$f":"IF(BA119=\"Ja\",'Q_del,j en Q_del,dh'!$D68,0)","v":0}]
["Qdel,l,j [MJ]","warmtevrager 62",62,{"$f":"IF(D120=\"Ja\",'Q_del,j en Q_del,dh'!$D69,0)","v":0},{"$f":"IF(E120=\"Ja\",'Q_del,j en Q_del,dh'!$D69,0)","v":0},{"$f":"IF(F120=\"Ja\",'Q_del,j en Q_del,dh'!$D69,0)","v":0},{"$f":"IF(G120=\"Ja\",'Q_del,j en Q_del,dh'!$D69,0)","v":0},{"$f":"IF(H120=\"Ja\",'Q_del,j en Q_del,dh'!$D69,0)","v":0},{"$f":"IF(I120=\"Ja\",'Q_del,j en Q_del,dh'!$D69,0)","v":0},{"$f":"IF(J120=\"Ja\",'Q_del,j en Q_del,dh'!$D69,0)","v":0},{"$f":"IF(K120=\"Ja\",'Q_del,j en Q_del,dh'!$D69,0)","v":0},{"$f":"IF(L120=\"Ja\",'Q_del,j en Q_del,dh'!$D69,0)","v":0},{"$f":"IF(M120=\"Ja\",'Q_del,j en Q_del,dh'!$D69,0)","v":0},{"$f":"IF(N120=\"Ja\",'Q_del,j en Q_del,dh'!$D69,0)","v":0},{"$f":"IF(O120=\"Ja\",'Q_del,j en Q_del,dh'!$D69,0)","v":0},{"$f":"IF(P120=\"Ja\",'Q_del,j en Q_del,dh'!$D69,0)","v":0},{"$f":"IF(Q120=\"Ja\",'Q_del,j en Q_del,dh'!$D69,0)","v":0},{"$f":"IF(R120=\"Ja\",'Q_del,j en Q_del,dh'!$D69,0)","v":0},{"$f":"IF(S120=\"Ja\",'Q_del,j en Q_del,dh'!$D69,0)","v":0},{"$f":"IF(T120=\"Ja\",'Q_del,j en Q_del,dh'!$D69,0)","v":0},{"$f":"IF(U120=\"Ja\",'Q_del,j en Q_del,dh'!$D69,0)","v":0},{"$f":"IF(V120=\"Ja\",'Q_del,j en Q_del,dh'!$D69,0)","v":0},{"$f":"IF(W120=\"Ja\",'Q_del,j en Q_del,dh'!$D69,0)","v":0},{"$f":"IF(X120=\"Ja\",'Q_del,j en Q_del,dh'!$D69,0)","v":0},{"$f":"IF(Y120=\"Ja\",'Q_del,j en Q_del,dh'!$D69,0)","v":0},{"$f":"IF(Z120=\"Ja\",'Q_del,j en Q_del,dh'!$D69,0)","v":0},{"$f":"IF(AA120=\"Ja\",'Q_del,j en Q_del,dh'!$D69,0)","v":0},{"$f":"IF(AB120=\"Ja\",'Q_del,j en Q_del,dh'!$D69,0)","v":0},{"$f":"IF(AC120=\"Ja\",'Q_del,j en Q_del,dh'!$D69,0)","v":0},{"$f":"IF(AD120=\"Ja\",'Q_del,j en Q_del,dh'!$D69,0)","v":0},{"$f":"IF(AE120=\"Ja\",'Q_del,j en Q_del,dh'!$D69,0)","v":0},{"$f":"IF(AF120=\"Ja\",'Q_del,j en Q_del,dh'!$D69,0)","v":0},{"$f":"IF(AG120=\"Ja\",'Q_del,j en Q_del,dh'!$D69,0)","v":0},{"$f":"IF(AH120=\"Ja\",'Q_del,j en Q_del,dh'!$D69,0)","v":0},{"$f":"IF(AI120=\"Ja\",'Q_del,j en Q_del,dh'!$D69,0)","v":0},{"$f":"IF(AJ120=\"Ja\",'Q_del,j en Q_del,dh'!$D69,0)","v":0},{"$f":"IF(AK120=\"Ja\",'Q_del,j en Q_del,dh'!$D69,0)","v":0},{"$f":"IF(AL120=\"Ja\",'Q_del,j en Q_del,dh'!$D69,0)","v":0},{"$f":"IF(AM120=\"Ja\",'Q_del,j en Q_del,dh'!$D69,0)","v":0},{"$f":"IF(AN120=\"Ja\",'Q_del,j en Q_del,dh'!$D69,0)","v":0},{"$f":"IF(AO120=\"Ja\",'Q_del,j en Q_del,dh'!$D69,0)","v":0},{"$f":"IF(AP120=\"Ja\",'Q_del,j en Q_del,dh'!$D69,0)","v":0},{"$f":"IF(AQ120=\"Ja\",'Q_del,j en Q_del,dh'!$D69,0)","v":0},{"$f":"IF(AR120=\"Ja\",'Q_del,j en Q_del,dh'!$D69,0)","v":0},{"$f":"IF(AS120=\"Ja\",'Q_del,j en Q_del,dh'!$D69,0)","v":0},{"$f":"IF(AT120=\"Ja\",'Q_del,j en Q_del,dh'!$D69,0)","v":0},{"$f":"IF(AU120=\"Ja\",'Q_del,j en Q_del,dh'!$D69,0)","v":0},{"$f":"IF(AV120=\"Ja\",'Q_del,j en Q_del,dh'!$D69,0)","v":0},{"$f":"IF(AW120=\"Ja\",'Q_del,j en Q_del,dh'!$D69,0)","v":0},{"$f":"IF(AX120=\"Ja\",'Q_del,j en Q_del,dh'!$D69,0)","v":0},{"$f":"IF(AY120=\"Ja\",'Q_del,j en Q_del,dh'!$D69,0)","v":0},{"$f":"IF(AZ120=\"Ja\",'Q_del,j en Q_del,dh'!$D69,0)","v":0},{"$f":"IF(BA120=\"Ja\",'Q_del,j en Q_del,dh'!$D69,0)","v":0}]
["Qdel,l,j [MJ]","warmtevrager 63",63,{"$f":"IF(D121=\"Ja\",'Q_del,j en Q_del,dh'!$D70,0)","v":0},{"$f":"IF(E121=\"Ja\",'Q_del,j en Q_del,dh'!$D70,0)","v":0},{"$f":"IF(F121=\"Ja\",'Q_del,j en Q_del,dh'!$D70,0)","v":0},{"$f":"IF(G121=\"Ja\",'Q_del,j en Q_del,dh'!$D70,0)","v":0},{"$f":"IF(H121=\"Ja\",'Q_del,j en Q_del,dh'!$D70,0)","v":0},{"$f":"IF(I121=\"Ja\",'Q_del,j en Q_del,dh'!$D70,0)","v":0},{"$f":"IF(J121=\"Ja\",'Q_del,j en Q_del,dh'!$D70,0)","v":0},{"$f":"IF(K121=\"Ja\",'Q_del,j en Q_del,dh'!$D70,0)","v":0},{"$f":"IF(L121=\"Ja\",'Q_del,j en Q_del,dh'!$D70,0)","v":0},{"$f":"IF(M121=\"Ja\",'Q_del,j en Q_del,dh'!$D70,0)","v":0},{"$f":"IF(N121=\"Ja\",'Q_del,j en Q_del,dh'!$D70,0)","v":0},{"$f":"IF(O121=\"Ja\",'Q_del,j en Q_del,dh'!$D70,0)","v":0},{"$f":"IF(P121=\"Ja\",'Q_del,j en Q_del,dh'!$D70,0)","v":0},{"$f":"IF(Q121=\"Ja\",'Q_del,j en Q_del,dh'!$D70,0)","v":0},{"$f":"IF(R121=\"Ja\",'Q_del,j en Q_del,dh'!$D70,0)","v":0},{"$f":"IF(S121=\"Ja\",'Q_del,j en Q_del,dh'!$D70,0)","v":0},{"$f":"IF(T121=\"Ja\",'Q_del,j en Q_del,dh'!$D70,0)","v":0},{"$f":"IF(U121=\"Ja\",'Q_del,j en Q_del,dh'!$D70,0)","v":0},{"$f":"IF(V121=\"Ja\",'Q_del,j en Q_del,dh'!$D70,0)","v":0},{"$f":"IF(W121=\"Ja\",'Q_del,j en Q_del,dh'!$D70,0)","v":0},{"$f":"IF(X121=\"Ja\",'Q_del,j en Q_del,dh'!$D70,0)","v":0},{"$f":"IF(Y121=\"Ja\",'Q_del,j en Q_del,dh'!$D70,0)","v":0},{"$f":"IF(Z121=\"Ja\",'Q_del,j en Q_del,dh'!$D70,0)","v":0},{"$f":"IF(AA121=\"Ja\",'Q_del,j en Q_del,dh'!$D70,0)","v":0},{"$f":"IF(AB121=\"Ja\",'Q_del,j en Q_del,dh'!$D70,0)","v":0},{"$f":"IF(AC121=\"Ja\",'Q_del,j en Q_del,dh'!$D70,0)","v":0},{"$f":"IF(AD121=\"Ja\",'Q_del,j en Q_del,dh'!$D70,0)","v":0},{"$f":"IF(AE121=\"Ja\",'Q_del,j en Q_del,dh'!$D70,0)","v":0},{"$f":"IF(AF121=\"Ja\",'Q_del,j en Q_del,dh'!$D70,0)","v":0},{"$f":"IF(AG121=\"Ja\",'Q_del,j en Q_del,dh'!$D70,0)","v":0},{"$f":"IF(AH121=\"Ja\",'Q_del,j en Q_del,dh'!$D70,0)","v":0},{"$f":"IF(AI121=\"Ja\",'Q_del,j en Q_del,dh'!$D70,0)","v":0},{"$f":"IF(AJ121=\"Ja\",'Q_del,j en Q_del,dh'!$D70,0)","v":0},{"$f":"IF(AK121=\"Ja\",'Q_del,j en Q_del,dh'!$D70,0)","v":0},{"$f":"IF(AL121=\"Ja\",'Q_del,j en Q_del,dh'!$D70,0)","v":0},{"$f":"IF(AM121=\"Ja\",'Q_del,j en Q_del,dh'!$D70,0)","v":0},{"$f":"IF(AN121=\"Ja\",'Q_del,j en Q_del,dh'!$D70,0)","v":0},{"$f":"IF(AO121=\"Ja\",'Q_del,j en Q_del,dh'!$D70,0)","v":0},{"$f":"IF(AP121=\"Ja\",'Q_del,j en Q_del,dh'!$D70,0)","v":0},{"$f":"IF(AQ121=\"Ja\",'Q_del,j en Q_del,dh'!$D70,0)","v":0},{"$f":"IF(AR121=\"Ja\",'Q_del,j en Q_del,dh'!$D70,0)","v":0},{"$f":"IF(AS121=\"Ja\",'Q_del,j en Q_del,dh'!$D70,0)","v":0},{"$f":"IF(AT121=\"Ja\",'Q_del,j en Q_del,dh'!$D70,0)","v":0},{"$f":"IF(AU121=\"Ja\",'Q_del,j en Q_del,dh'!$D70,0)","v":0},{"$f":"IF(AV121=\"Ja\",'Q_del,j en Q_del,dh'!$D70,0)","v":0},{"$f":"IF(AW121=\"Ja\",'Q_del,j en Q_del,dh'!$D70,0)","v":0},{"$f":"IF(AX121=\"Ja\",'Q_del,j en Q_del,dh'!$D70,0)","v":0},{"$f":"IF(AY121=\"Ja\",'Q_del,j en Q_del,dh'!$D70,0)","v":0},{"$f":"IF(AZ121=\"Ja\",'Q_del,j en Q_del,dh'!$D70,0)","v":0},{"$f":"IF(BA121=\"Ja\",'Q_del,j en Q_del,dh'!$D70,0)","v":0}]
["Qdel,l,j [MJ]","warmtevrager 64",64,{"$f":"IF(D122=\"Ja\",'Q_del,j en Q_del,dh'!$D71,0)","v":0},{"$f":"IF(E122=\"Ja\",'Q_del,j en Q_del,dh'!$D71,0)","v":0},{"$f":"IF(F122=\"Ja\",'Q_del,j en Q_del,dh'!$D71,0)","v":0},{"$f":"IF(G122=\"Ja\",'Q_del,j en Q_del,dh'!$D71,0)","v":0},{"$f":"IF(H122=\"Ja\",'Q_del,j en Q_del,dh'!$D71,0)","v":0},{"$f":"IF(I122=\"Ja\",'Q_del,j en Q_del,dh'!$D71,0)","v":0},{"$f":"IF(J122=\"Ja\",'Q_del,j en Q_del,dh'!$D71,0)","v":0},{"$f":"IF(K122=\"Ja\",'Q_del,j en Q_del,dh'!$D71,0)","v":0},{"$f":"IF(L122=\"Ja\",'Q_del,j en Q_del,dh'!$D71,0)","v":0},{"$f":"IF(M122=\"Ja\",'Q_del,j en Q_del,dh'!$D71,0)","v":0},{"$f":"IF(N122=\"Ja\",'Q_del,j en Q_del,dh'!$D71,0)","v":0},{"$f":"IF(O122=\"Ja\",'Q_del,j en Q_del,dh'!$D71,0)","v":0},{"$f":"IF(P122=\"Ja\",'Q_del,j en Q_del,dh'!$D71,0)","v":0},{"$f":"IF(Q122=\"Ja\",'Q_del,j en Q_del,dh'!$D71,0)","v":0},{"$f":"IF(R122=\"Ja\",'Q_del,j en Q_del,dh'!$D71,0)","v":0},{"$f":"IF(S122=\"Ja\",'Q_del,j en Q_del,dh'!$D71,0)","v":0},{"$f":"IF(T122=\"Ja\",'Q_del,j en Q_del,dh'!$D71,0)","v":0},{"$f":"IF(U122=\"Ja\",'Q_del,j en Q_del,dh'!$D71,0)","v":0},{"$f":"IF(V122=\"Ja\",'Q_del,j en Q_del,dh'!$D71,0)","v":0},{"$f":"IF(W122=\"Ja\",'Q_del,j en Q_del,dh'!$D71,0)","v":0},{"$f":"IF(X122=\"Ja\",'Q_del,j en Q_del,dh'!$D71,0)","v":0},{"$f":"IF(Y122=\"Ja\",'Q_del,j en Q_del,dh'!$D71,0)","v":0},{"$f":"IF(Z122=\"Ja\",'Q_del,j en Q_del,dh'!$D71,0)","v":0},{"$f":"IF(AA122=\"Ja\",'Q_del,j en Q_del,dh'!$D71,0)","v":0},{"$f":"IF(AB122=\"Ja\",'Q_del,j en Q_del,dh'!$D71,0)","v":0},{"$f":"IF(AC122=\"Ja\",'Q_del,j en Q_del,dh'!$D71,0)","v":0},{"$f":"IF(AD122=\"Ja\",'Q_del,j en Q_del,dh'!$D71,0)","v":0},{"$f":"IF(AE122=\"Ja\",'Q_del,j en Q_del,dh'!$D71,0)","v":0},{"$f":"IF(AF122=\"Ja\",'Q_del,j en Q_del,dh'!$D71,0)","v":0},{"$f":"IF(AG122=\"Ja\",'Q_del,j en Q_del,dh'!$D71,0)","v":0},{"$f":"IF(AH122=\"Ja\",'Q_del,j en Q_del,dh'!$D71,0)","v":0},{"$f":"IF(AI122=\"Ja\",'Q_del,j en Q_del,dh'!$D71,0)","v":0},{"$f":"IF(AJ122=\"Ja\",'Q_del,j en Q_del,dh'!$D71,0)","v":0},{"$f":"IF(AK122=\"Ja\",'Q_del,j en Q_del,dh'!$D71,0)","v":0},{"$f":"IF(AL122=\"Ja\",'Q_del,j en Q_del,dh'!$D71,0)","v":0},{"$f":"IF(AM122=\"Ja\",'Q_del,j en Q_del,dh'!$D71,0)","v":0},{"$f":"IF(AN122=\"Ja\",'Q_del,j en Q_del,dh'!$D71,0)","v":0},{"$f":"IF(AO122=\"Ja\",'Q_del,j en Q_del,dh'!$D71,0)","v":0},{"$f":"IF(AP122=\"Ja\",'Q_del,j en Q_del,dh'!$D71,0)","v":0},{"$f":"IF(AQ122=\"Ja\",'Q_del,j en Q_del,dh'!$D71,0)","v":0},{"$f":"IF(AR122=\"Ja\",'Q_del,j en Q_del,dh'!$D71,0)","v":0},{"$f":"IF(AS122=\"Ja\",'Q_del,j en Q_del,dh'!$D71,0)","v":0},{"$f":"IF(AT122=\"Ja\",'Q_del,j en Q_del,dh'!$D71,0)","v":0},{"$f":"IF(AU122=\"Ja\",'Q_del,j en Q_del,dh'!$D71,0)","v":0},{"$f":"IF(AV122=\"Ja\",'Q_del,j en Q_del,dh'!$D71,0)","v":0},{"$f":"IF(AW122=\"Ja\",'Q_del,j en Q_del,dh'!$D71,0)","v":0},{"$f":"IF(AX122=\"Ja\",'Q_del,j en Q_del,dh'!$D71,0)","v":0},{"$f":"IF(AY122=\"Ja\",'Q_del,j en Q_del,dh'!$D71,0)","v":0},{"$f":"IF(AZ122=\"Ja\",'Q_del,j en Q_del,dh'!$D71,0)","v":0},{"$f":"IF(BA122=\"Ja\",'Q_del,j en Q_del,dh'!$D71,0)","v":0}]
["Qdel,l,j [MJ]","warmtevrager 65",65,{"$f":"IF(D123=\"Ja\",'Q_del,j en Q_del,dh'!$D72,0)","v":0},{"$f":"IF(E123=\"Ja\",'Q_del,j en Q_del,dh'!$D72,0)","v":0},{"$f":"IF(F123=\"Ja\",'Q_del,j en Q_del,dh'!$D72,0)","v":0},{"$f":"IF(G123=\"Ja\",'Q_del,j en Q_del,dh'!$D72,0)","v":0},{"$f":"IF(H123=\"Ja\",'Q_del,j en Q_del,dh'!$D72,0)","v":0},{"$f":"IF(I123=\"Ja\",'Q_del,j en Q_del,dh'!$D72,0)","v":0},{"$f":"IF(J123=\"Ja\",'Q_del,j en Q_del,dh'!$D72,0)","v":0},{"$f":"IF(K123=\"Ja\",'Q_del,j en Q_del,dh'!$D72,0)","v":0},{"$f":"IF(L123=\"Ja\",'Q_del,j en Q_del,dh'!$D72,0)","v":0},{"$f":"IF(M123=\"Ja\",'Q_del,j en Q_del,dh'!$D72,0)","v":0},{"$f":"IF(N123=\"Ja\",'Q_del,j en Q_del,dh'!$D72,0)","v":0},{"$f":"IF(O123=\"Ja\",'Q_del,j en Q_del,dh'!$D72,0)","v":0},{"$f":"IF(P123=\"Ja\",'Q_del,j en Q_del,dh'!$D72,0)","v":0},{"$f":"IF(Q123=\"Ja\",'Q_del,j en Q_del,dh'!$D72,0)","v":0},{"$f":"IF(R123=\"Ja\",'Q_del,j en Q_del,dh'!$D72,0)","v":0},{"$f":"IF(S123=\"Ja\",'Q_del,j en Q_del,dh'!$D72,0)","v":0},{"$f":"IF(T123=\"Ja\",'Q_del,j en Q_del,dh'!$D72,0)","v":0},{"$f":"IF(U123=\"Ja\",'Q_del,j en Q_del,dh'!$D72,0)","v":0},{"$f":"IF(V123=\"Ja\",'Q_del,j en Q_del,dh'!$D72,0)","v":0},{"$f":"IF(W123=\"Ja\",'Q_del,j en Q_del,dh'!$D72,0)","v":0},{"$f":"IF(X123=\"Ja\",'Q_del,j en Q_del,dh'!$D72,0)","v":0},{"$f":"IF(Y123=\"Ja\",'Q_del,j en Q_del,dh'!$D72,0)","v":0},{"$f":"IF(Z123=\"Ja\",'Q_del,j en Q_del,dh'!$D72,0)","v":0},{"$f":"IF(AA123=\"Ja\",'Q_del,j en Q_del,dh'!$D72,0)","v":0},{"$f":"IF(AB123=\"Ja\",'Q_del,j en Q_del,dh'!$D72,0)","v":0},{"$f":"IF(AC123=\"Ja\",'Q_del,j en Q_del,dh'!$D72,0)","v":0},{"$f":"IF(AD123=\"Ja\",'Q_del,j en Q_del,dh'!$D72,0)","v":0},{"$f":"IF(AE123=\"Ja\",'Q_del,j en Q_del,dh'!$D72,0)","v":0},{"$f":"IF(AF123=\"Ja\",'Q_del,j en Q_del,dh'!$D72,0)","v":0},{"$f":"IF(AG123=\"Ja\",'Q_del,j en Q_del,dh'!$D72,0)","v":0},{"$f":"IF(AH123=\"Ja\",'Q_del,j en Q_del,dh'!$D72,0)","v":0},{"$f":"IF(AI123=\"Ja\",'Q_del,j en Q_del,dh'!$D72,0)","v":0},{"$f":"IF(AJ123=\"Ja\",'Q_del,j en Q_del,dh'!$D72,0)","v":0},{"$f":"IF(AK123=\"Ja\",'Q_del,j en Q_del,dh'!$D72,0)","v":0},{"$f":"IF(AL123=\"Ja\",'Q_del,j en Q_del,dh'!$D72,0)","v":0},{"$f":"IF(AM123=\"Ja\",'Q_del,j en Q_del,dh'!$D72,0)","v":0},{"$f":"IF(AN123=\"Ja\",'Q_del,j en Q_del,dh'!$D72,0)","v":0},{"$f":"IF(AO123=\"Ja\",'Q_del,j en Q_del,dh'!$D72,0)","v":0},{"$f":"IF(AP123=\"Ja\",'Q_del,j en Q_del,dh'!$D72,0)","v":0},{"$f":"IF(AQ123=\"Ja\",'Q_del,j en Q_del,dh'!$D72,0)","v":0},{"$f":"IF(AR123=\"Ja\",'Q_del,j en Q_del,dh'!$D72,0)","v":0},{"$f":"IF(AS123=\"Ja\",'Q_del,j en Q_del,dh'!$D72,0)","v":0},{"$f":"IF(AT123=\"Ja\",'Q_del,j en Q_del,dh'!$D72,0)","v":0},{"$f":"IF(AU123=\"Ja\",'Q_del,j en Q_del,dh'!$D72,0)","v":0},{"$f":"IF(AV123=\"Ja\",'Q_del,j en Q_del,dh'!$D72,0)","v":0},{"$f":"IF(AW123=\"Ja\",'Q_del,j en Q_del,dh'!$D72,0)","v":0},{"$f":"IF(AX123=\"Ja\",'Q_del,j en Q_del,dh'!$D72,0)","v":0},{"$f":"IF(AY123=\"Ja\",'Q_del,j en Q_del,dh'!$D72,0)","v":0},{"$f":"IF(AZ123=\"Ja\",'Q_del,j en Q_del,dh'!$D72,0)","v":0},{"$f":"IF(BA123=\"Ja\",'Q_del,j en Q_del,dh'!$D72,0)","v":0}]
["Qdel,l,j [MJ]","warmtevrager 66",66,{"$f":"IF(D124=\"Ja\",'Q_del,j en Q_del,dh'!$D73,0)","v":0},{"$f":"IF(E124=\"Ja\",'Q_del,j en Q_del,dh'!$D73,0)","v":0},{"$f":"IF(F124=\"Ja\",'Q_del,j en Q_del,dh'!$D73,0)","v":0},{"$f":"IF(G124=\"Ja\",'Q_del,j en Q_del,dh'!$D73,0)","v":0},{"$f":"IF(H124=\"Ja\",'Q_del,j en Q_del,dh'!$D73,0)","v":0},{"$f":"IF(I124=\"Ja\",'Q_del,j en Q_del,dh'!$D73,0)","v":0},{"$f":"IF(J124=\"Ja\",'Q_del,j en Q_del,dh'!$D73,0)","v":0},{"$f":"IF(K124=\"Ja\",'Q_del,j en Q_del,dh'!$D73,0)","v":0},{"$f":"IF(L124=\"Ja\",'Q_del,j en Q_del,dh'!$D73,0)","v":0},{"$f":"IF(M124=\"Ja\",'Q_del,j en Q_del,dh'!$D73,0)","v":0},{"$f":"IF(N124=\"Ja\",'Q_del,j en Q_del,dh'!$D73,0)","v":0},{"$f":"IF(O124=\"Ja\",'Q_del,j en Q_del,dh'!$D73,0)","v":0},{"$f":"IF(P124=\"Ja\",'Q_del,j en Q_del,dh'!$D73,0)","v":0},{"$f":"IF(Q124=\"Ja\",'Q_del,j en Q_del,dh'!$D73,0)","v":0},{"$f":"IF(R124=\"Ja\",'Q_del,j en Q_del,dh'!$D73,0)","v":0},{"$f":"IF(S124=\"Ja\",'Q_del,j en Q_del,dh'!$D73,0)","v":0},{"$f":"IF(T124=\"Ja\",'Q_del,j en Q_del,dh'!$D73,0)","v":0},{"$f":"IF(U124=\"Ja\",'Q_del,j en Q_del,dh'!$D73,0)","v":0},{"$f":"IF(V124=\"Ja\",'Q_del,j en Q_del,dh'!$D73,0)","v":0},{"$f":"IF(W124=\"Ja\",'Q_del,j en Q_del,dh'!$D73,0)","v":0},{"$f":"IF(X124=\"Ja\",'Q_del,j en Q_del,dh'!$D73,0)","v":0},{"$f":"IF(Y124=\"Ja\",'Q_del,j en Q_del,dh'!$D73,0)","v":0},{"$f":"IF(Z124=\"Ja\",'Q_del,j en Q_del,dh'!$D73,0)","v":0},{"$f":"IF(AA124=\"Ja\",'Q_del,j en Q_del,dh'!$D73,0)","v":0},{"$f":"IF(AB124=\"Ja\",'Q_del,j en Q_del,dh'!$D73,0)","v":0},{"$f":"IF(AC124=\"Ja\",'Q_del,j en Q_del,dh'!$D73,0)","v":0},{"$f":"IF(AD124=\"Ja\",'Q_del,j en Q_del,dh'!$D73,0)","v":0},{"$f":"IF(AE124=\"Ja\",'Q_del,j en Q_del,dh'!$D73,0)","v":0},{"$f":"IF(AF124=\"Ja\",'Q_del,j en Q_del,dh'!$D73,0)","v":0},{"$f":"IF(AG124=\"Ja\",'Q_del,j en Q_del,dh'!$D73,0)","v":0},{"$f":"IF(AH124=\"Ja\",'Q_del,j en Q_del,dh'!$D73,0)","v":0},{"$f":"IF(AI124=\"Ja\",'Q_del,j en Q_del,dh'!$D73,0)","v":0},{"$f":"IF(AJ124=\"Ja\",'Q_del,j en Q_del,dh'!$D73,0)","v":0},{"$f":"IF(AK124=\"Ja\",'Q_del,j en Q_del,dh'!$D73,0)","v":0},{"$f":"IF(AL124=\"Ja\",'Q_del,j en Q_del,dh'!$D73,0)","v":0},{"$f":"IF(AM124=\"Ja\",'Q_del,j en Q_del,dh'!$D73,0)","v":0},{"$f":"IF(AN124=\"Ja\",'Q_del,j en Q_del,dh'!$D73,0)","v":0},{"$f":"IF(AO124=\"Ja\",'Q_del,j en Q_del,dh'!$D73,0)","v":0},{"$f":"IF(AP124=\"Ja\",'Q_del,j en Q_del,dh'!$D73,0)","v":0},{"$f":"IF(AQ124=\"Ja\",'Q_del,j en Q_del,dh'!$D73,0)","v":0},{"$f":"IF(AR124=\"Ja\",'Q_del,j en Q_del,dh'!$D73,0)","v":0},{"$f":"IF(AS124=\"Ja\",'Q_del,j en Q_del,dh'!$D73,0)","v":0},{"$f":"IF(AT124=\"Ja\",'Q_del,j en Q_del,dh'!$D73,0)","v":0},{"$f":"IF(AU124=\"Ja\",'Q_del,j en Q_del,dh'!$D73,0)","v":0},{"$f":"IF(AV124=\"Ja\",'Q_del,j en Q_del,dh'!$D73,0)","v":0},{"$f":"IF(AW124=\"Ja\",'Q_del,j en Q_del,dh'!$D73,0)","v":0},{"$f":"IF(AX124=\"Ja\",'Q_del,j en Q_del,dh'!$D73,0)","v":0},{"$f":"IF(AY124=\"Ja\",'Q_del,j en Q_del,dh'!$D73,0)","v":0},{"$f":"IF(AZ124=\"Ja\",'Q_del,j en Q_del,dh'!$D73,0)","v":0},{"$f":"IF(BA124=\"Ja\",'Q_del,j en Q_del,dh'!$D73,0)","v":0}]
["Qdel,l,j [MJ]",{"$f":"\"warmtevrager \"&C380","v":"warmtevrager 67"},{"$f":"C379+1","v":67},{"$f":"IF(D125=\"Ja\",'Q_del,j en Q_del,dh'!$D74,0)","v":0},{"$f":"IF(E125=\"Ja\",'Q_del,j en Q_del,dh'!$D74,0)","v":0},{"$f":"IF(F125=\"Ja\",'Q_del,j en Q_del,dh'!$D74,0)","v":0},{"$f":"IF(G125=\"Ja\",'Q_del,j en Q_del,dh'!$D74,0)","v":0},{"$f":"IF(H125=\"Ja\",'Q_del,j en Q_del,dh'!$D74,0)","v":0},{"$f":"IF(I125=\"Ja\",'Q_del,j en Q_del,dh'!$D74,0)","v":0},{"$f":"IF(J125=\"Ja\",'Q_del,j en Q_del,dh'!$D74,0)","v":0},{"$f":"IF(K125=\"Ja\",'Q_del,j en Q_del,dh'!$D74,0)","v":0},{"$f":"IF(L125=\"Ja\",'Q_del,j en Q_del,dh'!$D74,0)","v":0},{"$f":"IF(M125=\"Ja\",'Q_del,j en Q_del,dh'!$D74,0)","v":0},{"$f":"IF(N125=\"Ja\",'Q_del,j en Q_del,dh'!$D74,0)","v":0},{"$f":"IF(O125=\"Ja\",'Q_del,j en Q_del,dh'!$D74,0)","v":0},{"$f":"IF(P125=\"Ja\",'Q_del,j en Q_del,dh'!$D74,0)","v":0},{"$f":"IF(Q125=\"Ja\",'Q_del,j en Q_del,dh'!$D74,0)","v":0},{"$f":"IF(R125=\"Ja\",'Q_del,j en Q_del,dh'!$D74,0)","v":0},{"$f":"IF(S125=\"Ja\",'Q_del,j en Q_del,dh'!$D74,0)","v":0},{"$f":"IF(T125=\"Ja\",'Q_del,j en Q_del,dh'!$D74,0)","v":0},{"$f":"IF(U125=\"Ja\",'Q_del,j en Q_del,dh'!$D74,0)","v":0},{"$f":"IF(V125=\"Ja\",'Q_del,j en Q_del,dh'!$D74,0)","v":0},{"$f":"IF(W125=\"Ja\",'Q_del,j en Q_del,dh'!$D74,0)","v":0},{"$f":"IF(X125=\"Ja\",'Q_del,j en Q_del,dh'!$D74,0)","v":0},{"$f":"IF(Y125=\"Ja\",'Q_del,j en Q_del,dh'!$D74,0)","v":0},{"$f":"IF(Z125=\"Ja\",'Q_del,j en Q_del,dh'!$D74,0)","v":0},{"$f":"IF(AA125=\"Ja\",'Q_del,j en Q_del,dh'!$D74,0)","v":0},{"$f":"IF(AB125=\"Ja\",'Q_del,j en Q_del,dh'!$D74,0)","v":0},{"$f":"IF(AC125=\"Ja\",'Q_del,j en Q_del,dh'!$D74,0)","v":0},{"$f":"IF(AD125=\"Ja\",'Q_del,j en Q_del,dh'!$D74,0)","v":0},{"$f":"IF(AE125=\"Ja\",'Q_del,j en Q_del,dh'!$D74,0)","v":0},{"$f":"IF(AF125=\"Ja\",'Q_del,j en Q_del,dh'!$D74,0)","v":0},{"$f":"IF(AG125=\"Ja\",'Q_del,j en Q_del,dh'!$D74,0)","v":0},{"$f":"IF(AH125=\"Ja\",'Q_del,j en Q_del,dh'!$D74,0)","v":0},{"$f":"IF(AI125=\"Ja\",'Q_del,j en Q_del,dh'!$D74,0)","v":0},{"$f":"IF(AJ125=\"Ja\",'Q_del,j en Q_del,dh'!$D74,0)","v":0},{"$f":"IF(AK125=\"Ja\",'Q_del,j en Q_del,dh'!$D74,0)","v":0},{"$f":"IF(AL125=\"Ja\",'Q_del,j en Q_del,dh'!$D74,0)","v":0},{"$f":"IF(AM125=\"Ja\",'Q_del,j en Q_del,dh'!$D74,0)","v":0},{"$f":"IF(AN125=\"Ja\",'Q_del,j en Q_del,dh'!$D74,0)","v":0},{"$f":"IF(AO125=\"Ja\",'Q_del,j en Q_del,dh'!$D74,0)","v":0},{"$f":"IF(AP125=\"Ja\",'Q_del,j en Q_del,dh'!$D74,0)","v":0},{"$f":"IF(AQ125=\"Ja\",'Q_del,j en Q_del,dh'!$D74,0)","v":0},{"$f":"IF(AR125=\"Ja\",'Q_del,j en Q_del,dh'!$D74,0)","v":0},{"$f":"IF(AS125=\"Ja\",'Q_del,j en Q_del,dh'!$D74,0)","v":0},{"$f":"IF(AT125=\"Ja\",'Q_del,j en Q_del,dh'!$D74,0)","v":0},{"$f":"IF(AU125=\"Ja\",'Q_del,j en Q_del,dh'!$D74,0)","v":0},{"$f":"IF(AV125=\"Ja\",'Q_del,j en Q_del,dh'!$D74,0)","v":0},{"$f":"IF(AW125=\"Ja\",'Q_del,j en Q_del,dh'!$D74,0)","v":0},{"$f":"IF(AX125=\"Ja\",'Q_del,j en Q_del,dh'!$D74,0)","v":0},{"$f":"IF(AY125=\"Ja\",'Q_del,j en Q_del,dh'!$D74,0)","v":0},{"$f":"IF(AZ125=\"Ja\",'Q_del,j en Q_del,dh'!$D74,0)","v":0},{"$f":"IF(BA125=\"Ja\",'Q_del,j en Q_del,dh'!$D74,0)","v":0}]
["Qdel,l,j [MJ]","warmtevrager 68",68,{"$f":"IF(D126=\"Ja\",'Q_del,j en Q_del,dh'!$D75,0)","v":0},{"$f":"IF(E126=\"Ja\",'Q_del,j en Q_del,dh'!$D75,0)","v":0},{"$f":"IF(F126=\"Ja\",'Q_del,j en Q_del,dh'!$D75,0)","v":0},{"$f":"IF(G126=\"Ja\",'Q_del,j en Q_del,dh'!$D75,0)","v":0},{"$f":"IF(H126=\"Ja\",'Q_del,j en Q_del,dh'!$D75,0)","v":0},{"$f":"IF(I126=\"Ja\",'Q_del,j en Q_del,dh'!$D75,0)","v":0},{"$f":"IF(J126=\"Ja\",'Q_del,j en Q_del,dh'!$D75,0)","v":0},{"$f":"IF(K126=\"Ja\",'Q_del,j en Q_del,dh'!$D75,0)","v":0},{"$f":"IF(L126=\"Ja\",'Q_del,j en Q_del,dh'!$D75,0)","v":0},{"$f":"IF(M126=\"Ja\",'Q_del,j en Q_del,dh'!$D75,0)","v":0},{"$f":"IF(N126=\"Ja\",'Q_del,j en Q_del,dh'!$D75,0)","v":0},{"$f":"IF(O126=\"Ja\",'Q_del,j en Q_del,dh'!$D75,0)","v":0},{"$f":"IF(P126=\"Ja\",'Q_del,j en Q_del,dh'!$D75,0)","v":0},{"$f":"IF(Q126=\"Ja\",'Q_del,j en Q_del,dh'!$D75,0)","v":0},{"$f":"IF(R126=\"Ja\",'Q_del,j en Q_del,dh'!$D75,0)","v":0},{"$f":"IF(S126=\"Ja\",'Q_del,j en Q_del,dh'!$D75,0)","v":0},{"$f":"IF(T126=\"Ja\",'Q_del,j en Q_del,dh'!$D75,0)","v":0},{"$f":"IF(U126=\"Ja\",'Q_del,j en Q_del,dh'!$D75,0)","v":0},{"$f":"IF(V126=\"Ja\",'Q_del,j en Q_del,dh'!$D75,0)","v":0},{"$f":"IF(W126=\"Ja\",'Q_del,j en Q_del,dh'!$D75,0)","v":0},{"$f":"IF(X126=\"Ja\",'Q_del,j en Q_del,dh'!$D75,0)","v":0},{"$f":"IF(Y126=\"Ja\",'Q_del,j en Q_del,dh'!$D75,0)","v":0},{"$f":"IF(Z126=\"Ja\",'Q_del,j en Q_del,dh'!$D75,0)","v":0},{"$f":"IF(AA126=\"Ja\",'Q_del,j en Q_del,dh'!$D75,0)","v":0},{"$f":"IF(AB126=\"Ja\",'Q_del,j en Q_del,dh'!$D75,0)","v":0},{"$f":"IF(AC126=\"Ja\",'Q_del,j en Q_del,dh'!$D75,0)","v":0},{"$f":"IF(AD126=\"Ja\",'Q_del,j en Q_del,dh'!$D75,0)","v":0},{"$f":"IF(AE126=\"Ja\",'Q_del,j en Q_del,dh'!$D75,0)","v":0},{"$f":"IF(AF126=\"Ja\",'Q_del,j en Q_del,dh'!$D75,0)","v":0},{"$f":"IF(AG126=\"Ja\",'Q_del,j en Q_del,dh'!$D75,0)","v":0},{"$f":"IF(AH126=\"Ja\",'Q_del,j en Q_del,dh'!$D75,0)","v":0},{"$f":"IF(AI126=\"Ja\",'Q_del,j en Q_del,dh'!$D75,0)","v":0},{"$f":"IF(AJ126=\"Ja\",'Q_del,j en Q_del,dh'!$D75,0)","v":0},{"$f":"IF(AK126=\"Ja\",'Q_del,j en Q_del,dh'!$D75,0)","v":0},{"$f":"IF(AL126=\"Ja\",'Q_del,j en Q_del,dh'!$D75,0)","v":0},{"$f":"IF(AM126=\"Ja\",'Q_del,j en Q_del,dh'!$D75,0)","v":0},{"$f":"IF(AN126=\"Ja\",'Q_del,j en Q_del,dh'!$D75,0)","v":0},{"$f":"IF(AO126=\"Ja\",'Q_del,j en Q_del,dh'!$D75,0)","v":0},{"$f":"IF(AP126=\"Ja\",'Q_del,j en Q_del,dh'!$D75,0)","v":0},{"$f":"IF(AQ126=\"Ja\",'Q_del,j en Q_del,dh'!$D75,0)","v":0},{"$f":"IF(AR126=\"Ja\",'Q_del,j en Q_del,dh'!$D75,0)","v":0},{"$f":"IF(AS126=\"Ja\",'Q_del,j en Q_del,dh'!$D75,0)","v":0},{"$f":"IF(AT126=\"Ja\",'Q_del,j en Q_del,dh'!$D75,0)","v":0},{"$f":"IF(AU126=\"Ja\",'Q_del,j en Q_del,dh'!$D75,0)","v":0},{"$f":"IF(AV126=\"Ja\",'Q_del,j en Q_del,dh'!$D75,0)","v":0},{"$f":"IF(AW126=\"Ja\",'Q_del,j en Q_del,dh'!$D75,0)","v":0},{"$f":"IF(AX126=\"Ja\",'Q_del,j en Q_del,dh'!$D75,0)","v":0},{"$f":"IF(AY126=\"Ja\",'Q_del,j en Q_del,dh'!$D75,0)","v":0},{"$f":"IF(AZ126=\"Ja\",'Q_del,j en Q_del,dh'!$D75,0)","v":0},{"$f":"IF(BA126=\"Ja\",'Q_del,j en Q_del,dh'!$D75,0)","v":0}]
["Qdel,l,j [MJ]","warmtevrager 69",69,{"$f":"IF(D127=\"Ja\",'Q_del,j en Q_del,dh'!$D76,0)","v":0},{"$f":"IF(E127=\"Ja\",'Q_del,j en Q_del,dh'!$D76,0)","v":0},{"$f":"IF(F127=\"Ja\",'Q_del,j en Q_del,dh'!$D76,0)","v":0},{"$f":"IF(G127=\"Ja\",'Q_del,j en Q_del,dh'!$D76,0)","v":0},{"$f":"IF(H127=\"Ja\",'Q_del,j en Q_del,dh'!$D76,0)","v":0},{"$f":"IF(I127=\"Ja\",'Q_del,j en Q_del,dh'!$D76,0)","v":0},{"$f":"IF(J127=\"Ja\",'Q_del,j en Q_del,dh'!$D76,0)","v":0},{"$f":"IF(K127=\"Ja\",'Q_del,j en Q_del,dh'!$D76,0)","v":0},{"$f":"IF(L127=\"Ja\",'Q_del,j en Q_del,dh'!$D76,0)","v":0},{"$f":"IF(M127=\"Ja\",'Q_del,j en Q_del,dh'!$D76,0)","v":0},{"$f":"IF(N127=\"Ja\",'Q_del,j en Q_del,dh'!$D76,0)","v":0},{"$f":"IF(O127=\"Ja\",'Q_del,j en Q_del,dh'!$D76,0)","v":0},{"$f":"IF(P127=\"Ja\",'Q_del,j en Q_del,dh'!$D76,0)","v":0},{"$f":"IF(Q127=\"Ja\",'Q_del,j en Q_del,dh'!$D76,0)","v":0},{"$f":"IF(R127=\"Ja\",'Q_del,j en Q_del,dh'!$D76,0)","v":0},{"$f":"IF(S127=\"Ja\",'Q_del,j en Q_del,dh'!$D76,0)","v":0},{"$f":"IF(T127=\"Ja\",'Q_del,j en Q_del,dh'!$D76,0)","v":0},{"$f":"IF(U127=\"Ja\",'Q_del,j en Q_del,dh'!$D76,0)","v":0},{"$f":"IF(V127=\"Ja\",'Q_del,j en Q_del,dh'!$D76,0)","v":0},{"$f":"IF(W127=\"Ja\",'Q_del,j en Q_del,dh'!$D76,0)","v":0},{"$f":"IF(X127=\"Ja\",'Q_del,j en Q_del,dh'!$D76,0)","v":0},{"$f":"IF(Y127=\"Ja\",'Q_del,j en Q_del,dh'!$D76,0)","v":0},{"$f":"IF(Z127=\"Ja\",'Q_del,j en Q_del,dh'!$D76,0)","v":0},{"$f":"IF(AA127=\"Ja\",'Q_del,j en Q_del,dh'!$D76,0)","v":0},{"$f":"IF(AB127=\"Ja\",'Q_del,j en Q_del,dh'!$D76,0)","v":0},{"$f":"IF(AC127=\"Ja\",'Q_del,j en Q_del,dh'!$D76,0)","v":0},{"$f":"IF(AD127=\"Ja\",'Q_del,j en Q_del,dh'!$D76,0)","v":0},{"$f":"IF(AE127=\"Ja\",'Q_del,j en Q_del,dh'!$D76,0)","v":0},{"$f":"IF(AF127=\"Ja\",'Q_del,j en Q_del,dh'!$D76,0)","v":0},{"$f":"IF(AG127=\"Ja\",'Q_del,j en Q_del,dh'!$D76,0)","v":0},{"$f":"IF(AH127=\"Ja\",'Q_del,j en Q_del,dh'!$D76,0)","v":0},{"$f":"IF(AI127=\"Ja\",'Q_del,j en Q_del,dh'!$D76,0)","v":0},{"$f":"IF(AJ127=\"Ja\",'Q_del,j en Q_del,dh'!$D76,0)","v":0},{"$f":"IF(AK127=\"Ja\",'Q_del,j en Q_del,dh'!$D76,0)","v":0},{"$f":"IF(AL127=\"Ja\",'Q_del,j en Q_del,dh'!$D76,0)","v":0},{"$f":"IF(AM127=\"Ja\",'Q_del,j en Q_del,dh'!$D76,0)","v":0},{"$f":"IF(AN127=\"Ja\",'Q_del,j en Q_del,dh'!$D76,0)","v":0},{"$f":"IF(AO127=\"Ja\",'Q_del,j en Q_del,dh'!$D76,0)","v":0},{"$f":"IF(AP127=\"Ja\",'Q_del,j en Q_del,dh'!$D76,0)","v":0},{"$f":"IF(AQ127=\"Ja\",'Q_del,j en Q_del,dh'!$D76,0)","v":0},{"$f":"IF(AR127=\"Ja\",'Q_del,j en Q_del,dh'!$D76,0)","v":0},{"$f":"IF(AS127=\"Ja\",'Q_del,j en Q_del,dh'!$D76,0)","v":0},{"$f":"IF(AT127=\"Ja\",'Q_del,j en Q_del,dh'!$D76,0)","v":0},{"$f":"IF(AU127=\"Ja\",'Q_del,j en Q_del,dh'!$D76,0)","v":0},{"$f":"IF(AV127=\"Ja\",'Q_del,j en Q_del,dh'!$D76,0)","v":0},{"$f":"IF(AW127=\"Ja\",'Q_del,j en Q_del,dh'!$D76,0)","v":0},{"$f":"IF(AX127=\"Ja\",'Q_del,j en Q_del,dh'!$D76,0)","v":0},{"$f":"IF(AY127=\"Ja\",'Q_del,j en Q_del,dh'!$D76,0)","v":0},{"$f":"IF(AZ127=\"Ja\",'Q_del,j en Q_del,dh'!$D76,0)","v":0},{"$f":"IF(BA127=\"Ja\",'Q_del,j en Q_del,dh'!$D76,0)","v":0}]
["Qdel,l,j [MJ]","warmtevrager 70",70,{"$f":"IF(D128=\"Ja\",'Q_del,j en Q_del,dh'!$D77,0)","v":0},{"$f":"IF(E128=\"Ja\",'Q_del,j en Q_del,dh'!$D77,0)","v":0},{"$f":"IF(F128=\"Ja\",'Q_del,j en Q_del,dh'!$D77,0)","v":0},{"$f":"IF(G128=\"Ja\",'Q_del,j en Q_del,dh'!$D77,0)","v":0},{"$f":"IF(H128=\"Ja\",'Q_del,j en Q_del,dh'!$D77,0)","v":0},{"$f":"IF(I128=\"Ja\",'Q_del,j en Q_del,dh'!$D77,0)","v":0},{"$f":"IF(J128=\"Ja\",'Q_del,j en Q_del,dh'!$D77,0)","v":0},{"$f":"IF(K128=\"Ja\",'Q_del,j en Q_del,dh'!$D77,0)","v":0},{"$f":"IF(L128=\"Ja\",'Q_del,j en Q_del,dh'!$D77,0)","v":0},{"$f":"IF(M128=\"Ja\",'Q_del,j en Q_del,dh'!$D77,0)","v":0},{"$f":"IF(N128=\"Ja\",'Q_del,j en Q_del,dh'!$D77,0)","v":0},{"$f":"IF(O128=\"Ja\",'Q_del,j en Q_del,dh'!$D77,0)","v":0},{"$f":"IF(P128=\"Ja\",'Q_del,j en Q_del,dh'!$D77,0)","v":0},{"$f":"IF(Q128=\"Ja\",'Q_del,j en Q_del,dh'!$D77,0)","v":0},{"$f":"IF(R128=\"Ja\",'Q_del,j en Q_del,dh'!$D77,0)","v":0},{"$f":"IF(S128=\"Ja\",'Q_del,j en Q_del,dh'!$D77,0)","v":0},{"$f":"IF(T128=\"Ja\",'Q_del,j en Q_del,dh'!$D77,0)","v":0},{"$f":"IF(U128=\"Ja\",'Q_del,j en Q_del,dh'!$D77,0)","v":0},{"$f":"IF(V128=\"Ja\",'Q_del,j en Q_del,dh'!$D77,0)","v":0},{"$f":"IF(W128=\"Ja\",'Q_del,j en Q_del,dh'!$D77,0)","v":0},{"$f":"IF(X128=\"Ja\",'Q_del,j en Q_del,dh'!$D77,0)","v":0},{"$f":"IF(Y128=\"Ja\",'Q_del,j en Q_del,dh'!$D77,0)","v":0},{"$f":"IF(Z128=\"Ja\",'Q_del,j en Q_del,dh'!$D77,0)","v":0},{"$f":"IF(AA128=\"Ja\",'Q_del,j en Q_del,dh'!$D77,0)","v":0},{"$f":"IF(AB128=\"Ja\",'Q_del,j en Q_del,dh'!$D77,0)","v":0},{"$f":"IF(AC128=\"Ja\",'Q_del,j en Q_del,dh'!$D77,0)","v":0},{"$f":"IF(AD128=\"Ja\",'Q_del,j en Q_del,dh'!$D77,0)","v":0},{"$f":"IF(AE128=\"Ja\",'Q_del,j en Q_del,dh'!$D77,0)","v":0},{"$f":"IF(AF128=\"Ja\",'Q_del,j en Q_del,dh'!$D77,0)","v":0},{"$f":"IF(AG128=\"Ja\",'Q_del,j en Q_del,dh'!$D77,0)","v":0},{"$f":"IF(AH128=\"Ja\",'Q_del,j en Q_del,dh'!$D77,0)","v":0},{"$f":"IF(AI128=\"Ja\",'Q_del,j en Q_del,dh'!$D77,0)","v":0},{"$f":"IF(AJ128=\"Ja\",'Q_del,j en Q_del,dh'!$D77,0)","v":0},{"$f":"IF(AK128=\"Ja\",'Q_del,j en Q_del,dh'!$D77,0)","v":0},{"$f":"IF(AL128=\"Ja\",'Q_del,j en Q_del,dh'!$D77,0)","v":0},{"$f":"IF(AM128=\"Ja\",'Q_del,j en Q_del,dh'!$D77,0)","v":0},{"$f":"IF(AN128=\"Ja\",'Q_del,j en Q_del,dh'!$D77,0)","v":0},{"$f":"IF(AO128=\"Ja\",'Q_del,j en Q_del,dh'!$D77,0)","v":0},{"$f":"IF(AP128=\"Ja\",'Q_del,j en Q_del,dh'!$D77,0)","v":0},{"$f":"IF(AQ128=\"Ja\",'Q_del,j en Q_del,dh'!$D77,0)","v":0},{"$f":"IF(AR128=\"Ja\",'Q_del,j en Q_del,dh'!$D77,0)","v":0},{"$f":"IF(AS128=\"Ja\",'Q_del,j en Q_del,dh'!$D77,0)","v":0},{"$f":"IF(AT128=\"Ja\",'Q_del,j en Q_del,dh'!$D77,0)","v":0},{"$f":"IF(AU128=\"Ja\",'Q_del,j en Q_del,dh'!$D77,0)","v":0},{"$f":"IF(AV128=\"Ja\",'Q_del,j en Q_del,dh'!$D77,0)","v":0},{"$f":"IF(AW128=\"Ja\",'Q_del,j en Q_del,dh'!$D77,0)","v":0},{"$f":"IF(AX128=\"Ja\",'Q_del,j en Q_del,dh'!$D77,0)","v":0},{"$f":"IF(AY128=\"Ja\",'Q_del,j en Q_del,dh'!$D77,0)","v":0},{"$f":"IF(AZ128=\"Ja\",'Q_del,j en Q_del,dh'!$D77,0)","v":0},{"$f":"IF(BA128=\"Ja\",'Q_del,j en Q_del,dh'!$D77,0)","v":0}]
["Qdel,l,j [MJ]","warmtevrager 71",71,{"$f":"IF(D129=\"Ja\",'Q_del,j en Q_del,dh'!$D78,0)","v":0},{"$f":"IF(E129=\"Ja\",'Q_del,j en Q_del,dh'!$D78,0)","v":0},{"$f":"IF(F129=\"Ja\",'Q_del,j en Q_del,dh'!$D78,0)","v":0},{"$f":"IF(G129=\"Ja\",'Q_del,j en Q_del,dh'!$D78,0)","v":0},{"$f":"IF(H129=\"Ja\",'Q_del,j en Q_del,dh'!$D78,0)","v":0},{"$f":"IF(I129=\"Ja\",'Q_del,j en Q_del,dh'!$D78,0)","v":0},{"$f":"IF(J129=\"Ja\",'Q_del,j en Q_del,dh'!$D78,0)","v":0},{"$f":"IF(K129=\"Ja\",'Q_del,j en Q_del,dh'!$D78,0)","v":0},{"$f":"IF(L129=\"Ja\",'Q_del,j en Q_del,dh'!$D78,0)","v":0},{"$f":"IF(M129=\"Ja\",'Q_del,j en Q_del,dh'!$D78,0)","v":0},{"$f":"IF(N129=\"Ja\",'Q_del,j en Q_del,dh'!$D78,0)","v":0},{"$f":"IF(O129=\"Ja\",'Q_del,j en Q_del,dh'!$D78,0)","v":0},{"$f":"IF(P129=\"Ja\",'Q_del,j en Q_del,dh'!$D78,0)","v":0},{"$f":"IF(Q129=\"Ja\",'Q_del,j en Q_del,dh'!$D78,0)","v":0},{"$f":"IF(R129=\"Ja\",'Q_del,j en Q_del,dh'!$D78,0)","v":0},{"$f":"IF(S129=\"Ja\",'Q_del,j en Q_del,dh'!$D78,0)","v":0},{"$f":"IF(T129=\"Ja\",'Q_del,j en Q_del,dh'!$D78,0)","v":0},{"$f":"IF(U129=\"Ja\",'Q_del,j en Q_del,dh'!$D78,0)","v":0},{"$f":"IF(V129=\"Ja\",'Q_del,j en Q_del,dh'!$D78,0)","v":0},{"$f":"IF(W129=\"Ja\",'Q_del,j en Q_del,dh'!$D78,0)","v":0},{"$f":"IF(X129=\"Ja\",'Q_del,j en Q_del,dh'!$D78,0)","v":0},{"$f":"IF(Y129=\"Ja\",'Q_del,j en Q_del,dh'!$D78,0)","v":0},{"$f":"IF(Z129=\"Ja\",'Q_del,j en Q_del,dh'!$D78,0)","v":0},{"$f":"IF(AA129=\"Ja\",'Q_del,j en Q_del,dh'!$D78,0)","v":0},{"$f":"IF(AB129=\"Ja\",'Q_del,j en Q_del,dh'!$D78,0)","v":0},{"$f":"IF(AC129=\"Ja\",'Q_del,j en Q_del,dh'!$D78,0)","v":0},{"$f":"IF(AD129=\"Ja\",'Q_del,j en Q_del,dh'!$D78,0)","v":0},{"$f":"IF(AE129=\"Ja\",'Q_del,j en Q_del,dh'!$D78,0)","v":0},{"$f":"IF(AF129=\"Ja\",'Q_del,j en Q_del,dh'!$D78,0)","v":0},{"$f":"IF(AG129=\"Ja\",'Q_del,j en Q_del,dh'!$D78,0)","v":0},{"$f":"IF(AH129=\"Ja\",'Q_del,j en Q_del,dh'!$D78,0)","v":0},{"$f":"IF(AI129=\"Ja\",'Q_del,j en Q_del,dh'!$D78,0)","v":0},{"$f":"IF(AJ129=\"Ja\",'Q_del,j en Q_del,dh'!$D78,0)","v":0},{"$f":"IF(AK129=\"Ja\",'Q_del,j en Q_del,dh'!$D78,0)","v":0},{"$f":"IF(AL129=\"Ja\",'Q_del,j en Q_del,dh'!$D78,0)","v":0},{"$f":"IF(AM129=\"Ja\",'Q_del,j en Q_del,dh'!$D78,0)","v":0},{"$f":"IF(AN129=\"Ja\",'Q_del,j en Q_del,dh'!$D78,0)","v":0},{"$f":"IF(AO129=\"Ja\",'Q_del,j en Q_del,dh'!$D78,0)","v":0},{"$f":"IF(AP129=\"Ja\",'Q_del,j en Q_del,dh'!$D78,0)","v":0},{"$f":"IF(AQ129=\"Ja\",'Q_del,j en Q_del,dh'!$D78,0)","v":0},{"$f":"IF(AR129=\"Ja\",'Q_del,j en Q_del,dh'!$D78,0)","v":0},{"$f":"IF(AS129=\"Ja\",'Q_del,j en Q_del,dh'!$D78,0)","v":0},{"$f":"IF(AT129=\"Ja\",'Q_del,j en Q_del,dh'!$D78,0)","v":0},{"$f":"IF(AU129=\"Ja\",'Q_del,j en Q_del,dh'!$D78,0)","v":0},{"$f":"IF(AV129=\"Ja\",'Q_del,j en Q_del,dh'!$D78,0)","v":0},{"$f":"IF(AW129=\"Ja\",'Q_del,j en Q_del,dh'!$D78,0)","v":0},{"$f":"IF(AX129=\"Ja\",'Q_del,j en Q_del,dh'!$D78,0)","v":0},{"$f":"IF(AY129=\"Ja\",'Q_del,j en Q_del,dh'!$D78,0)","v":0},{"$f":"IF(AZ129=\"Ja\",'Q_del,j en Q_del,dh'!$D78,0)","v":0},{"$f":"IF(BA129=\"Ja\",'Q_del,j en Q_del,dh'!$D78,0)","v":0}]
["Qdel,l,j [MJ]","warmtevrager 72",72,{"$f":"IF(D130=\"Ja\",'Q_del,j en Q_del,dh'!$D79,0)","v":0},{"$f":"IF(E130=\"Ja\",'Q_del,j en Q_del,dh'!$D79,0)","v":0},{"$f":"IF(F130=\"Ja\",'Q_del,j en Q_del,dh'!$D79,0)","v":0},{"$f":"IF(G130=\"Ja\",'Q_del,j en Q_del,dh'!$D79,0)","v":0},{"$f":"IF(H130=\"Ja\",'Q_del,j en Q_del,dh'!$D79,0)","v":0},{"$f":"IF(I130=\"Ja\",'Q_del,j en Q_del,dh'!$D79,0)","v":0},{"$f":"IF(J130=\"Ja\",'Q_del,j en Q_del,dh'!$D79,0)","v":0},{"$f":"IF(K130=\"Ja\",'Q_del,j en Q_del,dh'!$D79,0)","v":0},{"$f":"IF(L130=\"Ja\",'Q_del,j en Q_del,dh'!$D79,0)","v":0},{"$f":"IF(M130=\"Ja\",'Q_del,j en Q_del,dh'!$D79,0)","v":0},{"$f":"IF(N130=\"Ja\",'Q_del,j en Q_del,dh'!$D79,0)","v":0},{"$f":"IF(O130=\"Ja\",'Q_del,j en Q_del,dh'!$D79,0)","v":0},{"$f":"IF(P130=\"Ja\",'Q_del,j en Q_del,dh'!$D79,0)","v":0},{"$f":"IF(Q130=\"Ja\",'Q_del,j en Q_del,dh'!$D79,0)","v":0},{"$f":"IF(R130=\"Ja\",'Q_del,j en Q_del,dh'!$D79,0)","v":0},{"$f":"IF(S130=\"Ja\",'Q_del,j en Q_del,dh'!$D79,0)","v":0},{"$f":"IF(T130=\"Ja\",'Q_del,j en Q_del,dh'!$D79,0)","v":0},{"$f":"IF(U130=\"Ja\",'Q_del,j en Q_del,dh'!$D79,0)","v":0},{"$f":"IF(V130=\"Ja\",'Q_del,j en Q_del,dh'!$D79,0)","v":0},{"$f":"IF(W130=\"Ja\",'Q_del,j en Q_del,dh'!$D79,0)","v":0},{"$f":"IF(X130=\"Ja\",'Q_del,j en Q_del,dh'!$D79,0)","v":0},{"$f":"IF(Y130=\"Ja\",'Q_del,j en Q_del,dh'!$D79,0)","v":0},{"$f":"IF(Z130=\"Ja\",'Q_del,j en Q_del,dh'!$D79,0)","v":0},{"$f":"IF(AA130=\"Ja\",'Q_del,j en Q_del,dh'!$D79,0)","v":0},{"$f":"IF(AB130=\"Ja\",'Q_del,j en Q_del,dh'!$D79,0)","v":0},{"$f":"IF(AC130=\"Ja\",'Q_del,j en Q_del,dh'!$D79,0)","v":0},{"$f":"IF(AD130=\"Ja\",'Q_del,j en Q_del,dh'!$D79,0)","v":0},{"$f":"IF(AE130=\"Ja\",'Q_del,j en Q_del,dh'!$D79,0)","v":0},{"$f":"IF(AF130=\"Ja\",'Q_del,j en Q_del,dh'!$D79,0)","v":0},{"$f":"IF(AG130=\"Ja\",'Q_del,j en Q_del,dh'!$D79,0)","v":0},{"$f":"IF(AH130=\"Ja\",'Q_del,j en Q_del,dh'!$D79,0)","v":0},{"$f":"IF(AI130=\"Ja\",'Q_del,j en Q_del,dh'!$D79,0)","v":0},{"$f":"IF(AJ130=\"Ja\",'Q_del,j en Q_del,dh'!$D79,0)","v":0},{"$f":"IF(AK130=\"Ja\",'Q_del,j en Q_del,dh'!$D79,0)","v":0},{"$f":"IF(AL130=\"Ja\",'Q_del,j en Q_del,dh'!$D79,0)","v":0},{"$f":"IF(AM130=\"Ja\",'Q_del,j en Q_del,dh'!$D79,0)","v":0},{"$f":"IF(AN130=\"Ja\",'Q_del,j en Q_del,dh'!$D79,0)","v":0},{"$f":"IF(AO130=\"Ja\",'Q_del,j en Q_del,dh'!$D79,0)","v":0},{"$f":"IF(AP130=\"Ja\",'Q_del,j en Q_del,dh'!$D79,0)","v":0},{"$f":"IF(AQ130=\"Ja\",'Q_del,j en Q_del,dh'!$D79,0)","v":0},{"$f":"IF(AR130=\"Ja\",'Q_del,j en Q_del,dh'!$D79,0)","v":0},{"$f":"IF(AS130=\"Ja\",'Q_del,j en Q_del,dh'!$D79,0)","v":0},{"$f":"IF(AT130=\"Ja\",'Q_del,j en Q_del,dh'!$D79,0)","v":0},{"$f":"IF(AU130=\"Ja\",'Q_del,j en Q_del,dh'!$D79,0)","v":0},{"$f":"IF(AV130=\"Ja\",'Q_del,j en Q_del,dh'!$D79,0)","v":0},{"$f":"IF(AW130=\"Ja\",'Q_del,j en Q_del,dh'!$D79,0)","v":0},{"$f":"IF(AX130=\"Ja\",'Q_del,j en Q_del,dh'!$D79,0)","v":0},{"$f":"IF(AY130=\"Ja\",'Q_del,j en Q_del,dh'!$D79,0)","v":0},{"$f":"IF(AZ130=\"Ja\",'Q_del,j en Q_del,dh'!$D79,0)","v":0},{"$f":"IF(BA130=\"Ja\",'Q_del,j en Q_del,dh'!$D79,0)","v":0}]
["Qdel,l,j [MJ]","warmtevrager 73",73,{"$f":"IF(D131=\"Ja\",'Q_del,j en Q_del,dh'!$D80,0)","v":0},{"$f":"IF(E131=\"Ja\",'Q_del,j en Q_del,dh'!$D80,0)","v":0},{"$f":"IF(F131=\"Ja\",'Q_del,j en Q_del,dh'!$D80,0)","v":0},{"$f":"IF(G131=\"Ja\",'Q_del,j en Q_del,dh'!$D80,0)","v":0},{"$f":"IF(H131=\"Ja\",'Q_del,j en Q_del,dh'!$D80,0)","v":0},{"$f":"IF(I131=\"Ja\",'Q_del,j en Q_del,dh'!$D80,0)","v":0},{"$f":"IF(J131=\"Ja\",'Q_del,j en Q_del,dh'!$D80,0)","v":0},{"$f":"IF(K131=\"Ja\",'Q_del,j en Q_del,dh'!$D80,0)","v":0},{"$f":"IF(L131=\"Ja\",'Q_del,j en Q_del,dh'!$D80,0)","v":0},{"$f":"IF(M131=\"Ja\",'Q_del,j en Q_del,dh'!$D80,0)","v":0},{"$f":"IF(N131=\"Ja\",'Q_del,j en Q_del,dh'!$D80,0)","v":0},{"$f":"IF(O131=\"Ja\",'Q_del,j en Q_del,dh'!$D80,0)","v":0},{"$f":"IF(P131=\"Ja\",'Q_del,j en Q_del,dh'!$D80,0)","v":0},{"$f":"IF(Q131=\"Ja\",'Q_del,j en Q_del,dh'!$D80,0)","v":0},{"$f":"IF(R131=\"Ja\",'Q_del,j en Q_del,dh'!$D80,0)","v":0},{"$f":"IF(S131=\"Ja\",'Q_del,j en Q_del,dh'!$D80,0)","v":0},{"$f":"IF(T131=\"Ja\",'Q_del,j en Q_del,dh'!$D80,0)","v":0},{"$f":"IF(U131=\"Ja\",'Q_del,j en Q_del,dh'!$D80,0)","v":0},{"$f":"IF(V131=\"Ja\",'Q_del,j en Q_del,dh'!$D80,0)","v":0},{"$f":"IF(W131=\"Ja\",'Q_del,j en Q_del,dh'!$D80,0)","v":0},{"$f":"IF(X131=\"Ja\",'Q_del,j en Q_del,dh'!$D80,0)","v":0},{"$f":"IF(Y131=\"Ja\",'Q_del,j en Q_del,dh'!$D80,0)","v":0},{"$f":"IF(Z131=\"Ja\",'Q_del,j en Q_del,dh'!$D80,0)","v":0},{"$f":"IF(AA131=\"Ja\",'Q_del,j en Q_del,dh'!$D80,0)","v":0},{"$f":"IF(AB131=\"Ja\",'Q_del,j en Q_del,dh'!$D80,0)","v":0},{"$f":"IF(AC131=\"Ja\",'Q_del,j en Q_del,dh'!$D80,0)","v":0},{"$f":"IF(AD131=\"Ja\",'Q_del,j en Q_del,dh'!$D80,0)","v":0},{"$f":"IF(AE131=\"Ja\",'Q_del,j en Q_del,dh'!$D80,0)","v":0},{"$f":"IF(AF131=\"Ja\",'Q_del,j en Q_del,dh'!$D80,0)","v":0},{"$f":"IF(AG131=\"Ja\",'Q_del,j en Q_del,dh'!$D80,0)","v":0},{"$f":"IF(AH131=\"Ja\",'Q_del,j en Q_del,dh'!$D80,0)","v":0},{"$f":"IF(AI131=\"Ja\",'Q_del,j en Q_del,dh'!$D80,0)","v":0},{"$f":"IF(AJ131=\"Ja\",'Q_del,j en Q_del,dh'!$D80,0)","v":0},{"$f":"IF(AK131=\"Ja\",'Q_del,j en Q_del,dh'!$D80,0)","v":0},{"$f":"IF(AL131=\"Ja\",'Q_del,j en Q_del,dh'!$D80,0)","v":0},{"$f":"IF(AM131=\"Ja\",'Q_del,j en Q_del,dh'!$D80,0)","v":0},{"$f":"IF(AN131=\"Ja\",'Q_del,j en Q_del,dh'!$D80,0)","v":0},{"$f":"IF(AO131=\"Ja\",'Q_del,j en Q_del,dh'!$D80,0)","v":0},{"$f":"IF(AP131=\"Ja\",'Q_del,j en Q_del,dh'!$D80,0)","v":0},{"$f":"IF(AQ131=\"Ja\",'Q_del,j en Q_del,dh'!$D80,0)","v":0},{"$f":"IF(AR131=\"Ja\",'Q_del,j en Q_del,dh'!$D80,0)","v":0},{"$f":"IF(AS131=\"Ja\",'Q_del,j en Q_del,dh'!$D80,0)","v":0},{"$f":"IF(AT131=\"Ja\",'Q_del,j en Q_del,dh'!$D80,0)","v":0},{"$f":"IF(AU131=\"Ja\",'Q_del,j en Q_del,dh'!$D80,0)","v":0},{"$f":"IF(AV131=\"Ja\",'Q_del,j en Q_del,dh'!$D80,0)","v":0},{"$f":"IF(AW131=\"Ja\",'Q_del,j en Q_del,dh'!$D80,0)","v":0},{"$f":"IF(AX131=\"Ja\",'Q_del,j en Q_del,dh'!$D80,0)","v":0},{"$f":"IF(AY131=\"Ja\",'Q_del,j en Q_del,dh'!$D80,0)","v":0},{"$f":"IF(AZ131=\"Ja\",'Q_del,j en Q_del,dh'!$D80,0)","v":0},{"$f":"IF(BA131=\"Ja\",'Q_del,j en Q_del,dh'!$D80,0)","v":0}]
["Qdel,l,j [MJ]","warmtevrager 74",74,{"$f":"IF(D132=\"Ja\",'Q_del,j en Q_del,dh'!$D81,0)","v":0},{"$f":"IF(E132=\"Ja\",'Q_del,j en Q_del,dh'!$D81,0)","v":0},{"$f":"IF(F132=\"Ja\",'Q_del,j en Q_del,dh'!$D81,0)","v":0},{"$f":"IF(G132=\"Ja\",'Q_del,j en Q_del,dh'!$D81,0)","v":0},{"$f":"IF(H132=\"Ja\",'Q_del,j en Q_del,dh'!$D81,0)","v":0},{"$f":"IF(I132=\"Ja\",'Q_del,j en Q_del,dh'!$D81,0)","v":0},{"$f":"IF(J132=\"Ja\",'Q_del,j en Q_del,dh'!$D81,0)","v":0},{"$f":"IF(K132=\"Ja\",'Q_del,j en Q_del,dh'!$D81,0)","v":0},{"$f":"IF(L132=\"Ja\",'Q_del,j en Q_del,dh'!$D81,0)","v":0},{"$f":"IF(M132=\"Ja\",'Q_del,j en Q_del,dh'!$D81,0)","v":0},{"$f":"IF(N132=\"Ja\",'Q_del,j en Q_del,dh'!$D81,0)","v":0},{"$f":"IF(O132=\"Ja\",'Q_del,j en Q_del,dh'!$D81,0)","v":0},{"$f":"IF(P132=\"Ja\",'Q_del,j en Q_del,dh'!$D81,0)","v":0},{"$f":"IF(Q132=\"Ja\",'Q_del,j en Q_del,dh'!$D81,0)","v":0},{"$f":"IF(R132=\"Ja\",'Q_del,j en Q_del,dh'!$D81,0)","v":0},{"$f":"IF(S132=\"Ja\",'Q_del,j en Q_del,dh'!$D81,0)","v":0},{"$f":"IF(T132=\"Ja\",'Q_del,j en Q_del,dh'!$D81,0)","v":0},{"$f":"IF(U132=\"Ja\",'Q_del,j en Q_del,dh'!$D81,0)","v":0},{"$f":"IF(V132=\"Ja\",'Q_del,j en Q_del,dh'!$D81,0)","v":0},{"$f":"IF(W132=\"Ja\",'Q_del,j en Q_del,dh'!$D81,0)","v":0},{"$f":"IF(X132=\"Ja\",'Q_del,j en Q_del,dh'!$D81,0)","v":0},{"$f":"IF(Y132=\"Ja\",'Q_del,j en Q_del,dh'!$D81,0)","v":0},{"$f":"IF(Z132=\"Ja\",'Q_del,j en Q_del,dh'!$D81,0)","v":0},{"$f":"IF(AA132=\"Ja\",'Q_del,j en Q_del,dh'!$D81,0)","v":0},{"$f":"IF(AB132=\"Ja\",'Q_del,j en Q_del,dh'!$D81,0)","v":0},{"$f":"IF(AC132=\"Ja\",'Q_del,j en Q_del,dh'!$D81,0)","v":0},{"$f":"IF(AD132=\"Ja\",'Q_del,j en Q_del,dh'!$D81,0)","v":0},{"$f":"IF(AE132=\"Ja\",'Q_del,j en Q_del,dh'!$D81,0)","v":0},{"$f":"IF(AF132=\"Ja\",'Q_del,j en Q_del,dh'!$D81,0)","v":0},{"$f":"IF(AG132=\"Ja\",'Q_del,j en Q_del,dh'!$D81,0)","v":0},{"$f":"IF(AH132=\"Ja\",'Q_del,j en Q_del,dh'!$D81,0)","v":0},{"$f":"IF(AI132=\"Ja\",'Q_del,j en Q_del,dh'!$D81,0)","v":0},{"$f":"IF(AJ132=\"Ja\",'Q_del,j en Q_del,dh'!$D81,0)","v":0},{"$f":"IF(AK132=\"Ja\",'Q_del,j en Q_del,dh'!$D81,0)","v":0},{"$f":"IF(AL132=\"Ja\",'Q_del,j en Q_del,dh'!$D81,0)","v":0},{"$f":"IF(AM132=\"Ja\",'Q_del,j en Q_del,dh'!$D81,0)","v":0},{"$f":"IF(AN132=\"Ja\",'Q_del,j en Q_del,dh'!$D81,0)","v":0},{"$f":"IF(AO132=\"Ja\",'Q_del,j en Q_del,dh'!$D81,0)","v":0},{"$f":"IF(AP132=\"Ja\",'Q_del,j en Q_del,dh'!$D81,0)","v":0},{"$f":"IF(AQ132=\"Ja\",'Q_del,j en Q_del,dh'!$D81,0)","v":0},{"$f":"IF(AR132=\"Ja\",'Q_del,j en Q_del,dh'!$D81,0)","v":0},{"$f":"IF(AS132=\"Ja\",'Q_del,j en Q_del,dh'!$D81,0)","v":0},{"$f":"IF(AT132=\"Ja\",'Q_del,j en Q_del,dh'!$D81,0)","v":0},{"$f":"IF(AU132=\"Ja\",'Q_del,j en Q_del,dh'!$D81,0)","v":0},{"$f":"IF(AV132=\"Ja\",'Q_del,j en Q_del,dh'!$D81,0)","v":0},{"$f":"IF(AW132=\"Ja\",'Q_del,j en Q_del,dh'!$D81,0)","v":0},{"$f":"IF(AX132=\"Ja\",'Q_del,j en Q_del,dh'!$D81,0)","v":0},{"$f":"IF(AY132=\"Ja\",'Q_del,j en Q_del,dh'!$D81,0)","v":0},{"$f":"IF(AZ132=\"Ja\",'Q_del,j en Q_del,dh'!$D81,0)","v":0},{"$f":"IF(BA132=\"Ja\",'Q_del,j en Q_del,dh'!$D81,0)","v":0}]
["Qdel,l,j [MJ]","warmtevrager 75",75,{"$f":"IF(D133=\"Ja\",'Q_del,j en Q_del,dh'!$D82,0)","v":0},{"$f":"IF(E133=\"Ja\",'Q_del,j en Q_del,dh'!$D82,0)","v":0},{"$f":"IF(F133=\"Ja\",'Q_del,j en Q_del,dh'!$D82,0)","v":0},{"$f":"IF(G133=\"Ja\",'Q_del,j en Q_del,dh'!$D82,0)","v":0},{"$f":"IF(H133=\"Ja\",'Q_del,j en Q_del,dh'!$D82,0)","v":0},{"$f":"IF(I133=\"Ja\",'Q_del,j en Q_del,dh'!$D82,0)","v":0},{"$f":"IF(J133=\"Ja\",'Q_del,j en Q_del,dh'!$D82,0)","v":0},{"$f":"IF(K133=\"Ja\",'Q_del,j en Q_del,dh'!$D82,0)","v":0},{"$f":"IF(L133=\"Ja\",'Q_del,j en Q_del,dh'!$D82,0)","v":0},{"$f":"IF(M133=\"Ja\",'Q_del,j en Q_del,dh'!$D82,0)","v":0},{"$f":"IF(N133=\"Ja\",'Q_del,j en Q_del,dh'!$D82,0)","v":0},{"$f":"IF(O133=\"Ja\",'Q_del,j en Q_del,dh'!$D82,0)","v":0},{"$f":"IF(P133=\"Ja\",'Q_del,j en Q_del,dh'!$D82,0)","v":0},{"$f":"IF(Q133=\"Ja\",'Q_del,j en Q_del,dh'!$D82,0)","v":0},{"$f":"IF(R133=\"Ja\",'Q_del,j en Q_del,dh'!$D82,0)","v":0},{"$f":"IF(S133=\"Ja\",'Q_del,j en Q_del,dh'!$D82,0)","v":0},{"$f":"IF(T133=\"Ja\",'Q_del,j en Q_del,dh'!$D82,0)","v":0},{"$f":"IF(U133=\"Ja\",'Q_del,j en Q_del,dh'!$D82,0)","v":0},{"$f":"IF(V133=\"Ja\",'Q_del,j en Q_del,dh'!$D82,0)","v":0},{"$f":"IF(W133=\"Ja\",'Q_del,j en Q_del,dh'!$D82,0)","v":0},{"$f":"IF(X133=\"Ja\",'Q_del,j en Q_del,dh'!$D82,0)","v":0},{"$f":"IF(Y133=\"Ja\",'Q_del,j en Q_del,dh'!$D82,0)","v":0},{"$f":"IF(Z133=\"Ja\",'Q_del,j en Q_del,dh'!$D82,0)","v":0},{"$f":"IF(AA133=\"Ja\",'Q_del,j en Q_del,dh'!$D82,0)","v":0},{"$f":"IF(AB133=\"Ja\",'Q_del,j en Q_del,dh'!$D82,0)","v":0},{"$f":"IF(AC133=\"Ja\",'Q_del,j en Q_del,dh'!$D82,0)","v":0},{"$f":"IF(AD133=\"Ja\",'Q_del,j en Q_del,dh'!$D82,0)","v":0},{"$f":"IF(AE133=\"Ja\",'Q_del,j en Q_del,dh'!$D82,0)","v":0},{"$f":"IF(AF133=\"Ja\",'Q_del,j en Q_del,dh'!$D82,0)","v":0},{"$f":"IF(AG133=\"Ja\",'Q_del,j en Q_del,dh'!$D82,0)","v":0},{"$f":"IF(AH133=\"Ja\",'Q_del,j en Q_del,dh'!$D82,0)","v":0},{"$f":"IF(AI133=\"Ja\",'Q_del,j en Q_del,dh'!$D82,0)","v":0},{"$f":"IF(AJ133=\"Ja\",'Q_del,j en Q_del,dh'!$D82,0)","v":0},{"$f":"IF(AK133=\"Ja\",'Q_del,j en Q_del,dh'!$D82,0)","v":0},{"$f":"IF(AL133=\"Ja\",'Q_del,j en Q_del,dh'!$D82,0)","v":0},{"$f":"IF(AM133=\"Ja\",'Q_del,j en Q_del,dh'!$D82,0)","v":0},{"$f":"IF(AN133=\"Ja\",'Q_del,j en Q_del,dh'!$D82,0)","v":0},{"$f":"IF(AO133=\"Ja\",'Q_del,j en Q_del,dh'!$D82,0)","v":0},{"$f":"IF(AP133=\"Ja\",'Q_del,j en Q_del,dh'!$D82,0)","v":0},{"$f":"IF(AQ133=\"Ja\",'Q_del,j en Q_del,dh'!$D82,0)","v":0},{"$f":"IF(AR133=\"Ja\",'Q_del,j en Q_del,dh'!$D82,0)","v":0},{"$f":"IF(AS133=\"Ja\",'Q_del,j en Q_del,dh'!$D82,0)","v":0},{"$f":"IF(AT133=\"Ja\",'Q_del,j en Q_del,dh'!$D82,0)","v":0},{"$f":"IF(AU133=\"Ja\",'Q_del,j en Q_del,dh'!$D82,0)","v":0},{"$f":"IF(AV133=\"Ja\",'Q_del,j en Q_del,dh'!$D82,0)","v":0},{"$f":"IF(AW133=\"Ja\",'Q_del,j en Q_del,dh'!$D82,0)","v":0},{"$f":"IF(AX133=\"Ja\",'Q_del,j en Q_del,dh'!$D82,0)","v":0},{"$f":"IF(AY133=\"Ja\",'Q_del,j en Q_del,dh'!$D82,0)","v":0},{"$f":"IF(AZ133=\"Ja\",'Q_del,j en Q_del,dh'!$D82,0)","v":0},{"$f":"IF(BA133=\"Ja\",'Q_del,j en Q_del,dh'!$D82,0)","v":0}]
["Qdel,l,j [MJ]","warmtevrager 76",76,{"$f":"IF(D134=\"Ja\",'Q_del,j en Q_del,dh'!$D83,0)","v":0},{"$f":"IF(E134=\"Ja\",'Q_del,j en Q_del,dh'!$D83,0)","v":0},{"$f":"IF(F134=\"Ja\",'Q_del,j en Q_del,dh'!$D83,0)","v":0},{"$f":"IF(G134=\"Ja\",'Q_del,j en Q_del,dh'!$D83,0)","v":0},{"$f":"IF(H134=\"Ja\",'Q_del,j en Q_del,dh'!$D83,0)","v":0},{"$f":"IF(I134=\"Ja\",'Q_del,j en Q_del,dh'!$D83,0)","v":0},{"$f":"IF(J134=\"Ja\",'Q_del,j en Q_del,dh'!$D83,0)","v":0},{"$f":"IF(K134=\"Ja\",'Q_del,j en Q_del,dh'!$D83,0)","v":0},{"$f":"IF(L134=\"Ja\",'Q_del,j en Q_del,dh'!$D83,0)","v":0},{"$f":"IF(M134=\"Ja\",'Q_del,j en Q_del,dh'!$D83,0)","v":0},{"$f":"IF(N134=\"Ja\",'Q_del,j en Q_del,dh'!$D83,0)","v":0},{"$f":"IF(O134=\"Ja\",'Q_del,j en Q_del,dh'!$D83,0)","v":0},{"$f":"IF(P134=\"Ja\",'Q_del,j en Q_del,dh'!$D83,0)","v":0},{"$f":"IF(Q134=\"Ja\",'Q_del,j en Q_del,dh'!$D83,0)","v":0},{"$f":"IF(R134=\"Ja\",'Q_del,j en Q_del,dh'!$D83,0)","v":0},{"$f":"IF(S134=\"Ja\",'Q_del,j en Q_del,dh'!$D83,0)","v":0},{"$f":"IF(T134=\"Ja\",'Q_del,j en Q_del,dh'!$D83,0)","v":0},{"$f":"IF(U134=\"Ja\",'Q_del,j en Q_del,dh'!$D83,0)","v":0},{"$f":"IF(V134=\"Ja\",'Q_del,j en Q_del,dh'!$D83,0)","v":0},{"$f":"IF(W134=\"Ja\",'Q_del,j en Q_del,dh'!$D83,0)","v":0},{"$f":"IF(X134=\"Ja\",'Q_del,j en Q_del,dh'!$D83,0)","v":0},{"$f":"IF(Y134=\"Ja\",'Q_del,j en Q_del,dh'!$D83,0)","v":0},{"$f":"IF(Z134=\"Ja\",'Q_del,j en Q_del,dh'!$D83,0)","v":0},{"$f":"IF(AA134=\"Ja\",'Q_del,j en Q_del,dh'!$D83,0)","v":0},{"$f":"IF(AB134=\"Ja\",'Q_del,j en Q_del,dh'!$D83,0)","v":0},{"$f":"IF(AC134=\"Ja\",'Q_del,j en Q_del,dh'!$D83,0)","v":0},{"$f":"IF(AD134=\"Ja\",'Q_del,j en Q_del,dh'!$D83,0)","v":0},{"$f":"IF(AE134=\"Ja\",'Q_del,j en Q_del,dh'!$D83,0)","v":0},{"$f":"IF(AF134=\"Ja\",'Q_del,j en Q_del,dh'!$D83,0)","v":0},{"$f":"IF(AG134=\"Ja\",'Q_del,j en Q_del,dh'!$D83,0)","v":0},{"$f":"IF(AH134=\"Ja\",'Q_del,j en Q_del,dh'!$D83,0)","v":0},{"$f":"IF(AI134=\"Ja\",'Q_del,j en Q_del,dh'!$D83,0)","v":0},{"$f":"IF(AJ134=\"Ja\",'Q_del,j en Q_del,dh'!$D83,0)","v":0},{"$f":"IF(AK134=\"Ja\",'Q_del,j en Q_del,dh'!$D83,0)","v":0},{"$f":"IF(AL134=\"Ja\",'Q_del,j en Q_del,dh'!$D83,0)","v":0},{"$f":"IF(AM134=\"Ja\",'Q_del,j en Q_del,dh'!$D83,0)","v":0},{"$f":"IF(AN134=\"Ja\",'Q_del,j en Q_del,dh'!$D83,0)","v":0},{"$f":"IF(AO134=\"Ja\",'Q_del,j en Q_del,dh'!$D83,0)","v":0},{"$f":"IF(AP134=\"Ja\",'Q_del,j en Q_del,dh'!$D83,0)","v":0},{"$f":"IF(AQ134=\"Ja\",'Q_del,j en Q_del,dh'!$D83,0)","v":0},{"$f":"IF(AR134=\"Ja\",'Q_del,j en Q_del,dh'!$D83,0)","v":0},{"$f":"IF(AS134=\"Ja\",'Q_del,j en Q_del,dh'!$D83,0)","v":0},{"$f":"IF(AT134=\"Ja\",'Q_del,j en Q_del,dh'!$D83,0)","v":0},{"$f":"IF(AU134=\"Ja\",'Q_del,j en Q_del,dh'!$D83,0)","v":0},{"$f":"IF(AV134=\"Ja\",'Q_del,j en Q_del,dh'!$D83,0)","v":0},{"$f":"IF(AW134=\"Ja\",'Q_del,j en Q_del,dh'!$D83,0)","v":0},{"$f":"IF(AX134=\"Ja\",'Q_del,j en Q_del,dh'!$D83,0)","v":0},{"$f":"IF(AY134=\"Ja\",'Q_del,j en Q_del,dh'!$D83,0)","v":0},{"$f":"IF(AZ134=\"Ja\",'Q_del,j en Q_del,dh'!$D83,0)","v":0},{"$f":"IF(BA134=\"Ja\",'Q_del,j en Q_del,dh'!$D83,0)","v":0}]
["Qdel,l,j [MJ]","warmtevrager 77",77,{"$f":"IF(D135=\"Ja\",'Q_del,j en Q_del,dh'!$D84,0)","v":0},{"$f":"IF(E135=\"Ja\",'Q_del,j en Q_del,dh'!$D84,0)","v":0},{"$f":"IF(F135=\"Ja\",'Q_del,j en Q_del,dh'!$D84,0)","v":0},{"$f":"IF(G135=\"Ja\",'Q_del,j en Q_del,dh'!$D84,0)","v":0},{"$f":"IF(H135=\"Ja\",'Q_del,j en Q_del,dh'!$D84,0)","v":0},{"$f":"IF(I135=\"Ja\",'Q_del,j en Q_del,dh'!$D84,0)","v":0},{"$f":"IF(J135=\"Ja\",'Q_del,j en Q_del,dh'!$D84,0)","v":0},{"$f":"IF(K135=\"Ja\",'Q_del,j en Q_del,dh'!$D84,0)","v":0},{"$f":"IF(L135=\"Ja\",'Q_del,j en Q_del,dh'!$D84,0)","v":0},{"$f":"IF(M135=\"Ja\",'Q_del,j en Q_del,dh'!$D84,0)","v":0},{"$f":"IF(N135=\"Ja\",'Q_del,j en Q_del,dh'!$D84,0)","v":0},{"$f":"IF(O135=\"Ja\",'Q_del,j en Q_del,dh'!$D84,0)","v":0},{"$f":"IF(P135=\"Ja\",'Q_del,j en Q_del,dh'!$D84,0)","v":0},{"$f":"IF(Q135=\"Ja\",'Q_del,j en Q_del,dh'!$D84,0)","v":0},{"$f":"IF(R135=\"Ja\",'Q_del,j en Q_del,dh'!$D84,0)","v":0},{"$f":"IF(S135=\"Ja\",'Q_del,j en Q_del,dh'!$D84,0)","v":0},{"$f":"IF(T135=\"Ja\",'Q_del,j en Q_del,dh'!$D84,0)","v":0},{"$f":"IF(U135=\"Ja\",'Q_del,j en Q_del,dh'!$D84,0)","v":0},{"$f":"IF(V135=\"Ja\",'Q_del,j en Q_del,dh'!$D84,0)","v":0},{"$f":"IF(W135=\"Ja\",'Q_del,j en Q_del,dh'!$D84,0)","v":0},{"$f":"IF(X135=\"Ja\",'Q_del,j en Q_del,dh'!$D84,0)","v":0},{"$f":"IF(Y135=\"Ja\",'Q_del,j en Q_del,dh'!$D84,0)","v":0},{"$f":"IF(Z135=\"Ja\",'Q_del,j en Q_del,dh'!$D84,0)","v":0},{"$f":"IF(AA135=\"Ja\",'Q_del,j en Q_del,dh'!$D84,0)","v":0},{"$f":"IF(AB135=\"Ja\",'Q_del,j en Q_del,dh'!$D84,0)","v":0},{"$f":"IF(AC135=\"Ja\",'Q_del,j en Q_del,dh'!$D84,0)","v":0},{"$f":"IF(AD135=\"Ja\",'Q_del,j en Q_del,dh'!$D84,0)","v":0},{"$f":"IF(AE135=\"Ja\",'Q_del,j en Q_del,dh'!$D84,0)","v":0},{"$f":"IF(AF135=\"Ja\",'Q_del,j en Q_del,dh'!$D84,0)","v":0},{"$f":"IF(AG135=\"Ja\",'Q_del,j en Q_del,dh'!$D84,0)","v":0},{"$f":"IF(AH135=\"Ja\",'Q_del,j en Q_del,dh'!$D84,0)","v":0},{"$f":"IF(AI135=\"Ja\",'Q_del,j en Q_del,dh'!$D84,0)","v":0},{"$f":"IF(AJ135=\"Ja\",'Q_del,j en Q_del,dh'!$D84,0)","v":0},{"$f":"IF(AK135=\"Ja\",'Q_del,j en Q_del,dh'!$D84,0)","v":0},{"$f":"IF(AL135=\"Ja\",'Q_del,j en Q_del,dh'!$D84,0)","v":0},{"$f":"IF(AM135=\"Ja\",'Q_del,j en Q_del,dh'!$D84,0)","v":0},{"$f":"IF(AN135=\"Ja\",'Q_del,j en Q_del,dh'!$D84,0)","v":0},{"$f":"IF(AO135=\"Ja\",'Q_del,j en Q_del,dh'!$D84,0)","v":0},{"$f":"IF(AP135=\"Ja\",'Q_del,j en Q_del,dh'!$D84,0)","v":0},{"$f":"IF(AQ135=\"Ja\",'Q_del,j en Q_del,dh'!$D84,0)","v":0},{"$f":"IF(AR135=\"Ja\",'Q_del,j en Q_del,dh'!$D84,0)","v":0},{"$f":"IF(AS135=\"Ja\",'Q_del,j en Q_del,dh'!$D84,0)","v":0},{"$f":"IF(AT135=\"Ja\",'Q_del,j en Q_del,dh'!$D84,0)","v":0},{"$f":"IF(AU135=\"Ja\",'Q_del,j en Q_del,dh'!$D84,0)","v":0},{"$f":"IF(AV135=\"Ja\",'Q_del,j en Q_del,dh'!$D84,0)","v":0},{"$f":"IF(AW135=\"Ja\",'Q_del,j en Q_del,dh'!$D84,0)","v":0},{"$f":"IF(AX135=\"Ja\",'Q_del,j en Q_del,dh'!$D84,0)","v":0},{"$f":"IF(AY135=\"Ja\",'Q_del,j en Q_del,dh'!$D84,0)","v":0},{"$f":"IF(AZ135=\"Ja\",'Q_del,j en Q_del,dh'!$D84,0)","v":0},{"$f":"IF(BA135=\"Ja\",'Q_del,j en Q_del,dh'!$D84,0)","v":0}]
["Qdel,l,j [MJ]","warmtevrager 78",78,{"$f":"IF(D136=\"Ja\",'Q_del,j en Q_del,dh'!$D85,0)","v":0},{"$f":"IF(E136=\"Ja\",'Q_del,j en Q_del,dh'!$D85,0)","v":0},{"$f":"IF(F136=\"Ja\",'Q_del,j en Q_del,dh'!$D85,0)","v":0},{"$f":"IF(G136=\"Ja\",'Q_del,j en Q_del,dh'!$D85,0)","v":0},{"$f":"IF(H136=\"Ja\",'Q_del,j en Q_del,dh'!$D85,0)","v":0},{"$f":"IF(I136=\"Ja\",'Q_del,j en Q_del,dh'!$D85,0)","v":0},{"$f":"IF(J136=\"Ja\",'Q_del,j en Q_del,dh'!$D85,0)","v":0},{"$f":"IF(K136=\"Ja\",'Q_del,j en Q_del,dh'!$D85,0)","v":0},{"$f":"IF(L136=\"Ja\",'Q_del,j en Q_del,dh'!$D85,0)","v":0},{"$f":"IF(M136=\"Ja\",'Q_del,j en Q_del,dh'!$D85,0)","v":0},{"$f":"IF(N136=\"Ja\",'Q_del,j en Q_del,dh'!$D85,0)","v":0},{"$f":"IF(O136=\"Ja\",'Q_del,j en Q_del,dh'!$D85,0)","v":0},{"$f":"IF(P136=\"Ja\",'Q_del,j en Q_del,dh'!$D85,0)","v":0},{"$f":"IF(Q136=\"Ja\",'Q_del,j en Q_del,dh'!$D85,0)","v":0},{"$f":"IF(R136=\"Ja\",'Q_del,j en Q_del,dh'!$D85,0)","v":0},{"$f":"IF(S136=\"Ja\",'Q_del,j en Q_del,dh'!$D85,0)","v":0},{"$f":"IF(T136=\"Ja\",'Q_del,j en Q_del,dh'!$D85,0)","v":0},{"$f":"IF(U136=\"Ja\",'Q_del,j en Q_del,dh'!$D85,0)","v":0},{"$f":"IF(V136=\"Ja\",'Q_del,j en Q_del,dh'!$D85,0)","v":0},{"$f":"IF(W136=\"Ja\",'Q_del,j en Q_del,dh'!$D85,0)","v":0},{"$f":"IF(X136=\"Ja\",'Q_del,j en Q_del,dh'!$D85,0)","v":0},{"$f":"IF(Y136=\"Ja\",'Q_del,j en Q_del,dh'!$D85,0)","v":0},{"$f":"IF(Z136=\"Ja\",'Q_del,j en Q_del,dh'!$D85,0)","v":0},{"$f":"IF(AA136=\"Ja\",'Q_del,j en Q_del,dh'!$D85,0)","v":0},{"$f":"IF(AB136=\"Ja\",'Q_del,j en Q_del,dh'!$D85,0)","v":0},{"$f":"IF(AC136=\"Ja\",'Q_del,j en Q_del,dh'!$D85,0)","v":0},{"$f":"IF(AD136=\"Ja\",'Q_del,j en Q_del,dh'!$D85,0)","v":0},{"$f":"IF(AE136=\"Ja\",'Q_del,j en Q_del,dh'!$D85,0)","v":0},{"$f":"IF(AF136=\"Ja\",'Q_del,j en Q_del,dh'!$D85,0)","v":0},{"$f":"IF(AG136=\"Ja\",'Q_del,j en Q_del,dh'!$D85,0)","v":0},{"$f":"IF(AH136=\"Ja\",'Q_del,j en Q_del,dh'!$D85,0)","v":0},{"$f":"IF(AI136=\"Ja\",'Q_del,j en Q_del,dh'!$D85,0)","v":0},{"$f":"IF(AJ136=\"Ja\",'Q_del,j en Q_del,dh'!$D85,0)","v":0},{"$f":"IF(AK136=\"Ja\",'Q_del,j en Q_del,dh'!$D85,0)","v":0},{"$f":"IF(AL136=\"Ja\",'Q_del,j en Q_del,dh'!$D85,0)","v":0},{"$f":"IF(AM136=\"Ja\",'Q_del,j en Q_del,dh'!$D85,0)","v":0},{"$f":"IF(AN136=\"Ja\",'Q_del,j en Q_del,dh'!$D85,0)","v":0},{"$f":"IF(AO136=\"Ja\",'Q_del,j en Q_del,dh'!$D85,0)","v":0},{"$f":"IF(AP136=\"Ja\",'Q_del,j en Q_del,dh'!$D85,0)","v":0},{"$f":"IF(AQ136=\"Ja\",'Q_del,j en Q_del,dh'!$D85,0)","v":0},{"$f":"IF(AR136=\"Ja\",'Q_del,j en Q_del,dh'!$D85,0)","v":0},{"$f":"IF(AS136=\"Ja\",'Q_del,j en Q_del,dh'!$D85,0)","v":0},{"$f":"IF(AT136=\"Ja\",'Q_del,j en Q_del,dh'!$D85,0)","v":0},{"$f":"IF(AU136=\"Ja\",'Q_del,j en Q_del,dh'!$D85,0)","v":0},{"$f":"IF(AV136=\"Ja\",'Q_del,j en Q_del,dh'!$D85,0)","v":0},{"$f":"IF(AW136=\"Ja\",'Q_del,j en Q_del,dh'!$D85,0)","v":0},{"$f":"IF(AX136=\"Ja\",'Q_del,j en Q_del,dh'!$D85,0)","v":0},{"$f":"IF(AY136=\"Ja\",'Q_del,j en Q_del,dh'!$D85,0)","v":0},{"$f":"IF(AZ136=\"Ja\",'Q_del,j en Q_del,dh'!$D85,0)","v":0},{"$f":"IF(BA136=\"Ja\",'Q_del,j en Q_del,dh'!$D85,0)","v":0}]
["Qdel,l,j [MJ]","warmtevrager 79",79,{"$f":"IF(D137=\"Ja\",'Q_del,j en Q_del,dh'!$D86,0)","v":0},{"$f":"IF(E137=\"Ja\",'Q_del,j en Q_del,dh'!$D86,0)","v":0},{"$f":"IF(F137=\"Ja\",'Q_del,j en Q_del,dh'!$D86,0)","v":0},{"$f":"IF(G137=\"Ja\",'Q_del,j en Q_del,dh'!$D86,0)","v":0},{"$f":"IF(H137=\"Ja\",'Q_del,j en Q_del,dh'!$D86,0)","v":0},{"$f":"IF(I137=\"Ja\",'Q_del,j en Q_del,dh'!$D86,0)","v":0},{"$f":"IF(J137=\"Ja\",'Q_del,j en Q_del,dh'!$D86,0)","v":0},{"$f":"IF(K137=\"Ja\",'Q_del,j en Q_del,dh'!$D86,0)","v":0},{"$f":"IF(L137=\"Ja\",'Q_del,j en Q_del,dh'!$D86,0)","v":0},{"$f":"IF(M137=\"Ja\",'Q_del,j en Q_del,dh'!$D86,0)","v":0},{"$f":"IF(N137=\"Ja\",'Q_del,j en Q_del,dh'!$D86,0)","v":0},{"$f":"IF(O137=\"Ja\",'Q_del,j en Q_del,dh'!$D86,0)","v":0},{"$f":"IF(P137=\"Ja\",'Q_del,j en Q_del,dh'!$D86,0)","v":0},{"$f":"IF(Q137=\"Ja\",'Q_del,j en Q_del,dh'!$D86,0)","v":0},{"$f":"IF(R137=\"Ja\",'Q_del,j en Q_del,dh'!$D86,0)","v":0},{"$f":"IF(S137=\"Ja\",'Q_del,j en Q_del,dh'!$D86,0)","v":0},{"$f":"IF(T137=\"Ja\",'Q_del,j en Q_del,dh'!$D86,0)","v":0},{"$f":"IF(U137=\"Ja\",'Q_del,j en Q_del,dh'!$D86,0)","v":0},{"$f":"IF(V137=\"Ja\",'Q_del,j en Q_del,dh'!$D86,0)","v":0},{"$f":"IF(W137=\"Ja\",'Q_del,j en Q_del,dh'!$D86,0)","v":0},{"$f":"IF(X137=\"Ja\",'Q_del,j en Q_del,dh'!$D86,0)","v":0},{"$f":"IF(Y137=\"Ja\",'Q_del,j en Q_del,dh'!$D86,0)","v":0},{"$f":"IF(Z137=\"Ja\",'Q_del,j en Q_del,dh'!$D86,0)","v":0},{"$f":"IF(AA137=\"Ja\",'Q_del,j en Q_del,dh'!$D86,0)","v":0},{"$f":"IF(AB137=\"Ja\",'Q_del,j en Q_del,dh'!$D86,0)","v":0},{"$f":"IF(AC137=\"Ja\",'Q_del,j en Q_del,dh'!$D86,0)","v":0},{"$f":"IF(AD137=\"Ja\",'Q_del,j en Q_del,dh'!$D86,0)","v":0},{"$f":"IF(AE137=\"Ja\",'Q_del,j en Q_del,dh'!$D86,0)","v":0},{"$f":"IF(AF137=\"Ja\",'Q_del,j en Q_del,dh'!$D86,0)","v":0},{"$f":"IF(AG137=\"Ja\",'Q_del,j en Q_del,dh'!$D86,0)","v":0},{"$f":"IF(AH137=\"Ja\",'Q_del,j en Q_del,dh'!$D86,0)","v":0},{"$f":"IF(AI137=\"Ja\",'Q_del,j en Q_del,dh'!$D86,0)","v":0},{"$f":"IF(AJ137=\"Ja\",'Q_del,j en Q_del,dh'!$D86,0)","v":0},{"$f":"IF(AK137=\"Ja\",'Q_del,j en Q_del,dh'!$D86,0)","v":0},{"$f":"IF(AL137=\"Ja\",'Q_del,j en Q_del,dh'!$D86,0)","v":0},{"$f":"IF(AM137=\"Ja\",'Q_del,j en Q_del,dh'!$D86,0)","v":0},{"$f":"IF(AN137=\"Ja\",'Q_del,j en Q_del,dh'!$D86,0)","v":0},{"$f":"IF(AO137=\"Ja\",'Q_del,j en Q_del,dh'!$D86,0)","v":0},{"$f":"IF(AP137=\"Ja\",'Q_del,j en Q_del,dh'!$D86,0)","v":0},{"$f":"IF(AQ137=\"Ja\",'Q_del,j en Q_del,dh'!$D86,0)","v":0},{"$f":"IF(AR137=\"Ja\",'Q_del,j en Q_del,dh'!$D86,0)","v":0},{"$f":"IF(AS137=\"Ja\",'Q_del,j en Q_del,dh'!$D86,0)","v":0},{"$f":"IF(AT137=\"Ja\",'Q_del,j en Q_del,dh'!$D86,0)","v":0},{"$f":"IF(AU137=\"Ja\",'Q_del,j en Q_del,dh'!$D86,0)","v":0},{"$f":"IF(AV137=\"Ja\",'Q_del,j en Q_del,dh'!$D86,0)","v":0},{"$f":"IF(AW137=\"Ja\",'Q_del,j en Q_del,dh'!$D86,0)","v":0},{"$f":"IF(AX137=\"Ja\",'Q_del,j en Q_del,dh'!$D86,0)","v":0},{"$f":"IF(AY137=\"Ja\",'Q_del,j en Q_del,dh'!$D86,0)","v":0},{"$f":"IF(AZ137=\"Ja\",'Q_del,j en Q_del,dh'!$D86,0)","v":0},{"$f":"IF(BA137=\"Ja\",'Q_del,j en Q_del,dh'!$D86,0)","v":0}]
["Qdel,l,j [MJ]","warmtevrager 80",80,{"$f":"IF(D138=\"Ja\",'Q_del,j en Q_del,dh'!$D87,0)","v":0},{"$f":"IF(E138=\"Ja\",'Q_del,j en Q_del,dh'!$D87,0)","v":0},{"$f":"IF(F138=\"Ja\",'Q_del,j en Q_del,dh'!$D87,0)","v":0},{"$f":"IF(G138=\"Ja\",'Q_del,j en Q_del,dh'!$D87,0)","v":0},{"$f":"IF(H138=\"Ja\",'Q_del,j en Q_del,dh'!$D87,0)","v":0},{"$f":"IF(I138=\"Ja\",'Q_del,j en Q_del,dh'!$D87,0)","v":0},{"$f":"IF(J138=\"Ja\",'Q_del,j en Q_del,dh'!$D87,0)","v":0},{"$f":"IF(K138=\"Ja\",'Q_del,j en Q_del,dh'!$D87,0)","v":0},{"$f":"IF(L138=\"Ja\",'Q_del,j en Q_del,dh'!$D87,0)","v":0},{"$f":"IF(M138=\"Ja\",'Q_del,j en Q_del,dh'!$D87,0)","v":0},{"$f":"IF(N138=\"Ja\",'Q_del,j en Q_del,dh'!$D87,0)","v":0},{"$f":"IF(O138=\"Ja\",'Q_del,j en Q_del,dh'!$D87,0)","v":0},{"$f":"IF(P138=\"Ja\",'Q_del,j en Q_del,dh'!$D87,0)","v":0},{"$f":"IF(Q138=\"Ja\",'Q_del,j en Q_del,dh'!$D87,0)","v":0},{"$f":"IF(R138=\"Ja\",'Q_del,j en Q_del,dh'!$D87,0)","v":0},{"$f":"IF(S138=\"Ja\",'Q_del,j en Q_del,dh'!$D87,0)","v":0},{"$f":"IF(T138=\"Ja\",'Q_del,j en Q_del,dh'!$D87,0)","v":0},{"$f":"IF(U138=\"Ja\",'Q_del,j en Q_del,dh'!$D87,0)","v":0},{"$f":"IF(V138=\"Ja\",'Q_del,j en Q_del,dh'!$D87,0)","v":0},{"$f":"IF(W138=\"Ja\",'Q_del,j en Q_del,dh'!$D87,0)","v":0},{"$f":"IF(X138=\"Ja\",'Q_del,j en Q_del,dh'!$D87,0)","v":0},{"$f":"IF(Y138=\"Ja\",'Q_del,j en Q_del,dh'!$D87,0)","v":0},{"$f":"IF(Z138=\"Ja\",'Q_del,j en Q_del,dh'!$D87,0)","v":0},{"$f":"IF(AA138=\"Ja\",'Q_del,j en Q_del,dh'!$D87,0)","v":0},{"$f":"IF(AB138=\"Ja\",'Q_del,j en Q_del,dh'!$D87,0)","v":0},{"$f":"IF(AC138=\"Ja\",'Q_del,j en Q_del,dh'!$D87,0)","v":0},{"$f":"IF(AD138=\"Ja\",'Q_del,j en Q_del,dh'!$D87,0)","v":0},{"$f":"IF(AE138=\"Ja\",'Q_del,j en Q_del,dh'!$D87,0)","v":0},{"$f":"IF(AF138=\"Ja\",'Q_del,j en Q_del,dh'!$D87,0)","v":0},{"$f":"IF(AG138=\"Ja\",'Q_del,j en Q_del,dh'!$D87,0)","v":0},{"$f":"IF(AH138=\"Ja\",'Q_del,j en Q_del,dh'!$D87,0)","v":0},{"$f":"IF(AI138=\"Ja\",'Q_del,j en Q_del,dh'!$D87,0)","v":0},{"$f":"IF(AJ138=\"Ja\",'Q_del,j en Q_del,dh'!$D87,0)","v":0},{"$f":"IF(AK138=\"Ja\",'Q_del,j en Q_del,dh'!$D87,0)","v":0},{"$f":"IF(AL138=\"Ja\",'Q_del,j en Q_del,dh'!$D87,0)","v":0},{"$f":"IF(AM138=\"Ja\",'Q_del,j en Q_del,dh'!$D87,0)","v":0},{"$f":"IF(AN138=\"Ja\",'Q_del,j en Q_del,dh'!$D87,0)","v":0},{"$f":"IF(AO138=\"Ja\",'Q_del,j en Q_del,dh'!$D87,0)","v":0},{"$f":"IF(AP138=\"Ja\",'Q_del,j en Q_del,dh'!$D87,0)","v":0},{"$f":"IF(AQ138=\"Ja\",'Q_del,j en Q_del,dh'!$D87,0)","v":0},{"$f":"IF(AR138=\"Ja\",'Q_del,j en Q_del,dh'!$D87,0)","v":0},{"$f":"IF(AS138=\"Ja\",'Q_del,j en Q_del,dh'!$D87,0)","v":0},{"$f":"IF(AT138=\"Ja\",'Q_del,j en Q_del,dh'!$D87,0)","v":0},{"$f":"IF(AU138=\"Ja\",'Q_del,j en Q_del,dh'!$D87,0)","v":0},{"$f":"IF(AV138=\"Ja\",'Q_del,j en Q_del,dh'!$D87,0)","v":0},{"$f":"IF(AW138=\"Ja\",'Q_del,j en Q_del,dh'!$D87,0)","v":0},{"$f":"IF(AX138=\"Ja\",'Q_del,j en Q_del,dh'!$D87,0)","v":0},{"$f":"IF(AY138=\"Ja\",'Q_del,j en Q_del,dh'!$D87,0)","v":0},{"$f":"IF(AZ138=\"Ja\",'Q_del,j en Q_del,dh'!$D87,0)","v":0},{"$f":"IF(BA138=\"Ja\",'Q_del,j en Q_del,dh'!$D87,0)","v":0}]
["Qdel,l,j [MJ]","warmtevrager 81",81,{"$f":"IF(D139=\"Ja\",'Q_del,j en Q_del,dh'!$D88,0)","v":0},{"$f":"IF(E139=\"Ja\",'Q_del,j en Q_del,dh'!$D88,0)","v":0},{"$f":"IF(F139=\"Ja\",'Q_del,j en Q_del,dh'!$D88,0)","v":0},{"$f":"IF(G139=\"Ja\",'Q_del,j en Q_del,dh'!$D88,0)","v":0},{"$f":"IF(H139=\"Ja\",'Q_del,j en Q_del,dh'!$D88,0)","v":0},{"$f":"IF(I139=\"Ja\",'Q_del,j en Q_del,dh'!$D88,0)","v":0},{"$f":"IF(J139=\"Ja\",'Q_del,j en Q_del,dh'!$D88,0)","v":0},{"$f":"IF(K139=\"Ja\",'Q_del,j en Q_del,dh'!$D88,0)","v":0},{"$f":"IF(L139=\"Ja\",'Q_del,j en Q_del,dh'!$D88,0)","v":0},{"$f":"IF(M139=\"Ja\",'Q_del,j en Q_del,dh'!$D88,0)","v":0},{"$f":"IF(N139=\"Ja\",'Q_del,j en Q_del,dh'!$D88,0)","v":0},{"$f":"IF(O139=\"Ja\",'Q_del,j en Q_del,dh'!$D88,0)","v":0},{"$f":"IF(P139=\"Ja\",'Q_del,j en Q_del,dh'!$D88,0)","v":0},{"$f":"IF(Q139=\"Ja\",'Q_del,j en Q_del,dh'!$D88,0)","v":0},{"$f":"IF(R139=\"Ja\",'Q_del,j en Q_del,dh'!$D88,0)","v":0},{"$f":"IF(S139=\"Ja\",'Q_del,j en Q_del,dh'!$D88,0)","v":0},{"$f":"IF(T139=\"Ja\",'Q_del,j en Q_del,dh'!$D88,0)","v":0},{"$f":"IF(U139=\"Ja\",'Q_del,j en Q_del,dh'!$D88,0)","v":0},{"$f":"IF(V139=\"Ja\",'Q_del,j en Q_del,dh'!$D88,0)","v":0},{"$f":"IF(W139=\"Ja\",'Q_del,j en Q_del,dh'!$D88,0)","v":0},{"$f":"IF(X139=\"Ja\",'Q_del,j en Q_del,dh'!$D88,0)","v":0},{"$f":"IF(Y139=\"Ja\",'Q_del,j en Q_del,dh'!$D88,0)","v":0},{"$f":"IF(Z139=\"Ja\",'Q_del,j en Q_del,dh'!$D88,0)","v":0},{"$f":"IF(AA139=\"Ja\",'Q_del,j en Q_del,dh'!$D88,0)","v":0},{"$f":"IF(AB139=\"Ja\",'Q_del,j en Q_del,dh'!$D88,0)","v":0},{"$f":"IF(AC139=\"Ja\",'Q_del,j en Q_del,dh'!$D88,0)","v":0},{"$f":"IF(AD139=\"Ja\",'Q_del,j en Q_del,dh'!$D88,0)","v":0},{"$f":"IF(AE139=\"Ja\",'Q_del,j en Q_del,dh'!$D88,0)","v":0},{"$f":"IF(AF139=\"Ja\",'Q_del,j en Q_del,dh'!$D88,0)","v":0},{"$f":"IF(AG139=\"Ja\",'Q_del,j en Q_del,dh'!$D88,0)","v":0},{"$f":"IF(AH139=\"Ja\",'Q_del,j en Q_del,dh'!$D88,0)","v":0},{"$f":"IF(AI139=\"Ja\",'Q_del,j en Q_del,dh'!$D88,0)","v":0},{"$f":"IF(AJ139=\"Ja\",'Q_del,j en Q_del,dh'!$D88,0)","v":0},{"$f":"IF(AK139=\"Ja\",'Q_del,j en Q_del,dh'!$D88,0)","v":0},{"$f":"IF(AL139=\"Ja\",'Q_del,j en Q_del,dh'!$D88,0)","v":0},{"$f":"IF(AM139=\"Ja\",'Q_del,j en Q_del,dh'!$D88,0)","v":0},{"$f":"IF(AN139=\"Ja\",'Q_del,j en Q_del,dh'!$D88,0)","v":0},{"$f":"IF(AO139=\"Ja\",'Q_del,j en Q_del,dh'!$D88,0)","v":0},{"$f":"IF(AP139=\"Ja\",'Q_del,j en Q_del,dh'!$D88,0)","v":0},{"$f":"IF(AQ139=\"Ja\",'Q_del,j en Q_del,dh'!$D88,0)","v":0},{"$f":"IF(AR139=\"Ja\",'Q_del,j en Q_del,dh'!$D88,0)","v":0},{"$f":"IF(AS139=\"Ja\",'Q_del,j en Q_del,dh'!$D88,0)","v":0},{"$f":"IF(AT139=\"Ja\",'Q_del,j en Q_del,dh'!$D88,0)","v":0},{"$f":"IF(AU139=\"Ja\",'Q_del,j en Q_del,dh'!$D88,0)","v":0},{"$f":"IF(AV139=\"Ja\",'Q_del,j en Q_del,dh'!$D88,0)","v":0},{"$f":"IF(AW139=\"Ja\",'Q_del,j en Q_del,dh'!$D88,0)","v":0},{"$f":"IF(AX139=\"Ja\",'Q_del,j en Q_del,dh'!$D88,0)","v":0},{"$f":"IF(AY139=\"Ja\",'Q_del,j en Q_del,dh'!$D88,0)","v":0},{"$f":"IF(AZ139=\"Ja\",'Q_del,j en Q_del,dh'!$D88,0)","v":0},{"$f":"IF(BA139=\"Ja\",'Q_del,j en Q_del,dh'!$D88,0)","v":0}]
["Qdel,l,j [MJ]","warmtevrager 82",82,{"$f":"IF(D140=\"Ja\",'Q_del,j en Q_del,dh'!$D89,0)","v":0},{"$f":"IF(E140=\"Ja\",'Q_del,j en Q_del,dh'!$D89,0)","v":0},{"$f":"IF(F140=\"Ja\",'Q_del,j en Q_del,dh'!$D89,0)","v":0},{"$f":"IF(G140=\"Ja\",'Q_del,j en Q_del,dh'!$D89,0)","v":0},{"$f":"IF(H140=\"Ja\",'Q_del,j en Q_del,dh'!$D89,0)","v":0},{"$f":"IF(I140=\"Ja\",'Q_del,j en Q_del,dh'!$D89,0)","v":0},{"$f":"IF(J140=\"Ja\",'Q_del,j en Q_del,dh'!$D89,0)","v":0},{"$f":"IF(K140=\"Ja\",'Q_del,j en Q_del,dh'!$D89,0)","v":0},{"$f":"IF(L140=\"Ja\",'Q_del,j en Q_del,dh'!$D89,0)","v":0},{"$f":"IF(M140=\"Ja\",'Q_del,j en Q_del,dh'!$D89,0)","v":0},{"$f":"IF(N140=\"Ja\",'Q_del,j en Q_del,dh'!$D89,0)","v":0},{"$f":"IF(O140=\"Ja\",'Q_del,j en Q_del,dh'!$D89,0)","v":0},{"$f":"IF(P140=\"Ja\",'Q_del,j en Q_del,dh'!$D89,0)","v":0},{"$f":"IF(Q140=\"Ja\",'Q_del,j en Q_del,dh'!$D89,0)","v":0},{"$f":"IF(R140=\"Ja\",'Q_del,j en Q_del,dh'!$D89,0)","v":0},{"$f":"IF(S140=\"Ja\",'Q_del,j en Q_del,dh'!$D89,0)","v":0},{"$f":"IF(T140=\"Ja\",'Q_del,j en Q_del,dh'!$D89,0)","v":0},{"$f":"IF(U140=\"Ja\",'Q_del,j en Q_del,dh'!$D89,0)","v":0},{"$f":"IF(V140=\"Ja\",'Q_del,j en Q_del,dh'!$D89,0)","v":0},{"$f":"IF(W140=\"Ja\",'Q_del,j en Q_del,dh'!$D89,0)","v":0},{"$f":"IF(X140=\"Ja\",'Q_del,j en Q_del,dh'!$D89,0)","v":0},{"$f":"IF(Y140=\"Ja\",'Q_del,j en Q_del,dh'!$D89,0)","v":0},{"$f":"IF(Z140=\"Ja\",'Q_del,j en Q_del,dh'!$D89,0)","v":0},{"$f":"IF(AA140=\"Ja\",'Q_del,j en Q_del,dh'!$D89,0)","v":0},{"$f":"IF(AB140=\"Ja\",'Q_del,j en Q_del,dh'!$D89,0)","v":0},{"$f":"IF(AC140=\"Ja\",'Q_del,j en Q_del,dh'!$D89,0)","v":0},{"$f":"IF(AD140=\"Ja\",'Q_del,j en Q_del,dh'!$D89,0)","v":0},{"$f":"IF(AE140=\"Ja\",'Q_del,j en Q_del,dh'!$D89,0)","v":0},{"$f":"IF(AF140=\"Ja\",'Q_del,j en Q_del,dh'!$D89,0)","v":0},{"$f":"IF(AG140=\"Ja\",'Q_del,j en Q_del,dh'!$D89,0)","v":0},{"$f":"IF(AH140=\"Ja\",'Q_del,j en Q_del,dh'!$D89,0)","v":0},{"$f":"IF(AI140=\"Ja\",'Q_del,j en Q_del,dh'!$D89,0)","v":0},{"$f":"IF(AJ140=\"Ja\",'Q_del,j en Q_del,dh'!$D89,0)","v":0},{"$f":"IF(AK140=\"Ja\",'Q_del,j en Q_del,dh'!$D89,0)","v":0},{"$f":"IF(AL140=\"Ja\",'Q_del,j en Q_del,dh'!$D89,0)","v":0},{"$f":"IF(AM140=\"Ja\",'Q_del,j en Q_del,dh'!$D89,0)","v":0},{"$f":"IF(AN140=\"Ja\",'Q_del,j en Q_del,dh'!$D89,0)","v":0},{"$f":"IF(AO140=\"Ja\",'Q_del,j en Q_del,dh'!$D89,0)","v":0},{"$f":"IF(AP140=\"Ja\",'Q_del,j en Q_del,dh'!$D89,0)","v":0},{"$f":"IF(AQ140=\"Ja\",'Q_del,j en Q_del,dh'!$D89,0)","v":0},{"$f":"IF(AR140=\"Ja\",'Q_del,j en Q_del,dh'!$D89,0)","v":0},{"$f":"IF(AS140=\"Ja\",'Q_del,j en Q_del,dh'!$D89,0)","v":0},{"$f":"IF(AT140=\"Ja\",'Q_del,j en Q_del,dh'!$D89,0)","v":0},{"$f":"IF(AU140=\"Ja\",'Q_del,j en Q_del,dh'!$D89,0)","v":0},{"$f":"IF(AV140=\"Ja\",'Q_del,j en Q_del,dh'!$D89,0)","v":0},{"$f":"IF(AW140=\"Ja\",'Q_del,j en Q_del,dh'!$D89,0)","v":0},{"$f":"IF(AX140=\"Ja\",'Q_del,j en Q_del,dh'!$D89,0)","v":0},{"$f":"IF(AY140=\"Ja\",'Q_del,j en Q_del,dh'!$D89,0)","v":0},{"$f":"IF(AZ140=\"Ja\",'Q_del,j en Q_del,dh'!$D89,0)","v":0},{"$f":"IF(BA140=\"Ja\",'Q_del,j en Q_del,dh'!$D89,0)","v":0}]
["Qdel,l,j [MJ]","warmtevrager 83",83,{"$f":"IF(D141=\"Ja\",'Q_del,j en Q_del,dh'!$D90,0)","v":0},{"$f":"IF(E141=\"Ja\",'Q_del,j en Q_del,dh'!$D90,0)","v":0},{"$f":"IF(F141=\"Ja\",'Q_del,j en Q_del,dh'!$D90,0)","v":0},{"$f":"IF(G141=\"Ja\",'Q_del,j en Q_del,dh'!$D90,0)","v":0},{"$f":"IF(H141=\"Ja\",'Q_del,j en Q_del,dh'!$D90,0)","v":0},{"$f":"IF(I141=\"Ja\",'Q_del,j en Q_del,dh'!$D90,0)","v":0},{"$f":"IF(J141=\"Ja\",'Q_del,j en Q_del,dh'!$D90,0)","v":0},{"$f":"IF(K141=\"Ja\",'Q_del,j en Q_del,dh'!$D90,0)","v":0},{"$f":"IF(L141=\"Ja\",'Q_del,j en Q_del,dh'!$D90,0)","v":0},{"$f":"IF(M141=\"Ja\",'Q_del,j en Q_del,dh'!$D90,0)","v":0},{"$f":"IF(N141=\"Ja\",'Q_del,j en Q_del,dh'!$D90,0)","v":0},{"$f":"IF(O141=\"Ja\",'Q_del,j en Q_del,dh'!$D90,0)","v":0},{"$f":"IF(P141=\"Ja\",'Q_del,j en Q_del,dh'!$D90,0)","v":0},{"$f":"IF(Q141=\"Ja\",'Q_del,j en Q_del,dh'!$D90,0)","v":0},{"$f":"IF(R141=\"Ja\",'Q_del,j en Q_del,dh'!$D90,0)","v":0},{"$f":"IF(S141=\"Ja\",'Q_del,j en Q_del,dh'!$D90,0)","v":0},{"$f":"IF(T141=\"Ja\",'Q_del,j en Q_del,dh'!$D90,0)","v":0},{"$f":"IF(U141=\"Ja\",'Q_del,j en Q_del,dh'!$D90,0)","v":0},{"$f":"IF(V141=\"Ja\",'Q_del,j en Q_del,dh'!$D90,0)","v":0},{"$f":"IF(W141=\"Ja\",'Q_del,j en Q_del,dh'!$D90,0)","v":0},{"$f":"IF(X141=\"Ja\",'Q_del,j en Q_del,dh'!$D90,0)","v":0},{"$f":"IF(Y141=\"Ja\",'Q_del,j en Q_del,dh'!$D90,0)","v":0},{"$f":"IF(Z141=\"Ja\",'Q_del,j en Q_del,dh'!$D90,0)","v":0},{"$f":"IF(AA141=\"Ja\",'Q_del,j en Q_del,dh'!$D90,0)","v":0},{"$f":"IF(AB141=\"Ja\",'Q_del,j en Q_del,dh'!$D90,0)","v":0},{"$f":"IF(AC141=\"Ja\",'Q_del,j en Q_del,dh'!$D90,0)","v":0},{"$f":"IF(AD141=\"Ja\",'Q_del,j en Q_del,dh'!$D90,0)","v":0},{"$f":"IF(AE141=\"Ja\",'Q_del,j en Q_del,dh'!$D90,0)","v":0},{"$f":"IF(AF141=\"Ja\",'Q_del,j en Q_del,dh'!$D90,0)","v":0},{"$f":"IF(AG141=\"Ja\",'Q_del,j en Q_del,dh'!$D90,0)","v":0},{"$f":"IF(AH141=\"Ja\",'Q_del,j en Q_del,dh'!$D90,0)","v":0},{"$f":"IF(AI141=\"Ja\",'Q_del,j en Q_del,dh'!$D90,0)","v":0},{"$f":"IF(AJ141=\"Ja\",'Q_del,j en Q_del,dh'!$D90,0)","v":0},{"$f":"IF(AK141=\"Ja\",'Q_del,j en Q_del,dh'!$D90,0)","v":0},{"$f":"IF(AL141=\"Ja\",'Q_del,j en Q_del,dh'!$D90,0)","v":0},{"$f":"IF(AM141=\"Ja\",'Q_del,j en Q_del,dh'!$D90,0)","v":0},{"$f":"IF(AN141=\"Ja\",'Q_del,j en Q_del,dh'!$D90,0)","v":0},{"$f":"IF(AO141=\"Ja\",'Q_del,j en Q_del,dh'!$D90,0)","v":0},{"$f":"IF(AP141=\"Ja\",'Q_del,j en Q_del,dh'!$D90,0)","v":0},{"$f":"IF(AQ141=\"Ja\",'Q_del,j en Q_del,dh'!$D90,0)","v":0},{"$f":"IF(AR141=\"Ja\",'Q_del,j en Q_del,dh'!$D90,0)","v":0},{"$f":"IF(AS141=\"Ja\",'Q_del,j en Q_del,dh'!$D90,0)","v":0},{"$f":"IF(AT141=\"Ja\",'Q_del,j en Q_del,dh'!$D90,0)","v":0},{"$f":"IF(AU141=\"Ja\",'Q_del,j en Q_del,dh'!$D90,0)","v":0},{"$f":"IF(AV141=\"Ja\",'Q_del,j en Q_del,dh'!$D90,0)","v":0},{"$f":"IF(AW141=\"Ja\",'Q_del,j en Q_del,dh'!$D90,0)","v":0},{"$f":"IF(AX141=\"Ja\",'Q_del,j en Q_del,dh'!$D90,0)","v":0},{"$f":"IF(AY141=\"Ja\",'Q_del,j en Q_del,dh'!$D90,0)","v":0},{"$f":"IF(AZ141=\"Ja\",'Q_del,j en Q_del,dh'!$D90,0)","v":0},{"$f":"IF(BA141=\"Ja\",'Q_del,j en Q_del,dh'!$D90,0)","v":0}]
["Qdel,l,j [MJ]","warmtevrager 84",84,{"$f":"IF(D142=\"Ja\",'Q_del,j en Q_del,dh'!$D91,0)","v":0},{"$f":"IF(E142=\"Ja\",'Q_del,j en Q_del,dh'!$D91,0)","v":0},{"$f":"IF(F142=\"Ja\",'Q_del,j en Q_del,dh'!$D91,0)","v":0},{"$f":"IF(G142=\"Ja\",'Q_del,j en Q_del,dh'!$D91,0)","v":0},{"$f":"IF(H142=\"Ja\",'Q_del,j en Q_del,dh'!$D91,0)","v":0},{"$f":"IF(I142=\"Ja\",'Q_del,j en Q_del,dh'!$D91,0)","v":0},{"$f":"IF(J142=\"Ja\",'Q_del,j en Q_del,dh'!$D91,0)","v":0},{"$f":"IF(K142=\"Ja\",'Q_del,j en Q_del,dh'!$D91,0)","v":0},{"$f":"IF(L142=\"Ja\",'Q_del,j en Q_del,dh'!$D91,0)","v":0},{"$f":"IF(M142=\"Ja\",'Q_del,j en Q_del,dh'!$D91,0)","v":0},{"$f":"IF(N142=\"Ja\",'Q_del,j en Q_del,dh'!$D91,0)","v":0},{"$f":"IF(O142=\"Ja\",'Q_del,j en Q_del,dh'!$D91,0)","v":0},{"$f":"IF(P142=\"Ja\",'Q_del,j en Q_del,dh'!$D91,0)","v":0},{"$f":"IF(Q142=\"Ja\",'Q_del,j en Q_del,dh'!$D91,0)","v":0},{"$f":"IF(R142=\"Ja\",'Q_del,j en Q_del,dh'!$D91,0)","v":0},{"$f":"IF(S142=\"Ja\",'Q_del,j en Q_del,dh'!$D91,0)","v":0},{"$f":"IF(T142=\"Ja\",'Q_del,j en Q_del,dh'!$D91,0)","v":0},{"$f":"IF(U142=\"Ja\",'Q_del,j en Q_del,dh'!$D91,0)","v":0},{"$f":"IF(V142=\"Ja\",'Q_del,j en Q_del,dh'!$D91,0)","v":0},{"$f":"IF(W142=\"Ja\",'Q_del,j en Q_del,dh'!$D91,0)","v":0},{"$f":"IF(X142=\"Ja\",'Q_del,j en Q_del,dh'!$D91,0)","v":0},{"$f":"IF(Y142=\"Ja\",'Q_del,j en Q_del,dh'!$D91,0)","v":0},{"$f":"IF(Z142=\"Ja\",'Q_del,j en Q_del,dh'!$D91,0)","v":0},{"$f":"IF(AA142=\"Ja\",'Q_del,j en Q_del,dh'!$D91,0)","v":0},{"$f":"IF(AB142=\"Ja\",'Q_del,j en Q_del,dh'!$D91,0)","v":0},{"$f":"IF(AC142=\"Ja\",'Q_del,j en Q_del,dh'!$D91,0)","v":0},{"$f":"IF(AD142=\"Ja\",'Q_del,j en Q_del,dh'!$D91,0)","v":0},{"$f":"IF(AE142=\"Ja\",'Q_del,j en Q_del,dh'!$D91,0)","v":0},{"$f":"IF(AF142=\"Ja\",'Q_del,j en Q_del,dh'!$D91,0)","v":0},{"$f":"IF(AG142=\"Ja\",'Q_del,j en Q_del,dh'!$D91,0)","v":0},{"$f":"IF(AH142=\"Ja\",'Q_del,j en Q_del,dh'!$D91,0)","v":0},{"$f":"IF(AI142=\"Ja\",'Q_del,j en Q_del,dh'!$D91,0)","v":0},{"$f":"IF(AJ142=\"Ja\",'Q_del,j en Q_del,dh'!$D91,0)","v":0},{"$f":"IF(AK142=\"Ja\",'Q_del,j en Q_del,dh'!$D91,0)","v":0},{"$f":"IF(AL142=\"Ja\",'Q_del,j en Q_del,dh'!$D91,0)","v":0},{"$f":"IF(AM142=\"Ja\",'Q_del,j en Q_del,dh'!$D91,0)","v":0},{"$f":"IF(AN142=\"Ja\",'Q_del,j en Q_del,dh'!$D91,0)","v":0},{"$f":"IF(AO142=\"Ja\",'Q_del,j en Q_del,dh'!$D91,0)","v":0},{"$f":"IF(AP142=\"Ja\",'Q_del,j en Q_del,dh'!$D91,0)","v":0},{"$f":"IF(AQ142=\"Ja\",'Q_del,j en Q_del,dh'!$D91,0)","v":0},{"$f":"IF(AR142=\"Ja\",'Q_del,j en Q_del,dh'!$D91,0)","v":0},{"$f":"IF(AS142=\"Ja\",'Q_del,j en Q_del,dh'!$D91,0)","v":0},{"$f":"IF(AT142=\"Ja\",'Q_del,j en Q_del,dh'!$D91,0)","v":0},{"$f":"IF(AU142=\"Ja\",'Q_del,j en Q_del,dh'!$D91,0)","v":0},{"$f":"IF(AV142=\"Ja\",'Q_del,j en Q_del,dh'!$D91,0)","v":0},{"$f":"IF(AW142=\"Ja\",'Q_del,j en Q_del,dh'!$D91,0)","v":0},{"$f":"IF(AX142=\"Ja\",'Q_del,j en Q_del,dh'!$D91,0)","v":0},{"$f":"IF(AY142=\"Ja\",'Q_del,j en Q_del,dh'!$D91,0)","v":0},{"$f":"IF(AZ142=\"Ja\",'Q_del,j en Q_del,dh'!$D91,0)","v":0},{"$f":"IF(BA142=\"Ja\",'Q_del,j en Q_del,dh'!$D91,0)","v":0}]
["Qdel,l,j [MJ]","warmtevrager 85",85,{"$f":"IF(D143=\"Ja\",'Q_del,j en Q_del,dh'!$D92,0)","v":0},{"$f":"IF(E143=\"Ja\",'Q_del,j en Q_del,dh'!$D92,0)","v":0},{"$f":"IF(F143=\"Ja\",'Q_del,j en Q_del,dh'!$D92,0)","v":0},{"$f":"IF(G143=\"Ja\",'Q_del,j en Q_del,dh'!$D92,0)","v":0},{"$f":"IF(H143=\"Ja\",'Q_del,j en Q_del,dh'!$D92,0)","v":0},{"$f":"IF(I143=\"Ja\",'Q_del,j en Q_del,dh'!$D92,0)","v":0},{"$f":"IF(J143=\"Ja\",'Q_del,j en Q_del,dh'!$D92,0)","v":0},{"$f":"IF(K143=\"Ja\",'Q_del,j en Q_del,dh'!$D92,0)","v":0},{"$f":"IF(L143=\"Ja\",'Q_del,j en Q_del,dh'!$D92,0)","v":0},{"$f":"IF(M143=\"Ja\",'Q_del,j en Q_del,dh'!$D92,0)","v":0},{"$f":"IF(N143=\"Ja\",'Q_del,j en Q_del,dh'!$D92,0)","v":0},{"$f":"IF(O143=\"Ja\",'Q_del,j en Q_del,dh'!$D92,0)","v":0},{"$f":"IF(P143=\"Ja\",'Q_del,j en Q_del,dh'!$D92,0)","v":0},{"$f":"IF(Q143=\"Ja\",'Q_del,j en Q_del,dh'!$D92,0)","v":0},{"$f":"IF(R143=\"Ja\",'Q_del,j en Q_del,dh'!$D92,0)","v":0},{"$f":"IF(S143=\"Ja\",'Q_del,j en Q_del,dh'!$D92,0)","v":0},{"$f":"IF(T143=\"Ja\",'Q_del,j en Q_del,dh'!$D92,0)","v":0},{"$f":"IF(U143=\"Ja\",'Q_del,j en Q_del,dh'!$D92,0)","v":0},{"$f":"IF(V143=\"Ja\",'Q_del,j en Q_del,dh'!$D92,0)","v":0},{"$f":"IF(W143=\"Ja\",'Q_del,j en Q_del,dh'!$D92,0)","v":0},{"$f":"IF(X143=\"Ja\",'Q_del,j en Q_del,dh'!$D92,0)","v":0},{"$f":"IF(Y143=\"Ja\",'Q_del,j en Q_del,dh'!$D92,0)","v":0},{"$f":"IF(Z143=\"Ja\",'Q_del,j en Q_del,dh'!$D92,0)","v":0},{"$f":"IF(AA143=\"Ja\",'Q_del,j en Q_del,dh'!$D92,0)","v":0},{"$f":"IF(AB143=\"Ja\",'Q_del,j en Q_del,dh'!$D92,0)","v":0},{"$f":"IF(AC143=\"Ja\",'Q_del,j en Q_del,dh'!$D92,0)","v":0},{"$f":"IF(AD143=\"Ja\",'Q_del,j en Q_del,dh'!$D92,0)","v":0},{"$f":"IF(AE143=\"Ja\",'Q_del,j en Q_del,dh'!$D92,0)","v":0},{"$f":"IF(AF143=\"Ja\",'Q_del,j en Q_del,dh'!$D92,0)","v":0},{"$f":"IF(AG143=\"Ja\",'Q_del,j en Q_del,dh'!$D92,0)","v":0},{"$f":"IF(AH143=\"Ja\",'Q_del,j en Q_del,dh'!$D92,0)","v":0},{"$f":"IF(AI143=\"Ja\",'Q_del,j en Q_del,dh'!$D92,0)","v":0},{"$f":"IF(AJ143=\"Ja\",'Q_del,j en Q_del,dh'!$D92,0)","v":0},{"$f":"IF(AK143=\"Ja\",'Q_del,j en Q_del,dh'!$D92,0)","v":0},{"$f":"IF(AL143=\"Ja\",'Q_del,j en Q_del,dh'!$D92,0)","v":0},{"$f":"IF(AM143=\"Ja\",'Q_del,j en Q_del,dh'!$D92,0)","v":0},{"$f":"IF(AN143=\"Ja\",'Q_del,j en Q_del,dh'!$D92,0)","v":0},{"$f":"IF(AO143=\"Ja\",'Q_del,j en Q_del,dh'!$D92,0)","v":0},{"$f":"IF(AP143=\"Ja\",'Q_del,j en Q_del,dh'!$D92,0)","v":0},{"$f":"IF(AQ143=\"Ja\",'Q_del,j en Q_del,dh'!$D92,0)","v":0},{"$f":"IF(AR143=\"Ja\",'Q_del,j en Q_del,dh'!$D92,0)","v":0},{"$f":"IF(AS143=\"Ja\",'Q_del,j en Q_del,dh'!$D92,0)","v":0},{"$f":"IF(AT143=\"Ja\",'Q_del,j en Q_del,dh'!$D92,0)","v":0},{"$f":"IF(AU143=\"Ja\",'Q_del,j en Q_del,dh'!$D92,0)","v":0},{"$f":"IF(AV143=\"Ja\",'Q_del,j en Q_del,dh'!$D92,0)","v":0},{"$f":"IF(AW143=\"Ja\",'Q_del,j en Q_del,dh'!$D92,0)","v":0},{"$f":"IF(AX143=\"Ja\",'Q_del,j en Q_del,dh'!$D92,0)","v":0},{"$f":"IF(AY143=\"Ja\",'Q_del,j en Q_del,dh'!$D92,0)","v":0},{"$f":"IF(AZ143=\"Ja\",'Q_del,j en Q_del,dh'!$D92,0)","v":0},{"$f":"IF(BA143=\"Ja\",'Q_del,j en Q_del,dh'!$D92,0)","v":0}]
["Qdel,l,j [MJ]","warmtevrager 86",86,{"$f":"IF(D144=\"Ja\",'Q_del,j en Q_del,dh'!$D93,0)","v":0},{"$f":"IF(E144=\"Ja\",'Q_del,j en Q_del,dh'!$D93,0)","v":0},{"$f":"IF(F144=\"Ja\",'Q_del,j en Q_del,dh'!$D93,0)","v":0},{"$f":"IF(G144=\"Ja\",'Q_del,j en Q_del,dh'!$D93,0)","v":0},{"$f":"IF(H144=\"Ja\",'Q_del,j en Q_del,dh'!$D93,0)","v":0},{"$f":"IF(I144=\"Ja\",'Q_del,j en Q_del,dh'!$D93,0)","v":0},{"$f":"IF(J144=\"Ja\",'Q_del,j en Q_del,dh'!$D93,0)","v":0},{"$f":"IF(K144=\"Ja\",'Q_del,j en Q_del,dh'!$D93,0)","v":0},{"$f":"IF(L144=\"Ja\",'Q_del,j en Q_del,dh'!$D93,0)","v":0},{"$f":"IF(M144=\"Ja\",'Q_del,j en Q_del,dh'!$D93,0)","v":0},{"$f":"IF(N144=\"Ja\",'Q_del,j en Q_del,dh'!$D93,0)","v":0},{"$f":"IF(O144=\"Ja\",'Q_del,j en Q_del,dh'!$D93,0)","v":0},{"$f":"IF(P144=\"Ja\",'Q_del,j en Q_del,dh'!$D93,0)","v":0},{"$f":"IF(Q144=\"Ja\",'Q_del,j en Q_del,dh'!$D93,0)","v":0},{"$f":"IF(R144=\"Ja\",'Q_del,j en Q_del,dh'!$D93,0)","v":0},{"$f":"IF(S144=\"Ja\",'Q_del,j en Q_del,dh'!$D93,0)","v":0},{"$f":"IF(T144=\"Ja\",'Q_del,j en Q_del,dh'!$D93,0)","v":0},{"$f":"IF(U144=\"Ja\",'Q_del,j en Q_del,dh'!$D93,0)","v":0},{"$f":"IF(V144=\"Ja\",'Q_del,j en Q_del,dh'!$D93,0)","v":0},{"$f":"IF(W144=\"Ja\",'Q_del,j en Q_del,dh'!$D93,0)","v":0},{"$f":"IF(X144=\"Ja\",'Q_del,j en Q_del,dh'!$D93,0)","v":0},{"$f":"IF(Y144=\"Ja\",'Q_del,j en Q_del,dh'!$D93,0)","v":0},{"$f":"IF(Z144=\"Ja\",'Q_del,j en Q_del,dh'!$D93,0)","v":0},{"$f":"IF(AA144=\"Ja\",'Q_del,j en Q_del,dh'!$D93,0)","v":0},{"$f":"IF(AB144=\"Ja\",'Q_del,j en Q_del,dh'!$D93,0)","v":0},{"$f":"IF(AC144=\"Ja\",'Q_del,j en Q_del,dh'!$D93,0)","v":0},{"$f":"IF(AD144=\"Ja\",'Q_del,j en Q_del,dh'!$D93,0)","v":0},{"$f":"IF(AE144=\"Ja\",'Q_del,j en Q_del,dh'!$D93,0)","v":0},{"$f":"IF(AF144=\"Ja\",'Q_del,j en Q_del,dh'!$D93,0)","v":0},{"$f":"IF(AG144=\"Ja\",'Q_del,j en Q_del,dh'!$D93,0)","v":0},{"$f":"IF(AH144=\"Ja\",'Q_del,j en Q_del,dh'!$D93,0)","v":0},{"$f":"IF(AI144=\"Ja\",'Q_del,j en Q_del,dh'!$D93,0)","v":0},{"$f":"IF(AJ144=\"Ja\",'Q_del,j en Q_del,dh'!$D93,0)","v":0},{"$f":"IF(AK144=\"Ja\",'Q_del,j en Q_del,dh'!$D93,0)","v":0},{"$f":"IF(AL144=\"Ja\",'Q_del,j en Q_del,dh'!$D93,0)","v":0},{"$f":"IF(AM144=\"Ja\",'Q_del,j en Q_del,dh'!$D93,0)","v":0},{"$f":"IF(AN144=\"Ja\",'Q_del,j en Q_del,dh'!$D93,0)","v":0},{"$f":"IF(AO144=\"Ja\",'Q_del,j en Q_del,dh'!$D93,0)","v":0},{"$f":"IF(AP144=\"Ja\",'Q_del,j en Q_del,dh'!$D93,0)","v":0},{"$f":"IF(AQ144=\"Ja\",'Q_del,j en Q_del,dh'!$D93,0)","v":0},{"$f":"IF(AR144=\"Ja\",'Q_del,j en Q_del,dh'!$D93,0)","v":0},{"$f":"IF(AS144=\"Ja\",'Q_del,j en Q_del,dh'!$D93,0)","v":0},{"$f":"IF(AT144=\"Ja\",'Q_del,j en Q_del,dh'!$D93,0)","v":0},{"$f":"IF(AU144=\"Ja\",'Q_del,j en Q_del,dh'!$D93,0)","v":0},{"$f":"IF(AV144=\"Ja\",'Q_del,j en Q_del,dh'!$D93,0)","v":0},{"$f":"IF(AW144=\"Ja\",'Q_del,j en Q_del,dh'!$D93,0)","v":0},{"$f":"IF(AX144=\"Ja\",'Q_del,j en Q_del,dh'!$D93,0)","v":0},{"$f":"IF(AY144=\"Ja\",'Q_del,j en Q_del,dh'!$D93,0)","v":0},{"$f":"IF(AZ144=\"Ja\",'Q_del,j en Q_del,dh'!$D93,0)","v":0},{"$f":"IF(BA144=\"Ja\",'Q_del,j en Q_del,dh'!$D93,0)","v":0}]
["Qdel,l,j [MJ]","warmtevrager 87",87,{"$f":"IF(D145=\"Ja\",'Q_del,j en Q_del,dh'!$D94,0)","v":0},{"$f":"IF(E145=\"Ja\",'Q_del,j en Q_del,dh'!$D94,0)","v":0},{"$f":"IF(F145=\"Ja\",'Q_del,j en Q_del,dh'!$D94,0)","v":0},{"$f":"IF(G145=\"Ja\",'Q_del,j en Q_del,dh'!$D94,0)","v":0},{"$f":"IF(H145=\"Ja\",'Q_del,j en Q_del,dh'!$D94,0)","v":0},{"$f":"IF(I145=\"Ja\",'Q_del,j en Q_del,dh'!$D94,0)","v":0},{"$f":"IF(J145=\"Ja\",'Q_del,j en Q_del,dh'!$D94,0)","v":0},{"$f":"IF(K145=\"Ja\",'Q_del,j en Q_del,dh'!$D94,0)","v":0},{"$f":"IF(L145=\"Ja\",'Q_del,j en Q_del,dh'!$D94,0)","v":0},{"$f":"IF(M145=\"Ja\",'Q_del,j en Q_del,dh'!$D94,0)","v":0},{"$f":"IF(N145=\"Ja\",'Q_del,j en Q_del,dh'!$D94,0)","v":0},{"$f":"IF(O145=\"Ja\",'Q_del,j en Q_del,dh'!$D94,0)","v":0},{"$f":"IF(P145=\"Ja\",'Q_del,j en Q_del,dh'!$D94,0)","v":0},{"$f":"IF(Q145=\"Ja\",'Q_del,j en Q_del,dh'!$D94,0)","v":0},{"$f":"IF(R145=\"Ja\",'Q_del,j en Q_del,dh'!$D94,0)","v":0},{"$f":"IF(S145=\"Ja\",'Q_del,j en Q_del,dh'!$D94,0)","v":0},{"$f":"IF(T145=\"Ja\",'Q_del,j en Q_del,dh'!$D94,0)","v":0},{"$f":"IF(U145=\"Ja\",'Q_del,j en Q_del,dh'!$D94,0)","v":0},{"$f":"IF(V145=\"Ja\",'Q_del,j en Q_del,dh'!$D94,0)","v":0},{"$f":"IF(W145=\"Ja\",'Q_del,j en Q_del,dh'!$D94,0)","v":0},{"$f":"IF(X145=\"Ja\",'Q_del,j en Q_del,dh'!$D94,0)","v":0},{"$f":"IF(Y145=\"Ja\",'Q_del,j en Q_del,dh'!$D94,0)","v":0},{"$f":"IF(Z145=\"Ja\",'Q_del,j en Q_del,dh'!$D94,0)","v":0},{"$f":"IF(AA145=\"Ja\",'Q_del,j en Q_del,dh'!$D94,0)","v":0},{"$f":"IF(AB145=\"Ja\",'Q_del,j en Q_del,dh'!$D94,0)","v":0},{"$f":"IF(AC145=\"Ja\",'Q_del,j en Q_del,dh'!$D94,0)","v":0},{"$f":"IF(AD145=\"Ja\",'Q_del,j en Q_del,dh'!$D94,0)","v":0},{"$f":"IF(AE145=\"Ja\",'Q_del,j en Q_del,dh'!$D94,0)","v":0},{"$f":"IF(AF145=\"Ja\",'Q_del,j en Q_del,dh'!$D94,0)","v":0},{"$f":"IF(AG145=\"Ja\",'Q_del,j en Q_del,dh'!$D94,0)","v":0},{"$f":"IF(AH145=\"Ja\",'Q_del,j en Q_del,dh'!$D94,0)","v":0},{"$f":"IF(AI145=\"Ja\",'Q_del,j en Q_del,dh'!$D94,0)","v":0},{"$f":"IF(AJ145=\"Ja\",'Q_del,j en Q_del,dh'!$D94,0)","v":0},{"$f":"IF(AK145=\"Ja\",'Q_del,j en Q_del,dh'!$D94,0)","v":0},{"$f":"IF(AL145=\"Ja\",'Q_del,j en Q_del,dh'!$D94,0)","v":0},{"$f":"IF(AM145=\"Ja\",'Q_del,j en Q_del,dh'!$D94,0)","v":0},{"$f":"IF(AN145=\"Ja\",'Q_del,j en Q_del,dh'!$D94,0)","v":0},{"$f":"IF(AO145=\"Ja\",'Q_del,j en Q_del,dh'!$D94,0)","v":0},{"$f":"IF(AP145=\"Ja\",'Q_del,j en Q_del,dh'!$D94,0)","v":0},{"$f":"IF(AQ145=\"Ja\",'Q_del,j en Q_del,dh'!$D94,0)","v":0},{"$f":"IF(AR145=\"Ja\",'Q_del,j en Q_del,dh'!$D94,0)","v":0},{"$f":"IF(AS145=\"Ja\",'Q_del,j en Q_del,dh'!$D94,0)","v":0},{"$f":"IF(AT145=\"Ja\",'Q_del,j en Q_del,dh'!$D94,0)","v":0},{"$f":"IF(AU145=\"Ja\",'Q_del,j en Q_del,dh'!$D94,0)","v":0},{"$f":"IF(AV145=\"Ja\",'Q_del,j en Q_del,dh'!$D94,0)","v":0},{"$f":"IF(AW145=\"Ja\",'Q_del,j en Q_del,dh'!$D94,0)","v":0},{"$f":"IF(AX145=\"Ja\",'Q_del,j en Q_del,dh'!$D94,0)","v":0},{"$f":"IF(AY145=\"Ja\",'Q_del,j en Q_del,dh'!$D94,0)","v":0},{"$f":"IF(AZ145=\"Ja\",'Q_del,j en Q_del,dh'!$D94,0)","v":0},{"$f":"IF(BA145=\"Ja\",'Q_del,j en Q_del,dh'!$D94,0)","v":0}]
["Qdel,l,j [MJ]","warmtevrager 88",88,{"$f":"IF(D146=\"Ja\",'Q_del,j en Q_del,dh'!$D95,0)","v":0},{"$f":"IF(E146=\"Ja\",'Q_del,j en Q_del,dh'!$D95,0)","v":0},{"$f":"IF(F146=\"Ja\",'Q_del,j en Q_del,dh'!$D95,0)","v":0},{"$f":"IF(G146=\"Ja\",'Q_del,j en Q_del,dh'!$D95,0)","v":0},{"$f":"IF(H146=\"Ja\",'Q_del,j en Q_del,dh'!$D95,0)","v":0},{"$f":"IF(I146=\"Ja\",'Q_del,j en Q_del,dh'!$D95,0)","v":0},{"$f":"IF(J146=\"Ja\",'Q_del,j en Q_del,dh'!$D95,0)","v":0},{"$f":"IF(K146=\"Ja\",'Q_del,j en Q_del,dh'!$D95,0)","v":0},{"$f":"IF(L146=\"Ja\",'Q_del,j en Q_del,dh'!$D95,0)","v":0},{"$f":"IF(M146=\"Ja\",'Q_del,j en Q_del,dh'!$D95,0)","v":0},{"$f":"IF(N146=\"Ja\",'Q_del,j en Q_del,dh'!$D95,0)","v":0},{"$f":"IF(O146=\"Ja\",'Q_del,j en Q_del,dh'!$D95,0)","v":0},{"$f":"IF(P146=\"Ja\",'Q_del,j en Q_del,dh'!$D95,0)","v":0},{"$f":"IF(Q146=\"Ja\",'Q_del,j en Q_del,dh'!$D95,0)","v":0},{"$f":"IF(R146=\"Ja\",'Q_del,j en Q_del,dh'!$D95,0)","v":0},{"$f":"IF(S146=\"Ja\",'Q_del,j en Q_del,dh'!$D95,0)","v":0},{"$f":"IF(T146=\"Ja\",'Q_del,j en Q_del,dh'!$D95,0)","v":0},{"$f":"IF(U146=\"Ja\",'Q_del,j en Q_del,dh'!$D95,0)","v":0},{"$f":"IF(V146=\"Ja\",'Q_del,j en Q_del,dh'!$D95,0)","v":0},{"$f":"IF(W146=\"Ja\",'Q_del,j en Q_del,dh'!$D95,0)","v":0},{"$f":"IF(X146=\"Ja\",'Q_del,j en Q_del,dh'!$D95,0)","v":0},{"$f":"IF(Y146=\"Ja\",'Q_del,j en Q_del,dh'!$D95,0)","v":0},{"$f":"IF(Z146=\"Ja\",'Q_del,j en Q_del,dh'!$D95,0)","v":0},{"$f":"IF(AA146=\"Ja\",'Q_del,j en Q_del,dh'!$D95,0)","v":0},{"$f":"IF(AB146=\"Ja\",'Q_del,j en Q_del,dh'!$D95,0)","v":0},{"$f":"IF(AC146=\"Ja\",'Q_del,j en Q_del,dh'!$D95,0)","v":0},{"$f":"IF(AD146=\"Ja\",'Q_del,j en Q_del,dh'!$D95,0)","v":0},{"$f":"IF(AE146=\"Ja\",'Q_del,j en Q_del,dh'!$D95,0)","v":0},{"$f":"IF(AF146=\"Ja\",'Q_del,j en Q_del,dh'!$D95,0)","v":0},{"$f":"IF(AG146=\"Ja\",'Q_del,j en Q_del,dh'!$D95,0)","v":0},{"$f":"IF(AH146=\"Ja\",'Q_del,j en Q_del,dh'!$D95,0)","v":0},{"$f":"IF(AI146=\"Ja\",'Q_del,j en Q_del,dh'!$D95,0)","v":0},{"$f":"IF(AJ146=\"Ja\",'Q_del,j en Q_del,dh'!$D95,0)","v":0},{"$f":"IF(AK146=\"Ja\",'Q_del,j en Q_del,dh'!$D95,0)","v":0},{"$f":"IF(AL146=\"Ja\",'Q_del,j en Q_del,dh'!$D95,0)","v":0},{"$f":"IF(AM146=\"Ja\",'Q_del,j en Q_del,dh'!$D95,0)","v":0},{"$f":"IF(AN146=\"Ja\",'Q_del,j en Q_del,dh'!$D95,0)","v":0},{"$f":"IF(AO146=\"Ja\",'Q_del,j en Q_del,dh'!$D95,0)","v":0},{"$f":"IF(AP146=\"Ja\",'Q_del,j en Q_del,dh'!$D95,0)","v":0},{"$f":"IF(AQ146=\"Ja\",'Q_del,j en Q_del,dh'!$D95,0)","v":0},{"$f":"IF(AR146=\"Ja\",'Q_del,j en Q_del,dh'!$D95,0)","v":0},{"$f":"IF(AS146=\"Ja\",'Q_del,j en Q_del,dh'!$D95,0)","v":0},{"$f":"IF(AT146=\"Ja\",'Q_del,j en Q_del,dh'!$D95,0)","v":0},{"$f":"IF(AU146=\"Ja\",'Q_del,j en Q_del,dh'!$D95,0)","v":0},{"$f":"IF(AV146=\"Ja\",'Q_del,j en Q_del,dh'!$D95,0)","v":0},{"$f":"IF(AW146=\"Ja\",'Q_del,j en Q_del,dh'!$D95,0)","v":0},{"$f":"IF(AX146=\"Ja\",'Q_del,j en Q_del,dh'!$D95,0)","v":0},{"$f":"IF(AY146=\"Ja\",'Q_del,j en Q_del,dh'!$D95,0)","v":0},{"$f":"IF(AZ146=\"Ja\",'Q_del,j en Q_del,dh'!$D95,0)","v":0},{"$f":"IF(BA146=\"Ja\",'Q_del,j en Q_del,dh'!$D95,0)","v":0}]
["Qdel,l,j [MJ]","warmtevrager 89",89,{"$f":"IF(D147=\"Ja\",'Q_del,j en Q_del,dh'!$D96,0)","v":0},{"$f":"IF(E147=\"Ja\",'Q_del,j en Q_del,dh'!$D96,0)","v":0},{"$f":"IF(F147=\"Ja\",'Q_del,j en Q_del,dh'!$D96,0)","v":0},{"$f":"IF(G147=\"Ja\",'Q_del,j en Q_del,dh'!$D96,0)","v":0},{"$f":"IF(H147=\"Ja\",'Q_del,j en Q_del,dh'!$D96,0)","v":0},{"$f":"IF(I147=\"Ja\",'Q_del,j en Q_del,dh'!$D96,0)","v":0},{"$f":"IF(J147=\"Ja\",'Q_del,j en Q_del,dh'!$D96,0)","v":0},{"$f":"IF(K147=\"Ja\",'Q_del,j en Q_del,dh'!$D96,0)","v":0},{"$f":"IF(L147=\"Ja\",'Q_del,j en Q_del,dh'!$D96,0)","v":0},{"$f":"IF(M147=\"Ja\",'Q_del,j en Q_del,dh'!$D96,0)","v":0},{"$f":"IF(N147=\"Ja\",'Q_del,j en Q_del,dh'!$D96,0)","v":0},{"$f":"IF(O147=\"Ja\",'Q_del,j en Q_del,dh'!$D96,0)","v":0},{"$f":"IF(P147=\"Ja\",'Q_del,j en Q_del,dh'!$D96,0)","v":0},{"$f":"IF(Q147=\"Ja\",'Q_del,j en Q_del,dh'!$D96,0)","v":0},{"$f":"IF(R147=\"Ja\",'Q_del,j en Q_del,dh'!$D96,0)","v":0},{"$f":"IF(S147=\"Ja\",'Q_del,j en Q_del,dh'!$D96,0)","v":0},{"$f":"IF(T147=\"Ja\",'Q_del,j en Q_del,dh'!$D96,0)","v":0},{"$f":"IF(U147=\"Ja\",'Q_del,j en Q_del,dh'!$D96,0)","v":0},{"$f":"IF(V147=\"Ja\",'Q_del,j en Q_del,dh'!$D96,0)","v":0},{"$f":"IF(W147=\"Ja\",'Q_del,j en Q_del,dh'!$D96,0)","v":0},{"$f":"IF(X147=\"Ja\",'Q_del,j en Q_del,dh'!$D96,0)","v":0},{"$f":"IF(Y147=\"Ja\",'Q_del,j en Q_del,dh'!$D96,0)","v":0},{"$f":"IF(Z147=\"Ja\",'Q_del,j en Q_del,dh'!$D96,0)","v":0},{"$f":"IF(AA147=\"Ja\",'Q_del,j en Q_del,dh'!$D96,0)","v":0},{"$f":"IF(AB147=\"Ja\",'Q_del,j en Q_del,dh'!$D96,0)","v":0},{"$f":"IF(AC147=\"Ja\",'Q_del,j en Q_del,dh'!$D96,0)","v":0},{"$f":"IF(AD147=\"Ja\",'Q_del,j en Q_del,dh'!$D96,0)","v":0},{"$f":"IF(AE147=\"Ja\",'Q_del,j en Q_del,dh'!$D96,0)","v":0},{"$f":"IF(AF147=\"Ja\",'Q_del,j en Q_del,dh'!$D96,0)","v":0},{"$f":"IF(AG147=\"Ja\",'Q_del,j en Q_del,dh'!$D96,0)","v":0},{"$f":"IF(AH147=\"Ja\",'Q_del,j en Q_del,dh'!$D96,0)","v":0},{"$f":"IF(AI147=\"Ja\",'Q_del,j en Q_del,dh'!$D96,0)","v":0},{"$f":"IF(AJ147=\"Ja\",'Q_del,j en Q_del,dh'!$D96,0)","v":0},{"$f":"IF(AK147=\"Ja\",'Q_del,j en Q_del,dh'!$D96,0)","v":0},{"$f":"IF(AL147=\"Ja\",'Q_del,j en Q_del,dh'!$D96,0)","v":0},{"$f":"IF(AM147=\"Ja\",'Q_del,j en Q_del,dh'!$D96,0)","v":0},{"$f":"IF(AN147=\"Ja\",'Q_del,j en Q_del,dh'!$D96,0)","v":0},{"$f":"IF(AO147=\"Ja\",'Q_del,j en Q_del,dh'!$D96,0)","v":0},{"$f":"IF(AP147=\"Ja\",'Q_del,j en Q_del,dh'!$D96,0)","v":0},{"$f":"IF(AQ147=\"Ja\",'Q_del,j en Q_del,dh'!$D96,0)","v":0},{"$f":"IF(AR147=\"Ja\",'Q_del,j en Q_del,dh'!$D96,0)","v":0},{"$f":"IF(AS147=\"Ja\",'Q_del,j en Q_del,dh'!$D96,0)","v":0},{"$f":"IF(AT147=\"Ja\",'Q_del,j en Q_del,dh'!$D96,0)","v":0},{"$f":"IF(AU147=\"Ja\",'Q_del,j en Q_del,dh'!$D96,0)","v":0},{"$f":"IF(AV147=\"Ja\",'Q_del,j en Q_del,dh'!$D96,0)","v":0},{"$f":"IF(AW147=\"Ja\",'Q_del,j en Q_del,dh'!$D96,0)","v":0},{"$f":"IF(AX147=\"Ja\",'Q_del,j en Q_del,dh'!$D96,0)","v":0},{"$f":"IF(AY147=\"Ja\",'Q_del,j en Q_del,dh'!$D96,0)","v":0},{"$f":"IF(AZ147=\"Ja\",'Q_del,j en Q_del,dh'!$D96,0)","v":0},{"$f":"IF(BA147=\"Ja\",'Q_del,j en Q_del,dh'!$D96,0)","v":0}]
["Qdel,l,j [MJ]","warmtevrager 90",90,{"$f":"IF(D148=\"Ja\",'Q_del,j en Q_del,dh'!$D97,0)","v":0},{"$f":"IF(E148=\"Ja\",'Q_del,j en Q_del,dh'!$D97,0)","v":0},{"$f":"IF(F148=\"Ja\",'Q_del,j en Q_del,dh'!$D97,0)","v":0},{"$f":"IF(G148=\"Ja\",'Q_del,j en Q_del,dh'!$D97,0)","v":0},{"$f":"IF(H148=\"Ja\",'Q_del,j en Q_del,dh'!$D97,0)","v":0},{"$f":"IF(I148=\"Ja\",'Q_del,j en Q_del,dh'!$D97,0)","v":0},{"$f":"IF(J148=\"Ja\",'Q_del,j en Q_del,dh'!$D97,0)","v":0},{"$f":"IF(K148=\"Ja\",'Q_del,j en Q_del,dh'!$D97,0)","v":0},{"$f":"IF(L148=\"Ja\",'Q_del,j en Q_del,dh'!$D97,0)","v":0},{"$f":"IF(M148=\"Ja\",'Q_del,j en Q_del,dh'!$D97,0)","v":0},{"$f":"IF(N148=\"Ja\",'Q_del,j en Q_del,dh'!$D97,0)","v":0},{"$f":"IF(O148=\"Ja\",'Q_del,j en Q_del,dh'!$D97,0)","v":0},{"$f":"IF(P148=\"Ja\",'Q_del,j en Q_del,dh'!$D97,0)","v":0},{"$f":"IF(Q148=\"Ja\",'Q_del,j en Q_del,dh'!$D97,0)","v":0},{"$f":"IF(R148=\"Ja\",'Q_del,j en Q_del,dh'!$D97,0)","v":0},{"$f":"IF(S148=\"Ja\",'Q_del,j en Q_del,dh'!$D97,0)","v":0},{"$f":"IF(T148=\"Ja\",'Q_del,j en Q_del,dh'!$D97,0)","v":0},{"$f":"IF(U148=\"Ja\",'Q_del,j en Q_del,dh'!$D97,0)","v":0},{"$f":"IF(V148=\"Ja\",'Q_del,j en Q_del,dh'!$D97,0)","v":0},{"$f":"IF(W148=\"Ja\",'Q_del,j en Q_del,dh'!$D97,0)","v":0},{"$f":"IF(X148=\"Ja\",'Q_del,j en Q_del,dh'!$D97,0)","v":0},{"$f":"IF(Y148=\"Ja\",'Q_del,j en Q_del,dh'!$D97,0)","v":0},{"$f":"IF(Z148=\"Ja\",'Q_del,j en Q_del,dh'!$D97,0)","v":0},{"$f":"IF(AA148=\"Ja\",'Q_del,j en Q_del,dh'!$D97,0)","v":0},{"$f":"IF(AB148=\"Ja\",'Q_del,j en Q_del,dh'!$D97,0)","v":0},{"$f":"IF(AC148=\"Ja\",'Q_del,j en Q_del,dh'!$D97,0)","v":0},{"$f":"IF(AD148=\"Ja\",'Q_del,j en Q_del,dh'!$D97,0)","v":0},{"$f":"IF(AE148=\"Ja\",'Q_del,j en Q_del,dh'!$D97,0)","v":0},{"$f":"IF(AF148=\"Ja\",'Q_del,j en Q_del,dh'!$D97,0)","v":0},{"$f":"IF(AG148=\"Ja\",'Q_del,j en Q_del,dh'!$D97,0)","v":0},{"$f":"IF(AH148=\"Ja\",'Q_del,j en Q_del,dh'!$D97,0)","v":0},{"$f":"IF(AI148=\"Ja\",'Q_del,j en Q_del,dh'!$D97,0)","v":0},{"$f":"IF(AJ148=\"Ja\",'Q_del,j en Q_del,dh'!$D97,0)","v":0},{"$f":"IF(AK148=\"Ja\",'Q_del,j en Q_del,dh'!$D97,0)","v":0},{"$f":"IF(AL148=\"Ja\",'Q_del,j en Q_del,dh'!$D97,0)","v":0},{"$f":"IF(AM148=\"Ja\",'Q_del,j en Q_del,dh'!$D97,0)","v":0},{"$f":"IF(AN148=\"Ja\",'Q_del,j en Q_del,dh'!$D97,0)","v":0},{"$f":"IF(AO148=\"Ja\",'Q_del,j en Q_del,dh'!$D97,0)","v":0},{"$f":"IF(AP148=\"Ja\",'Q_del,j en Q_del,dh'!$D97,0)","v":0},{"$f":"IF(AQ148=\"Ja\",'Q_del,j en Q_del,dh'!$D97,0)","v":0},{"$f":"IF(AR148=\"Ja\",'Q_del,j en Q_del,dh'!$D97,0)","v":0},{"$f":"IF(AS148=\"Ja\",'Q_del,j en Q_del,dh'!$D97,0)","v":0},{"$f":"IF(AT148=\"Ja\",'Q_del,j en Q_del,dh'!$D97,0)","v":0},{"$f":"IF(AU148=\"Ja\",'Q_del,j en Q_del,dh'!$D97,0)","v":0},{"$f":"IF(AV148=\"Ja\",'Q_del,j en Q_del,dh'!$D97,0)","v":0},{"$f":"IF(AW148=\"Ja\",'Q_del,j en Q_del,dh'!$D97,0)","v":0},{"$f":"IF(AX148=\"Ja\",'Q_del,j en Q_del,dh'!$D97,0)","v":0},{"$f":"IF(AY148=\"Ja\",'Q_del,j en Q_del,dh'!$D97,0)","v":0},{"$f":"IF(AZ148=\"Ja\",'Q_del,j en Q_del,dh'!$D97,0)","v":0},{"$f":"IF(BA148=\"Ja\",'Q_del,j en Q_del,dh'!$D97,0)","v":0}]
["Qdel,l,j [MJ]","warmtevrager 91",91,{"$f":"IF(D149=\"Ja\",'Q_del,j en Q_del,dh'!$D98,0)","v":0},{"$f":"IF(E149=\"Ja\",'Q_del,j en Q_del,dh'!$D98,0)","v":0},{"$f":"IF(F149=\"Ja\",'Q_del,j en Q_del,dh'!$D98,0)","v":0},{"$f":"IF(G149=\"Ja\",'Q_del,j en Q_del,dh'!$D98,0)","v":0},{"$f":"IF(H149=\"Ja\",'Q_del,j en Q_del,dh'!$D98,0)","v":0},{"$f":"IF(I149=\"Ja\",'Q_del,j en Q_del,dh'!$D98,0)","v":0},{"$f":"IF(J149=\"Ja\",'Q_del,j en Q_del,dh'!$D98,0)","v":0},{"$f":"IF(K149=\"Ja\",'Q_del,j en Q_del,dh'!$D98,0)","v":0},{"$f":"IF(L149=\"Ja\",'Q_del,j en Q_del,dh'!$D98,0)","v":0},{"$f":"IF(M149=\"Ja\",'Q_del,j en Q_del,dh'!$D98,0)","v":0},{"$f":"IF(N149=\"Ja\",'Q_del,j en Q_del,dh'!$D98,0)","v":0},{"$f":"IF(O149=\"Ja\",'Q_del,j en Q_del,dh'!$D98,0)","v":0},{"$f":"IF(P149=\"Ja\",'Q_del,j en Q_del,dh'!$D98,0)","v":0},{"$f":"IF(Q149=\"Ja\",'Q_del,j en Q_del,dh'!$D98,0)","v":0},{"$f":"IF(R149=\"Ja\",'Q_del,j en Q_del,dh'!$D98,0)","v":0},{"$f":"IF(S149=\"Ja\",'Q_del,j en Q_del,dh'!$D98,0)","v":0},{"$f":"IF(T149=\"Ja\",'Q_del,j en Q_del,dh'!$D98,0)","v":0},{"$f":"IF(U149=\"Ja\",'Q_del,j en Q_del,dh'!$D98,0)","v":0},{"$f":"IF(V149=\"Ja\",'Q_del,j en Q_del,dh'!$D98,0)","v":0},{"$f":"IF(W149=\"Ja\",'Q_del,j en Q_del,dh'!$D98,0)","v":0},{"$f":"IF(X149=\"Ja\",'Q_del,j en Q_del,dh'!$D98,0)","v":0},{"$f":"IF(Y149=\"Ja\",'Q_del,j en Q_del,dh'!$D98,0)","v":0},{"$f":"IF(Z149=\"Ja\",'Q_del,j en Q_del,dh'!$D98,0)","v":0},{"$f":"IF(AA149=\"Ja\",'Q_del,j en Q_del,dh'!$D98,0)","v":0},{"$f":"IF(AB149=\"Ja\",'Q_del,j en Q_del,dh'!$D98,0)","v":0},{"$f":"IF(AC149=\"Ja\",'Q_del,j en Q_del,dh'!$D98,0)","v":0},{"$f":"IF(AD149=\"Ja\",'Q_del,j en Q_del,dh'!$D98,0)","v":0},{"$f":"IF(AE149=\"Ja\",'Q_del,j en Q_del,dh'!$D98,0)","v":0},{"$f":"IF(AF149=\"Ja\",'Q_del,j en Q_del,dh'!$D98,0)","v":0},{"$f":"IF(AG149=\"Ja\",'Q_del,j en Q_del,dh'!$D98,0)","v":0},{"$f":"IF(AH149=\"Ja\",'Q_del,j en Q_del,dh'!$D98,0)","v":0},{"$f":"IF(AI149=\"Ja\",'Q_del,j en Q_del,dh'!$D98,0)","v":0},{"$f":"IF(AJ149=\"Ja\",'Q_del,j en Q_del,dh'!$D98,0)","v":0},{"$f":"IF(AK149=\"Ja\",'Q_del,j en Q_del,dh'!$D98,0)","v":0},{"$f":"IF(AL149=\"Ja\",'Q_del,j en Q_del,dh'!$D98,0)","v":0},{"$f":"IF(AM149=\"Ja\",'Q_del,j en Q_del,dh'!$D98,0)","v":0},{"$f":"IF(AN149=\"Ja\",'Q_del,j en Q_del,dh'!$D98,0)","v":0},{"$f":"IF(AO149=\"Ja\",'Q_del,j en Q_del,dh'!$D98,0)","v":0},{"$f":"IF(AP149=\"Ja\",'Q_del,j en Q_del,dh'!$D98,0)","v":0},{"$f":"IF(AQ149=\"Ja\",'Q_del,j en Q_del,dh'!$D98,0)","v":0},{"$f":"IF(AR149=\"Ja\",'Q_del,j en Q_del,dh'!$D98,0)","v":0},{"$f":"IF(AS149=\"Ja\",'Q_del,j en Q_del,dh'!$D98,0)","v":0},{"$f":"IF(AT149=\"Ja\",'Q_del,j en Q_del,dh'!$D98,0)","v":0},{"$f":"IF(AU149=\"Ja\",'Q_del,j en Q_del,dh'!$D98,0)","v":0},{"$f":"IF(AV149=\"Ja\",'Q_del,j en Q_del,dh'!$D98,0)","v":0},{"$f":"IF(AW149=\"Ja\",'Q_del,j en Q_del,dh'!$D98,0)","v":0},{"$f":"IF(AX149=\"Ja\",'Q_del,j en Q_del,dh'!$D98,0)","v":0},{"$f":"IF(AY149=\"Ja\",'Q_del,j en Q_del,dh'!$D98,0)","v":0},{"$f":"IF(AZ149=\"Ja\",'Q_del,j en Q_del,dh'!$D98,0)","v":0},{"$f":"IF(BA149=\"Ja\",'Q_del,j en Q_del,dh'!$D98,0)","v":0}]
["Qdel,l,j [MJ]","warmtevrager 92",92,{"$f":"IF(D150=\"Ja\",'Q_del,j en Q_del,dh'!$D99,0)","v":0},{"$f":"IF(E150=\"Ja\",'Q_del,j en Q_del,dh'!$D99,0)","v":0},{"$f":"IF(F150=\"Ja\",'Q_del,j en Q_del,dh'!$D99,0)","v":0},{"$f":"IF(G150=\"Ja\",'Q_del,j en Q_del,dh'!$D99,0)","v":0},{"$f":"IF(H150=\"Ja\",'Q_del,j en Q_del,dh'!$D99,0)","v":0},{"$f":"IF(I150=\"Ja\",'Q_del,j en Q_del,dh'!$D99,0)","v":0},{"$f":"IF(J150=\"Ja\",'Q_del,j en Q_del,dh'!$D99,0)","v":0},{"$f":"IF(K150=\"Ja\",'Q_del,j en Q_del,dh'!$D99,0)","v":0},{"$f":"IF(L150=\"Ja\",'Q_del,j en Q_del,dh'!$D99,0)","v":0},{"$f":"IF(M150=\"Ja\",'Q_del,j en Q_del,dh'!$D99,0)","v":0},{"$f":"IF(N150=\"Ja\",'Q_del,j en Q_del,dh'!$D99,0)","v":0},{"$f":"IF(O150=\"Ja\",'Q_del,j en Q_del,dh'!$D99,0)","v":0},{"$f":"IF(P150=\"Ja\",'Q_del,j en Q_del,dh'!$D99,0)","v":0},{"$f":"IF(Q150=\"Ja\",'Q_del,j en Q_del,dh'!$D99,0)","v":0},{"$f":"IF(R150=\"Ja\",'Q_del,j en Q_del,dh'!$D99,0)","v":0},{"$f":"IF(S150=\"Ja\",'Q_del,j en Q_del,dh'!$D99,0)","v":0},{"$f":"IF(T150=\"Ja\",'Q_del,j en Q_del,dh'!$D99,0)","v":0},{"$f":"IF(U150=\"Ja\",'Q_del,j en Q_del,dh'!$D99,0)","v":0},{"$f":"IF(V150=\"Ja\",'Q_del,j en Q_del,dh'!$D99,0)","v":0},{"$f":"IF(W150=\"Ja\",'Q_del,j en Q_del,dh'!$D99,0)","v":0},{"$f":"IF(X150=\"Ja\",'Q_del,j en Q_del,dh'!$D99,0)","v":0},{"$f":"IF(Y150=\"Ja\",'Q_del,j en Q_del,dh'!$D99,0)","v":0},{"$f":"IF(Z150=\"Ja\",'Q_del,j en Q_del,dh'!$D99,0)","v":0},{"$f":"IF(AA150=\"Ja\",'Q_del,j en Q_del,dh'!$D99,0)","v":0},{"$f":"IF(AB150=\"Ja\",'Q_del,j en Q_del,dh'!$D99,0)","v":0},{"$f":"IF(AC150=\"Ja\",'Q_del,j en Q_del,dh'!$D99,0)","v":0},{"$f":"IF(AD150=\"Ja\",'Q_del,j en Q_del,dh'!$D99,0)","v":0},{"$f":"IF(AE150=\"Ja\",'Q_del,j en Q_del,dh'!$D99,0)","v":0},{"$f":"IF(AF150=\"Ja\",'Q_del,j en Q_del,dh'!$D99,0)","v":0},{"$f":"IF(AG150=\"Ja\",'Q_del,j en Q_del,dh'!$D99,0)","v":0},{"$f":"IF(AH150=\"Ja\",'Q_del,j en Q_del,dh'!$D99,0)","v":0},{"$f":"IF(AI150=\"Ja\",'Q_del,j en Q_del,dh'!$D99,0)","v":0},{"$f":"IF(AJ150=\"Ja\",'Q_del,j en Q_del,dh'!$D99,0)","v":0},{"$f":"IF(AK150=\"Ja\",'Q_del,j en Q_del,dh'!$D99,0)","v":0},{"$f":"IF(AL150=\"Ja\",'Q_del,j en Q_del,dh'!$D99,0)","v":0},{"$f":"IF(AM150=\"Ja\",'Q_del,j en Q_del,dh'!$D99,0)","v":0},{"$f":"IF(AN150=\"Ja\",'Q_del,j en Q_del,dh'!$D99,0)","v":0},{"$f":"IF(AO150=\"Ja\",'Q_del,j en Q_del,dh'!$D99,0)","v":0},{"$f":"IF(AP150=\"Ja\",'Q_del,j en Q_del,dh'!$D99,0)","v":0},{"$f":"IF(AQ150=\"Ja\",'Q_del,j en Q_del,dh'!$D99,0)","v":0},{"$f":"IF(AR150=\"Ja\",'Q_del,j en Q_del,dh'!$D99,0)","v":0},{"$f":"IF(AS150=\"Ja\",'Q_del,j en Q_del,dh'!$D99,0)","v":0},{"$f":"IF(AT150=\"Ja\",'Q_del,j en Q_del,dh'!$D99,0)","v":0},{"$f":"IF(AU150=\"Ja\",'Q_del,j en Q_del,dh'!$D99,0)","v":0},{"$f":"IF(AV150=\"Ja\",'Q_del,j en Q_del,dh'!$D99,0)","v":0},{"$f":"IF(AW150=\"Ja\",'Q_del,j en Q_del,dh'!$D99,0)","v":0},{"$f":"IF(AX150=\"Ja\",'Q_del,j en Q_del,dh'!$D99,0)","v":0},{"$f":"IF(AY150=\"Ja\",'Q_del,j en Q_del,dh'!$D99,0)","v":0},{"$f":"IF(AZ150=\"Ja\",'Q_del,j en Q_del,dh'!$D99,0)","v":0},{"$f":"IF(BA150=\"Ja\",'Q_del,j en Q_del,dh'!$D99,0)","v":0}]
["Qdel,l,j [MJ]","warmtevrager 93",93,{"$f":"IF(D151=\"Ja\",'Q_del,j en Q_del,dh'!$D100,0)","v":0},{"$f":"IF(E151=\"Ja\",'Q_del,j en Q_del,dh'!$D100,0)","v":0},{"$f":"IF(F151=\"Ja\",'Q_del,j en Q_del,dh'!$D100,0)","v":0},{"$f":"IF(G151=\"Ja\",'Q_del,j en Q_del,dh'!$D100,0)","v":0},{"$f":"IF(H151=\"Ja\",'Q_del,j en Q_del,dh'!$D100,0)","v":0},{"$f":"IF(I151=\"Ja\",'Q_del,j en Q_del,dh'!$D100,0)","v":0},{"$f":"IF(J151=\"Ja\",'Q_del,j en Q_del,dh'!$D100,0)","v":0},{"$f":"IF(K151=\"Ja\",'Q_del,j en Q_del,dh'!$D100,0)","v":0},{"$f":"IF(L151=\"Ja\",'Q_del,j en Q_del,dh'!$D100,0)","v":0},{"$f":"IF(M151=\"Ja\",'Q_del,j en Q_del,dh'!$D100,0)","v":0},{"$f":"IF(N151=\"Ja\",'Q_del,j en Q_del,dh'!$D100,0)","v":0},{"$f":"IF(O151=\"Ja\",'Q_del,j en Q_del,dh'!$D100,0)","v":0},{"$f":"IF(P151=\"Ja\",'Q_del,j en Q_del,dh'!$D100,0)","v":0},{"$f":"IF(Q151=\"Ja\",'Q_del,j en Q_del,dh'!$D100,0)","v":0},{"$f":"IF(R151=\"Ja\",'Q_del,j en Q_del,dh'!$D100,0)","v":0},{"$f":"IF(S151=\"Ja\",'Q_del,j en Q_del,dh'!$D100,0)","v":0},{"$f":"IF(T151=\"Ja\",'Q_del,j en Q_del,dh'!$D100,0)","v":0},{"$f":"IF(U151=\"Ja\",'Q_del,j en Q_del,dh'!$D100,0)","v":0},{"$f":"IF(V151=\"Ja\",'Q_del,j en Q_del,dh'!$D100,0)","v":0},{"$f":"IF(W151=\"Ja\",'Q_del,j en Q_del,dh'!$D100,0)","v":0},{"$f":"IF(X151=\"Ja\",'Q_del,j en Q_del,dh'!$D100,0)","v":0},{"$f":"IF(Y151=\"Ja\",'Q_del,j en Q_del,dh'!$D100,0)","v":0},{"$f":"IF(Z151=\"Ja\",'Q_del,j en Q_del,dh'!$D100,0)","v":0},{"$f":"IF(AA151=\"Ja\",'Q_del,j en Q_del,dh'!$D100,0)","v":0},{"$f":"IF(AB151=\"Ja\",'Q_del,j en Q_del,dh'!$D100,0)","v":0},{"$f":"IF(AC151=\"Ja\",'Q_del,j en Q_del,dh'!$D100,0)","v":0},{"$f":"IF(AD151=\"Ja\",'Q_del,j en Q_del,dh'!$D100,0)","v":0},{"$f":"IF(AE151=\"Ja\",'Q_del,j en Q_del,dh'!$D100,0)","v":0},{"$f":"IF(AF151=\"Ja\",'Q_del,j en Q_del,dh'!$D100,0)","v":0},{"$f":"IF(AG151=\"Ja\",'Q_del,j en Q_del,dh'!$D100,0)","v":0},{"$f":"IF(AH151=\"Ja\",'Q_del,j en Q_del,dh'!$D100,0)","v":0},{"$f":"IF(AI151=\"Ja\",'Q_del,j en Q_del,dh'!$D100,0)","v":0},{"$f":"IF(AJ151=\"Ja\",'Q_del,j en Q_del,dh'!$D100,0)","v":0},{"$f":"IF(AK151=\"Ja\",'Q_del,j en Q_del,dh'!$D100,0)","v":0},{"$f":"IF(AL151=\"Ja\",'Q_del,j en Q_del,dh'!$D100,0)","v":0},{"$f":"IF(AM151=\"Ja\",'Q_del,j en Q_del,dh'!$D100,0)","v":0},{"$f":"IF(AN151=\"Ja\",'Q_del,j en Q_del,dh'!$D100,0)","v":0},{"$f":"IF(AO151=\"Ja\",'Q_del,j en Q_del,dh'!$D100,0)","v":0},{"$f":"IF(AP151=\"Ja\",'Q_del,j en Q_del,dh'!$D100,0)","v":0},{"$f":"IF(AQ151=\"Ja\",'Q_del,j en Q_del,dh'!$D100,0)","v":0},{"$f":"IF(AR151=\"Ja\",'Q_del,j en Q_del,dh'!$D100,0)","v":0},{"$f":"IF(AS151=\"Ja\",'Q_del,j en Q_del,dh'!$D100,0)","v":0},{"$f":"IF(AT151=\"Ja\",'Q_del,j en Q_del,dh'!$D100,0)","v":0},{"$f":"IF(AU151=\"Ja\",'Q_del,j en Q_del,dh'!$D100,0)","v":0},{"$f":"IF(AV151=\"Ja\",'Q_del,j en Q_del,dh'!$D100,0)","v":0},{"$f":"IF(AW151=\"Ja\",'Q_del,j en Q_del,dh'!$D100,0)","v":0},{"$f":"IF(AX151=\"Ja\",'Q_del,j en Q_del,dh'!$D100,0)","v":0},{"$f":"IF(AY151=\"Ja\",'Q_del,j en Q_del,dh'!$D100,0)","v":0},{"$f":"IF(AZ151=\"Ja\",'Q_del,j en Q_del,dh'!$D100,0)","v":0},{"$f":"IF(BA151=\"Ja\",'Q_del,j en Q_del,dh'!$D100,0)","v":0}]
["Qdel,l,j [MJ]","warmtevrager 94",94,{"$f":"IF(D152=\"Ja\",'Q_del,j en Q_del,dh'!$D101,0)","v":0},{"$f":"IF(E152=\"Ja\",'Q_del,j en Q_del,dh'!$D101,0)","v":0},{"$f":"IF(F152=\"Ja\",'Q_del,j en Q_del,dh'!$D101,0)","v":0},{"$f":"IF(G152=\"Ja\",'Q_del,j en Q_del,dh'!$D101,0)","v":0},{"$f":"IF(H152=\"Ja\",'Q_del,j en Q_del,dh'!$D101,0)","v":0},{"$f":"IF(I152=\"Ja\",'Q_del,j en Q_del,dh'!$D101,0)","v":0},{"$f":"IF(J152=\"Ja\",'Q_del,j en Q_del,dh'!$D101,0)","v":0},{"$f":"IF(K152=\"Ja\",'Q_del,j en Q_del,dh'!$D101,0)","v":0},{"$f":"IF(L152=\"Ja\",'Q_del,j en Q_del,dh'!$D101,0)","v":0},{"$f":"IF(M152=\"Ja\",'Q_del,j en Q_del,dh'!$D101,0)","v":0},{"$f":"IF(N152=\"Ja\",'Q_del,j en Q_del,dh'!$D101,0)","v":0},{"$f":"IF(O152=\"Ja\",'Q_del,j en Q_del,dh'!$D101,0)","v":0},{"$f":"IF(P152=\"Ja\",'Q_del,j en Q_del,dh'!$D101,0)","v":0},{"$f":"IF(Q152=\"Ja\",'Q_del,j en Q_del,dh'!$D101,0)","v":0},{"$f":"IF(R152=\"Ja\",'Q_del,j en Q_del,dh'!$D101,0)","v":0},{"$f":"IF(S152=\"Ja\",'Q_del,j en Q_del,dh'!$D101,0)","v":0},{"$f":"IF(T152=\"Ja\",'Q_del,j en Q_del,dh'!$D101,0)","v":0},{"$f":"IF(U152=\"Ja\",'Q_del,j en Q_del,dh'!$D101,0)","v":0},{"$f":"IF(V152=\"Ja\",'Q_del,j en Q_del,dh'!$D101,0)","v":0},{"$f":"IF(W152=\"Ja\",'Q_del,j en Q_del,dh'!$D101,0)","v":0},{"$f":"IF(X152=\"Ja\",'Q_del,j en Q_del,dh'!$D101,0)","v":0},{"$f":"IF(Y152=\"Ja\",'Q_del,j en Q_del,dh'!$D101,0)","v":0},{"$f":"IF(Z152=\"Ja\",'Q_del,j en Q_del,dh'!$D101,0)","v":0},{"$f":"IF(AA152=\"Ja\",'Q_del,j en Q_del,dh'!$D101,0)","v":0},{"$f":"IF(AB152=\"Ja\",'Q_del,j en Q_del,dh'!$D101,0)","v":0},{"$f":"IF(AC152=\"Ja\",'Q_del,j en Q_del,dh'!$D101,0)","v":0},{"$f":"IF(AD152=\"Ja\",'Q_del,j en Q_del,dh'!$D101,0)","v":0},{"$f":"IF(AE152=\"Ja\",'Q_del,j en Q_del,dh'!$D101,0)","v":0},{"$f":"IF(AF152=\"Ja\",'Q_del,j en Q_del,dh'!$D101,0)","v":0},{"$f":"IF(AG152=\"Ja\",'Q_del,j en Q_del,dh'!$D101,0)","v":0},{"$f":"IF(AH152=\"Ja\",'Q_del,j en Q_del,dh'!$D101,0)","v":0},{"$f":"IF(AI152=\"Ja\",'Q_del,j en Q_del,dh'!$D101,0)","v":0},{"$f":"IF(AJ152=\"Ja\",'Q_del,j en Q_del,dh'!$D101,0)","v":0},{"$f":"IF(AK152=\"Ja\",'Q_del,j en Q_del,dh'!$D101,0)","v":0},{"$f":"IF(AL152=\"Ja\",'Q_del,j en Q_del,dh'!$D101,0)","v":0},{"$f":"IF(AM152=\"Ja\",'Q_del,j en Q_del,dh'!$D101,0)","v":0},{"$f":"IF(AN152=\"Ja\",'Q_del,j en Q_del,dh'!$D101,0)","v":0},{"$f":"IF(AO152=\"Ja\",'Q_del,j en Q_del,dh'!$D101,0)","v":0},{"$f":"IF(AP152=\"Ja\",'Q_del,j en Q_del,dh'!$D101,0)","v":0},{"$f":"IF(AQ152=\"Ja\",'Q_del,j en Q_del,dh'!$D101,0)","v":0},{"$f":"IF(AR152=\"Ja\",'Q_del,j en Q_del,dh'!$D101,0)","v":0},{"$f":"IF(AS152=\"Ja\",'Q_del,j en Q_del,dh'!$D101,0)","v":0},{"$f":"IF(AT152=\"Ja\",'Q_del,j en Q_del,dh'!$D101,0)","v":0},{"$f":"IF(AU152=\"Ja\",'Q_del,j en Q_del,dh'!$D101,0)","v":0},{"$f":"IF(AV152=\"Ja\",'Q_del,j en Q_del,dh'!$D101,0)","v":0},{"$f":"IF(AW152=\"Ja\",'Q_del,j en Q_del,dh'!$D101,0)","v":0},{"$f":"IF(AX152=\"Ja\",'Q_del,j en Q_del,dh'!$D101,0)","v":0},{"$f":"IF(AY152=\"Ja\",'Q_del,j en Q_del,dh'!$D101,0)","v":0},{"$f":"IF(AZ152=\"Ja\",'Q_del,j en Q_del,dh'!$D101,0)","v":0},{"$f":"IF(BA152=\"Ja\",'Q_del,j en Q_del,dh'!$D101,0)","v":0}]
["Qdel,l,j [MJ]","warmtevrager 95",95,{"$f":"IF(D153=\"Ja\",'Q_del,j en Q_del,dh'!$D102,0)","v":0},{"$f":"IF(E153=\"Ja\",'Q_del,j en Q_del,dh'!$D102,0)","v":0},{"$f":"IF(F153=\"Ja\",'Q_del,j en Q_del,dh'!$D102,0)","v":0},{"$f":"IF(G153=\"Ja\",'Q_del,j en Q_del,dh'!$D102,0)","v":0},{"$f":"IF(H153=\"Ja\",'Q_del,j en Q_del,dh'!$D102,0)","v":0},{"$f":"IF(I153=\"Ja\",'Q_del,j en Q_del,dh'!$D102,0)","v":0},{"$f":"IF(J153=\"Ja\",'Q_del,j en Q_del,dh'!$D102,0)","v":0},{"$f":"IF(K153=\"Ja\",'Q_del,j en Q_del,dh'!$D102,0)","v":0},{"$f":"IF(L153=\"Ja\",'Q_del,j en Q_del,dh'!$D102,0)","v":0},{"$f":"IF(M153=\"Ja\",'Q_del,j en Q_del,dh'!$D102,0)","v":0},{"$f":"IF(N153=\"Ja\",'Q_del,j en Q_del,dh'!$D102,0)","v":0},{"$f":"IF(O153=\"Ja\",'Q_del,j en Q_del,dh'!$D102,0)","v":0},{"$f":"IF(P153=\"Ja\",'Q_del,j en Q_del,dh'!$D102,0)","v":0},{"$f":"IF(Q153=\"Ja\",'Q_del,j en Q_del,dh'!$D102,0)","v":0},{"$f":"IF(R153=\"Ja\",'Q_del,j en Q_del,dh'!$D102,0)","v":0},{"$f":"IF(S153=\"Ja\",'Q_del,j en Q_del,dh'!$D102,0)","v":0},{"$f":"IF(T153=\"Ja\",'Q_del,j en Q_del,dh'!$D102,0)","v":0},{"$f":"IF(U153=\"Ja\",'Q_del,j en Q_del,dh'!$D102,0)","v":0},{"$f":"IF(V153=\"Ja\",'Q_del,j en Q_del,dh'!$D102,0)","v":0},{"$f":"IF(W153=\"Ja\",'Q_del,j en Q_del,dh'!$D102,0)","v":0},{"$f":"IF(X153=\"Ja\",'Q_del,j en Q_del,dh'!$D102,0)","v":0},{"$f":"IF(Y153=\"Ja\",'Q_del,j en Q_del,dh'!$D102,0)","v":0},{"$f":"IF(Z153=\"Ja\",'Q_del,j en Q_del,dh'!$D102,0)","v":0},{"$f":"IF(AA153=\"Ja\",'Q_del,j en Q_del,dh'!$D102,0)","v":0},{"$f":"IF(AB153=\"Ja\",'Q_del,j en Q_del,dh'!$D102,0)","v":0},{"$f":"IF(AC153=\"Ja\",'Q_del,j en Q_del,dh'!$D102,0)","v":0},{"$f":"IF(AD153=\"Ja\",'Q_del,j en Q_del,dh'!$D102,0)","v":0},{"$f":"IF(AE153=\"Ja\",'Q_del,j en Q_del,dh'!$D102,0)","v":0},{"$f":"IF(AF153=\"Ja\",'Q_del,j en Q_del,dh'!$D102,0)","v":0},{"$f":"IF(AG153=\"Ja\",'Q_del,j en Q_del,dh'!$D102,0)","v":0},{"$f":"IF(AH153=\"Ja\",'Q_del,j en Q_del,dh'!$D102,0)","v":0},{"$f":"IF(AI153=\"Ja\",'Q_del,j en Q_del,dh'!$D102,0)","v":0},{"$f":"IF(AJ153=\"Ja\",'Q_del,j en Q_del,dh'!$D102,0)","v":0},{"$f":"IF(AK153=\"Ja\",'Q_del,j en Q_del,dh'!$D102,0)","v":0},{"$f":"IF(AL153=\"Ja\",'Q_del,j en Q_del,dh'!$D102,0)","v":0},{"$f":"IF(AM153=\"Ja\",'Q_del,j en Q_del,dh'!$D102,0)","v":0},{"$f":"IF(AN153=\"Ja\",'Q_del,j en Q_del,dh'!$D102,0)","v":0},{"$f":"IF(AO153=\"Ja\",'Q_del,j en Q_del,dh'!$D102,0)","v":0},{"$f":"IF(AP153=\"Ja\",'Q_del,j en Q_del,dh'!$D102,0)","v":0},{"$f":"IF(AQ153=\"Ja\",'Q_del,j en Q_del,dh'!$D102,0)","v":0},{"$f":"IF(AR153=\"Ja\",'Q_del,j en Q_del,dh'!$D102,0)","v":0},{"$f":"IF(AS153=\"Ja\",'Q_del,j en Q_del,dh'!$D102,0)","v":0},{"$f":"IF(AT153=\"Ja\",'Q_del,j en Q_del,dh'!$D102,0)","v":0},{"$f":"IF(AU153=\"Ja\",'Q_del,j en Q_del,dh'!$D102,0)","v":0},{"$f":"IF(AV153=\"Ja\",'Q_del,j en Q_del,dh'!$D102,0)","v":0},{"$f":"IF(AW153=\"Ja\",'Q_del,j en Q_del,dh'!$D102,0)","v":0},{"$f":"IF(AX153=\"Ja\",'Q_del,j en Q_del,dh'!$D102,0)","v":0},{"$f":"IF(AY153=\"Ja\",'Q_del,j en Q_del,dh'!$D102,0)","v":0},{"$f":"IF(AZ153=\"Ja\",'Q_del,j en Q_del,dh'!$D102,0)","v":0},{"$f":"IF(BA153=\"Ja\",'Q_del,j en Q_del,dh'!$D102,0)","v":0}]
["Qdel,l,j [MJ]","warmtevrager 96",96,{"$f":"IF(D154=\"Ja\",'Q_del,j en Q_del,dh'!$D103,0)","v":0},{"$f":"IF(E154=\"Ja\",'Q_del,j en Q_del,dh'!$D103,0)","v":0},{"$f":"IF(F154=\"Ja\",'Q_del,j en Q_del,dh'!$D103,0)","v":0},{"$f":"IF(G154=\"Ja\",'Q_del,j en Q_del,dh'!$D103,0)","v":0},{"$f":"IF(H154=\"Ja\",'Q_del,j en Q_del,dh'!$D103,0)","v":0},{"$f":"IF(I154=\"Ja\",'Q_del,j en Q_del,dh'!$D103,0)","v":0},{"$f":"IF(J154=\"Ja\",'Q_del,j en Q_del,dh'!$D103,0)","v":0},{"$f":"IF(K154=\"Ja\",'Q_del,j en Q_del,dh'!$D103,0)","v":0},{"$f":"IF(L154=\"Ja\",'Q_del,j en Q_del,dh'!$D103,0)","v":0},{"$f":"IF(M154=\"Ja\",'Q_del,j en Q_del,dh'!$D103,0)","v":0},{"$f":"IF(N154=\"Ja\",'Q_del,j en Q_del,dh'!$D103,0)","v":0},{"$f":"IF(O154=\"Ja\",'Q_del,j en Q_del,dh'!$D103,0)","v":0},{"$f":"IF(P154=\"Ja\",'Q_del,j en Q_del,dh'!$D103,0)","v":0},{"$f":"IF(Q154=\"Ja\",'Q_del,j en Q_del,dh'!$D103,0)","v":0},{"$f":"IF(R154=\"Ja\",'Q_del,j en Q_del,dh'!$D103,0)","v":0},{"$f":"IF(S154=\"Ja\",'Q_del,j en Q_del,dh'!$D103,0)","v":0},{"$f":"IF(T154=\"Ja\",'Q_del,j en Q_del,dh'!$D103,0)","v":0},{"$f":"IF(U154=\"Ja\",'Q_del,j en Q_del,dh'!$D103,0)","v":0},{"$f":"IF(V154=\"Ja\",'Q_del,j en Q_del,dh'!$D103,0)","v":0},{"$f":"IF(W154=\"Ja\",'Q_del,j en Q_del,dh'!$D103,0)","v":0},{"$f":"IF(X154=\"Ja\",'Q_del,j en Q_del,dh'!$D103,0)","v":0},{"$f":"IF(Y154=\"Ja\",'Q_del,j en Q_del,dh'!$D103,0)","v":0},{"$f":"IF(Z154=\"Ja\",'Q_del,j en Q_del,dh'!$D103,0)","v":0},{"$f":"IF(AA154=\"Ja\",'Q_del,j en Q_del,dh'!$D103,0)","v":0},{"$f":"IF(AB154=\"Ja\",'Q_del,j en Q_del,dh'!$D103,0)","v":0},{"$f":"IF(AC154=\"Ja\",'Q_del,j en Q_del,dh'!$D103,0)","v":0},{"$f":"IF(AD154=\"Ja\",'Q_del,j en Q_del,dh'!$D103,0)","v":0},{"$f":"IF(AE154=\"Ja\",'Q_del,j en Q_del,dh'!$D103,0)","v":0},{"$f":"IF(AF154=\"Ja\",'Q_del,j en Q_del,dh'!$D103,0)","v":0},{"$f":"IF(AG154=\"Ja\",'Q_del,j en Q_del,dh'!$D103,0)","v":0},{"$f":"IF(AH154=\"Ja\",'Q_del,j en Q_del,dh'!$D103,0)","v":0},{"$f":"IF(AI154=\"Ja\",'Q_del,j en Q_del,dh'!$D103,0)","v":0},{"$f":"IF(AJ154=\"Ja\",'Q_del,j en Q_del,dh'!$D103,0)","v":0},{"$f":"IF(AK154=\"Ja\",'Q_del,j en Q_del,dh'!$D103,0)","v":0},{"$f":"IF(AL154=\"Ja\",'Q_del,j en Q_del,dh'!$D103,0)","v":0},{"$f":"IF(AM154=\"Ja\",'Q_del,j en Q_del,dh'!$D103,0)","v":0},{"$f":"IF(AN154=\"Ja\",'Q_del,j en Q_del,dh'!$D103,0)","v":0},{"$f":"IF(AO154=\"Ja\",'Q_del,j en Q_del,dh'!$D103,0)","v":0},{"$f":"IF(AP154=\"Ja\",'Q_del,j en Q_del,dh'!$D103,0)","v":0},{"$f":"IF(AQ154=\"Ja\",'Q_del,j en Q_del,dh'!$D103,0)","v":0},{"$f":"IF(AR154=\"Ja\",'Q_del,j en Q_del,dh'!$D103,0)","v":0},{"$f":"IF(AS154=\"Ja\",'Q_del,j en Q_del,dh'!$D103,0)","v":0},{"$f":"IF(AT154=\"Ja\",'Q_del,j en Q_del,dh'!$D103,0)","v":0},{"$f":"IF(AU154=\"Ja\",'Q_del,j en Q_del,dh'!$D103,0)","v":0},{"$f":"IF(AV154=\"Ja\",'Q_del,j en Q_del,dh'!$D103,0)","v":0},{"$f":"IF(AW154=\"Ja\",'Q_del,j en Q_del,dh'!$D103,0)","v":0},{"$f":"IF(AX154=\"Ja\",'Q_del,j en Q_del,dh'!$D103,0)","v":0},{"$f":"IF(AY154=\"Ja\",'Q_del,j en Q_del,dh'!$D103,0)","v":0},{"$f":"IF(AZ154=\"Ja\",'Q_del,j en Q_del,dh'!$D103,0)","v":0},{"$f":"IF(BA154=\"Ja\",'Q_del,j en Q_del,dh'!$D103,0)","v":0}]
["Qdel,l,j [MJ]","warmtevrager 97",97,{"$f":"IF(D155=\"Ja\",'Q_del,j en Q_del,dh'!$D104,0)","v":0},{"$f":"IF(E155=\"Ja\",'Q_del,j en Q_del,dh'!$D104,0)","v":0},{"$f":"IF(F155=\"Ja\",'Q_del,j en Q_del,dh'!$D104,0)","v":0},{"$f":"IF(G155=\"Ja\",'Q_del,j en Q_del,dh'!$D104,0)","v":0},{"$f":"IF(H155=\"Ja\",'Q_del,j en Q_del,dh'!$D104,0)","v":0},{"$f":"IF(I155=\"Ja\",'Q_del,j en Q_del,dh'!$D104,0)","v":0},{"$f":"IF(J155=\"Ja\",'Q_del,j en Q_del,dh'!$D104,0)","v":0},{"$f":"IF(K155=\"Ja\",'Q_del,j en Q_del,dh'!$D104,0)","v":0},{"$f":"IF(L155=\"Ja\",'Q_del,j en Q_del,dh'!$D104,0)","v":0},{"$f":"IF(M155=\"Ja\",'Q_del,j en Q_del,dh'!$D104,0)","v":0},{"$f":"IF(N155=\"Ja\",'Q_del,j en Q_del,dh'!$D104,0)","v":0},{"$f":"IF(O155=\"Ja\",'Q_del,j en Q_del,dh'!$D104,0)","v":0},{"$f":"IF(P155=\"Ja\",'Q_del,j en Q_del,dh'!$D104,0)","v":0},{"$f":"IF(Q155=\"Ja\",'Q_del,j en Q_del,dh'!$D104,0)","v":0},{"$f":"IF(R155=\"Ja\",'Q_del,j en Q_del,dh'!$D104,0)","v":0},{"$f":"IF(S155=\"Ja\",'Q_del,j en Q_del,dh'!$D104,0)","v":0},{"$f":"IF(T155=\"Ja\",'Q_del,j en Q_del,dh'!$D104,0)","v":0},{"$f":"IF(U155=\"Ja\",'Q_del,j en Q_del,dh'!$D104,0)","v":0},{"$f":"IF(V155=\"Ja\",'Q_del,j en Q_del,dh'!$D104,0)","v":0},{"$f":"IF(W155=\"Ja\",'Q_del,j en Q_del,dh'!$D104,0)","v":0},{"$f":"IF(X155=\"Ja\",'Q_del,j en Q_del,dh'!$D104,0)","v":0},{"$f":"IF(Y155=\"Ja\",'Q_del,j en Q_del,dh'!$D104,0)","v":0},{"$f":"IF(Z155=\"Ja\",'Q_del,j en Q_del,dh'!$D104,0)","v":0},{"$f":"IF(AA155=\"Ja\",'Q_del,j en Q_del,dh'!$D104,0)","v":0},{"$f":"IF(AB155=\"Ja\",'Q_del,j en Q_del,dh'!$D104,0)","v":0},{"$f":"IF(AC155=\"Ja\",'Q_del,j en Q_del,dh'!$D104,0)","v":0},{"$f":"IF(AD155=\"Ja\",'Q_del,j en Q_del,dh'!$D104,0)","v":0},{"$f":"IF(AE155=\"Ja\",'Q_del,j en Q_del,dh'!$D104,0)","v":0},{"$f":"IF(AF155=\"Ja\",'Q_del,j en Q_del,dh'!$D104,0)","v":0},{"$f":"IF(AG155=\"Ja\",'Q_del,j en Q_del,dh'!$D104,0)","v":0},{"$f":"IF(AH155=\"Ja\",'Q_del,j en Q_del,dh'!$D104,0)","v":0},{"$f":"IF(AI155=\"Ja\",'Q_del,j en Q_del,dh'!$D104,0)","v":0},{"$f":"IF(AJ155=\"Ja\",'Q_del,j en Q_del,dh'!$D104,0)","v":0},{"$f":"IF(AK155=\"Ja\",'Q_del,j en Q_del,dh'!$D104,0)","v":0},{"$f":"IF(AL155=\"Ja\",'Q_del,j en Q_del,dh'!$D104,0)","v":0},{"$f":"IF(AM155=\"Ja\",'Q_del,j en Q_del,dh'!$D104,0)","v":0},{"$f":"IF(AN155=\"Ja\",'Q_del,j en Q_del,dh'!$D104,0)","v":0},{"$f":"IF(AO155=\"Ja\",'Q_del,j en Q_del,dh'!$D104,0)","v":0},{"$f":"IF(AP155=\"Ja\",'Q_del,j en Q_del,dh'!$D104,0)","v":0},{"$f":"IF(AQ155=\"Ja\",'Q_del,j en Q_del,dh'!$D104,0)","v":0},{"$f":"IF(AR155=\"Ja\",'Q_del,j en Q_del,dh'!$D104,0)","v":0},{"$f":"IF(AS155=\"Ja\",'Q_del,j en Q_del,dh'!$D104,0)","v":0},{"$f":"IF(AT155=\"Ja\",'Q_del,j en Q_del,dh'!$D104,0)","v":0},{"$f":"IF(AU155=\"Ja\",'Q_del,j en Q_del,dh'!$D104,0)","v":0},{"$f":"IF(AV155=\"Ja\",'Q_del,j en Q_del,dh'!$D104,0)","v":0},{"$f":"IF(AW155=\"Ja\",'Q_del,j en Q_del,dh'!$D104,0)","v":0},{"$f":"IF(AX155=\"Ja\",'Q_del,j en Q_del,dh'!$D104,0)","v":0},{"$f":"IF(AY155=\"Ja\",'Q_del,j en Q_del,dh'!$D104,0)","v":0},{"$f":"IF(AZ155=\"Ja\",'Q_del,j en Q_del,dh'!$D104,0)","v":0},{"$f":"IF(BA155=\"Ja\",'Q_del,j en Q_del,dh'!$D104,0)","v":0}]
["Qdel,l,j [MJ]","warmtevrager 98",98,{"$f":"IF(D156=\"Ja\",'Q_del,j en Q_del,dh'!$D105,0)","v":0},{"$f":"IF(E156=\"Ja\",'Q_del,j en Q_del,dh'!$D105,0)","v":0},{"$f":"IF(F156=\"Ja\",'Q_del,j en Q_del,dh'!$D105,0)","v":0},{"$f":"IF(G156=\"Ja\",'Q_del,j en Q_del,dh'!$D105,0)","v":0},{"$f":"IF(H156=\"Ja\",'Q_del,j en Q_del,dh'!$D105,0)","v":0},{"$f":"IF(I156=\"Ja\",'Q_del,j en Q_del,dh'!$D105,0)","v":0},{"$f":"IF(J156=\"Ja\",'Q_del,j en Q_del,dh'!$D105,0)","v":0},{"$f":"IF(K156=\"Ja\",'Q_del,j en Q_del,dh'!$D105,0)","v":0},{"$f":"IF(L156=\"Ja\",'Q_del,j en Q_del,dh'!$D105,0)","v":0},{"$f":"IF(M156=\"Ja\",'Q_del,j en Q_del,dh'!$D105,0)","v":0},{"$f":"IF(N156=\"Ja\",'Q_del,j en Q_del,dh'!$D105,0)","v":0},{"$f":"IF(O156=\"Ja\",'Q_del,j en Q_del,dh'!$D105,0)","v":0},{"$f":"IF(P156=\"Ja\",'Q_del,j en Q_del,dh'!$D105,0)","v":0},{"$f":"IF(Q156=\"Ja\",'Q_del,j en Q_del,dh'!$D105,0)","v":0},{"$f":"IF(R156=\"Ja\",'Q_del,j en Q_del,dh'!$D105,0)","v":0},{"$f":"IF(S156=\"Ja\",'Q_del,j en Q_del,dh'!$D105,0)","v":0},{"$f":"IF(T156=\"Ja\",'Q_del,j en Q_del,dh'!$D105,0)","v":0},{"$f":"IF(U156=\"Ja\",'Q_del,j en Q_del,dh'!$D105,0)","v":0},{"$f":"IF(V156=\"Ja\",'Q_del,j en Q_del,dh'!$D105,0)","v":0},{"$f":"IF(W156=\"Ja\",'Q_del,j en Q_del,dh'!$D105,0)","v":0},{"$f":"IF(X156=\"Ja\",'Q_del,j en Q_del,dh'!$D105,0)","v":0},{"$f":"IF(Y156=\"Ja\",'Q_del,j en Q_del,dh'!$D105,0)","v":0},{"$f":"IF(Z156=\"Ja\",'Q_del,j en Q_del,dh'!$D105,0)","v":0},{"$f":"IF(AA156=\"Ja\",'Q_del,j en Q_del,dh'!$D105,0)","v":0},{"$f":"IF(AB156=\"Ja\",'Q_del,j en Q_del,dh'!$D105,0)","v":0},{"$f":"IF(AC156=\"Ja\",'Q_del,j en Q_del,dh'!$D105,0)","v":0},{"$f":"IF(AD156=\"Ja\",'Q_del,j en Q_del,dh'!$D105,0)","v":0},{"$f":"IF(AE156=\"Ja\",'Q_del,j en Q_del,dh'!$D105,0)","v":0},{"$f":"IF(AF156=\"Ja\",'Q_del,j en Q_del,dh'!$D105,0)","v":0},{"$f":"IF(AG156=\"Ja\",'Q_del,j en Q_del,dh'!$D105,0)","v":0},{"$f":"IF(AH156=\"Ja\",'Q_del,j en Q_del,dh'!$D105,0)","v":0},{"$f":"IF(AI156=\"Ja\",'Q_del,j en Q_del,dh'!$D105,0)","v":0},{"$f":"IF(AJ156=\"Ja\",'Q_del,j en Q_del,dh'!$D105,0)","v":0},{"$f":"IF(AK156=\"Ja\",'Q_del,j en Q_del,dh'!$D105,0)","v":0},{"$f":"IF(AL156=\"Ja\",'Q_del,j en Q_del,dh'!$D105,0)","v":0},{"$f":"IF(AM156=\"Ja\",'Q_del,j en Q_del,dh'!$D105,0)","v":0},{"$f":"IF(AN156=\"Ja\",'Q_del,j en Q_del,dh'!$D105,0)","v":0},{"$f":"IF(AO156=\"Ja\",'Q_del,j en Q_del,dh'!$D105,0)","v":0},{"$f":"IF(AP156=\"Ja\",'Q_del,j en Q_del,dh'!$D105,0)","v":0},{"$f":"IF(AQ156=\"Ja\",'Q_del,j en Q_del,dh'!$D105,0)","v":0},{"$f":"IF(AR156=\"Ja\",'Q_del,j en Q_del,dh'!$D105,0)","v":0},{"$f":"IF(AS156=\"Ja\",'Q_del,j en Q_del,dh'!$D105,0)","v":0},{"$f":"IF(AT156=\"Ja\",'Q_del,j en Q_del,dh'!$D105,0)","v":0},{"$f":"IF(AU156=\"Ja\",'Q_del,j en Q_del,dh'!$D105,0)","v":0},{"$f":"IF(AV156=\"Ja\",'Q_del,j en Q_del,dh'!$D105,0)","v":0},{"$f":"IF(AW156=\"Ja\",'Q_del,j en Q_del,dh'!$D105,0)","v":0},{"$f":"IF(AX156=\"Ja\",'Q_del,j en Q_del,dh'!$D105,0)","v":0},{"$f":"IF(AY156=\"Ja\",'Q_del,j en Q_del,dh'!$D105,0)","v":0},{"$f":"IF(AZ156=\"Ja\",'Q_del,j en Q_del,dh'!$D105,0)","v":0},{"$f":"IF(BA156=\"Ja\",'Q_del,j en Q_del,dh'!$D105,0)","v":0}]
["Qdel,l,j [MJ]","warmtevrager 99",99,{"$f":"IF(D157=\"Ja\",'Q_del,j en Q_del,dh'!$D106,0)","v":0},{"$f":"IF(E157=\"Ja\",'Q_del,j en Q_del,dh'!$D106,0)","v":0},{"$f":"IF(F157=\"Ja\",'Q_del,j en Q_del,dh'!$D106,0)","v":0},{"$f":"IF(G157=\"Ja\",'Q_del,j en Q_del,dh'!$D106,0)","v":0},{"$f":"IF(H157=\"Ja\",'Q_del,j en Q_del,dh'!$D106,0)","v":0},{"$f":"IF(I157=\"Ja\",'Q_del,j en Q_del,dh'!$D106,0)","v":0},{"$f":"IF(J157=\"Ja\",'Q_del,j en Q_del,dh'!$D106,0)","v":0},{"$f":"IF(K157=\"Ja\",'Q_del,j en Q_del,dh'!$D106,0)","v":0},{"$f":"IF(L157=\"Ja\",'Q_del,j en Q_del,dh'!$D106,0)","v":0},{"$f":"IF(M157=\"Ja\",'Q_del,j en Q_del,dh'!$D106,0)","v":0},{"$f":"IF(N157=\"Ja\",'Q_del,j en Q_del,dh'!$D106,0)","v":0},{"$f":"IF(O157=\"Ja\",'Q_del,j en Q_del,dh'!$D106,0)","v":0},{"$f":"IF(P157=\"Ja\",'Q_del,j en Q_del,dh'!$D106,0)","v":0},{"$f":"IF(Q157=\"Ja\",'Q_del,j en Q_del,dh'!$D106,0)","v":0},{"$f":"IF(R157=\"Ja\",'Q_del,j en Q_del,dh'!$D106,0)","v":0},{"$f":"IF(S157=\"Ja\",'Q_del,j en Q_del,dh'!$D106,0)","v":0},{"$f":"IF(T157=\"Ja\",'Q_del,j en Q_del,dh'!$D106,0)","v":0},{"$f":"IF(U157=\"Ja\",'Q_del,j en Q_del,dh'!$D106,0)","v":0},{"$f":"IF(V157=\"Ja\",'Q_del,j en Q_del,dh'!$D106,0)","v":0},{"$f":"IF(W157=\"Ja\",'Q_del,j en Q_del,dh'!$D106,0)","v":0},{"$f":"IF(X157=\"Ja\",'Q_del,j en Q_del,dh'!$D106,0)","v":0},{"$f":"IF(Y157=\"Ja\",'Q_del,j en Q_del,dh'!$D106,0)","v":0},{"$f":"IF(Z157=\"Ja\",'Q_del,j en Q_del,dh'!$D106,0)","v":0},{"$f":"IF(AA157=\"Ja\",'Q_del,j en Q_del,dh'!$D106,0)","v":0},{"$f":"IF(AB157=\"Ja\",'Q_del,j en Q_del,dh'!$D106,0)","v":0},{"$f":"IF(AC157=\"Ja\",'Q_del,j en Q_del,dh'!$D106,0)","v":0},{"$f":"IF(AD157=\"Ja\",'Q_del,j en Q_del,dh'!$D106,0)","v":0},{"$f":"IF(AE157=\"Ja\",'Q_del,j en Q_del,dh'!$D106,0)","v":0},{"$f":"IF(AF157=\"Ja\",'Q_del,j en Q_del,dh'!$D106,0)","v":0},{"$f":"IF(AG157=\"Ja\",'Q_del,j en Q_del,dh'!$D106,0)","v":0},{"$f":"IF(AH157=\"Ja\",'Q_del,j en Q_del,dh'!$D106,0)","v":0},{"$f":"IF(AI157=\"Ja\",'Q_del,j en Q_del,dh'!$D106,0)","v":0},{"$f":"IF(AJ157=\"Ja\",'Q_del,j en Q_del,dh'!$D106,0)","v":0},{"$f":"IF(AK157=\"Ja\",'Q_del,j en Q_del,dh'!$D106,0)","v":0},{"$f":"IF(AL157=\"Ja\",'Q_del,j en Q_del,dh'!$D106,0)","v":0},{"$f":"IF(AM157=\"Ja\",'Q_del,j en Q_del,dh'!$D106,0)","v":0},{"$f":"IF(AN157=\"Ja\",'Q_del,j en Q_del,dh'!$D106,0)","v":0},{"$f":"IF(AO157=\"Ja\",'Q_del,j en Q_del,dh'!$D106,0)","v":0},{"$f":"IF(AP157=\"Ja\",'Q_del,j en Q_del,dh'!$D106,0)","v":0},{"$f":"IF(AQ157=\"Ja\",'Q_del,j en Q_del,dh'!$D106,0)","v":0},{"$f":"IF(AR157=\"Ja\",'Q_del,j en Q_del,dh'!$D106,0)","v":0},{"$f":"IF(AS157=\"Ja\",'Q_del,j en Q_del,dh'!$D106,0)","v":0},{"$f":"IF(AT157=\"Ja\",'Q_del,j en Q_del,dh'!$D106,0)","v":0},{"$f":"IF(AU157=\"Ja\",'Q_del,j en Q_del,dh'!$D106,0)","v":0},{"$f":"IF(AV157=\"Ja\",'Q_del,j en Q_del,dh'!$D106,0)","v":0},{"$f":"IF(AW157=\"Ja\",'Q_del,j en Q_del,dh'!$D106,0)","v":0},{"$f":"IF(AX157=\"Ja\",'Q_del,j en Q_del,dh'!$D106,0)","v":0},{"$f":"IF(AY157=\"Ja\",'Q_del,j en Q_del,dh'!$D106,0)","v":0},{"$f":"IF(AZ157=\"Ja\",'Q_del,j en Q_del,dh'!$D106,0)","v":0},{"$f":"IF(BA157=\"Ja\",'Q_del,j en Q_del,dh'!$D106,0)","v":0}]
["Qdel,l,j [MJ]","warmtevrager 100",100,{"$f":"IF(D158=\"Ja\",'Q_del,j en Q_del,dh'!$D107,0)","v":0},{"$f":"IF(E158=\"Ja\",'Q_del,j en Q_del,dh'!$D107,0)","v":0},{"$f":"IF(F158=\"Ja\",'Q_del,j en Q_del,dh'!$D107,0)","v":0},{"$f":"IF(G158=\"Ja\",'Q_del,j en Q_del,dh'!$D107,0)","v":0},{"$f":"IF(H158=\"Ja\",'Q_del,j en Q_del,dh'!$D107,0)","v":0},{"$f":"IF(I158=\"Ja\",'Q_del,j en Q_del,dh'!$D107,0)","v":0},{"$f":"IF(J158=\"Ja\",'Q_del,j en Q_del,dh'!$D107,0)","v":0},{"$f":"IF(K158=\"Ja\",'Q_del,j en Q_del,dh'!$D107,0)","v":0},{"$f":"IF(L158=\"Ja\",'Q_del,j en Q_del,dh'!$D107,0)","v":0},{"$f":"IF(M158=\"Ja\",'Q_del,j en Q_del,dh'!$D107,0)","v":0},{"$f":"IF(N158=\"Ja\",'Q_del,j en Q_del,dh'!$D107,0)","v":0},{"$f":"IF(O158=\"Ja\",'Q_del,j en Q_del,dh'!$D107,0)","v":0},{"$f":"IF(P158=\"Ja\",'Q_del,j en Q_del,dh'!$D107,0)","v":0},{"$f":"IF(Q158=\"Ja\",'Q_del,j en Q_del,dh'!$D107,0)","v":0},{"$f":"IF(R158=\"Ja\",'Q_del,j en Q_del,dh'!$D107,0)","v":0},{"$f":"IF(S158=\"Ja\",'Q_del,j en Q_del,dh'!$D107,0)","v":0},{"$f":"IF(T158=\"Ja\",'Q_del,j en Q_del,dh'!$D107,0)","v":0},{"$f":"IF(U158=\"Ja\",'Q_del,j en Q_del,dh'!$D107,0)","v":0},{"$f":"IF(V158=\"Ja\",'Q_del,j en Q_del,dh'!$D107,0)","v":0},{"$f":"IF(W158=\"Ja\",'Q_del,j en Q_del,dh'!$D107,0)","v":0},{"$f":"IF(X158=\"Ja\",'Q_del,j en Q_del,dh'!$D107,0)","v":0},{"$f":"IF(Y158=\"Ja\",'Q_del,j en Q_del,dh'!$D107,0)","v":0},{"$f":"IF(Z158=\"Ja\",'Q_del,j en Q_del,dh'!$D107,0)","v":0},{"$f":"IF(AA158=\"Ja\",'Q_del,j en Q_del,dh'!$D107,0)","v":0},{"$f":"IF(AB158=\"Ja\",'Q_del,j en Q_del,dh'!$D107,0)","v":0},{"$f":"IF(AC158=\"Ja\",'Q_del,j en Q_del,dh'!$D107,0)","v":0},{"$f":"IF(AD158=\"Ja\",'Q_del,j en Q_del,dh'!$D107,0)","v":0},{"$f":"IF(AE158=\"Ja\",'Q_del,j en Q_del,dh'!$D107,0)","v":0},{"$f":"IF(AF158=\"Ja\",'Q_del,j en Q_del,dh'!$D107,0)","v":0},{"$f":"IF(AG158=\"Ja\",'Q_del,j en Q_del,dh'!$D107,0)","v":0},{"$f":"IF(AH158=\"Ja\",'Q_del,j en Q_del,dh'!$D107,0)","v":0},{"$f":"IF(AI158=\"Ja\",'Q_del,j en Q_del,dh'!$D107,0)","v":0},{"$f":"IF(AJ158=\"Ja\",'Q_del,j en Q_del,dh'!$D107,0)","v":0},{"$f":"IF(AK158=\"Ja\",'Q_del,j en Q_del,dh'!$D107,0)","v":0},{"$f":"IF(AL158=\"Ja\",'Q_del,j en Q_del,dh'!$D107,0)","v":0},{"$f":"IF(AM158=\"Ja\",'Q_del,j en Q_del,dh'!$D107,0)","v":0},{"$f":"IF(AN158=\"Ja\",'Q_del,j en Q_del,dh'!$D107,0)","v":0},{"$f":"IF(AO158=\"Ja\",'Q_del,j en Q_del,dh'!$D107,0)","v":0},{"$f":"IF(AP158=\"Ja\",'Q_del,j en Q_del,dh'!$D107,0)","v":0},{"$f":"IF(AQ158=\"Ja\",'Q_del,j en Q_del,dh'!$D107,0)","v":0},{"$f":"IF(AR158=\"Ja\",'Q_del,j en Q_del,dh'!$D107,0)","v":0},{"$f":"IF(AS158=\"Ja\",'Q_del,j en Q_del,dh'!$D107,0)","v":0},{"$f":"IF(AT158=\"Ja\",'Q_del,j en Q_del,dh'!$D107,0)","v":0},{"$f":"IF(AU158=\"Ja\",'Q_del,j en Q_del,dh'!$D107,0)","v":0},{"$f":"IF(AV158=\"Ja\",'Q_del,j en Q_del,dh'!$D107,0)","v":0},{"$f":"IF(AW158=\"Ja\",'Q_del,j en Q_del,dh'!$D107,0)","v":0},{"$f":"IF(AX158=\"Ja\",'Q_del,j en Q_del,dh'!$D107,0)","v":0},{"$f":"IF(AY158=\"Ja\",'Q_del,j en Q_del,dh'!$D107,0)","v":0},{"$f":"IF(AZ158=\"Ja\",'Q_del,j en Q_del,dh'!$D107,0)","v":0},{"$f":"IF(BA158=\"Ja\",'Q_del,j en Q_del,dh'!$D107,0)","v":0}]
["Qdel,l,j [MJ]","warmtevrager 101",101,{"$f":"IF(D159=\"Ja\",'Q_del,j en Q_del,dh'!$D108,0)","v":0},{"$f":"IF(E159=\"Ja\",'Q_del,j en Q_del,dh'!$D108,0)","v":0},{"$f":"IF(F159=\"Ja\",'Q_del,j en Q_del,dh'!$D108,0)","v":0},{"$f":"IF(G159=\"Ja\",'Q_del,j en Q_del,dh'!$D108,0)","v":0},{"$f":"IF(H159=\"Ja\",'Q_del,j en Q_del,dh'!$D108,0)","v":0},{"$f":"IF(I159=\"Ja\",'Q_del,j en Q_del,dh'!$D108,0)","v":0},{"$f":"IF(J159=\"Ja\",'Q_del,j en Q_del,dh'!$D108,0)","v":0},{"$f":"IF(K159=\"Ja\",'Q_del,j en Q_del,dh'!$D108,0)","v":0},{"$f":"IF(L159=\"Ja\",'Q_del,j en Q_del,dh'!$D108,0)","v":0},{"$f":"IF(M159=\"Ja\",'Q_del,j en Q_del,dh'!$D108,0)","v":0},{"$f":"IF(N159=\"Ja\",'Q_del,j en Q_del,dh'!$D108,0)","v":0},{"$f":"IF(O159=\"Ja\",'Q_del,j en Q_del,dh'!$D108,0)","v":0},{"$f":"IF(P159=\"Ja\",'Q_del,j en Q_del,dh'!$D108,0)","v":0},{"$f":"IF(Q159=\"Ja\",'Q_del,j en Q_del,dh'!$D108,0)","v":0},{"$f":"IF(R159=\"Ja\",'Q_del,j en Q_del,dh'!$D108,0)","v":0},{"$f":"IF(S159=\"Ja\",'Q_del,j en Q_del,dh'!$D108,0)","v":0},{"$f":"IF(T159=\"Ja\",'Q_del,j en Q_del,dh'!$D108,0)","v":0},{"$f":"IF(U159=\"Ja\",'Q_del,j en Q_del,dh'!$D108,0)","v":0},{"$f":"IF(V159=\"Ja\",'Q_del,j en Q_del,dh'!$D108,0)","v":0},{"$f":"IF(W159=\"Ja\",'Q_del,j en Q_del,dh'!$D108,0)","v":0},{"$f":"IF(X159=\"Ja\",'Q_del,j en Q_del,dh'!$D108,0)","v":0},{"$f":"IF(Y159=\"Ja\",'Q_del,j en Q_del,dh'!$D108,0)","v":0},{"$f":"IF(Z159=\"Ja\",'Q_del,j en Q_del,dh'!$D108,0)","v":0},{"$f":"IF(AA159=\"Ja\",'Q_del,j en Q_del,dh'!$D108,0)","v":0},{"$f":"IF(AB159=\"Ja\",'Q_del,j en Q_del,dh'!$D108,0)","v":0},{"$f":"IF(AC159=\"Ja\",'Q_del,j en Q_del,dh'!$D108,0)","v":0},{"$f":"IF(AD159=\"Ja\",'Q_del,j en Q_del,dh'!$D108,0)","v":0},{"$f":"IF(AE159=\"Ja\",'Q_del,j en Q_del,dh'!$D108,0)","v":0},{"$f":"IF(AF159=\"Ja\",'Q_del,j en Q_del,dh'!$D108,0)","v":0},{"$f":"IF(AG159=\"Ja\",'Q_del,j en Q_del,dh'!$D108,0)","v":0},{"$f":"IF(AH159=\"Ja\",'Q_del,j en Q_del,dh'!$D108,0)","v":0},{"$f":"IF(AI159=\"Ja\",'Q_del,j en Q_del,dh'!$D108,0)","v":0},{"$f":"IF(AJ159=\"Ja\",'Q_del,j en Q_del,dh'!$D108,0)","v":0},{"$f":"IF(AK159=\"Ja\",'Q_del,j en Q_del,dh'!$D108,0)","v":0},{"$f":"IF(AL159=\"Ja\",'Q_del,j en Q_del,dh'!$D108,0)","v":0},{"$f":"IF(AM159=\"Ja\",'Q_del,j en Q_del,dh'!$D108,0)","v":0},{"$f":"IF(AN159=\"Ja\",'Q_del,j en Q_del,dh'!$D108,0)","v":0},{"$f":"IF(AO159=\"Ja\",'Q_del,j en Q_del,dh'!$D108,0)","v":0},{"$f":"IF(AP159=\"Ja\",'Q_del,j en Q_del,dh'!$D108,0)","v":0},{"$f":"IF(AQ159=\"Ja\",'Q_del,j en Q_del,dh'!$D108,0)","v":0},{"$f":"IF(AR159=\"Ja\",'Q_del,j en Q_del,dh'!$D108,0)","v":0},{"$f":"IF(AS159=\"Ja\",'Q_del,j en Q_del,dh'!$D108,0)","v":0},{"$f":"IF(AT159=\"Ja\",'Q_del,j en Q_del,dh'!$D108,0)","v":0},{"$f":"IF(AU159=\"Ja\",'Q_del,j en Q_del,dh'!$D108,0)","v":0},{"$f":"IF(AV159=\"Ja\",'Q_del,j en Q_del,dh'!$D108,0)","v":0},{"$f":"IF(AW159=\"Ja\",'Q_del,j en Q_del,dh'!$D108,0)","v":0},{"$f":"IF(AX159=\"Ja\",'Q_del,j en Q_del,dh'!$D108,0)","v":0},{"$f":"IF(AY159=\"Ja\",'Q_del,j en Q_del,dh'!$D108,0)","v":0},{"$f":"IF(AZ159=\"Ja\",'Q_del,j en Q_del,dh'!$D108,0)","v":0},{"$f":"IF(BA159=\"Ja\",'Q_del,j en Q_del,dh'!$D108,0)","v":0}]
["Qdel,l,j [MJ]","warmtevrager 102",102,{"$f":"IF(D160=\"Ja\",'Q_del,j en Q_del,dh'!$D109,0)","v":0},{"$f":"IF(E160=\"Ja\",'Q_del,j en Q_del,dh'!$D109,0)","v":0},{"$f":"IF(F160=\"Ja\",'Q_del,j en Q_del,dh'!$D109,0)","v":0},{"$f":"IF(G160=\"Ja\",'Q_del,j en Q_del,dh'!$D109,0)","v":0},{"$f":"IF(H160=\"Ja\",'Q_del,j en Q_del,dh'!$D109,0)","v":0},{"$f":"IF(I160=\"Ja\",'Q_del,j en Q_del,dh'!$D109,0)","v":0},{"$f":"IF(J160=\"Ja\",'Q_del,j en Q_del,dh'!$D109,0)","v":0},{"$f":"IF(K160=\"Ja\",'Q_del,j en Q_del,dh'!$D109,0)","v":0},{"$f":"IF(L160=\"Ja\",'Q_del,j en Q_del,dh'!$D109,0)","v":0},{"$f":"IF(M160=\"Ja\",'Q_del,j en Q_del,dh'!$D109,0)","v":0},{"$f":"IF(N160=\"Ja\",'Q_del,j en Q_del,dh'!$D109,0)","v":0},{"$f":"IF(O160=\"Ja\",'Q_del,j en Q_del,dh'!$D109,0)","v":0},{"$f":"IF(P160=\"Ja\",'Q_del,j en Q_del,dh'!$D109,0)","v":0},{"$f":"IF(Q160=\"Ja\",'Q_del,j en Q_del,dh'!$D109,0)","v":0},{"$f":"IF(R160=\"Ja\",'Q_del,j en Q_del,dh'!$D109,0)","v":0},{"$f":"IF(S160=\"Ja\",'Q_del,j en Q_del,dh'!$D109,0)","v":0},{"$f":"IF(T160=\"Ja\",'Q_del,j en Q_del,dh'!$D109,0)","v":0},{"$f":"IF(U160=\"Ja\",'Q_del,j en Q_del,dh'!$D109,0)","v":0},{"$f":"IF(V160=\"Ja\",'Q_del,j en Q_del,dh'!$D109,0)","v":0},{"$f":"IF(W160=\"Ja\",'Q_del,j en Q_del,dh'!$D109,0)","v":0},{"$f":"IF(X160=\"Ja\",'Q_del,j en Q_del,dh'!$D109,0)","v":0},{"$f":"IF(Y160=\"Ja\",'Q_del,j en Q_del,dh'!$D109,0)","v":0},{"$f":"IF(Z160=\"Ja\",'Q_del,j en Q_del,dh'!$D109,0)","v":0},{"$f":"IF(AA160=\"Ja\",'Q_del,j en Q_del,dh'!$D109,0)","v":0},{"$f":"IF(AB160=\"Ja\",'Q_del,j en Q_del,dh'!$D109,0)","v":0},{"$f":"IF(AC160=\"Ja\",'Q_del,j en Q_del,dh'!$D109,0)","v":0},{"$f":"IF(AD160=\"Ja\",'Q_del,j en Q_del,dh'!$D109,0)","v":0},{"$f":"IF(AE160=\"Ja\",'Q_del,j en Q_del,dh'!$D109,0)","v":0},{"$f":"IF(AF160=\"Ja\",'Q_del,j en Q_del,dh'!$D109,0)","v":0},{"$f":"IF(AG160=\"Ja\",'Q_del,j en Q_del,dh'!$D109,0)","v":0},{"$f":"IF(AH160=\"Ja\",'Q_del,j en Q_del,dh'!$D109,0)","v":0},{"$f":"IF(AI160=\"Ja\",'Q_del,j en Q_del,dh'!$D109,0)","v":0},{"$f":"IF(AJ160=\"Ja\",'Q_del,j en Q_del,dh'!$D109,0)","v":0},{"$f":"IF(AK160=\"Ja\",'Q_del,j en Q_del,dh'!$D109,0)","v":0},{"$f":"IF(AL160=\"Ja\",'Q_del,j en Q_del,dh'!$D109,0)","v":0},{"$f":"IF(AM160=\"Ja\",'Q_del,j en Q_del,dh'!$D109,0)","v":0},{"$f":"IF(AN160=\"Ja\",'Q_del,j en Q_del,dh'!$D109,0)","v":0},{"$f":"IF(AO160=\"Ja\",'Q_del,j en Q_del,dh'!$D109,0)","v":0},{"$f":"IF(AP160=\"Ja\",'Q_del,j en Q_del,dh'!$D109,0)","v":0},{"$f":"IF(AQ160=\"Ja\",'Q_del,j en Q_del,dh'!$D109,0)","v":0},{"$f":"IF(AR160=\"Ja\",'Q_del,j en Q_del,dh'!$D109,0)","v":0},{"$f":"IF(AS160=\"Ja\",'Q_del,j en Q_del,dh'!$D109,0)","v":0},{"$f":"IF(AT160=\"Ja\",'Q_del,j en Q_del,dh'!$D109,0)","v":0},{"$f":"IF(AU160=\"Ja\",'Q_del,j en Q_del,dh'!$D109,0)","v":0},{"$f":"IF(AV160=\"Ja\",'Q_del,j en Q_del,dh'!$D109,0)","v":0},{"$f":"IF(AW160=\"Ja\",'Q_del,j en Q_del,dh'!$D109,0)","v":0},{"$f":"IF(AX160=\"Ja\",'Q_del,j en Q_del,dh'!$D109,0)","v":0},{"$f":"IF(AY160=\"Ja\",'Q_del,j en Q_del,dh'!$D109,0)","v":0},{"$f":"IF(AZ160=\"Ja\",'Q_del,j en Q_del,dh'!$D109,0)","v":0},{"$f":"IF(BA160=\"Ja\",'Q_del,j en Q_del,dh'!$D109,0)","v":0}]
["Qdel,l,j [MJ]","warmtevrager 103",103,{"$f":"IF(D161=\"Ja\",'Q_del,j en Q_del,dh'!$D110,0)","v":0},{"$f":"IF(E161=\"Ja\",'Q_del,j en Q_del,dh'!$D110,0)","v":0},{"$f":"IF(F161=\"Ja\",'Q_del,j en Q_del,dh'!$D110,0)","v":0},{"$f":"IF(G161=\"Ja\",'Q_del,j en Q_del,dh'!$D110,0)","v":0},{"$f":"IF(H161=\"Ja\",'Q_del,j en Q_del,dh'!$D110,0)","v":0},{"$f":"IF(I161=\"Ja\",'Q_del,j en Q_del,dh'!$D110,0)","v":0},{"$f":"IF(J161=\"Ja\",'Q_del,j en Q_del,dh'!$D110,0)","v":0},{"$f":"IF(K161=\"Ja\",'Q_del,j en Q_del,dh'!$D110,0)","v":0},{"$f":"IF(L161=\"Ja\",'Q_del,j en Q_del,dh'!$D110,0)","v":0},{"$f":"IF(M161=\"Ja\",'Q_del,j en Q_del,dh'!$D110,0)","v":0},{"$f":"IF(N161=\"Ja\",'Q_del,j en Q_del,dh'!$D110,0)","v":0},{"$f":"IF(O161=\"Ja\",'Q_del,j en Q_del,dh'!$D110,0)","v":0},{"$f":"IF(P161=\"Ja\",'Q_del,j en Q_del,dh'!$D110,0)","v":0},{"$f":"IF(Q161=\"Ja\",'Q_del,j en Q_del,dh'!$D110,0)","v":0},{"$f":"IF(R161=\"Ja\",'Q_del,j en Q_del,dh'!$D110,0)","v":0},{"$f":"IF(S161=\"Ja\",'Q_del,j en Q_del,dh'!$D110,0)","v":0},{"$f":"IF(T161=\"Ja\",'Q_del,j en Q_del,dh'!$D110,0)","v":0},{"$f":"IF(U161=\"Ja\",'Q_del,j en Q_del,dh'!$D110,0)","v":0},{"$f":"IF(V161=\"Ja\",'Q_del,j en Q_del,dh'!$D110,0)","v":0},{"$f":"IF(W161=\"Ja\",'Q_del,j en Q_del,dh'!$D110,0)","v":0},{"$f":"IF(X161=\"Ja\",'Q_del,j en Q_del,dh'!$D110,0)","v":0},{"$f":"IF(Y161=\"Ja\",'Q_del,j en Q_del,dh'!$D110,0)","v":0},{"$f":"IF(Z161=\"Ja\",'Q_del,j en Q_del,dh'!$D110,0)","v":0},{"$f":"IF(AA161=\"Ja\",'Q_del,j en Q_del,dh'!$D110,0)","v":0},{"$f":"IF(AB161=\"Ja\",'Q_del,j en Q_del,dh'!$D110,0)","v":0},{"$f":"IF(AC161=\"Ja\",'Q_del,j en Q_del,dh'!$D110,0)","v":0},{"$f":"IF(AD161=\"Ja\",'Q_del,j en Q_del,dh'!$D110,0)","v":0},{"$f":"IF(AE161=\"Ja\",'Q_del,j en Q_del,dh'!$D110,0)","v":0},{"$f":"IF(AF161=\"Ja\",'Q_del,j en Q_del,dh'!$D110,0)","v":0},{"$f":"IF(AG161=\"Ja\",'Q_del,j en Q_del,dh'!$D110,0)","v":0},{"$f":"IF(AH161=\"Ja\",'Q_del,j en Q_del,dh'!$D110,0)","v":0},{"$f":"IF(AI161=\"Ja\",'Q_del,j en Q_del,dh'!$D110,0)","v":0},{"$f":"IF(AJ161=\"Ja\",'Q_del,j en Q_del,dh'!$D110,0)","v":0},{"$f":"IF(AK161=\"Ja\",'Q_del,j en Q_del,dh'!$D110,0)","v":0},{"$f":"IF(AL161=\"Ja\",'Q_del,j en Q_del,dh'!$D110,0)","v":0},{"$f":"IF(AM161=\"Ja\",'Q_del,j en Q_del,dh'!$D110,0)","v":0},{"$f":"IF(AN161=\"Ja\",'Q_del,j en Q_del,dh'!$D110,0)","v":0},{"$f":"IF(AO161=\"Ja\",'Q_del,j en Q_del,dh'!$D110,0)","v":0},{"$f":"IF(AP161=\"Ja\",'Q_del,j en Q_del,dh'!$D110,0)","v":0},{"$f":"IF(AQ161=\"Ja\",'Q_del,j en Q_del,dh'!$D110,0)","v":0},{"$f":"IF(AR161=\"Ja\",'Q_del,j en Q_del,dh'!$D110,0)","v":0},{"$f":"IF(AS161=\"Ja\",'Q_del,j en Q_del,dh'!$D110,0)","v":0},{"$f":"IF(AT161=\"Ja\",'Q_del,j en Q_del,dh'!$D110,0)","v":0},{"$f":"IF(AU161=\"Ja\",'Q_del,j en Q_del,dh'!$D110,0)","v":0},{"$f":"IF(AV161=\"Ja\",'Q_del,j en Q_del,dh'!$D110,0)","v":0},{"$f":"IF(AW161=\"Ja\",'Q_del,j en Q_del,dh'!$D110,0)","v":0},{"$f":"IF(AX161=\"Ja\",'Q_del,j en Q_del,dh'!$D110,0)","v":0},{"$f":"IF(AY161=\"Ja\",'Q_del,j en Q_del,dh'!$D110,0)","v":0},{"$f":"IF(AZ161=\"Ja\",'Q_del,j en Q_del,dh'!$D110,0)","v":0},{"$f":"IF(BA161=\"Ja\",'Q_del,j en Q_del,dh'!$D110,0)","v":0}]
["Qdel,l,j [MJ]","warmtevrager 104",104,{"$f":"IF(D162=\"Ja\",'Q_del,j en Q_del,dh'!$D111,0)","v":0},{"$f":"IF(E162=\"Ja\",'Q_del,j en Q_del,dh'!$D111,0)","v":0},{"$f":"IF(F162=\"Ja\",'Q_del,j en Q_del,dh'!$D111,0)","v":0},{"$f":"IF(G162=\"Ja\",'Q_del,j en Q_del,dh'!$D111,0)","v":0},{"$f":"IF(H162=\"Ja\",'Q_del,j en Q_del,dh'!$D111,0)","v":0},{"$f":"IF(I162=\"Ja\",'Q_del,j en Q_del,dh'!$D111,0)","v":0},{"$f":"IF(J162=\"Ja\",'Q_del,j en Q_del,dh'!$D111,0)","v":0},{"$f":"IF(K162=\"Ja\",'Q_del,j en Q_del,dh'!$D111,0)","v":0},{"$f":"IF(L162=\"Ja\",'Q_del,j en Q_del,dh'!$D111,0)","v":0},{"$f":"IF(M162=\"Ja\",'Q_del,j en Q_del,dh'!$D111,0)","v":0},{"$f":"IF(N162=\"Ja\",'Q_del,j en Q_del,dh'!$D111,0)","v":0},{"$f":"IF(O162=\"Ja\",'Q_del,j en Q_del,dh'!$D111,0)","v":0},{"$f":"IF(P162=\"Ja\",'Q_del,j en Q_del,dh'!$D111,0)","v":0},{"$f":"IF(Q162=\"Ja\",'Q_del,j en Q_del,dh'!$D111,0)","v":0},{"$f":"IF(R162=\"Ja\",'Q_del,j en Q_del,dh'!$D111,0)","v":0},{"$f":"IF(S162=\"Ja\",'Q_del,j en Q_del,dh'!$D111,0)","v":0},{"$f":"IF(T162=\"Ja\",'Q_del,j en Q_del,dh'!$D111,0)","v":0},{"$f":"IF(U162=\"Ja\",'Q_del,j en Q_del,dh'!$D111,0)","v":0},{"$f":"IF(V162=\"Ja\",'Q_del,j en Q_del,dh'!$D111,0)","v":0},{"$f":"IF(W162=\"Ja\",'Q_del,j en Q_del,dh'!$D111,0)","v":0},{"$f":"IF(X162=\"Ja\",'Q_del,j en Q_del,dh'!$D111,0)","v":0},{"$f":"IF(Y162=\"Ja\",'Q_del,j en Q_del,dh'!$D111,0)","v":0},{"$f":"IF(Z162=\"Ja\",'Q_del,j en Q_del,dh'!$D111,0)","v":0},{"$f":"IF(AA162=\"Ja\",'Q_del,j en Q_del,dh'!$D111,0)","v":0},{"$f":"IF(AB162=\"Ja\",'Q_del,j en Q_del,dh'!$D111,0)","v":0},{"$f":"IF(AC162=\"Ja\",'Q_del,j en Q_del,dh'!$D111,0)","v":0},{"$f":"IF(AD162=\"Ja\",'Q_del,j en Q_del,dh'!$D111,0)","v":0},{"$f":"IF(AE162=\"Ja\",'Q_del,j en Q_del,dh'!$D111,0)","v":0},{"$f":"IF(AF162=\"Ja\",'Q_del,j en Q_del,dh'!$D111,0)","v":0},{"$f":"IF(AG162=\"Ja\",'Q_del,j en Q_del,dh'!$D111,0)","v":0},{"$f":"IF(AH162=\"Ja\",'Q_del,j en Q_del,dh'!$D111,0)","v":0},{"$f":"IF(AI162=\"Ja\",'Q_del,j en Q_del,dh'!$D111,0)","v":0},{"$f":"IF(AJ162=\"Ja\",'Q_del,j en Q_del,dh'!$D111,0)","v":0},{"$f":"IF(AK162=\"Ja\",'Q_del,j en Q_del,dh'!$D111,0)","v":0},{"$f":"IF(AL162=\"Ja\",'Q_del,j en Q_del,dh'!$D111,0)","v":0},{"$f":"IF(AM162=\"Ja\",'Q_del,j en Q_del,dh'!$D111,0)","v":0},{"$f":"IF(AN162=\"Ja\",'Q_del,j en Q_del,dh'!$D111,0)","v":0},{"$f":"IF(AO162=\"Ja\",'Q_del,j en Q_del,dh'!$D111,0)","v":0},{"$f":"IF(AP162=\"Ja\",'Q_del,j en Q_del,dh'!$D111,0)","v":0},{"$f":"IF(AQ162=\"Ja\",'Q_del,j en Q_del,dh'!$D111,0)","v":0},{"$f":"IF(AR162=\"Ja\",'Q_del,j en Q_del,dh'!$D111,0)","v":0},{"$f":"IF(AS162=\"Ja\",'Q_del,j en Q_del,dh'!$D111,0)","v":0},{"$f":"IF(AT162=\"Ja\",'Q_del,j en Q_del,dh'!$D111,0)","v":0},{"$f":"IF(AU162=\"Ja\",'Q_del,j en Q_del,dh'!$D111,0)","v":0},{"$f":"IF(AV162=\"Ja\",'Q_del,j en Q_del,dh'!$D111,0)","v":0},{"$f":"IF(AW162=\"Ja\",'Q_del,j en Q_del,dh'!$D111,0)","v":0},{"$f":"IF(AX162=\"Ja\",'Q_del,j en Q_del,dh'!$D111,0)","v":0},{"$f":"IF(AY162=\"Ja\",'Q_del,j en Q_del,dh'!$D111,0)","v":0},{"$f":"IF(AZ162=\"Ja\",'Q_del,j en Q_del,dh'!$D111,0)","v":0},{"$f":"IF(BA162=\"Ja\",'Q_del,j en Q_del,dh'!$D111,0)","v":0}]
["Qdel,l,j [MJ]","warmtevrager 105",105,{"$f":"IF(D163=\"Ja\",'Q_del,j en Q_del,dh'!$D112,0)","v":0},{"$f":"IF(E163=\"Ja\",'Q_del,j en Q_del,dh'!$D112,0)","v":0},{"$f":"IF(F163=\"Ja\",'Q_del,j en Q_del,dh'!$D112,0)","v":0},{"$f":"IF(G163=\"Ja\",'Q_del,j en Q_del,dh'!$D112,0)","v":0},{"$f":"IF(H163=\"Ja\",'Q_del,j en Q_del,dh'!$D112,0)","v":0},{"$f":"IF(I163=\"Ja\",'Q_del,j en Q_del,dh'!$D112,0)","v":0},{"$f":"IF(J163=\"Ja\",'Q_del,j en Q_del,dh'!$D112,0)","v":0},{"$f":"IF(K163=\"Ja\",'Q_del,j en Q_del,dh'!$D112,0)","v":0},{"$f":"IF(L163=\"Ja\",'Q_del,j en Q_del,dh'!$D112,0)","v":0},{"$f":"IF(M163=\"Ja\",'Q_del,j en Q_del,dh'!$D112,0)","v":0},{"$f":"IF(N163=\"Ja\",'Q_del,j en Q_del,dh'!$D112,0)","v":0},{"$f":"IF(O163=\"Ja\",'Q_del,j en Q_del,dh'!$D112,0)","v":0},{"$f":"IF(P163=\"Ja\",'Q_del,j en Q_del,dh'!$D112,0)","v":0},{"$f":"IF(Q163=\"Ja\",'Q_del,j en Q_del,dh'!$D112,0)","v":0},{"$f":"IF(R163=\"Ja\",'Q_del,j en Q_del,dh'!$D112,0)","v":0},{"$f":"IF(S163=\"Ja\",'Q_del,j en Q_del,dh'!$D112,0)","v":0},{"$f":"IF(T163=\"Ja\",'Q_del,j en Q_del,dh'!$D112,0)","v":0},{"$f":"IF(U163=\"Ja\",'Q_del,j en Q_del,dh'!$D112,0)","v":0},{"$f":"IF(V163=\"Ja\",'Q_del,j en Q_del,dh'!$D112,0)","v":0},{"$f":"IF(W163=\"Ja\",'Q_del,j en Q_del,dh'!$D112,0)","v":0},{"$f":"IF(X163=\"Ja\",'Q_del,j en Q_del,dh'!$D112,0)","v":0},{"$f":"IF(Y163=\"Ja\",'Q_del,j en Q_del,dh'!$D112,0)","v":0},{"$f":"IF(Z163=\"Ja\",'Q_del,j en Q_del,dh'!$D112,0)","v":0},{"$f":"IF(AA163=\"Ja\",'Q_del,j en Q_del,dh'!$D112,0)","v":0},{"$f":"IF(AB163=\"Ja\",'Q_del,j en Q_del,dh'!$D112,0)","v":0},{"$f":"IF(AC163=\"Ja\",'Q_del,j en Q_del,dh'!$D112,0)","v":0},{"$f":"IF(AD163=\"Ja\",'Q_del,j en Q_del,dh'!$D112,0)","v":0},{"$f":"IF(AE163=\"Ja\",'Q_del,j en Q_del,dh'!$D112,0)","v":0},{"$f":"IF(AF163=\"Ja\",'Q_del,j en Q_del,dh'!$D112,0)","v":0},{"$f":"IF(AG163=\"Ja\",'Q_del,j en Q_del,dh'!$D112,0)","v":0},{"$f":"IF(AH163=\"Ja\",'Q_del,j en Q_del,dh'!$D112,0)","v":0},{"$f":"IF(AI163=\"Ja\",'Q_del,j en Q_del,dh'!$D112,0)","v":0},{"$f":"IF(AJ163=\"Ja\",'Q_del,j en Q_del,dh'!$D112,0)","v":0},{"$f":"IF(AK163=\"Ja\",'Q_del,j en Q_del,dh'!$D112,0)","v":0},{"$f":"IF(AL163=\"Ja\",'Q_del,j en Q_del,dh'!$D112,0)","v":0},{"$f":"IF(AM163=\"Ja\",'Q_del,j en Q_del,dh'!$D112,0)","v":0},{"$f":"IF(AN163=\"Ja\",'Q_del,j en Q_del,dh'!$D112,0)","v":0},{"$f":"IF(AO163=\"Ja\",'Q_del,j en Q_del,dh'!$D112,0)","v":0},{"$f":"IF(AP163=\"Ja\",'Q_del,j en Q_del,dh'!$D112,0)","v":0},{"$f":"IF(AQ163=\"Ja\",'Q_del,j en Q_del,dh'!$D112,0)","v":0},{"$f":"IF(AR163=\"Ja\",'Q_del,j en Q_del,dh'!$D112,0)","v":0},{"$f":"IF(AS163=\"Ja\",'Q_del,j en Q_del,dh'!$D112,0)","v":0},{"$f":"IF(AT163=\"Ja\",'Q_del,j en Q_del,dh'!$D112,0)","v":0},{"$f":"IF(AU163=\"Ja\",'Q_del,j en Q_del,dh'!$D112,0)","v":0},{"$f":"IF(AV163=\"Ja\",'Q_del,j en Q_del,dh'!$D112,0)","v":0},{"$f":"IF(AW163=\"Ja\",'Q_del,j en Q_del,dh'!$D112,0)","v":0},{"$f":"IF(AX163=\"Ja\",'Q_del,j en Q_del,dh'!$D112,0)","v":0},{"$f":"IF(AY163=\"Ja\",'Q_del,j en Q_del,dh'!$D112,0)","v":0},{"$f":"IF(AZ163=\"Ja\",'Q_del,j en Q_del,dh'!$D112,0)","v":0},{"$f":"IF(BA163=\"Ja\",'Q_del,j en Q_del,dh'!$D112,0)","v":0}]
["Qdel,l,j [MJ]","warmtevrager 106",106,{"$f":"IF(D164=\"Ja\",'Q_del,j en Q_del,dh'!$D113,0)","v":0},{"$f":"IF(E164=\"Ja\",'Q_del,j en Q_del,dh'!$D113,0)","v":0},{"$f":"IF(F164=\"Ja\",'Q_del,j en Q_del,dh'!$D113,0)","v":0},{"$f":"IF(G164=\"Ja\",'Q_del,j en Q_del,dh'!$D113,0)","v":0},{"$f":"IF(H164=\"Ja\",'Q_del,j en Q_del,dh'!$D113,0)","v":0},{"$f":"IF(I164=\"Ja\",'Q_del,j en Q_del,dh'!$D113,0)","v":0},{"$f":"IF(J164=\"Ja\",'Q_del,j en Q_del,dh'!$D113,0)","v":0},{"$f":"IF(K164=\"Ja\",'Q_del,j en Q_del,dh'!$D113,0)","v":0},{"$f":"IF(L164=\"Ja\",'Q_del,j en Q_del,dh'!$D113,0)","v":0},{"$f":"IF(M164=\"Ja\",'Q_del,j en Q_del,dh'!$D113,0)","v":0},{"$f":"IF(N164=\"Ja\",'Q_del,j en Q_del,dh'!$D113,0)","v":0},{"$f":"IF(O164=\"Ja\",'Q_del,j en Q_del,dh'!$D113,0)","v":0},{"$f":"IF(P164=\"Ja\",'Q_del,j en Q_del,dh'!$D113,0)","v":0},{"$f":"IF(Q164=\"Ja\",'Q_del,j en Q_del,dh'!$D113,0)","v":0},{"$f":"IF(R164=\"Ja\",'Q_del,j en Q_del,dh'!$D113,0)","v":0},{"$f":"IF(S164=\"Ja\",'Q_del,j en Q_del,dh'!$D113,0)","v":0},{"$f":"IF(T164=\"Ja\",'Q_del,j en Q_del,dh'!$D113,0)","v":0},{"$f":"IF(U164=\"Ja\",'Q_del,j en Q_del,dh'!$D113,0)","v":0},{"$f":"IF(V164=\"Ja\",'Q_del,j en Q_del,dh'!$D113,0)","v":0},{"$f":"IF(W164=\"Ja\",'Q_del,j en Q_del,dh'!$D113,0)","v":0},{"$f":"IF(X164=\"Ja\",'Q_del,j en Q_del,dh'!$D113,0)","v":0},{"$f":"IF(Y164=\"Ja\",'Q_del,j en Q_del,dh'!$D113,0)","v":0},{"$f":"IF(Z164=\"Ja\",'Q_del,j en Q_del,dh'!$D113,0)","v":0},{"$f":"IF(AA164=\"Ja\",'Q_del,j en Q_del,dh'!$D113,0)","v":0},{"$f":"IF(AB164=\"Ja\",'Q_del,j en Q_del,dh'!$D113,0)","v":0},{"$f":"IF(AC164=\"Ja\",'Q_del,j en Q_del,dh'!$D113,0)","v":0},{"$f":"IF(AD164=\"Ja\",'Q_del,j en Q_del,dh'!$D113,0)","v":0},{"$f":"IF(AE164=\"Ja\",'Q_del,j en Q_del,dh'!$D113,0)","v":0},{"$f":"IF(AF164=\"Ja\",'Q_del,j en Q_del,dh'!$D113,0)","v":0},{"$f":"IF(AG164=\"Ja\",'Q_del,j en Q_del,dh'!$D113,0)","v":0},{"$f":"IF(AH164=\"Ja\",'Q_del,j en Q_del,dh'!$D113,0)","v":0},{"$f":"IF(AI164=\"Ja\",'Q_del,j en Q_del,dh'!$D113,0)","v":0},{"$f":"IF(AJ164=\"Ja\",'Q_del,j en Q_del,dh'!$D113,0)","v":0},{"$f":"IF(AK164=\"Ja\",'Q_del,j en Q_del,dh'!$D113,0)","v":0},{"$f":"IF(AL164=\"Ja\",'Q_del,j en Q_del,dh'!$D113,0)","v":0},{"$f":"IF(AM164=\"Ja\",'Q_del,j en Q_del,dh'!$D113,0)","v":0},{"$f":"IF(AN164=\"Ja\",'Q_del,j en Q_del,dh'!$D113,0)","v":0},{"$f":"IF(AO164=\"Ja\",'Q_del,j en Q_del,dh'!$D113,0)","v":0},{"$f":"IF(AP164=\"Ja\",'Q_del,j en Q_del,dh'!$D113,0)","v":0},{"$f":"IF(AQ164=\"Ja\",'Q_del,j en Q_del,dh'!$D113,0)","v":0},{"$f":"IF(AR164=\"Ja\",'Q_del,j en Q_del,dh'!$D113,0)","v":0},{"$f":"IF(AS164=\"Ja\",'Q_del,j en Q_del,dh'!$D113,0)","v":0},{"$f":"IF(AT164=\"Ja\",'Q_del,j en Q_del,dh'!$D113,0)","v":0},{"$f":"IF(AU164=\"Ja\",'Q_del,j en Q_del,dh'!$D113,0)","v":0},{"$f":"IF(AV164=\"Ja\",'Q_del,j en Q_del,dh'!$D113,0)","v":0},{"$f":"IF(AW164=\"Ja\",'Q_del,j en Q_del,dh'!$D113,0)","v":0},{"$f":"IF(AX164=\"Ja\",'Q_del,j en Q_del,dh'!$D113,0)","v":0},{"$f":"IF(AY164=\"Ja\",'Q_del,j en Q_del,dh'!$D113,0)","v":0},{"$f":"IF(AZ164=\"Ja\",'Q_del,j en Q_del,dh'!$D113,0)","v":0},{"$f":"IF(BA164=\"Ja\",'Q_del,j en Q_del,dh'!$D113,0)","v":0}]
["Qdel,l,j [MJ]","warmtevrager 107",107,{"$f":"IF(D165=\"Ja\",'Q_del,j en Q_del,dh'!$D114,0)","v":0},{"$f":"IF(E165=\"Ja\",'Q_del,j en Q_del,dh'!$D114,0)","v":0},{"$f":"IF(F165=\"Ja\",'Q_del,j en Q_del,dh'!$D114,0)","v":0},{"$f":"IF(G165=\"Ja\",'Q_del,j en Q_del,dh'!$D114,0)","v":0},{"$f":"IF(H165=\"Ja\",'Q_del,j en Q_del,dh'!$D114,0)","v":0},{"$f":"IF(I165=\"Ja\",'Q_del,j en Q_del,dh'!$D114,0)","v":0},{"$f":"IF(J165=\"Ja\",'Q_del,j en Q_del,dh'!$D114,0)","v":0},{"$f":"IF(K165=\"Ja\",'Q_del,j en Q_del,dh'!$D114,0)","v":0},{"$f":"IF(L165=\"Ja\",'Q_del,j en Q_del,dh'!$D114,0)","v":0},{"$f":"IF(M165=\"Ja\",'Q_del,j en Q_del,dh'!$D114,0)","v":0},{"$f":"IF(N165=\"Ja\",'Q_del,j en Q_del,dh'!$D114,0)","v":0},{"$f":"IF(O165=\"Ja\",'Q_del,j en Q_del,dh'!$D114,0)","v":0},{"$f":"IF(P165=\"Ja\",'Q_del,j en Q_del,dh'!$D114,0)","v":0},{"$f":"IF(Q165=\"Ja\",'Q_del,j en Q_del,dh'!$D114,0)","v":0},{"$f":"IF(R165=\"Ja\",'Q_del,j en Q_del,dh'!$D114,0)","v":0},{"$f":"IF(S165=\"Ja\",'Q_del,j en Q_del,dh'!$D114,0)","v":0},{"$f":"IF(T165=\"Ja\",'Q_del,j en Q_del,dh'!$D114,0)","v":0},{"$f":"IF(U165=\"Ja\",'Q_del,j en Q_del,dh'!$D114,0)","v":0},{"$f":"IF(V165=\"Ja\",'Q_del,j en Q_del,dh'!$D114,0)","v":0},{"$f":"IF(W165=\"Ja\",'Q_del,j en Q_del,dh'!$D114,0)","v":0},{"$f":"IF(X165=\"Ja\",'Q_del,j en Q_del,dh'!$D114,0)","v":0},{"$f":"IF(Y165=\"Ja\",'Q_del,j en Q_del,dh'!$D114,0)","v":0},{"$f":"IF(Z165=\"Ja\",'Q_del,j en Q_del,dh'!$D114,0)","v":0},{"$f":"IF(AA165=\"Ja\",'Q_del,j en Q_del,dh'!$D114,0)","v":0},{"$f":"IF(AB165=\"Ja\",'Q_del,j en Q_del,dh'!$D114,0)","v":0},{"$f":"IF(AC165=\"Ja\",'Q_del,j en Q_del,dh'!$D114,0)","v":0},{"$f":"IF(AD165=\"Ja\",'Q_del,j en Q_del,dh'!$D114,0)","v":0},{"$f":"IF(AE165=\"Ja\",'Q_del,j en Q_del,dh'!$D114,0)","v":0},{"$f":"IF(AF165=\"Ja\",'Q_del,j en Q_del,dh'!$D114,0)","v":0},{"$f":"IF(AG165=\"Ja\",'Q_del,j en Q_del,dh'!$D114,0)","v":0},{"$f":"IF(AH165=\"Ja\",'Q_del,j en Q_del,dh'!$D114,0)","v":0},{"$f":"IF(AI165=\"Ja\",'Q_del,j en Q_del,dh'!$D114,0)","v":0},{"$f":"IF(AJ165=\"Ja\",'Q_del,j en Q_del,dh'!$D114,0)","v":0},{"$f":"IF(AK165=\"Ja\",'Q_del,j en Q_del,dh'!$D114,0)","v":0},{"$f":"IF(AL165=\"Ja\",'Q_del,j en Q_del,dh'!$D114,0)","v":0},{"$f":"IF(AM165=\"Ja\",'Q_del,j en Q_del,dh'!$D114,0)","v":0},{"$f":"IF(AN165=\"Ja\",'Q_del,j en Q_del,dh'!$D114,0)","v":0},{"$f":"IF(AO165=\"Ja\",'Q_del,j en Q_del,dh'!$D114,0)","v":0},{"$f":"IF(AP165=\"Ja\",'Q_del,j en Q_del,dh'!$D114,0)","v":0},{"$f":"IF(AQ165=\"Ja\",'Q_del,j en Q_del,dh'!$D114,0)","v":0},{"$f":"IF(AR165=\"Ja\",'Q_del,j en Q_del,dh'!$D114,0)","v":0},{"$f":"IF(AS165=\"Ja\",'Q_del,j en Q_del,dh'!$D114,0)","v":0},{"$f":"IF(AT165=\"Ja\",'Q_del,j en Q_del,dh'!$D114,0)","v":0},{"$f":"IF(AU165=\"Ja\",'Q_del,j en Q_del,dh'!$D114,0)","v":0},{"$f":"IF(AV165=\"Ja\",'Q_del,j en Q_del,dh'!$D114,0)","v":0},{"$f":"IF(AW165=\"Ja\",'Q_del,j en Q_del,dh'!$D114,0)","v":0},{"$f":"IF(AX165=\"Ja\",'Q_del,j en Q_del,dh'!$D114,0)","v":0},{"$f":"IF(AY165=\"Ja\",'Q_del,j en Q_del,dh'!$D114,0)","v":0},{"$f":"IF(AZ165=\"Ja\",'Q_del,j en Q_del,dh'!$D114,0)","v":0},{"$f":"IF(BA165=\"Ja\",'Q_del,j en Q_del,dh'!$D114,0)","v":0}]
["Qdel,l,j [MJ]","warmtevrager 108",108,{"$f":"IF(D166=\"Ja\",'Q_del,j en Q_del,dh'!$D115,0)","v":0},{"$f":"IF(E166=\"Ja\",'Q_del,j en Q_del,dh'!$D115,0)","v":0},{"$f":"IF(F166=\"Ja\",'Q_del,j en Q_del,dh'!$D115,0)","v":0},{"$f":"IF(G166=\"Ja\",'Q_del,j en Q_del,dh'!$D115,0)","v":0},{"$f":"IF(H166=\"Ja\",'Q_del,j en Q_del,dh'!$D115,0)","v":0},{"$f":"IF(I166=\"Ja\",'Q_del,j en Q_del,dh'!$D115,0)","v":0},{"$f":"IF(J166=\"Ja\",'Q_del,j en Q_del,dh'!$D115,0)","v":0},{"$f":"IF(K166=\"Ja\",'Q_del,j en Q_del,dh'!$D115,0)","v":0},{"$f":"IF(L166=\"Ja\",'Q_del,j en Q_del,dh'!$D115,0)","v":0},{"$f":"IF(M166=\"Ja\",'Q_del,j en Q_del,dh'!$D115,0)","v":0},{"$f":"IF(N166=\"Ja\",'Q_del,j en Q_del,dh'!$D115,0)","v":0},{"$f":"IF(O166=\"Ja\",'Q_del,j en Q_del,dh'!$D115,0)","v":0},{"$f":"IF(P166=\"Ja\",'Q_del,j en Q_del,dh'!$D115,0)","v":0},{"$f":"IF(Q166=\"Ja\",'Q_del,j en Q_del,dh'!$D115,0)","v":0},{"$f":"IF(R166=\"Ja\",'Q_del,j en Q_del,dh'!$D115,0)","v":0},{"$f":"IF(S166=\"Ja\",'Q_del,j en Q_del,dh'!$D115,0)","v":0},{"$f":"IF(T166=\"Ja\",'Q_del,j en Q_del,dh'!$D115,0)","v":0},{"$f":"IF(U166=\"Ja\",'Q_del,j en Q_del,dh'!$D115,0)","v":0},{"$f":"IF(V166=\"Ja\",'Q_del,j en Q_del,dh'!$D115,0)","v":0},{"$f":"IF(W166=\"Ja\",'Q_del,j en Q_del,dh'!$D115,0)","v":0},{"$f":"IF(X166=\"Ja\",'Q_del,j en Q_del,dh'!$D115,0)","v":0},{"$f":"IF(Y166=\"Ja\",'Q_del,j en Q_del,dh'!$D115,0)","v":0},{"$f":"IF(Z166=\"Ja\",'Q_del,j en Q_del,dh'!$D115,0)","v":0},{"$f":"IF(AA166=\"Ja\",'Q_del,j en Q_del,dh'!$D115,0)","v":0},{"$f":"IF(AB166=\"Ja\",'Q_del,j en Q_del,dh'!$D115,0)","v":0},{"$f":"IF(AC166=\"Ja\",'Q_del,j en Q_del,dh'!$D115,0)","v":0},{"$f":"IF(AD166=\"Ja\",'Q_del,j en Q_del,dh'!$D115,0)","v":0},{"$f":"IF(AE166=\"Ja\",'Q_del,j en Q_del,dh'!$D115,0)","v":0},{"$f":"IF(AF166=\"Ja\",'Q_del,j en Q_del,dh'!$D115,0)","v":0},{"$f":"IF(AG166=\"Ja\",'Q_del,j en Q_del,dh'!$D115,0)","v":0},{"$f":"IF(AH166=\"Ja\",'Q_del,j en Q_del,dh'!$D115,0)","v":0},{"$f":"IF(AI166=\"Ja\",'Q_del,j en Q_del,dh'!$D115,0)","v":0},{"$f":"IF(AJ166=\"Ja\",'Q_del,j en Q_del,dh'!$D115,0)","v":0},{"$f":"IF(AK166=\"Ja\",'Q_del,j en Q_del,dh'!$D115,0)","v":0},{"$f":"IF(AL166=\"Ja\",'Q_del,j en Q_del,dh'!$D115,0)","v":0},{"$f":"IF(AM166=\"Ja\",'Q_del,j en Q_del,dh'!$D115,0)","v":0},{"$f":"IF(AN166=\"Ja\",'Q_del,j en Q_del,dh'!$D115,0)","v":0},{"$f":"IF(AO166=\"Ja\",'Q_del,j en Q_del,dh'!$D115,0)","v":0},{"$f":"IF(AP166=\"Ja\",'Q_del,j en Q_del,dh'!$D115,0)","v":0},{"$f":"IF(AQ166=\"Ja\",'Q_del,j en Q_del,dh'!$D115,0)","v":0},{"$f":"IF(AR166=\"Ja\",'Q_del,j en Q_del,dh'!$D115,0)","v":0},{"$f":"IF(AS166=\"Ja\",'Q_del,j en Q_del,dh'!$D115,0)","v":0},{"$f":"IF(AT166=\"Ja\",'Q_del,j en Q_del,dh'!$D115,0)","v":0},{"$f":"IF(AU166=\"Ja\",'Q_del,j en Q_del,dh'!$D115,0)","v":0},{"$f":"IF(AV166=\"Ja\",'Q_del,j en Q_del,dh'!$D115,0)","v":0},{"$f":"IF(AW166=\"Ja\",'Q_del,j en Q_del,dh'!$D115,0)","v":0},{"$f":"IF(AX166=\"Ja\",'Q_del,j en Q_del,dh'!$D115,0)","v":0},{"$f":"IF(AY166=\"Ja\",'Q_del,j en Q_del,dh'!$D115,0)","v":0},{"$f":"IF(AZ166=\"Ja\",'Q_del,j en Q_del,dh'!$D115,0)","v":0},{"$f":"IF(BA166=\"Ja\",'Q_del,j en Q_del,dh'!$D115,0)","v":0}]
["Qdel,l,j [MJ]","warmtevrager 109",109,{"$f":"IF(D167=\"Ja\",'Q_del,j en Q_del,dh'!$D116,0)","v":0},{"$f":"IF(E167=\"Ja\",'Q_del,j en Q_del,dh'!$D116,0)","v":0},{"$f":"IF(F167=\"Ja\",'Q_del,j en Q_del,dh'!$D116,0)","v":0},{"$f":"IF(G167=\"Ja\",'Q_del,j en Q_del,dh'!$D116,0)","v":0},{"$f":"IF(H167=\"Ja\",'Q_del,j en Q_del,dh'!$D116,0)","v":0},{"$f":"IF(I167=\"Ja\",'Q_del,j en Q_del,dh'!$D116,0)","v":0},{"$f":"IF(J167=\"Ja\",'Q_del,j en Q_del,dh'!$D116,0)","v":0},{"$f":"IF(K167=\"Ja\",'Q_del,j en Q_del,dh'!$D116,0)","v":0},{"$f":"IF(L167=\"Ja\",'Q_del,j en Q_del,dh'!$D116,0)","v":0},{"$f":"IF(M167=\"Ja\",'Q_del,j en Q_del,dh'!$D116,0)","v":0},{"$f":"IF(N167=\"Ja\",'Q_del,j en Q_del,dh'!$D116,0)","v":0},{"$f":"IF(O167=\"Ja\",'Q_del,j en Q_del,dh'!$D116,0)","v":0},{"$f":"IF(P167=\"Ja\",'Q_del,j en Q_del,dh'!$D116,0)","v":0},{"$f":"IF(Q167=\"Ja\",'Q_del,j en Q_del,dh'!$D116,0)","v":0},{"$f":"IF(R167=\"Ja\",'Q_del,j en Q_del,dh'!$D116,0)","v":0},{"$f":"IF(S167=\"Ja\",'Q_del,j en Q_del,dh'!$D116,0)","v":0},{"$f":"IF(T167=\"Ja\",'Q_del,j en Q_del,dh'!$D116,0)","v":0},{"$f":"IF(U167=\"Ja\",'Q_del,j en Q_del,dh'!$D116,0)","v":0},{"$f":"IF(V167=\"Ja\",'Q_del,j en Q_del,dh'!$D116,0)","v":0},{"$f":"IF(W167=\"Ja\",'Q_del,j en Q_del,dh'!$D116,0)","v":0},{"$f":"IF(X167=\"Ja\",'Q_del,j en Q_del,dh'!$D116,0)","v":0},{"$f":"IF(Y167=\"Ja\",'Q_del,j en Q_del,dh'!$D116,0)","v":0},{"$f":"IF(Z167=\"Ja\",'Q_del,j en Q_del,dh'!$D116,0)","v":0},{"$f":"IF(AA167=\"Ja\",'Q_del,j en Q_del,dh'!$D116,0)","v":0},{"$f":"IF(AB167=\"Ja\",'Q_del,j en Q_del,dh'!$D116,0)","v":0},{"$f":"IF(AC167=\"Ja\",'Q_del,j en Q_del,dh'!$D116,0)","v":0},{"$f":"IF(AD167=\"Ja\",'Q_del,j en Q_del,dh'!$D116,0)","v":0},{"$f":"IF(AE167=\"Ja\",'Q_del,j en Q_del,dh'!$D116,0)","v":0},{"$f":"IF(AF167=\"Ja\",'Q_del,j en Q_del,dh'!$D116,0)","v":0},{"$f":"IF(AG167=\"Ja\",'Q_del,j en Q_del,dh'!$D116,0)","v":0},{"$f":"IF(AH167=\"Ja\",'Q_del,j en Q_del,dh'!$D116,0)","v":0},{"$f":"IF(AI167=\"Ja\",'Q_del,j en Q_del,dh'!$D116,0)","v":0},{"$f":"IF(AJ167=\"Ja\",'Q_del,j en Q_del,dh'!$D116,0)","v":0},{"$f":"IF(AK167=\"Ja\",'Q_del,j en Q_del,dh'!$D116,0)","v":0},{"$f":"IF(AL167=\"Ja\",'Q_del,j en Q_del,dh'!$D116,0)","v":0},{"$f":"IF(AM167=\"Ja\",'Q_del,j en Q_del,dh'!$D116,0)","v":0},{"$f":"IF(AN167=\"Ja\",'Q_del,j en Q_del,dh'!$D116,0)","v":0},{"$f":"IF(AO167=\"Ja\",'Q_del,j en Q_del,dh'!$D116,0)","v":0},{"$f":"IF(AP167=\"Ja\",'Q_del,j en Q_del,dh'!$D116,0)","v":0},{"$f":"IF(AQ167=\"Ja\",'Q_del,j en Q_del,dh'!$D116,0)","v":0},{"$f":"IF(AR167=\"Ja\",'Q_del,j en Q_del,dh'!$D116,0)","v":0},{"$f":"IF(AS167=\"Ja\",'Q_del,j en Q_del,dh'!$D116,0)","v":0},{"$f":"IF(AT167=\"Ja\",'Q_del,j en Q_del,dh'!$D116,0)","v":0},{"$f":"IF(AU167=\"Ja\",'Q_del,j en Q_del,dh'!$D116,0)","v":0},{"$f":"IF(AV167=\"Ja\",'Q_del,j en Q_del,dh'!$D116,0)","v":0},{"$f":"IF(AW167=\"Ja\",'Q_del,j en Q_del,dh'!$D116,0)","v":0},{"$f":"IF(AX167=\"Ja\",'Q_del,j en Q_del,dh'!$D116,0)","v":0},{"$f":"IF(AY167=\"Ja\",'Q_del,j en Q_del,dh'!$D116,0)","v":0},{"$f":"IF(AZ167=\"Ja\",'Q_del,j en Q_del,dh'!$D116,0)","v":0},{"$f":"IF(BA167=\"Ja\",'Q_del,j en Q_del,dh'!$D116,0)","v":0}]
["Qdel,l,j [MJ]","warmtevrager 110",110,{"$f":"IF(D168=\"Ja\",'Q_del,j en Q_del,dh'!$D117,0)","v":0},{"$f":"IF(E168=\"Ja\",'Q_del,j en Q_del,dh'!$D117,0)","v":0},{"$f":"IF(F168=\"Ja\",'Q_del,j en Q_del,dh'!$D117,0)","v":0},{"$f":"IF(G168=\"Ja\",'Q_del,j en Q_del,dh'!$D117,0)","v":0},{"$f":"IF(H168=\"Ja\",'Q_del,j en Q_del,dh'!$D117,0)","v":0},{"$f":"IF(I168=\"Ja\",'Q_del,j en Q_del,dh'!$D117,0)","v":0},{"$f":"IF(J168=\"Ja\",'Q_del,j en Q_del,dh'!$D117,0)","v":0},{"$f":"IF(K168=\"Ja\",'Q_del,j en Q_del,dh'!$D117,0)","v":0},{"$f":"IF(L168=\"Ja\",'Q_del,j en Q_del,dh'!$D117,0)","v":0},{"$f":"IF(M168=\"Ja\",'Q_del,j en Q_del,dh'!$D117,0)","v":0},{"$f":"IF(N168=\"Ja\",'Q_del,j en Q_del,dh'!$D117,0)","v":0},{"$f":"IF(O168=\"Ja\",'Q_del,j en Q_del,dh'!$D117,0)","v":0},{"$f":"IF(P168=\"Ja\",'Q_del,j en Q_del,dh'!$D117,0)","v":0},{"$f":"IF(Q168=\"Ja\",'Q_del,j en Q_del,dh'!$D117,0)","v":0},{"$f":"IF(R168=\"Ja\",'Q_del,j en Q_del,dh'!$D117,0)","v":0},{"$f":"IF(S168=\"Ja\",'Q_del,j en Q_del,dh'!$D117,0)","v":0},{"$f":"IF(T168=\"Ja\",'Q_del,j en Q_del,dh'!$D117,0)","v":0},{"$f":"IF(U168=\"Ja\",'Q_del,j en Q_del,dh'!$D117,0)","v":0},{"$f":"IF(V168=\"Ja\",'Q_del,j en Q_del,dh'!$D117,0)","v":0},{"$f":"IF(W168=\"Ja\",'Q_del,j en Q_del,dh'!$D117,0)","v":0},{"$f":"IF(X168=\"Ja\",'Q_del,j en Q_del,dh'!$D117,0)","v":0},{"$f":"IF(Y168=\"Ja\",'Q_del,j en Q_del,dh'!$D117,0)","v":0},{"$f":"IF(Z168=\"Ja\",'Q_del,j en Q_del,dh'!$D117,0)","v":0},{"$f":"IF(AA168=\"Ja\",'Q_del,j en Q_del,dh'!$D117,0)","v":0},{"$f":"IF(AB168=\"Ja\",'Q_del,j en Q_del,dh'!$D117,0)","v":0},{"$f":"IF(AC168=\"Ja\",'Q_del,j en Q_del,dh'!$D117,0)","v":0},{"$f":"IF(AD168=\"Ja\",'Q_del,j en Q_del,dh'!$D117,0)","v":0},{"$f":"IF(AE168=\"Ja\",'Q_del,j en Q_del,dh'!$D117,0)","v":0},{"$f":"IF(AF168=\"Ja\",'Q_del,j en Q_del,dh'!$D117,0)","v":0},{"$f":"IF(AG168=\"Ja\",'Q_del,j en Q_del,dh'!$D117,0)","v":0},{"$f":"IF(AH168=\"Ja\",'Q_del,j en Q_del,dh'!$D117,0)","v":0},{"$f":"IF(AI168=\"Ja\",'Q_del,j en Q_del,dh'!$D117,0)","v":0},{"$f":"IF(AJ168=\"Ja\",'Q_del,j en Q_del,dh'!$D117,0)","v":0},{"$f":"IF(AK168=\"Ja\",'Q_del,j en Q_del,dh'!$D117,0)","v":0},{"$f":"IF(AL168=\"Ja\",'Q_del,j en Q_del,dh'!$D117,0)","v":0},{"$f":"IF(AM168=\"Ja\",'Q_del,j en Q_del,dh'!$D117,0)","v":0},{"$f":"IF(AN168=\"Ja\",'Q_del,j en Q_del,dh'!$D117,0)","v":0},{"$f":"IF(AO168=\"Ja\",'Q_del,j en Q_del,dh'!$D117,0)","v":0},{"$f":"IF(AP168=\"Ja\",'Q_del,j en Q_del,dh'!$D117,0)","v":0},{"$f":"IF(AQ168=\"Ja\",'Q_del,j en Q_del,dh'!$D117,0)","v":0},{"$f":"IF(AR168=\"Ja\",'Q_del,j en Q_del,dh'!$D117,0)","v":0},{"$f":"IF(AS168=\"Ja\",'Q_del,j en Q_del,dh'!$D117,0)","v":0},{"$f":"IF(AT168=\"Ja\",'Q_del,j en Q_del,dh'!$D117,0)","v":0},{"$f":"IF(AU168=\"Ja\",'Q_del,j en Q_del,dh'!$D117,0)","v":0},{"$f":"IF(AV168=\"Ja\",'Q_del,j en Q_del,dh'!$D117,0)","v":0},{"$f":"IF(AW168=\"Ja\",'Q_del,j en Q_del,dh'!$D117,0)","v":0},{"$f":"IF(AX168=\"Ja\",'Q_del,j en Q_del,dh'!$D117,0)","v":0},{"$f":"IF(AY168=\"Ja\",'Q_del,j en Q_del,dh'!$D117,0)","v":0},{"$f":"IF(AZ168=\"Ja\",'Q_del,j en Q_del,dh'!$D117,0)","v":0},{"$f":"IF(BA168=\"Ja\",'Q_del,j en Q_del,dh'!$D117,0)","v":0}]
["Qdel,l,j [MJ]","warmtevrager 111",111,{"$f":"IF(D169=\"Ja\",'Q_del,j en Q_del,dh'!$D118,0)","v":0},{"$f":"IF(E169=\"Ja\",'Q_del,j en Q_del,dh'!$D118,0)","v":0},{"$f":"IF(F169=\"Ja\",'Q_del,j en Q_del,dh'!$D118,0)","v":0},{"$f":"IF(G169=\"Ja\",'Q_del,j en Q_del,dh'!$D118,0)","v":0},{"$f":"IF(H169=\"Ja\",'Q_del,j en Q_del,dh'!$D118,0)","v":0},{"$f":"IF(I169=\"Ja\",'Q_del,j en Q_del,dh'!$D118,0)","v":0},{"$f":"IF(J169=\"Ja\",'Q_del,j en Q_del,dh'!$D118,0)","v":0},{"$f":"IF(K169=\"Ja\",'Q_del,j en Q_del,dh'!$D118,0)","v":0},{"$f":"IF(L169=\"Ja\",'Q_del,j en Q_del,dh'!$D118,0)","v":0},{"$f":"IF(M169=\"Ja\",'Q_del,j en Q_del,dh'!$D118,0)","v":0},{"$f":"IF(N169=\"Ja\",'Q_del,j en Q_del,dh'!$D118,0)","v":0},{"$f":"IF(O169=\"Ja\",'Q_del,j en Q_del,dh'!$D118,0)","v":0},{"$f":"IF(P169=\"Ja\",'Q_del,j en Q_del,dh'!$D118,0)","v":0},{"$f":"IF(Q169=\"Ja\",'Q_del,j en Q_del,dh'!$D118,0)","v":0},{"$f":"IF(R169=\"Ja\",'Q_del,j en Q_del,dh'!$D118,0)","v":0},{"$f":"IF(S169=\"Ja\",'Q_del,j en Q_del,dh'!$D118,0)","v":0},{"$f":"IF(T169=\"Ja\",'Q_del,j en Q_del,dh'!$D118,0)","v":0},{"$f":"IF(U169=\"Ja\",'Q_del,j en Q_del,dh'!$D118,0)","v":0},{"$f":"IF(V169=\"Ja\",'Q_del,j en Q_del,dh'!$D118,0)","v":0},{"$f":"IF(W169=\"Ja\",'Q_del,j en Q_del,dh'!$D118,0)","v":0},{"$f":"IF(X169=\"Ja\",'Q_del,j en Q_del,dh'!$D118,0)","v":0},{"$f":"IF(Y169=\"Ja\",'Q_del,j en Q_del,dh'!$D118,0)","v":0},{"$f":"IF(Z169=\"Ja\",'Q_del,j en Q_del,dh'!$D118,0)","v":0},{"$f":"IF(AA169=\"Ja\",'Q_del,j en Q_del,dh'!$D118,0)","v":0},{"$f":"IF(AB169=\"Ja\",'Q_del,j en Q_del,dh'!$D118,0)","v":0},{"$f":"IF(AC169=\"Ja\",'Q_del,j en Q_del,dh'!$D118,0)","v":0},{"$f":"IF(AD169=\"Ja\",'Q_del,j en Q_del,dh'!$D118,0)","v":0},{"$f":"IF(AE169=\"Ja\",'Q_del,j en Q_del,dh'!$D118,0)","v":0},{"$f":"IF(AF169=\"Ja\",'Q_del,j en Q_del,dh'!$D118,0)","v":0},{"$f":"IF(AG169=\"Ja\",'Q_del,j en Q_del,dh'!$D118,0)","v":0},{"$f":"IF(AH169=\"Ja\",'Q_del,j en Q_del,dh'!$D118,0)","v":0},{"$f":"IF(AI169=\"Ja\",'Q_del,j en Q_del,dh'!$D118,0)","v":0},{"$f":"IF(AJ169=\"Ja\",'Q_del,j en Q_del,dh'!$D118,0)","v":0},{"$f":"IF(AK169=\"Ja\",'Q_del,j en Q_del,dh'!$D118,0)","v":0},{"$f":"IF(AL169=\"Ja\",'Q_del,j en Q_del,dh'!$D118,0)","v":0},{"$f":"IF(AM169=\"Ja\",'Q_del,j en Q_del,dh'!$D118,0)","v":0},{"$f":"IF(AN169=\"Ja\",'Q_del,j en Q_del,dh'!$D118,0)","v":0},{"$f":"IF(AO169=\"Ja\",'Q_del,j en Q_del,dh'!$D118,0)","v":0},{"$f":"IF(AP169=\"Ja\",'Q_del,j en Q_del,dh'!$D118,0)","v":0},{"$f":"IF(AQ169=\"Ja\",'Q_del,j en Q_del,dh'!$D118,0)","v":0},{"$f":"IF(AR169=\"Ja\",'Q_del,j en Q_del,dh'!$D118,0)","v":0},{"$f":"IF(AS169=\"Ja\",'Q_del,j en Q_del,dh'!$D118,0)","v":0},{"$f":"IF(AT169=\"Ja\",'Q_del,j en Q_del,dh'!$D118,0)","v":0},{"$f":"IF(AU169=\"Ja\",'Q_del,j en Q_del,dh'!$D118,0)","v":0},{"$f":"IF(AV169=\"Ja\",'Q_del,j en Q_del,dh'!$D118,0)","v":0},{"$f":"IF(AW169=\"Ja\",'Q_del,j en Q_del,dh'!$D118,0)","v":0},{"$f":"IF(AX169=\"Ja\",'Q_del,j en Q_del,dh'!$D118,0)","v":0},{"$f":"IF(AY169=\"Ja\",'Q_del,j en Q_del,dh'!$D118,0)","v":0},{"$f":"IF(AZ169=\"Ja\",'Q_del,j en Q_del,dh'!$D118,0)","v":0},{"$f":"IF(BA169=\"Ja\",'Q_del,j en Q_del,dh'!$D118,0)","v":0}]
["Qdel,l,j [MJ]","warmtevrager 112",112,{"$f":"IF(D170=\"Ja\",'Q_del,j en Q_del,dh'!$D119,0)","v":0},{"$f":"IF(E170=\"Ja\",'Q_del,j en Q_del,dh'!$D119,0)","v":0},{"$f":"IF(F170=\"Ja\",'Q_del,j en Q_del,dh'!$D119,0)","v":0},{"$f":"IF(G170=\"Ja\",'Q_del,j en Q_del,dh'!$D119,0)","v":0},{"$f":"IF(H170=\"Ja\",'Q_del,j en Q_del,dh'!$D119,0)","v":0},{"$f":"IF(I170=\"Ja\",'Q_del,j en Q_del,dh'!$D119,0)","v":0},{"$f":"IF(J170=\"Ja\",'Q_del,j en Q_del,dh'!$D119,0)","v":0},{"$f":"IF(K170=\"Ja\",'Q_del,j en Q_del,dh'!$D119,0)","v":0},{"$f":"IF(L170=\"Ja\",'Q_del,j en Q_del,dh'!$D119,0)","v":0},{"$f":"IF(M170=\"Ja\",'Q_del,j en Q_del,dh'!$D119,0)","v":0},{"$f":"IF(N170=\"Ja\",'Q_del,j en Q_del,dh'!$D119,0)","v":0},{"$f":"IF(O170=\"Ja\",'Q_del,j en Q_del,dh'!$D119,0)","v":0},{"$f":"IF(P170=\"Ja\",'Q_del,j en Q_del,dh'!$D119,0)","v":0},{"$f":"IF(Q170=\"Ja\",'Q_del,j en Q_del,dh'!$D119,0)","v":0},{"$f":"IF(R170=\"Ja\",'Q_del,j en Q_del,dh'!$D119,0)","v":0},{"$f":"IF(S170=\"Ja\",'Q_del,j en Q_del,dh'!$D119,0)","v":0},{"$f":"IF(T170=\"Ja\",'Q_del,j en Q_del,dh'!$D119,0)","v":0},{"$f":"IF(U170=\"Ja\",'Q_del,j en Q_del,dh'!$D119,0)","v":0},{"$f":"IF(V170=\"Ja\",'Q_del,j en Q_del,dh'!$D119,0)","v":0},{"$f":"IF(W170=\"Ja\",'Q_del,j en Q_del,dh'!$D119,0)","v":0},{"$f":"IF(X170=\"Ja\",'Q_del,j en Q_del,dh'!$D119,0)","v":0},{"$f":"IF(Y170=\"Ja\",'Q_del,j en Q_del,dh'!$D119,0)","v":0},{"$f":"IF(Z170=\"Ja\",'Q_del,j en Q_del,dh'!$D119,0)","v":0},{"$f":"IF(AA170=\"Ja\",'Q_del,j en Q_del,dh'!$D119,0)","v":0},{"$f":"IF(AB170=\"Ja\",'Q_del,j en Q_del,dh'!$D119,0)","v":0},{"$f":"IF(AC170=\"Ja\",'Q_del,j en Q_del,dh'!$D119,0)","v":0},{"$f":"IF(AD170=\"Ja\",'Q_del,j en Q_del,dh'!$D119,0)","v":0},{"$f":"IF(AE170=\"Ja\",'Q_del,j en Q_del,dh'!$D119,0)","v":0},{"$f":"IF(AF170=\"Ja\",'Q_del,j en Q_del,dh'!$D119,0)","v":0},{"$f":"IF(AG170=\"Ja\",'Q_del,j en Q_del,dh'!$D119,0)","v":0},{"$f":"IF(AH170=\"Ja\",'Q_del,j en Q_del,dh'!$D119,0)","v":0},{"$f":"IF(AI170=\"Ja\",'Q_del,j en Q_del,dh'!$D119,0)","v":0},{"$f":"IF(AJ170=\"Ja\",'Q_del,j en Q_del,dh'!$D119,0)","v":0},{"$f":"IF(AK170=\"Ja\",'Q_del,j en Q_del,dh'!$D119,0)","v":0},{"$f":"IF(AL170=\"Ja\",'Q_del,j en Q_del,dh'!$D119,0)","v":0},{"$f":"IF(AM170=\"Ja\",'Q_del,j en Q_del,dh'!$D119,0)","v":0},{"$f":"IF(AN170=\"Ja\",'Q_del,j en Q_del,dh'!$D119,0)","v":0},{"$f":"IF(AO170=\"Ja\",'Q_del,j en Q_del,dh'!$D119,0)","v":0},{"$f":"IF(AP170=\"Ja\",'Q_del,j en Q_del,dh'!$D119,0)","v":0},{"$f":"IF(AQ170=\"Ja\",'Q_del,j en Q_del,dh'!$D119,0)","v":0},{"$f":"IF(AR170=\"Ja\",'Q_del,j en Q_del,dh'!$D119,0)","v":0},{"$f":"IF(AS170=\"Ja\",'Q_del,j en Q_del,dh'!$D119,0)","v":0},{"$f":"IF(AT170=\"Ja\",'Q_del,j en Q_del,dh'!$D119,0)","v":0},{"$f":"IF(AU170=\"Ja\",'Q_del,j en Q_del,dh'!$D119,0)","v":0},{"$f":"IF(AV170=\"Ja\",'Q_del,j en Q_del,dh'!$D119,0)","v":0},{"$f":"IF(AW170=\"Ja\",'Q_del,j en Q_del,dh'!$D119,0)","v":0},{"$f":"IF(AX170=\"Ja\",'Q_del,j en Q_del,dh'!$D119,0)","v":0},{"$f":"IF(AY170=\"Ja\",'Q_del,j en Q_del,dh'!$D119,0)","v":0},{"$f":"IF(AZ170=\"Ja\",'Q_del,j en Q_del,dh'!$D119,0)","v":0},{"$f":"IF(BA170=\"Ja\",'Q_del,j en Q_del,dh'!$D119,0)","v":0}]
["Qdel,l,j [MJ]","warmtevrager 113",113,{"$f":"IF(D171=\"Ja\",'Q_del,j en Q_del,dh'!$D120,0)","v":0},{"$f":"IF(E171=\"Ja\",'Q_del,j en Q_del,dh'!$D120,0)","v":0},{"$f":"IF(F171=\"Ja\",'Q_del,j en Q_del,dh'!$D120,0)","v":0},{"$f":"IF(G171=\"Ja\",'Q_del,j en Q_del,dh'!$D120,0)","v":0},{"$f":"IF(H171=\"Ja\",'Q_del,j en Q_del,dh'!$D120,0)","v":0},{"$f":"IF(I171=\"Ja\",'Q_del,j en Q_del,dh'!$D120,0)","v":0},{"$f":"IF(J171=\"Ja\",'Q_del,j en Q_del,dh'!$D120,0)","v":0},{"$f":"IF(K171=\"Ja\",'Q_del,j en Q_del,dh'!$D120,0)","v":0},{"$f":"IF(L171=\"Ja\",'Q_del,j en Q_del,dh'!$D120,0)","v":0},{"$f":"IF(M171=\"Ja\",'Q_del,j en Q_del,dh'!$D120,0)","v":0},{"$f":"IF(N171=\"Ja\",'Q_del,j en Q_del,dh'!$D120,0)","v":0},{"$f":"IF(O171=\"Ja\",'Q_del,j en Q_del,dh'!$D120,0)","v":0},{"$f":"IF(P171=\"Ja\",'Q_del,j en Q_del,dh'!$D120,0)","v":0},{"$f":"IF(Q171=\"Ja\",'Q_del,j en Q_del,dh'!$D120,0)","v":0},{"$f":"IF(R171=\"Ja\",'Q_del,j en Q_del,dh'!$D120,0)","v":0},{"$f":"IF(S171=\"Ja\",'Q_del,j en Q_del,dh'!$D120,0)","v":0},{"$f":"IF(T171=\"Ja\",'Q_del,j en Q_del,dh'!$D120,0)","v":0},{"$f":"IF(U171=\"Ja\",'Q_del,j en Q_del,dh'!$D120,0)","v":0},{"$f":"IF(V171=\"Ja\",'Q_del,j en Q_del,dh'!$D120,0)","v":0},{"$f":"IF(W171=\"Ja\",'Q_del,j en Q_del,dh'!$D120,0)","v":0},{"$f":"IF(X171=\"Ja\",'Q_del,j en Q_del,dh'!$D120,0)","v":0},{"$f":"IF(Y171=\"Ja\",'Q_del,j en Q_del,dh'!$D120,0)","v":0},{"$f":"IF(Z171=\"Ja\",'Q_del,j en Q_del,dh'!$D120,0)","v":0},{"$f":"IF(AA171=\"Ja\",'Q_del,j en Q_del,dh'!$D120,0)","v":0},{"$f":"IF(AB171=\"Ja\",'Q_del,j en Q_del,dh'!$D120,0)","v":0},{"$f":"IF(AC171=\"Ja\",'Q_del,j en Q_del,dh'!$D120,0)","v":0},{"$f":"IF(AD171=\"Ja\",'Q_del,j en Q_del,dh'!$D120,0)","v":0},{"$f":"IF(AE171=\"Ja\",'Q_del,j en Q_del,dh'!$D120,0)","v":0},{"$f":"IF(AF171=\"Ja\",'Q_del,j en Q_del,dh'!$D120,0)","v":0},{"$f":"IF(AG171=\"Ja\",'Q_del,j en Q_del,dh'!$D120,0)","v":0},{"$f":"IF(AH171=\"Ja\",'Q_del,j en Q_del,dh'!$D120,0)","v":0},{"$f":"IF(AI171=\"Ja\",'Q_del,j en Q_del,dh'!$D120,0)","v":0},{"$f":"IF(AJ171=\"Ja\",'Q_del,j en Q_del,dh'!$D120,0)","v":0},{"$f":"IF(AK171=\"Ja\",'Q_del,j en Q_del,dh'!$D120,0)","v":0},{"$f":"IF(AL171=\"Ja\",'Q_del,j en Q_del,dh'!$D120,0)","v":0},{"$f":"IF(AM171=\"Ja\",'Q_del,j en Q_del,dh'!$D120,0)","v":0},{"$f":"IF(AN171=\"Ja\",'Q_del,j en Q_del,dh'!$D120,0)","v":0},{"$f":"IF(AO171=\"Ja\",'Q_del,j en Q_del,dh'!$D120,0)","v":0},{"$f":"IF(AP171=\"Ja\",'Q_del,j en Q_del,dh'!$D120,0)","v":0},{"$f":"IF(AQ171=\"Ja\",'Q_del,j en Q_del,dh'!$D120,0)","v":0},{"$f":"IF(AR171=\"Ja\",'Q_del,j en Q_del,dh'!$D120,0)","v":0},{"$f":"IF(AS171=\"Ja\",'Q_del,j en Q_del,dh'!$D120,0)","v":0},{"$f":"IF(AT171=\"Ja\",'Q_del,j en Q_del,dh'!$D120,0)","v":0},{"$f":"IF(AU171=\"Ja\",'Q_del,j en Q_del,dh'!$D120,0)","v":0},{"$f":"IF(AV171=\"Ja\",'Q_del,j en Q_del,dh'!$D120,0)","v":0},{"$f":"IF(AW171=\"Ja\",'Q_del,j en Q_del,dh'!$D120,0)","v":0},{"$f":"IF(AX171=\"Ja\",'Q_del,j en Q_del,dh'!$D120,0)","v":0},{"$f":"IF(AY171=\"Ja\",'Q_del,j en Q_del,dh'!$D120,0)","v":0},{"$f":"IF(AZ171=\"Ja\",'Q_del,j en Q_del,dh'!$D120,0)","v":0},{"$f":"IF(BA171=\"Ja\",'Q_del,j en Q_del,dh'!$D120,0)","v":0}]
["Qdel,l,j [MJ]","warmtevrager 114",114,{"$f":"IF(D172=\"Ja\",'Q_del,j en Q_del,dh'!$D121,0)","v":0},{"$f":"IF(E172=\"Ja\",'Q_del,j en Q_del,dh'!$D121,0)","v":0},{"$f":"IF(F172=\"Ja\",'Q_del,j en Q_del,dh'!$D121,0)","v":0},{"$f":"IF(G172=\"Ja\",'Q_del,j en Q_del,dh'!$D121,0)","v":0},{"$f":"IF(H172=\"Ja\",'Q_del,j en Q_del,dh'!$D121,0)","v":0},{"$f":"IF(I172=\"Ja\",'Q_del,j en Q_del,dh'!$D121,0)","v":0},{"$f":"IF(J172=\"Ja\",'Q_del,j en Q_del,dh'!$D121,0)","v":0},{"$f":"IF(K172=\"Ja\",'Q_del,j en Q_del,dh'!$D121,0)","v":0},{"$f":"IF(L172=\"Ja\",'Q_del,j en Q_del,dh'!$D121,0)","v":0},{"$f":"IF(M172=\"Ja\",'Q_del,j en Q_del,dh'!$D121,0)","v":0},{"$f":"IF(N172=\"Ja\",'Q_del,j en Q_del,dh'!$D121,0)","v":0},{"$f":"IF(O172=\"Ja\",'Q_del,j en Q_del,dh'!$D121,0)","v":0},{"$f":"IF(P172=\"Ja\",'Q_del,j en Q_del,dh'!$D121,0)","v":0},{"$f":"IF(Q172=\"Ja\",'Q_del,j en Q_del,dh'!$D121,0)","v":0},{"$f":"IF(R172=\"Ja\",'Q_del,j en Q_del,dh'!$D121,0)","v":0},{"$f":"IF(S172=\"Ja\",'Q_del,j en Q_del,dh'!$D121,0)","v":0},{"$f":"IF(T172=\"Ja\",'Q_del,j en Q_del,dh'!$D121,0)","v":0},{"$f":"IF(U172=\"Ja\",'Q_del,j en Q_del,dh'!$D121,0)","v":0},{"$f":"IF(V172=\"Ja\",'Q_del,j en Q_del,dh'!$D121,0)","v":0},{"$f":"IF(W172=\"Ja\",'Q_del,j en Q_del,dh'!$D121,0)","v":0},{"$f":"IF(X172=\"Ja\",'Q_del,j en Q_del,dh'!$D121,0)","v":0},{"$f":"IF(Y172=\"Ja\",'Q_del,j en Q_del,dh'!$D121,0)","v":0},{"$f":"IF(Z172=\"Ja\",'Q_del,j en Q_del,dh'!$D121,0)","v":0},{"$f":"IF(AA172=\"Ja\",'Q_del,j en Q_del,dh'!$D121,0)","v":0},{"$f":"IF(AB172=\"Ja\",'Q_del,j en Q_del,dh'!$D121,0)","v":0},{"$f":"IF(AC172=\"Ja\",'Q_del,j en Q_del,dh'!$D121,0)","v":0},{"$f":"IF(AD172=\"Ja\",'Q_del,j en Q_del,dh'!$D121,0)","v":0},{"$f":"IF(AE172=\"Ja\",'Q_del,j en Q_del,dh'!$D121,0)","v":0},{"$f":"IF(AF172=\"Ja\",'Q_del,j en Q_del,dh'!$D121,0)","v":0},{"$f":"IF(AG172=\"Ja\",'Q_del,j en Q_del,dh'!$D121,0)","v":0},{"$f":"IF(AH172=\"Ja\",'Q_del,j en Q_del,dh'!$D121,0)","v":0},{"$f":"IF(AI172=\"Ja\",'Q_del,j en Q_del,dh'!$D121,0)","v":0},{"$f":"IF(AJ172=\"Ja\",'Q_del,j en Q_del,dh'!$D121,0)","v":0},{"$f":"IF(AK172=\"Ja\",'Q_del,j en Q_del,dh'!$D121,0)","v":0},{"$f":"IF(AL172=\"Ja\",'Q_del,j en Q_del,dh'!$D121,0)","v":0},{"$f":"IF(AM172=\"Ja\",'Q_del,j en Q_del,dh'!$D121,0)","v":0},{"$f":"IF(AN172=\"Ja\",'Q_del,j en Q_del,dh'!$D121,0)","v":0},{"$f":"IF(AO172=\"Ja\",'Q_del,j en Q_del,dh'!$D121,0)","v":0},{"$f":"IF(AP172=\"Ja\",'Q_del,j en Q_del,dh'!$D121,0)","v":0},{"$f":"IF(AQ172=\"Ja\",'Q_del,j en Q_del,dh'!$D121,0)","v":0},{"$f":"IF(AR172=\"Ja\",'Q_del,j en Q_del,dh'!$D121,0)","v":0},{"$f":"IF(AS172=\"Ja\",'Q_del,j en Q_del,dh'!$D121,0)","v":0},{"$f":"IF(AT172=\"Ja\",'Q_del,j en Q_del,dh'!$D121,0)","v":0},{"$f":"IF(AU172=\"Ja\",'Q_del,j en Q_del,dh'!$D121,0)","v":0},{"$f":"IF(AV172=\"Ja\",'Q_del,j en Q_del,dh'!$D121,0)","v":0},{"$f":"IF(AW172=\"Ja\",'Q_del,j en Q_del,dh'!$D121,0)","v":0},{"$f":"IF(AX172=\"Ja\",'Q_del,j en Q_del,dh'!$D121,0)","v":0},{"$f":"IF(AY172=\"Ja\",'Q_del,j en Q_del,dh'!$D121,0)","v":0},{"$f":"IF(AZ172=\"Ja\",'Q_del,j en Q_del,dh'!$D121,0)","v":0},{"$f":"IF(BA172=\"Ja\",'Q_del,j en Q_del,dh'!$D121,0)","v":0}]
["Qdel,l,j [MJ]","warmtevrager 115",115,{"$f":"IF(D173=\"Ja\",'Q_del,j en Q_del,dh'!$D122,0)","v":0},{"$f":"IF(E173=\"Ja\",'Q_del,j en Q_del,dh'!$D122,0)","v":0},{"$f":"IF(F173=\"Ja\",'Q_del,j en Q_del,dh'!$D122,0)","v":0},{"$f":"IF(G173=\"Ja\",'Q_del,j en Q_del,dh'!$D122,0)","v":0},{"$f":"IF(H173=\"Ja\",'Q_del,j en Q_del,dh'!$D122,0)","v":0},{"$f":"IF(I173=\"Ja\",'Q_del,j en Q_del,dh'!$D122,0)","v":0},{"$f":"IF(J173=\"Ja\",'Q_del,j en Q_del,dh'!$D122,0)","v":0},{"$f":"IF(K173=\"Ja\",'Q_del,j en Q_del,dh'!$D122,0)","v":0},{"$f":"IF(L173=\"Ja\",'Q_del,j en Q_del,dh'!$D122,0)","v":0},{"$f":"IF(M173=\"Ja\",'Q_del,j en Q_del,dh'!$D122,0)","v":0},{"$f":"IF(N173=\"Ja\",'Q_del,j en Q_del,dh'!$D122,0)","v":0},{"$f":"IF(O173=\"Ja\",'Q_del,j en Q_del,dh'!$D122,0)","v":0},{"$f":"IF(P173=\"Ja\",'Q_del,j en Q_del,dh'!$D122,0)","v":0},{"$f":"IF(Q173=\"Ja\",'Q_del,j en Q_del,dh'!$D122,0)","v":0},{"$f":"IF(R173=\"Ja\",'Q_del,j en Q_del,dh'!$D122,0)","v":0},{"$f":"IF(S173=\"Ja\",'Q_del,j en Q_del,dh'!$D122,0)","v":0},{"$f":"IF(T173=\"Ja\",'Q_del,j en Q_del,dh'!$D122,0)","v":0},{"$f":"IF(U173=\"Ja\",'Q_del,j en Q_del,dh'!$D122,0)","v":0},{"$f":"IF(V173=\"Ja\",'Q_del,j en Q_del,dh'!$D122,0)","v":0},{"$f":"IF(W173=\"Ja\",'Q_del,j en Q_del,dh'!$D122,0)","v":0},{"$f":"IF(X173=\"Ja\",'Q_del,j en Q_del,dh'!$D122,0)","v":0},{"$f":"IF(Y173=\"Ja\",'Q_del,j en Q_del,dh'!$D122,0)","v":0},{"$f":"IF(Z173=\"Ja\",'Q_del,j en Q_del,dh'!$D122,0)","v":0},{"$f":"IF(AA173=\"Ja\",'Q_del,j en Q_del,dh'!$D122,0)","v":0},{"$f":"IF(AB173=\"Ja\",'Q_del,j en Q_del,dh'!$D122,0)","v":0},{"$f":"IF(AC173=\"Ja\",'Q_del,j en Q_del,dh'!$D122,0)","v":0},{"$f":"IF(AD173=\"Ja\",'Q_del,j en Q_del,dh'!$D122,0)","v":0},{"$f":"IF(AE173=\"Ja\",'Q_del,j en Q_del,dh'!$D122,0)","v":0},{"$f":"IF(AF173=\"Ja\",'Q_del,j en Q_del,dh'!$D122,0)","v":0},{"$f":"IF(AG173=\"Ja\",'Q_del,j en Q_del,dh'!$D122,0)","v":0},{"$f":"IF(AH173=\"Ja\",'Q_del,j en Q_del,dh'!$D122,0)","v":0},{"$f":"IF(AI173=\"Ja\",'Q_del,j en Q_del,dh'!$D122,0)","v":0},{"$f":"IF(AJ173=\"Ja\",'Q_del,j en Q_del,dh'!$D122,0)","v":0},{"$f":"IF(AK173=\"Ja\",'Q_del,j en Q_del,dh'!$D122,0)","v":0},{"$f":"IF(AL173=\"Ja\",'Q_del,j en Q_del,dh'!$D122,0)","v":0},{"$f":"IF(AM173=\"Ja\",'Q_del,j en Q_del,dh'!$D122,0)","v":0},{"$f":"IF(AN173=\"Ja\",'Q_del,j en Q_del,dh'!$D122,0)","v":0},{"$f":"IF(AO173=\"Ja\",'Q_del,j en Q_del,dh'!$D122,0)","v":0},{"$f":"IF(AP173=\"Ja\",'Q_del,j en Q_del,dh'!$D122,0)","v":0},{"$f":"IF(AQ173=\"Ja\",'Q_del,j en Q_del,dh'!$D122,0)","v":0},{"$f":"IF(AR173=\"Ja\",'Q_del,j en Q_del,dh'!$D122,0)","v":0},{"$f":"IF(AS173=\"Ja\",'Q_del,j en Q_del,dh'!$D122,0)","v":0},{"$f":"IF(AT173=\"Ja\",'Q_del,j en Q_del,dh'!$D122,0)","v":0},{"$f":"IF(AU173=\"Ja\",'Q_del,j en Q_del,dh'!$D122,0)","v":0},{"$f":"IF(AV173=\"Ja\",'Q_del,j en Q_del,dh'!$D122,0)","v":0},{"$f":"IF(AW173=\"Ja\",'Q_del,j en Q_del,dh'!$D122,0)","v":0},{"$f":"IF(AX173=\"Ja\",'Q_del,j en Q_del,dh'!$D122,0)","v":0},{"$f":"IF(AY173=\"Ja\",'Q_del,j en Q_del,dh'!$D122,0)","v":0},{"$f":"IF(AZ173=\"Ja\",'Q_del,j en Q_del,dh'!$D122,0)","v":0},{"$f":"IF(BA173=\"Ja\",'Q_del,j en Q_del,dh'!$D122,0)","v":0}]
["Qdel,l,j [MJ]","warmtevrager 116",116,{"$f":"IF(D174=\"Ja\",'Q_del,j en Q_del,dh'!$D123,0)","v":0},{"$f":"IF(E174=\"Ja\",'Q_del,j en Q_del,dh'!$D123,0)","v":0},{"$f":"IF(F174=\"Ja\",'Q_del,j en Q_del,dh'!$D123,0)","v":0},{"$f":"IF(G174=\"Ja\",'Q_del,j en Q_del,dh'!$D123,0)","v":0},{"$f":"IF(H174=\"Ja\",'Q_del,j en Q_del,dh'!$D123,0)","v":0},{"$f":"IF(I174=\"Ja\",'Q_del,j en Q_del,dh'!$D123,0)","v":0},{"$f":"IF(J174=\"Ja\",'Q_del,j en Q_del,dh'!$D123,0)","v":0},{"$f":"IF(K174=\"Ja\",'Q_del,j en Q_del,dh'!$D123,0)","v":0},{"$f":"IF(L174=\"Ja\",'Q_del,j en Q_del,dh'!$D123,0)","v":0},{"$f":"IF(M174=\"Ja\",'Q_del,j en Q_del,dh'!$D123,0)","v":0},{"$f":"IF(N174=\"Ja\",'Q_del,j en Q_del,dh'!$D123,0)","v":0},{"$f":"IF(O174=\"Ja\",'Q_del,j en Q_del,dh'!$D123,0)","v":0},{"$f":"IF(P174=\"Ja\",'Q_del,j en Q_del,dh'!$D123,0)","v":0},{"$f":"IF(Q174=\"Ja\",'Q_del,j en Q_del,dh'!$D123,0)","v":0},{"$f":"IF(R174=\"Ja\",'Q_del,j en Q_del,dh'!$D123,0)","v":0},{"$f":"IF(S174=\"Ja\",'Q_del,j en Q_del,dh'!$D123,0)","v":0},{"$f":"IF(T174=\"Ja\",'Q_del,j en Q_del,dh'!$D123,0)","v":0},{"$f":"IF(U174=\"Ja\",'Q_del,j en Q_del,dh'!$D123,0)","v":0},{"$f":"IF(V174=\"Ja\",'Q_del,j en Q_del,dh'!$D123,0)","v":0},{"$f":"IF(W174=\"Ja\",'Q_del,j en Q_del,dh'!$D123,0)","v":0},{"$f":"IF(X174=\"Ja\",'Q_del,j en Q_del,dh'!$D123,0)","v":0},{"$f":"IF(Y174=\"Ja\",'Q_del,j en Q_del,dh'!$D123,0)","v":0},{"$f":"IF(Z174=\"Ja\",'Q_del,j en Q_del,dh'!$D123,0)","v":0},{"$f":"IF(AA174=\"Ja\",'Q_del,j en Q_del,dh'!$D123,0)","v":0},{"$f":"IF(AB174=\"Ja\",'Q_del,j en Q_del,dh'!$D123,0)","v":0},{"$f":"IF(AC174=\"Ja\",'Q_del,j en Q_del,dh'!$D123,0)","v":0},{"$f":"IF(AD174=\"Ja\",'Q_del,j en Q_del,dh'!$D123,0)","v":0},{"$f":"IF(AE174=\"Ja\",'Q_del,j en Q_del,dh'!$D123,0)","v":0},{"$f":"IF(AF174=\"Ja\",'Q_del,j en Q_del,dh'!$D123,0)","v":0},{"$f":"IF(AG174=\"Ja\",'Q_del,j en Q_del,dh'!$D123,0)","v":0},{"$f":"IF(AH174=\"Ja\",'Q_del,j en Q_del,dh'!$D123,0)","v":0},{"$f":"IF(AI174=\"Ja\",'Q_del,j en Q_del,dh'!$D123,0)","v":0},{"$f":"IF(AJ174=\"Ja\",'Q_del,j en Q_del,dh'!$D123,0)","v":0},{"$f":"IF(AK174=\"Ja\",'Q_del,j en Q_del,dh'!$D123,0)","v":0},{"$f":"IF(AL174=\"Ja\",'Q_del,j en Q_del,dh'!$D123,0)","v":0},{"$f":"IF(AM174=\"Ja\",'Q_del,j en Q_del,dh'!$D123,0)","v":0},{"$f":"IF(AN174=\"Ja\",'Q_del,j en Q_del,dh'!$D123,0)","v":0},{"$f":"IF(AO174=\"Ja\",'Q_del,j en Q_del,dh'!$D123,0)","v":0},{"$f":"IF(AP174=\"Ja\",'Q_del,j en Q_del,dh'!$D123,0)","v":0},{"$f":"IF(AQ174=\"Ja\",'Q_del,j en Q_del,dh'!$D123,0)","v":0},{"$f":"IF(AR174=\"Ja\",'Q_del,j en Q_del,dh'!$D123,0)","v":0},{"$f":"IF(AS174=\"Ja\",'Q_del,j en Q_del,dh'!$D123,0)","v":0},{"$f":"IF(AT174=\"Ja\",'Q_del,j en Q_del,dh'!$D123,0)","v":0},{"$f":"IF(AU174=\"Ja\",'Q_del,j en Q_del,dh'!$D123,0)","v":0},{"$f":"IF(AV174=\"Ja\",'Q_del,j en Q_del,dh'!$D123,0)","v":0},{"$f":"IF(AW174=\"Ja\",'Q_del,j en Q_del,dh'!$D123,0)","v":0},{"$f":"IF(AX174=\"Ja\",'Q_del,j en Q_del,dh'!$D123,0)","v":0},{"$f":"IF(AY174=\"Ja\",'Q_del,j en Q_del,dh'!$D123,0)","v":0},{"$f":"IF(AZ174=\"Ja\",'Q_del,j en Q_del,dh'!$D123,0)","v":0},{"$f":"IF(BA174=\"Ja\",'Q_del,j en Q_del,dh'!$D123,0)","v":0}]
["Qdel,l,j [MJ]","warmtevrager 117",117,{"$f":"IF(D175=\"Ja\",'Q_del,j en Q_del,dh'!$D124,0)","v":0},{"$f":"IF(E175=\"Ja\",'Q_del,j en Q_del,dh'!$D124,0)","v":0},{"$f":"IF(F175=\"Ja\",'Q_del,j en Q_del,dh'!$D124,0)","v":0},{"$f":"IF(G175=\"Ja\",'Q_del,j en Q_del,dh'!$D124,0)","v":0},{"$f":"IF(H175=\"Ja\",'Q_del,j en Q_del,dh'!$D124,0)","v":0},{"$f":"IF(I175=\"Ja\",'Q_del,j en Q_del,dh'!$D124,0)","v":0},{"$f":"IF(J175=\"Ja\",'Q_del,j en Q_del,dh'!$D124,0)","v":0},{"$f":"IF(K175=\"Ja\",'Q_del,j en Q_del,dh'!$D124,0)","v":0},{"$f":"IF(L175=\"Ja\",'Q_del,j en Q_del,dh'!$D124,0)","v":0},{"$f":"IF(M175=\"Ja\",'Q_del,j en Q_del,dh'!$D124,0)","v":0},{"$f":"IF(N175=\"Ja\",'Q_del,j en Q_del,dh'!$D124,0)","v":0},{"$f":"IF(O175=\"Ja\",'Q_del,j en Q_del,dh'!$D124,0)","v":0},{"$f":"IF(P175=\"Ja\",'Q_del,j en Q_del,dh'!$D124,0)","v":0},{"$f":"IF(Q175=\"Ja\",'Q_del,j en Q_del,dh'!$D124,0)","v":0},{"$f":"IF(R175=\"Ja\",'Q_del,j en Q_del,dh'!$D124,0)","v":0},{"$f":"IF(S175=\"Ja\",'Q_del,j en Q_del,dh'!$D124,0)","v":0},{"$f":"IF(T175=\"Ja\",'Q_del,j en Q_del,dh'!$D124,0)","v":0},{"$f":"IF(U175=\"Ja\",'Q_del,j en Q_del,dh'!$D124,0)","v":0},{"$f":"IF(V175=\"Ja\",'Q_del,j en Q_del,dh'!$D124,0)","v":0},{"$f":"IF(W175=\"Ja\",'Q_del,j en Q_del,dh'!$D124,0)","v":0},{"$f":"IF(X175=\"Ja\",'Q_del,j en Q_del,dh'!$D124,0)","v":0},{"$f":"IF(Y175=\"Ja\",'Q_del,j en Q_del,dh'!$D124,0)","v":0},{"$f":"IF(Z175=\"Ja\",'Q_del,j en Q_del,dh'!$D124,0)","v":0},{"$f":"IF(AA175=\"Ja\",'Q_del,j en Q_del,dh'!$D124,0)","v":0},{"$f":"IF(AB175=\"Ja\",'Q_del,j en Q_del,dh'!$D124,0)","v":0},{"$f":"IF(AC175=\"Ja\",'Q_del,j en Q_del,dh'!$D124,0)","v":0},{"$f":"IF(AD175=\"Ja\",'Q_del,j en Q_del,dh'!$D124,0)","v":0},{"$f":"IF(AE175=\"Ja\",'Q_del,j en Q_del,dh'!$D124,0)","v":0},{"$f":"IF(AF175=\"Ja\",'Q_del,j en Q_del,dh'!$D124,0)","v":0},{"$f":"IF(AG175=\"Ja\",'Q_del,j en Q_del,dh'!$D124,0)","v":0},{"$f":"IF(AH175=\"Ja\",'Q_del,j en Q_del,dh'!$D124,0)","v":0},{"$f":"IF(AI175=\"Ja\",'Q_del,j en Q_del,dh'!$D124,0)","v":0},{"$f":"IF(AJ175=\"Ja\",'Q_del,j en Q_del,dh'!$D124,0)","v":0},{"$f":"IF(AK175=\"Ja\",'Q_del,j en Q_del,dh'!$D124,0)","v":0},{"$f":"IF(AL175=\"Ja\",'Q_del,j en Q_del,dh'!$D124,0)","v":0},{"$f":"IF(AM175=\"Ja\",'Q_del,j en Q_del,dh'!$D124,0)","v":0},{"$f":"IF(AN175=\"Ja\",'Q_del,j en Q_del,dh'!$D124,0)","v":0},{"$f":"IF(AO175=\"Ja\",'Q_del,j en Q_del,dh'!$D124,0)","v":0},{"$f":"IF(AP175=\"Ja\",'Q_del,j en Q_del,dh'!$D124,0)","v":0},{"$f":"IF(AQ175=\"Ja\",'Q_del,j en Q_del,dh'!$D124,0)","v":0},{"$f":"IF(AR175=\"Ja\",'Q_del,j en Q_del,dh'!$D124,0)","v":0},{"$f":"IF(AS175=\"Ja\",'Q_del,j en Q_del,dh'!$D124,0)","v":0},{"$f":"IF(AT175=\"Ja\",'Q_del,j en Q_del,dh'!$D124,0)","v":0},{"$f":"IF(AU175=\"Ja\",'Q_del,j en Q_del,dh'!$D124,0)","v":0},{"$f":"IF(AV175=\"Ja\",'Q_del,j en Q_del,dh'!$D124,0)","v":0},{"$f":"IF(AW175=\"Ja\",'Q_del,j en Q_del,dh'!$D124,0)","v":0},{"$f":"IF(AX175=\"Ja\",'Q_del,j en Q_del,dh'!$D124,0)","v":0},{"$f":"IF(AY175=\"Ja\",'Q_del,j en Q_del,dh'!$D124,0)","v":0},{"$f":"IF(AZ175=\"Ja\",'Q_del,j en Q_del,dh'!$D124,0)","v":0},{"$f":"IF(BA175=\"Ja\",'Q_del,j en Q_del,dh'!$D124,0)","v":0}]
["Qdel,l,j [MJ]","warmtevrager 118",118,{"$f":"IF(D176=\"Ja\",'Q_del,j en Q_del,dh'!$D125,0)","v":0},{"$f":"IF(E176=\"Ja\",'Q_del,j en Q_del,dh'!$D125,0)","v":0},{"$f":"IF(F176=\"Ja\",'Q_del,j en Q_del,dh'!$D125,0)","v":0},{"$f":"IF(G176=\"Ja\",'Q_del,j en Q_del,dh'!$D125,0)","v":0},{"$f":"IF(H176=\"Ja\",'Q_del,j en Q_del,dh'!$D125,0)","v":0},{"$f":"IF(I176=\"Ja\",'Q_del,j en Q_del,dh'!$D125,0)","v":0},{"$f":"IF(J176=\"Ja\",'Q_del,j en Q_del,dh'!$D125,0)","v":0},{"$f":"IF(K176=\"Ja\",'Q_del,j en Q_del,dh'!$D125,0)","v":0},{"$f":"IF(L176=\"Ja\",'Q_del,j en Q_del,dh'!$D125,0)","v":0},{"$f":"IF(M176=\"Ja\",'Q_del,j en Q_del,dh'!$D125,0)","v":0},{"$f":"IF(N176=\"Ja\",'Q_del,j en Q_del,dh'!$D125,0)","v":0},{"$f":"IF(O176=\"Ja\",'Q_del,j en Q_del,dh'!$D125,0)","v":0},{"$f":"IF(P176=\"Ja\",'Q_del,j en Q_del,dh'!$D125,0)","v":0},{"$f":"IF(Q176=\"Ja\",'Q_del,j en Q_del,dh'!$D125,0)","v":0},{"$f":"IF(R176=\"Ja\",'Q_del,j en Q_del,dh'!$D125,0)","v":0},{"$f":"IF(S176=\"Ja\",'Q_del,j en Q_del,dh'!$D125,0)","v":0},{"$f":"IF(T176=\"Ja\",'Q_del,j en Q_del,dh'!$D125,0)","v":0},{"$f":"IF(U176=\"Ja\",'Q_del,j en Q_del,dh'!$D125,0)","v":0},{"$f":"IF(V176=\"Ja\",'Q_del,j en Q_del,dh'!$D125,0)","v":0},{"$f":"IF(W176=\"Ja\",'Q_del,j en Q_del,dh'!$D125,0)","v":0},{"$f":"IF(X176=\"Ja\",'Q_del,j en Q_del,dh'!$D125,0)","v":0},{"$f":"IF(Y176=\"Ja\",'Q_del,j en Q_del,dh'!$D125,0)","v":0},{"$f":"IF(Z176=\"Ja\",'Q_del,j en Q_del,dh'!$D125,0)","v":0},{"$f":"IF(AA176=\"Ja\",'Q_del,j en Q_del,dh'!$D125,0)","v":0},{"$f":"IF(AB176=\"Ja\",'Q_del,j en Q_del,dh'!$D125,0)","v":0},{"$f":"IF(AC176=\"Ja\",'Q_del,j en Q_del,dh'!$D125,0)","v":0},{"$f":"IF(AD176=\"Ja\",'Q_del,j en Q_del,dh'!$D125,0)","v":0},{"$f":"IF(AE176=\"Ja\",'Q_del,j en Q_del,dh'!$D125,0)","v":0},{"$f":"IF(AF176=\"Ja\",'Q_del,j en Q_del,dh'!$D125,0)","v":0},{"$f":"IF(AG176=\"Ja\",'Q_del,j en Q_del,dh'!$D125,0)","v":0},{"$f":"IF(AH176=\"Ja\",'Q_del,j en Q_del,dh'!$D125,0)","v":0},{"$f":"IF(AI176=\"Ja\",'Q_del,j en Q_del,dh'!$D125,0)","v":0},{"$f":"IF(AJ176=\"Ja\",'Q_del,j en Q_del,dh'!$D125,0)","v":0},{"$f":"IF(AK176=\"Ja\",'Q_del,j en Q_del,dh'!$D125,0)","v":0},{"$f":"IF(AL176=\"Ja\",'Q_del,j en Q_del,dh'!$D125,0)","v":0},{"$f":"IF(AM176=\"Ja\",'Q_del,j en Q_del,dh'!$D125,0)","v":0},{"$f":"IF(AN176=\"Ja\",'Q_del,j en Q_del,dh'!$D125,0)","v":0},{"$f":"IF(AO176=\"Ja\",'Q_del,j en Q_del,dh'!$D125,0)","v":0},{"$f":"IF(AP176=\"Ja\",'Q_del,j en Q_del,dh'!$D125,0)","v":0},{"$f":"IF(AQ176=\"Ja\",'Q_del,j en Q_del,dh'!$D125,0)","v":0},{"$f":"IF(AR176=\"Ja\",'Q_del,j en Q_del,dh'!$D125,0)","v":0},{"$f":"IF(AS176=\"Ja\",'Q_del,j en Q_del,dh'!$D125,0)","v":0},{"$f":"IF(AT176=\"Ja\",'Q_del,j en Q_del,dh'!$D125,0)","v":0},{"$f":"IF(AU176=\"Ja\",'Q_del,j en Q_del,dh'!$D125,0)","v":0},{"$f":"IF(AV176=\"Ja\",'Q_del,j en Q_del,dh'!$D125,0)","v":0},{"$f":"IF(AW176=\"Ja\",'Q_del,j en Q_del,dh'!$D125,0)","v":0},{"$f":"IF(AX176=\"Ja\",'Q_del,j en Q_del,dh'!$D125,0)","v":0},{"$f":"IF(AY176=\"Ja\",'Q_del,j en Q_del,dh'!$D125,0)","v":0},{"$f":"IF(AZ176=\"Ja\",'Q_del,j en Q_del,dh'!$D125,0)","v":0},{"$f":"IF(BA176=\"Ja\",'Q_del,j en Q_del,dh'!$D125,0)","v":0}]
["Qdel,l,j [MJ]","warmtevrager 119",119,{"$f":"IF(D177=\"Ja\",'Q_del,j en Q_del,dh'!$D126,0)","v":0},{"$f":"IF(E177=\"Ja\",'Q_del,j en Q_del,dh'!$D126,0)","v":0},{"$f":"IF(F177=\"Ja\",'Q_del,j en Q_del,dh'!$D126,0)","v":0},{"$f":"IF(G177=\"Ja\",'Q_del,j en Q_del,dh'!$D126,0)","v":0},{"$f":"IF(H177=\"Ja\",'Q_del,j en Q_del,dh'!$D126,0)","v":0},{"$f":"IF(I177=\"Ja\",'Q_del,j en Q_del,dh'!$D126,0)","v":0},{"$f":"IF(J177=\"Ja\",'Q_del,j en Q_del,dh'!$D126,0)","v":0},{"$f":"IF(K177=\"Ja\",'Q_del,j en Q_del,dh'!$D126,0)","v":0},{"$f":"IF(L177=\"Ja\",'Q_del,j en Q_del,dh'!$D126,0)","v":0},{"$f":"IF(M177=\"Ja\",'Q_del,j en Q_del,dh'!$D126,0)","v":0},{"$f":"IF(N177=\"Ja\",'Q_del,j en Q_del,dh'!$D126,0)","v":0},{"$f":"IF(O177=\"Ja\",'Q_del,j en Q_del,dh'!$D126,0)","v":0},{"$f":"IF(P177=\"Ja\",'Q_del,j en Q_del,dh'!$D126,0)","v":0},{"$f":"IF(Q177=\"Ja\",'Q_del,j en Q_del,dh'!$D126,0)","v":0},{"$f":"IF(R177=\"Ja\",'Q_del,j en Q_del,dh'!$D126,0)","v":0},{"$f":"IF(S177=\"Ja\",'Q_del,j en Q_del,dh'!$D126,0)","v":0},{"$f":"IF(T177=\"Ja\",'Q_del,j en Q_del,dh'!$D126,0)","v":0},{"$f":"IF(U177=\"Ja\",'Q_del,j en Q_del,dh'!$D126,0)","v":0},{"$f":"IF(V177=\"Ja\",'Q_del,j en Q_del,dh'!$D126,0)","v":0},{"$f":"IF(W177=\"Ja\",'Q_del,j en Q_del,dh'!$D126,0)","v":0},{"$f":"IF(X177=\"Ja\",'Q_del,j en Q_del,dh'!$D126,0)","v":0},{"$f":"IF(Y177=\"Ja\",'Q_del,j en Q_del,dh'!$D126,0)","v":0},{"$f":"IF(Z177=\"Ja\",'Q_del,j en Q_del,dh'!$D126,0)","v":0},{"$f":"IF(AA177=\"Ja\",'Q_del,j en Q_del,dh'!$D126,0)","v":0},{"$f":"IF(AB177=\"Ja\",'Q_del,j en Q_del,dh'!$D126,0)","v":0},{"$f":"IF(AC177=\"Ja\",'Q_del,j en Q_del,dh'!$D126,0)","v":0},{"$f":"IF(AD177=\"Ja\",'Q_del,j en Q_del,dh'!$D126,0)","v":0},{"$f":"IF(AE177=\"Ja\",'Q_del,j en Q_del,dh'!$D126,0)","v":0},{"$f":"IF(AF177=\"Ja\",'Q_del,j en Q_del,dh'!$D126,0)","v":0},{"$f":"IF(AG177=\"Ja\",'Q_del,j en Q_del,dh'!$D126,0)","v":0},{"$f":"IF(AH177=\"Ja\",'Q_del,j en Q_del,dh'!$D126,0)","v":0},{"$f":"IF(AI177=\"Ja\",'Q_del,j en Q_del,dh'!$D126,0)","v":0},{"$f":"IF(AJ177=\"Ja\",'Q_del,j en Q_del,dh'!$D126,0)","v":0},{"$f":"IF(AK177=\"Ja\",'Q_del,j en Q_del,dh'!$D126,0)","v":0},{"$f":"IF(AL177=\"Ja\",'Q_del,j en Q_del,dh'!$D126,0)","v":0},{"$f":"IF(AM177=\"Ja\",'Q_del,j en Q_del,dh'!$D126,0)","v":0},{"$f":"IF(AN177=\"Ja\",'Q_del,j en Q_del,dh'!$D126,0)","v":0},{"$f":"IF(AO177=\"Ja\",'Q_del,j en Q_del,dh'!$D126,0)","v":0},{"$f":"IF(AP177=\"Ja\",'Q_del,j en Q_del,dh'!$D126,0)","v":0},{"$f":"IF(AQ177=\"Ja\",'Q_del,j en Q_del,dh'!$D126,0)","v":0},{"$f":"IF(AR177=\"Ja\",'Q_del,j en Q_del,dh'!$D126,0)","v":0},{"$f":"IF(AS177=\"Ja\",'Q_del,j en Q_del,dh'!$D126,0)","v":0},{"$f":"IF(AT177=\"Ja\",'Q_del,j en Q_del,dh'!$D126,0)","v":0},{"$f":"IF(AU177=\"Ja\",'Q_del,j en Q_del,dh'!$D126,0)","v":0},{"$f":"IF(AV177=\"Ja\",'Q_del,j en Q_del,dh'!$D126,0)","v":0},{"$f":"IF(AW177=\"Ja\",'Q_del,j en Q_del,dh'!$D126,0)","v":0},{"$f":"IF(AX177=\"Ja\",'Q_del,j en Q_del,dh'!$D126,0)","v":0},{"$f":"IF(AY177=\"Ja\",'Q_del,j en Q_del,dh'!$D126,0)","v":0},{"$f":"IF(AZ177=\"Ja\",'Q_del,j en Q_del,dh'!$D126,0)","v":0},{"$f":"IF(BA177=\"Ja\",'Q_del,j en Q_del,dh'!$D126,0)","v":0}]
["Qdel,l,j [MJ]","warmtevrager 120",120,{"$f":"IF(D178=\"Ja\",'Q_del,j en Q_del,dh'!$D127,0)","v":0},{"$f":"IF(E178=\"Ja\",'Q_del,j en Q_del,dh'!$D127,0)","v":0},{"$f":"IF(F178=\"Ja\",'Q_del,j en Q_del,dh'!$D127,0)","v":0},{"$f":"IF(G178=\"Ja\",'Q_del,j en Q_del,dh'!$D127,0)","v":0},{"$f":"IF(H178=\"Ja\",'Q_del,j en Q_del,dh'!$D127,0)","v":0},{"$f":"IF(I178=\"Ja\",'Q_del,j en Q_del,dh'!$D127,0)","v":0},{"$f":"IF(J178=\"Ja\",'Q_del,j en Q_del,dh'!$D127,0)","v":0},{"$f":"IF(K178=\"Ja\",'Q_del,j en Q_del,dh'!$D127,0)","v":0},{"$f":"IF(L178=\"Ja\",'Q_del,j en Q_del,dh'!$D127,0)","v":0},{"$f":"IF(M178=\"Ja\",'Q_del,j en Q_del,dh'!$D127,0)","v":0},{"$f":"IF(N178=\"Ja\",'Q_del,j en Q_del,dh'!$D127,0)","v":0},{"$f":"IF(O178=\"Ja\",'Q_del,j en Q_del,dh'!$D127,0)","v":0},{"$f":"IF(P178=\"Ja\",'Q_del,j en Q_del,dh'!$D127,0)","v":0},{"$f":"IF(Q178=\"Ja\",'Q_del,j en Q_del,dh'!$D127,0)","v":0},{"$f":"IF(R178=\"Ja\",'Q_del,j en Q_del,dh'!$D127,0)","v":0},{"$f":"IF(S178=\"Ja\",'Q_del,j en Q_del,dh'!$D127,0)","v":0},{"$f":"IF(T178=\"Ja\",'Q_del,j en Q_del,dh'!$D127,0)","v":0},{"$f":"IF(U178=\"Ja\",'Q_del,j en Q_del,dh'!$D127,0)","v":0},{"$f":"IF(V178=\"Ja\",'Q_del,j en Q_del,dh'!$D127,0)","v":0},{"$f":"IF(W178=\"Ja\",'Q_del,j en Q_del,dh'!$D127,0)","v":0},{"$f":"IF(X178=\"Ja\",'Q_del,j en Q_del,dh'!$D127,0)","v":0},{"$f":"IF(Y178=\"Ja\",'Q_del,j en Q_del,dh'!$D127,0)","v":0},{"$f":"IF(Z178=\"Ja\",'Q_del,j en Q_del,dh'!$D127,0)","v":0},{"$f":"IF(AA178=\"Ja\",'Q_del,j en Q_del,dh'!$D127,0)","v":0},{"$f":"IF(AB178=\"Ja\",'Q_del,j en Q_del,dh'!$D127,0)","v":0},{"$f":"IF(AC178=\"Ja\",'Q_del,j en Q_del,dh'!$D127,0)","v":0},{"$f":"IF(AD178=\"Ja\",'Q_del,j en Q_del,dh'!$D127,0)","v":0},{"$f":"IF(AE178=\"Ja\",'Q_del,j en Q_del,dh'!$D127,0)","v":0},{"$f":"IF(AF178=\"Ja\",'Q_del,j en Q_del,dh'!$D127,0)","v":0},{"$f":"IF(AG178=\"Ja\",'Q_del,j en Q_del,dh'!$D127,0)","v":0},{"$f":"IF(AH178=\"Ja\",'Q_del,j en Q_del,dh'!$D127,0)","v":0},{"$f":"IF(AI178=\"Ja\",'Q_del,j en Q_del,dh'!$D127,0)","v":0},{"$f":"IF(AJ178=\"Ja\",'Q_del,j en Q_del,dh'!$D127,0)","v":0},{"$f":"IF(AK178=\"Ja\",'Q_del,j en Q_del,dh'!$D127,0)","v":0},{"$f":"IF(AL178=\"Ja\",'Q_del,j en Q_del,dh'!$D127,0)","v":0},{"$f":"IF(AM178=\"Ja\",'Q_del,j en Q_del,dh'!$D127,0)","v":0},{"$f":"IF(AN178=\"Ja\",'Q_del,j en Q_del,dh'!$D127,0)","v":0},{"$f":"IF(AO178=\"Ja\",'Q_del,j en Q_del,dh'!$D127,0)","v":0},{"$f":"IF(AP178=\"Ja\",'Q_del,j en Q_del,dh'!$D127,0)","v":0},{"$f":"IF(AQ178=\"Ja\",'Q_del,j en Q_del,dh'!$D127,0)","v":0},{"$f":"IF(AR178=\"Ja\",'Q_del,j en Q_del,dh'!$D127,0)","v":0},{"$f":"IF(AS178=\"Ja\",'Q_del,j en Q_del,dh'!$D127,0)","v":0},{"$f":"IF(AT178=\"Ja\",'Q_del,j en Q_del,dh'!$D127,0)","v":0},{"$f":"IF(AU178=\"Ja\",'Q_del,j en Q_del,dh'!$D127,0)","v":0},{"$f":"IF(AV178=\"Ja\",'Q_del,j en Q_del,dh'!$D127,0)","v":0},{"$f":"IF(AW178=\"Ja\",'Q_del,j en Q_del,dh'!$D127,0)","v":0},{"$f":"IF(AX178=\"Ja\",'Q_del,j en Q_del,dh'!$D127,0)","v":0},{"$f":"IF(AY178=\"Ja\",'Q_del,j en Q_del,dh'!$D127,0)","v":0},{"$f":"IF(AZ178=\"Ja\",'Q_del,j en Q_del,dh'!$D127,0)","v":0},{"$f":"IF(BA178=\"Ja\",'Q_del,j en Q_del,dh'!$D127,0)","v":0}]
["Qdel,l,j [MJ]","warmtevrager 121",121,{"$f":"IF(D179=\"Ja\",'Q_del,j en Q_del,dh'!$D128,0)","v":0},{"$f":"IF(E179=\"Ja\",'Q_del,j en Q_del,dh'!$D128,0)","v":0},{"$f":"IF(F179=\"Ja\",'Q_del,j en Q_del,dh'!$D128,0)","v":0},{"$f":"IF(G179=\"Ja\",'Q_del,j en Q_del,dh'!$D128,0)","v":0},{"$f":"IF(H179=\"Ja\",'Q_del,j en Q_del,dh'!$D128,0)","v":0},{"$f":"IF(I179=\"Ja\",'Q_del,j en Q_del,dh'!$D128,0)","v":0},{"$f":"IF(J179=\"Ja\",'Q_del,j en Q_del,dh'!$D128,0)","v":0},{"$f":"IF(K179=\"Ja\",'Q_del,j en Q_del,dh'!$D128,0)","v":0},{"$f":"IF(L179=\"Ja\",'Q_del,j en Q_del,dh'!$D128,0)","v":0},{"$f":"IF(M179=\"Ja\",'Q_del,j en Q_del,dh'!$D128,0)","v":0},{"$f":"IF(N179=\"Ja\",'Q_del,j en Q_del,dh'!$D128,0)","v":0},{"$f":"IF(O179=\"Ja\",'Q_del,j en Q_del,dh'!$D128,0)","v":0},{"$f":"IF(P179=\"Ja\",'Q_del,j en Q_del,dh'!$D128,0)","v":0},{"$f":"IF(Q179=\"Ja\",'Q_del,j en Q_del,dh'!$D128,0)","v":0},{"$f":"IF(R179=\"Ja\",'Q_del,j en Q_del,dh'!$D128,0)","v":0},{"$f":"IF(S179=\"Ja\",'Q_del,j en Q_del,dh'!$D128,0)","v":0},{"$f":"IF(T179=\"Ja\",'Q_del,j en Q_del,dh'!$D128,0)","v":0},{"$f":"IF(U179=\"Ja\",'Q_del,j en Q_del,dh'!$D128,0)","v":0},{"$f":"IF(V179=\"Ja\",'Q_del,j en Q_del,dh'!$D128,0)","v":0},{"$f":"IF(W179=\"Ja\",'Q_del,j en Q_del,dh'!$D128,0)","v":0},{"$f":"IF(X179=\"Ja\",'Q_del,j en Q_del,dh'!$D128,0)","v":0},{"$f":"IF(Y179=\"Ja\",'Q_del,j en Q_del,dh'!$D128,0)","v":0},{"$f":"IF(Z179=\"Ja\",'Q_del,j en Q_del,dh'!$D128,0)","v":0},{"$f":"IF(AA179=\"Ja\",'Q_del,j en Q_del,dh'!$D128,0)","v":0},{"$f":"IF(AB179=\"Ja\",'Q_del,j en Q_del,dh'!$D128,0)","v":0},{"$f":"IF(AC179=\"Ja\",'Q_del,j en Q_del,dh'!$D128,0)","v":0},{"$f":"IF(AD179=\"Ja\",'Q_del,j en Q_del,dh'!$D128,0)","v":0},{"$f":"IF(AE179=\"Ja\",'Q_del,j en Q_del,dh'!$D128,0)","v":0},{"$f":"IF(AF179=\"Ja\",'Q_del,j en Q_del,dh'!$D128,0)","v":0},{"$f":"IF(AG179=\"Ja\",'Q_del,j en Q_del,dh'!$D128,0)","v":0},{"$f":"IF(AH179=\"Ja\",'Q_del,j en Q_del,dh'!$D128,0)","v":0},{"$f":"IF(AI179=\"Ja\",'Q_del,j en Q_del,dh'!$D128,0)","v":0},{"$f":"IF(AJ179=\"Ja\",'Q_del,j en Q_del,dh'!$D128,0)","v":0},{"$f":"IF(AK179=\"Ja\",'Q_del,j en Q_del,dh'!$D128,0)","v":0},{"$f":"IF(AL179=\"Ja\",'Q_del,j en Q_del,dh'!$D128,0)","v":0},{"$f":"IF(AM179=\"Ja\",'Q_del,j en Q_del,dh'!$D128,0)","v":0},{"$f":"IF(AN179=\"Ja\",'Q_del,j en Q_del,dh'!$D128,0)","v":0},{"$f":"IF(AO179=\"Ja\",'Q_del,j en Q_del,dh'!$D128,0)","v":0},{"$f":"IF(AP179=\"Ja\",'Q_del,j en Q_del,dh'!$D128,0)","v":0},{"$f":"IF(AQ179=\"Ja\",'Q_del,j en Q_del,dh'!$D128,0)","v":0},{"$f":"IF(AR179=\"Ja\",'Q_del,j en Q_del,dh'!$D128,0)","v":0},{"$f":"IF(AS179=\"Ja\",'Q_del,j en Q_del,dh'!$D128,0)","v":0},{"$f":"IF(AT179=\"Ja\",'Q_del,j en Q_del,dh'!$D128,0)","v":0},{"$f":"IF(AU179=\"Ja\",'Q_del,j en Q_del,dh'!$D128,0)","v":0},{"$f":"IF(AV179=\"Ja\",'Q_del,j en Q_del,dh'!$D128,0)","v":0},{"$f":"IF(AW179=\"Ja\",'Q_del,j en Q_del,dh'!$D128,0)","v":0},{"$f":"IF(AX179=\"Ja\",'Q_del,j en Q_del,dh'!$D128,0)","v":0},{"$f":"IF(AY179=\"Ja\",'Q_del,j en Q_del,dh'!$D128,0)","v":0},{"$f":"IF(AZ179=\"Ja\",'Q_del,j en Q_del,dh'!$D128,0)","v":0},{"$f":"IF(BA179=\"Ja\",'Q_del,j en Q_del,dh'!$D128,0)","v":0}]
["Qdel,l,j [MJ]","warmtevrager 122",122,{"$f":"IF(D180=\"Ja\",'Q_del,j en Q_del,dh'!$D129,0)","v":0},{"$f":"IF(E180=\"Ja\",'Q_del,j en Q_del,dh'!$D129,0)","v":0},{"$f":"IF(F180=\"Ja\",'Q_del,j en Q_del,dh'!$D129,0)","v":0},{"$f":"IF(G180=\"Ja\",'Q_del,j en Q_del,dh'!$D129,0)","v":0},{"$f":"IF(H180=\"Ja\",'Q_del,j en Q_del,dh'!$D129,0)","v":0},{"$f":"IF(I180=\"Ja\",'Q_del,j en Q_del,dh'!$D129,0)","v":0},{"$f":"IF(J180=\"Ja\",'Q_del,j en Q_del,dh'!$D129,0)","v":0},{"$f":"IF(K180=\"Ja\",'Q_del,j en Q_del,dh'!$D129,0)","v":0},{"$f":"IF(L180=\"Ja\",'Q_del,j en Q_del,dh'!$D129,0)","v":0},{"$f":"IF(M180=\"Ja\",'Q_del,j en Q_del,dh'!$D129,0)","v":0},{"$f":"IF(N180=\"Ja\",'Q_del,j en Q_del,dh'!$D129,0)","v":0},{"$f":"IF(O180=\"Ja\",'Q_del,j en Q_del,dh'!$D129,0)","v":0},{"$f":"IF(P180=\"Ja\",'Q_del,j en Q_del,dh'!$D129,0)","v":0},{"$f":"IF(Q180=\"Ja\",'Q_del,j en Q_del,dh'!$D129,0)","v":0},{"$f":"IF(R180=\"Ja\",'Q_del,j en Q_del,dh'!$D129,0)","v":0},{"$f":"IF(S180=\"Ja\",'Q_del,j en Q_del,dh'!$D129,0)","v":0},{"$f":"IF(T180=\"Ja\",'Q_del,j en Q_del,dh'!$D129,0)","v":0},{"$f":"IF(U180=\"Ja\",'Q_del,j en Q_del,dh'!$D129,0)","v":0},{"$f":"IF(V180=\"Ja\",'Q_del,j en Q_del,dh'!$D129,0)","v":0},{"$f":"IF(W180=\"Ja\",'Q_del,j en Q_del,dh'!$D129,0)","v":0},{"$f":"IF(X180=\"Ja\",'Q_del,j en Q_del,dh'!$D129,0)","v":0},{"$f":"IF(Y180=\"Ja\",'Q_del,j en Q_del,dh'!$D129,0)","v":0},{"$f":"IF(Z180=\"Ja\",'Q_del,j en Q_del,dh'!$D129,0)","v":0},{"$f":"IF(AA180=\"Ja\",'Q_del,j en Q_del,dh'!$D129,0)","v":0},{"$f":"IF(AB180=\"Ja\",'Q_del,j en Q_del,dh'!$D129,0)","v":0},{"$f":"IF(AC180=\"Ja\",'Q_del,j en Q_del,dh'!$D129,0)","v":0},{"$f":"IF(AD180=\"Ja\",'Q_del,j en Q_del,dh'!$D129,0)","v":0},{"$f":"IF(AE180=\"Ja\",'Q_del,j en Q_del,dh'!$D129,0)","v":0},{"$f":"IF(AF180=\"Ja\",'Q_del,j en Q_del,dh'!$D129,0)","v":0},{"$f":"IF(AG180=\"Ja\",'Q_del,j en Q_del,dh'!$D129,0)","v":0},{"$f":"IF(AH180=\"Ja\",'Q_del,j en Q_del,dh'!$D129,0)","v":0},{"$f":"IF(AI180=\"Ja\",'Q_del,j en Q_del,dh'!$D129,0)","v":0},{"$f":"IF(AJ180=\"Ja\",'Q_del,j en Q_del,dh'!$D129,0)","v":0},{"$f":"IF(AK180=\"Ja\",'Q_del,j en Q_del,dh'!$D129,0)","v":0},{"$f":"IF(AL180=\"Ja\",'Q_del,j en Q_del,dh'!$D129,0)","v":0},{"$f":"IF(AM180=\"Ja\",'Q_del,j en Q_del,dh'!$D129,0)","v":0},{"$f":"IF(AN180=\"Ja\",'Q_del,j en Q_del,dh'!$D129,0)","v":0},{"$f":"IF(AO180=\"Ja\",'Q_del,j en Q_del,dh'!$D129,0)","v":0},{"$f":"IF(AP180=\"Ja\",'Q_del,j en Q_del,dh'!$D129,0)","v":0},{"$f":"IF(AQ180=\"Ja\",'Q_del,j en Q_del,dh'!$D129,0)","v":0},{"$f":"IF(AR180=\"Ja\",'Q_del,j en Q_del,dh'!$D129,0)","v":0},{"$f":"IF(AS180=\"Ja\",'Q_del,j en Q_del,dh'!$D129,0)","v":0},{"$f":"IF(AT180=\"Ja\",'Q_del,j en Q_del,dh'!$D129,0)","v":0},{"$f":"IF(AU180=\"Ja\",'Q_del,j en Q_del,dh'!$D129,0)","v":0},{"$f":"IF(AV180=\"Ja\",'Q_del,j en Q_del,dh'!$D129,0)","v":0},{"$f":"IF(AW180=\"Ja\",'Q_del,j en Q_del,dh'!$D129,0)","v":0},{"$f":"IF(AX180=\"Ja\",'Q_del,j en Q_del,dh'!$D129,0)","v":0},{"$f":"IF(AY180=\"Ja\",'Q_del,j en Q_del,dh'!$D129,0)","v":0},{"$f":"IF(AZ180=\"Ja\",'Q_del,j en Q_del,dh'!$D129,0)","v":0},{"$f":"IF(BA180=\"Ja\",'Q_del,j en Q_del,dh'!$D129,0)","v":0}]
["Qdel,l,j [MJ]","warmtevrager 123",123,{"$f":"IF(D181=\"Ja\",'Q_del,j en Q_del,dh'!$D130,0)","v":0},{"$f":"IF(E181=\"Ja\",'Q_del,j en Q_del,dh'!$D130,0)","v":0},{"$f":"IF(F181=\"Ja\",'Q_del,j en Q_del,dh'!$D130,0)","v":0},{"$f":"IF(G181=\"Ja\",'Q_del,j en Q_del,dh'!$D130,0)","v":0},{"$f":"IF(H181=\"Ja\",'Q_del,j en Q_del,dh'!$D130,0)","v":0},{"$f":"IF(I181=\"Ja\",'Q_del,j en Q_del,dh'!$D130,0)","v":0},{"$f":"IF(J181=\"Ja\",'Q_del,j en Q_del,dh'!$D130,0)","v":0},{"$f":"IF(K181=\"Ja\",'Q_del,j en Q_del,dh'!$D130,0)","v":0},{"$f":"IF(L181=\"Ja\",'Q_del,j en Q_del,dh'!$D130,0)","v":0},{"$f":"IF(M181=\"Ja\",'Q_del,j en Q_del,dh'!$D130,0)","v":0},{"$f":"IF(N181=\"Ja\",'Q_del,j en Q_del,dh'!$D130,0)","v":0},{"$f":"IF(O181=\"Ja\",'Q_del,j en Q_del,dh'!$D130,0)","v":0},{"$f":"IF(P181=\"Ja\",'Q_del,j en Q_del,dh'!$D130,0)","v":0},{"$f":"IF(Q181=\"Ja\",'Q_del,j en Q_del,dh'!$D130,0)","v":0},{"$f":"IF(R181=\"Ja\",'Q_del,j en Q_del,dh'!$D130,0)","v":0},{"$f":"IF(S181=\"Ja\",'Q_del,j en Q_del,dh'!$D130,0)","v":0},{"$f":"IF(T181=\"Ja\",'Q_del,j en Q_del,dh'!$D130,0)","v":0},{"$f":"IF(U181=\"Ja\",'Q_del,j en Q_del,dh'!$D130,0)","v":0},{"$f":"IF(V181=\"Ja\",'Q_del,j en Q_del,dh'!$D130,0)","v":0},{"$f":"IF(W181=\"Ja\",'Q_del,j en Q_del,dh'!$D130,0)","v":0},{"$f":"IF(X181=\"Ja\",'Q_del,j en Q_del,dh'!$D130,0)","v":0},{"$f":"IF(Y181=\"Ja\",'Q_del,j en Q_del,dh'!$D130,0)","v":0},{"$f":"IF(Z181=\"Ja\",'Q_del,j en Q_del,dh'!$D130,0)","v":0},{"$f":"IF(AA181=\"Ja\",'Q_del,j en Q_del,dh'!$D130,0)","v":0},{"$f":"IF(AB181=\"Ja\",'Q_del,j en Q_del,dh'!$D130,0)","v":0},{"$f":"IF(AC181=\"Ja\",'Q_del,j en Q_del,dh'!$D130,0)","v":0},{"$f":"IF(AD181=\"Ja\",'Q_del,j en Q_del,dh'!$D130,0)","v":0},{"$f":"IF(AE181=\"Ja\",'Q_del,j en Q_del,dh'!$D130,0)","v":0},{"$f":"IF(AF181=\"Ja\",'Q_del,j en Q_del,dh'!$D130,0)","v":0},{"$f":"IF(AG181=\"Ja\",'Q_del,j en Q_del,dh'!$D130,0)","v":0},{"$f":"IF(AH181=\"Ja\",'Q_del,j en Q_del,dh'!$D130,0)","v":0},{"$f":"IF(AI181=\"Ja\",'Q_del,j en Q_del,dh'!$D130,0)","v":0},{"$f":"IF(AJ181=\"Ja\",'Q_del,j en Q_del,dh'!$D130,0)","v":0},{"$f":"IF(AK181=\"Ja\",'Q_del,j en Q_del,dh'!$D130,0)","v":0},{"$f":"IF(AL181=\"Ja\",'Q_del,j en Q_del,dh'!$D130,0)","v":0},{"$f":"IF(AM181=\"Ja\",'Q_del,j en Q_del,dh'!$D130,0)","v":0},{"$f":"IF(AN181=\"Ja\",'Q_del,j en Q_del,dh'!$D130,0)","v":0},{"$f":"IF(AO181=\"Ja\",'Q_del,j en Q_del,dh'!$D130,0)","v":0},{"$f":"IF(AP181=\"Ja\",'Q_del,j en Q_del,dh'!$D130,0)","v":0},{"$f":"IF(AQ181=\"Ja\",'Q_del,j en Q_del,dh'!$D130,0)","v":0},{"$f":"IF(AR181=\"Ja\",'Q_del,j en Q_del,dh'!$D130,0)","v":0},{"$f":"IF(AS181=\"Ja\",'Q_del,j en Q_del,dh'!$D130,0)","v":0},{"$f":"IF(AT181=\"Ja\",'Q_del,j en Q_del,dh'!$D130,0)","v":0},{"$f":"IF(AU181=\"Ja\",'Q_del,j en Q_del,dh'!$D130,0)","v":0},{"$f":"IF(AV181=\"Ja\",'Q_del,j en Q_del,dh'!$D130,0)","v":0},{"$f":"IF(AW181=\"Ja\",'Q_del,j en Q_del,dh'!$D130,0)","v":0},{"$f":"IF(AX181=\"Ja\",'Q_del,j en Q_del,dh'!$D130,0)","v":0},{"$f":"IF(AY181=\"Ja\",'Q_del,j en Q_del,dh'!$D130,0)","v":0},{"$f":"IF(AZ181=\"Ja\",'Q_del,j en Q_del,dh'!$D130,0)","v":0},{"$f":"IF(BA181=\"Ja\",'Q_del,j en Q_del,dh'!$D130,0)","v":0}]
["Qdel,l,j [MJ]","warmtevrager 124",124,{"$f":"IF(D182=\"Ja\",'Q_del,j en Q_del,dh'!$D131,0)","v":0},{"$f":"IF(E182=\"Ja\",'Q_del,j en Q_del,dh'!$D131,0)","v":0},{"$f":"IF(F182=\"Ja\",'Q_del,j en Q_del,dh'!$D131,0)","v":0},{"$f":"IF(G182=\"Ja\",'Q_del,j en Q_del,dh'!$D131,0)","v":0},{"$f":"IF(H182=\"Ja\",'Q_del,j en Q_del,dh'!$D131,0)","v":0},{"$f":"IF(I182=\"Ja\",'Q_del,j en Q_del,dh'!$D131,0)","v":0},{"$f":"IF(J182=\"Ja\",'Q_del,j en Q_del,dh'!$D131,0)","v":0},{"$f":"IF(K182=\"Ja\",'Q_del,j en Q_del,dh'!$D131,0)","v":0},{"$f":"IF(L182=\"Ja\",'Q_del,j en Q_del,dh'!$D131,0)","v":0},{"$f":"IF(M182=\"Ja\",'Q_del,j en Q_del,dh'!$D131,0)","v":0},{"$f":"IF(N182=\"Ja\",'Q_del,j en Q_del,dh'!$D131,0)","v":0},{"$f":"IF(O182=\"Ja\",'Q_del,j en Q_del,dh'!$D131,0)","v":0},{"$f":"IF(P182=\"Ja\",'Q_del,j en Q_del,dh'!$D131,0)","v":0},{"$f":"IF(Q182=\"Ja\",'Q_del,j en Q_del,dh'!$D131,0)","v":0},{"$f":"IF(R182=\"Ja\",'Q_del,j en Q_del,dh'!$D131,0)","v":0},{"$f":"IF(S182=\"Ja\",'Q_del,j en Q_del,dh'!$D131,0)","v":0},{"$f":"IF(T182=\"Ja\",'Q_del,j en Q_del,dh'!$D131,0)","v":0},{"$f":"IF(U182=\"Ja\",'Q_del,j en Q_del,dh'!$D131,0)","v":0},{"$f":"IF(V182=\"Ja\",'Q_del,j en Q_del,dh'!$D131,0)","v":0},{"$f":"IF(W182=\"Ja\",'Q_del,j en Q_del,dh'!$D131,0)","v":0},{"$f":"IF(X182=\"Ja\",'Q_del,j en Q_del,dh'!$D131,0)","v":0},{"$f":"IF(Y182=\"Ja\",'Q_del,j en Q_del,dh'!$D131,0)","v":0},{"$f":"IF(Z182=\"Ja\",'Q_del,j en Q_del,dh'!$D131,0)","v":0},{"$f":"IF(AA182=\"Ja\",'Q_del,j en Q_del,dh'!$D131,0)","v":0},{"$f":"IF(AB182=\"Ja\",'Q_del,j en Q_del,dh'!$D131,0)","v":0},{"$f":"IF(AC182=\"Ja\",'Q_del,j en Q_del,dh'!$D131,0)","v":0},{"$f":"IF(AD182=\"Ja\",'Q_del,j en Q_del,dh'!$D131,0)","v":0},{"$f":"IF(AE182=\"Ja\",'Q_del,j en Q_del,dh'!$D131,0)","v":0},{"$f":"IF(AF182=\"Ja\",'Q_del,j en Q_del,dh'!$D131,0)","v":0},{"$f":"IF(AG182=\"Ja\",'Q_del,j en Q_del,dh'!$D131,0)","v":0},{"$f":"IF(AH182=\"Ja\",'Q_del,j en Q_del,dh'!$D131,0)","v":0},{"$f":"IF(AI182=\"Ja\",'Q_del,j en Q_del,dh'!$D131,0)","v":0},{"$f":"IF(AJ182=\"Ja\",'Q_del,j en Q_del,dh'!$D131,0)","v":0},{"$f":"IF(AK182=\"Ja\",'Q_del,j en Q_del,dh'!$D131,0)","v":0},{"$f":"IF(AL182=\"Ja\",'Q_del,j en Q_del,dh'!$D131,0)","v":0},{"$f":"IF(AM182=\"Ja\",'Q_del,j en Q_del,dh'!$D131,0)","v":0},{"$f":"IF(AN182=\"Ja\",'Q_del,j en Q_del,dh'!$D131,0)","v":0},{"$f":"IF(AO182=\"Ja\",'Q_del,j en Q_del,dh'!$D131,0)","v":0},{"$f":"IF(AP182=\"Ja\",'Q_del,j en Q_del,dh'!$D131,0)","v":0},{"$f":"IF(AQ182=\"Ja\",'Q_del,j en Q_del,dh'!$D131,0)","v":0},{"$f":"IF(AR182=\"Ja\",'Q_del,j en Q_del,dh'!$D131,0)","v":0},{"$f":"IF(AS182=\"Ja\",'Q_del,j en Q_del,dh'!$D131,0)","v":0},{"$f":"IF(AT182=\"Ja\",'Q_del,j en Q_del,dh'!$D131,0)","v":0},{"$f":"IF(AU182=\"Ja\",'Q_del,j en Q_del,dh'!$D131,0)","v":0},{"$f":"IF(AV182=\"Ja\",'Q_del,j en Q_del,dh'!$D131,0)","v":0},{"$f":"IF(AW182=\"Ja\",'Q_del,j en Q_del,dh'!$D131,0)","v":0},{"$f":"IF(AX182=\"Ja\",'Q_del,j en Q_del,dh'!$D131,0)","v":0},{"$f":"IF(AY182=\"Ja\",'Q_del,j en Q_del,dh'!$D131,0)","v":0},{"$f":"IF(AZ182=\"Ja\",'Q_del,j en Q_del,dh'!$D131,0)","v":0},{"$f":"IF(BA182=\"Ja\",'Q_del,j en Q_del,dh'!$D131,0)","v":0}]
["Qdel,l,j [MJ]","warmtevrager 125",125,{"$f":"IF(D183=\"Ja\",'Q_del,j en Q_del,dh'!$D132,0)","v":0},{"$f":"IF(E183=\"Ja\",'Q_del,j en Q_del,dh'!$D132,0)","v":0},{"$f":"IF(F183=\"Ja\",'Q_del,j en Q_del,dh'!$D132,0)","v":0},{"$f":"IF(G183=\"Ja\",'Q_del,j en Q_del,dh'!$D132,0)","v":0},{"$f":"IF(H183=\"Ja\",'Q_del,j en Q_del,dh'!$D132,0)","v":0},{"$f":"IF(I183=\"Ja\",'Q_del,j en Q_del,dh'!$D132,0)","v":0},{"$f":"IF(J183=\"Ja\",'Q_del,j en Q_del,dh'!$D132,0)","v":0},{"$f":"IF(K183=\"Ja\",'Q_del,j en Q_del,dh'!$D132,0)","v":0},{"$f":"IF(L183=\"Ja\",'Q_del,j en Q_del,dh'!$D132,0)","v":0},{"$f":"IF(M183=\"Ja\",'Q_del,j en Q_del,dh'!$D132,0)","v":0},{"$f":"IF(N183=\"Ja\",'Q_del,j en Q_del,dh'!$D132,0)","v":0},{"$f":"IF(O183=\"Ja\",'Q_del,j en Q_del,dh'!$D132,0)","v":0},{"$f":"IF(P183=\"Ja\",'Q_del,j en Q_del,dh'!$D132,0)","v":0},{"$f":"IF(Q183=\"Ja\",'Q_del,j en Q_del,dh'!$D132,0)","v":0},{"$f":"IF(R183=\"Ja\",'Q_del,j en Q_del,dh'!$D132,0)","v":0},{"$f":"IF(S183=\"Ja\",'Q_del,j en Q_del,dh'!$D132,0)","v":0},{"$f":"IF(T183=\"Ja\",'Q_del,j en Q_del,dh'!$D132,0)","v":0},{"$f":"IF(U183=\"Ja\",'Q_del,j en Q_del,dh'!$D132,0)","v":0},{"$f":"IF(V183=\"Ja\",'Q_del,j en Q_del,dh'!$D132,0)","v":0},{"$f":"IF(W183=\"Ja\",'Q_del,j en Q_del,dh'!$D132,0)","v":0},{"$f":"IF(X183=\"Ja\",'Q_del,j en Q_del,dh'!$D132,0)","v":0},{"$f":"IF(Y183=\"Ja\",'Q_del,j en Q_del,dh'!$D132,0)","v":0},{"$f":"IF(Z183=\"Ja\",'Q_del,j en Q_del,dh'!$D132,0)","v":0},{"$f":"IF(AA183=\"Ja\",'Q_del,j en Q_del,dh'!$D132,0)","v":0},{"$f":"IF(AB183=\"Ja\",'Q_del,j en Q_del,dh'!$D132,0)","v":0},{"$f":"IF(AC183=\"Ja\",'Q_del,j en Q_del,dh'!$D132,0)","v":0},{"$f":"IF(AD183=\"Ja\",'Q_del,j en Q_del,dh'!$D132,0)","v":0},{"$f":"IF(AE183=\"Ja\",'Q_del,j en Q_del,dh'!$D132,0)","v":0},{"$f":"IF(AF183=\"Ja\",'Q_del,j en Q_del,dh'!$D132,0)","v":0},{"$f":"IF(AG183=\"Ja\",'Q_del,j en Q_del,dh'!$D132,0)","v":0},{"$f":"IF(AH183=\"Ja\",'Q_del,j en Q_del,dh'!$D132,0)","v":0},{"$f":"IF(AI183=\"Ja\",'Q_del,j en Q_del,dh'!$D132,0)","v":0},{"$f":"IF(AJ183=\"Ja\",'Q_del,j en Q_del,dh'!$D132,0)","v":0},{"$f":"IF(AK183=\"Ja\",'Q_del,j en Q_del,dh'!$D132,0)","v":0},{"$f":"IF(AL183=\"Ja\",'Q_del,j en Q_del,dh'!$D132,0)","v":0},{"$f":"IF(AM183=\"Ja\",'Q_del,j en Q_del,dh'!$D132,0)","v":0},{"$f":"IF(AN183=\"Ja\",'Q_del,j en Q_del,dh'!$D132,0)","v":0},{"$f":"IF(AO183=\"Ja\",'Q_del,j en Q_del,dh'!$D132,0)","v":0},{"$f":"IF(AP183=\"Ja\",'Q_del,j en Q_del,dh'!$D132,0)","v":0},{"$f":"IF(AQ183=\"Ja\",'Q_del,j en Q_del,dh'!$D132,0)","v":0},{"$f":"IF(AR183=\"Ja\",'Q_del,j en Q_del,dh'!$D132,0)","v":0},{"$f":"IF(AS183=\"Ja\",'Q_del,j en Q_del,dh'!$D132,0)","v":0},{"$f":"IF(AT183=\"Ja\",'Q_del,j en Q_del,dh'!$D132,0)","v":0},{"$f":"IF(AU183=\"Ja\",'Q_del,j en Q_del,dh'!$D132,0)","v":0},{"$f":"IF(AV183=\"Ja\",'Q_del,j en Q_del,dh'!$D132,0)","v":0},{"$f":"IF(AW183=\"Ja\",'Q_del,j en Q_del,dh'!$D132,0)","v":0},{"$f":"IF(AX183=\"Ja\",'Q_del,j en Q_del,dh'!$D132,0)","v":0},{"$f":"IF(AY183=\"Ja\",'Q_del,j en Q_del,dh'!$D132,0)","v":0},{"$f":"IF(AZ183=\"Ja\",'Q_del,j en Q_del,dh'!$D132,0)","v":0},{"$f":"IF(BA183=\"Ja\",'Q_del,j en Q_del,dh'!$D132,0)","v":0}]
["Qdel,l,j [MJ]","warmtevrager 126",126,{"$f":"IF(D184=\"Ja\",'Q_del,j en Q_del,dh'!$D133,0)","v":0},{"$f":"IF(E184=\"Ja\",'Q_del,j en Q_del,dh'!$D133,0)","v":0},{"$f":"IF(F184=\"Ja\",'Q_del,j en Q_del,dh'!$D133,0)","v":0},{"$f":"IF(G184=\"Ja\",'Q_del,j en Q_del,dh'!$D133,0)","v":0},{"$f":"IF(H184=\"Ja\",'Q_del,j en Q_del,dh'!$D133,0)","v":0},{"$f":"IF(I184=\"Ja\",'Q_del,j en Q_del,dh'!$D133,0)","v":0},{"$f":"IF(J184=\"Ja\",'Q_del,j en Q_del,dh'!$D133,0)","v":0},{"$f":"IF(K184=\"Ja\",'Q_del,j en Q_del,dh'!$D133,0)","v":0},{"$f":"IF(L184=\"Ja\",'Q_del,j en Q_del,dh'!$D133,0)","v":0},{"$f":"IF(M184=\"Ja\",'Q_del,j en Q_del,dh'!$D133,0)","v":0},{"$f":"IF(N184=\"Ja\",'Q_del,j en Q_del,dh'!$D133,0)","v":0},{"$f":"IF(O184=\"Ja\",'Q_del,j en Q_del,dh'!$D133,0)","v":0},{"$f":"IF(P184=\"Ja\",'Q_del,j en Q_del,dh'!$D133,0)","v":0},{"$f":"IF(Q184=\"Ja\",'Q_del,j en Q_del,dh'!$D133,0)","v":0},{"$f":"IF(R184=\"Ja\",'Q_del,j en Q_del,dh'!$D133,0)","v":0},{"$f":"IF(S184=\"Ja\",'Q_del,j en Q_del,dh'!$D133,0)","v":0},{"$f":"IF(T184=\"Ja\",'Q_del,j en Q_del,dh'!$D133,0)","v":0},{"$f":"IF(U184=\"Ja\",'Q_del,j en Q_del,dh'!$D133,0)","v":0},{"$f":"IF(V184=\"Ja\",'Q_del,j en Q_del,dh'!$D133,0)","v":0},{"$f":"IF(W184=\"Ja\",'Q_del,j en Q_del,dh'!$D133,0)","v":0},{"$f":"IF(X184=\"Ja\",'Q_del,j en Q_del,dh'!$D133,0)","v":0},{"$f":"IF(Y184=\"Ja\",'Q_del,j en Q_del,dh'!$D133,0)","v":0},{"$f":"IF(Z184=\"Ja\",'Q_del,j en Q_del,dh'!$D133,0)","v":0},{"$f":"IF(AA184=\"Ja\",'Q_del,j en Q_del,dh'!$D133,0)","v":0},{"$f":"IF(AB184=\"Ja\",'Q_del,j en Q_del,dh'!$D133,0)","v":0},{"$f":"IF(AC184=\"Ja\",'Q_del,j en Q_del,dh'!$D133,0)","v":0},{"$f":"IF(AD184=\"Ja\",'Q_del,j en Q_del,dh'!$D133,0)","v":0},{"$f":"IF(AE184=\"Ja\",'Q_del,j en Q_del,dh'!$D133,0)","v":0},{"$f":"IF(AF184=\"Ja\",'Q_del,j en Q_del,dh'!$D133,0)","v":0},{"$f":"IF(AG184=\"Ja\",'Q_del,j en Q_del,dh'!$D133,0)","v":0},{"$f":"IF(AH184=\"Ja\",'Q_del,j en Q_del,dh'!$D133,0)","v":0},{"$f":"IF(AI184=\"Ja\",'Q_del,j en Q_del,dh'!$D133,0)","v":0},{"$f":"IF(AJ184=\"Ja\",'Q_del,j en Q_del,dh'!$D133,0)","v":0},{"$f":"IF(AK184=\"Ja\",'Q_del,j en Q_del,dh'!$D133,0)","v":0},{"$f":"IF(AL184=\"Ja\",'Q_del,j en Q_del,dh'!$D133,0)","v":0},{"$f":"IF(AM184=\"Ja\",'Q_del,j en Q_del,dh'!$D133,0)","v":0},{"$f":"IF(AN184=\"Ja\",'Q_del,j en Q_del,dh'!$D133,0)","v":0},{"$f":"IF(AO184=\"Ja\",'Q_del,j en Q_del,dh'!$D133,0)","v":0},{"$f":"IF(AP184=\"Ja\",'Q_del,j en Q_del,dh'!$D133,0)","v":0},{"$f":"IF(AQ184=\"Ja\",'Q_del,j en Q_del,dh'!$D133,0)","v":0},{"$f":"IF(AR184=\"Ja\",'Q_del,j en Q_del,dh'!$D133,0)","v":0},{"$f":"IF(AS184=\"Ja\",'Q_del,j en Q_del,dh'!$D133,0)","v":0},{"$f":"IF(AT184=\"Ja\",'Q_del,j en Q_del,dh'!$D133,0)","v":0},{"$f":"IF(AU184=\"Ja\",'Q_del,j en Q_del,dh'!$D133,0)","v":0},{"$f":"IF(AV184=\"Ja\",'Q_del,j en Q_del,dh'!$D133,0)","v":0},{"$f":"IF(AW184=\"Ja\",'Q_del,j en Q_del,dh'!$D133,0)","v":0},{"$f":"IF(AX184=\"Ja\",'Q_del,j en Q_del,dh'!$D133,0)","v":0},{"$f":"IF(AY184=\"Ja\",'Q_del,j en Q_del,dh'!$D133,0)","v":0},{"$f":"IF(AZ184=\"Ja\",'Q_del,j en Q_del,dh'!$D133,0)","v":0},{"$f":"IF(BA184=\"Ja\",'Q_del,j en Q_del,dh'!$D133,0)","v":0}]
["Qdel,l,j [MJ]","warmtevrager 127",127,{"$f":"IF(D185=\"Ja\",'Q_del,j en Q_del,dh'!$D134,0)","v":0},{"$f":"IF(E185=\"Ja\",'Q_del,j en Q_del,dh'!$D134,0)","v":0},{"$f":"IF(F185=\"Ja\",'Q_del,j en Q_del,dh'!$D134,0)","v":0},{"$f":"IF(G185=\"Ja\",'Q_del,j en Q_del,dh'!$D134,0)","v":0},{"$f":"IF(H185=\"Ja\",'Q_del,j en Q_del,dh'!$D134,0)","v":0},{"$f":"IF(I185=\"Ja\",'Q_del,j en Q_del,dh'!$D134,0)","v":0},{"$f":"IF(J185=\"Ja\",'Q_del,j en Q_del,dh'!$D134,0)","v":0},{"$f":"IF(K185=\"Ja\",'Q_del,j en Q_del,dh'!$D134,0)","v":0},{"$f":"IF(L185=\"Ja\",'Q_del,j en Q_del,dh'!$D134,0)","v":0},{"$f":"IF(M185=\"Ja\",'Q_del,j en Q_del,dh'!$D134,0)","v":0},{"$f":"IF(N185=\"Ja\",'Q_del,j en Q_del,dh'!$D134,0)","v":0},{"$f":"IF(O185=\"Ja\",'Q_del,j en Q_del,dh'!$D134,0)","v":0},{"$f":"IF(P185=\"Ja\",'Q_del,j en Q_del,dh'!$D134,0)","v":0},{"$f":"IF(Q185=\"Ja\",'Q_del,j en Q_del,dh'!$D134,0)","v":0},{"$f":"IF(R185=\"Ja\",'Q_del,j en Q_del,dh'!$D134,0)","v":0},{"$f":"IF(S185=\"Ja\",'Q_del,j en Q_del,dh'!$D134,0)","v":0},{"$f":"IF(T185=\"Ja\",'Q_del,j en Q_del,dh'!$D134,0)","v":0},{"$f":"IF(U185=\"Ja\",'Q_del,j en Q_del,dh'!$D134,0)","v":0},{"$f":"IF(V185=\"Ja\",'Q_del,j en Q_del,dh'!$D134,0)","v":0},{"$f":"IF(W185=\"Ja\",'Q_del,j en Q_del,dh'!$D134,0)","v":0},{"$f":"IF(X185=\"Ja\",'Q_del,j en Q_del,dh'!$D134,0)","v":0},{"$f":"IF(Y185=\"Ja\",'Q_del,j en Q_del,dh'!$D134,0)","v":0},{"$f":"IF(Z185=\"Ja\",'Q_del,j en Q_del,dh'!$D134,0)","v":0},{"$f":"IF(AA185=\"Ja\",'Q_del,j en Q_del,dh'!$D134,0)","v":0},{"$f":"IF(AB185=\"Ja\",'Q_del,j en Q_del,dh'!$D134,0)","v":0},{"$f":"IF(AC185=\"Ja\",'Q_del,j en Q_del,dh'!$D134,0)","v":0},{"$f":"IF(AD185=\"Ja\",'Q_del,j en Q_del,dh'!$D134,0)","v":0},{"$f":"IF(AE185=\"Ja\",'Q_del,j en Q_del,dh'!$D134,0)","v":0},{"$f":"IF(AF185=\"Ja\",'Q_del,j en Q_del,dh'!$D134,0)","v":0},{"$f":"IF(AG185=\"Ja\",'Q_del,j en Q_del,dh'!$D134,0)","v":0},{"$f":"IF(AH185=\"Ja\",'Q_del,j en Q_del,dh'!$D134,0)","v":0},{"$f":"IF(AI185=\"Ja\",'Q_del,j en Q_del,dh'!$D134,0)","v":0},{"$f":"IF(AJ185=\"Ja\",'Q_del,j en Q_del,dh'!$D134,0)","v":0},{"$f":"IF(AK185=\"Ja\",'Q_del,j en Q_del,dh'!$D134,0)","v":0},{"$f":"IF(AL185=\"Ja\",'Q_del,j en Q_del,dh'!$D134,0)","v":0},{"$f":"IF(AM185=\"Ja\",'Q_del,j en Q_del,dh'!$D134,0)","v":0},{"$f":"IF(AN185=\"Ja\",'Q_del,j en Q_del,dh'!$D134,0)","v":0},{"$f":"IF(AO185=\"Ja\",'Q_del,j en Q_del,dh'!$D134,0)","v":0},{"$f":"IF(AP185=\"Ja\",'Q_del,j en Q_del,dh'!$D134,0)","v":0},{"$f":"IF(AQ185=\"Ja\",'Q_del,j en Q_del,dh'!$D134,0)","v":0},{"$f":"IF(AR185=\"Ja\",'Q_del,j en Q_del,dh'!$D134,0)","v":0},{"$f":"IF(AS185=\"Ja\",'Q_del,j en Q_del,dh'!$D134,0)","v":0},{"$f":"IF(AT185=\"Ja\",'Q_del,j en Q_del,dh'!$D134,0)","v":0},{"$f":"IF(AU185=\"Ja\",'Q_del,j en Q_del,dh'!$D134,0)","v":0},{"$f":"IF(AV185=\"Ja\",'Q_del,j en Q_del,dh'!$D134,0)","v":0},{"$f":"IF(AW185=\"Ja\",'Q_del,j en Q_del,dh'!$D134,0)","v":0},{"$f":"IF(AX185=\"Ja\",'Q_del,j en Q_del,dh'!$D134,0)","v":0},{"$f":"IF(AY185=\"Ja\",'Q_del,j en Q_del,dh'!$D134,0)","v":0},{"$f":"IF(AZ185=\"Ja\",'Q_del,j en Q_del,dh'!$D134,0)","v":0},{"$f":"IF(BA185=\"Ja\",'Q_del,j en Q_del,dh'!$D134,0)","v":0}]
["Qdel,l,j [MJ]","warmtevrager 128",128,{"$f":"IF(D186=\"Ja\",'Q_del,j en Q_del,dh'!$D135,0)","v":0},{"$f":"IF(E186=\"Ja\",'Q_del,j en Q_del,dh'!$D135,0)","v":0},{"$f":"IF(F186=\"Ja\",'Q_del,j en Q_del,dh'!$D135,0)","v":0},{"$f":"IF(G186=\"Ja\",'Q_del,j en Q_del,dh'!$D135,0)","v":0},{"$f":"IF(H186=\"Ja\",'Q_del,j en Q_del,dh'!$D135,0)","v":0},{"$f":"IF(I186=\"Ja\",'Q_del,j en Q_del,dh'!$D135,0)","v":0},{"$f":"IF(J186=\"Ja\",'Q_del,j en Q_del,dh'!$D135,0)","v":0},{"$f":"IF(K186=\"Ja\",'Q_del,j en Q_del,dh'!$D135,0)","v":0},{"$f":"IF(L186=\"Ja\",'Q_del,j en Q_del,dh'!$D135,0)","v":0},{"$f":"IF(M186=\"Ja\",'Q_del,j en Q_del,dh'!$D135,0)","v":0},{"$f":"IF(N186=\"Ja\",'Q_del,j en Q_del,dh'!$D135,0)","v":0},{"$f":"IF(O186=\"Ja\",'Q_del,j en Q_del,dh'!$D135,0)","v":0},{"$f":"IF(P186=\"Ja\",'Q_del,j en Q_del,dh'!$D135,0)","v":0},{"$f":"IF(Q186=\"Ja\",'Q_del,j en Q_del,dh'!$D135,0)","v":0},{"$f":"IF(R186=\"Ja\",'Q_del,j en Q_del,dh'!$D135,0)","v":0},{"$f":"IF(S186=\"Ja\",'Q_del,j en Q_del,dh'!$D135,0)","v":0},{"$f":"IF(T186=\"Ja\",'Q_del,j en Q_del,dh'!$D135,0)","v":0},{"$f":"IF(U186=\"Ja\",'Q_del,j en Q_del,dh'!$D135,0)","v":0},{"$f":"IF(V186=\"Ja\",'Q_del,j en Q_del,dh'!$D135,0)","v":0},{"$f":"IF(W186=\"Ja\",'Q_del,j en Q_del,dh'!$D135,0)","v":0},{"$f":"IF(X186=\"Ja\",'Q_del,j en Q_del,dh'!$D135,0)","v":0},{"$f":"IF(Y186=\"Ja\",'Q_del,j en Q_del,dh'!$D135,0)","v":0},{"$f":"IF(Z186=\"Ja\",'Q_del,j en Q_del,dh'!$D135,0)","v":0},{"$f":"IF(AA186=\"Ja\",'Q_del,j en Q_del,dh'!$D135,0)","v":0},{"$f":"IF(AB186=\"Ja\",'Q_del,j en Q_del,dh'!$D135,0)","v":0},{"$f":"IF(AC186=\"Ja\",'Q_del,j en Q_del,dh'!$D135,0)","v":0},{"$f":"IF(AD186=\"Ja\",'Q_del,j en Q_del,dh'!$D135,0)","v":0},{"$f":"IF(AE186=\"Ja\",'Q_del,j en Q_del,dh'!$D135,0)","v":0},{"$f":"IF(AF186=\"Ja\",'Q_del,j en Q_del,dh'!$D135,0)","v":0},{"$f":"IF(AG186=\"Ja\",'Q_del,j en Q_del,dh'!$D135,0)","v":0},{"$f":"IF(AH186=\"Ja\",'Q_del,j en Q_del,dh'!$D135,0)","v":0},{"$f":"IF(AI186=\"Ja\",'Q_del,j en Q_del,dh'!$D135,0)","v":0},{"$f":"IF(AJ186=\"Ja\",'Q_del,j en Q_del,dh'!$D135,0)","v":0},{"$f":"IF(AK186=\"Ja\",'Q_del,j en Q_del,dh'!$D135,0)","v":0},{"$f":"IF(AL186=\"Ja\",'Q_del,j en Q_del,dh'!$D135,0)","v":0},{"$f":"IF(AM186=\"Ja\",'Q_del,j en Q_del,dh'!$D135,0)","v":0},{"$f":"IF(AN186=\"Ja\",'Q_del,j en Q_del,dh'!$D135,0)","v":0},{"$f":"IF(AO186=\"Ja\",'Q_del,j en Q_del,dh'!$D135,0)","v":0},{"$f":"IF(AP186=\"Ja\",'Q_del,j en Q_del,dh'!$D135,0)","v":0},{"$f":"IF(AQ186=\"Ja\",'Q_del,j en Q_del,dh'!$D135,0)","v":0},{"$f":"IF(AR186=\"Ja\",'Q_del,j en Q_del,dh'!$D135,0)","v":0},{"$f":"IF(AS186=\"Ja\",'Q_del,j en Q_del,dh'!$D135,0)","v":0},{"$f":"IF(AT186=\"Ja\",'Q_del,j en Q_del,dh'!$D135,0)","v":0},{"$f":"IF(AU186=\"Ja\",'Q_del,j en Q_del,dh'!$D135,0)","v":0},{"$f":"IF(AV186=\"Ja\",'Q_del,j en Q_del,dh'!$D135,0)","v":0},{"$f":"IF(AW186=\"Ja\",'Q_del,j en Q_del,dh'!$D135,0)","v":0},{"$f":"IF(AX186=\"Ja\",'Q_del,j en Q_del,dh'!$D135,0)","v":0},{"$f":"IF(AY186=\"Ja\",'Q_del,j en Q_del,dh'!$D135,0)","v":0},{"$f":"IF(AZ186=\"Ja\",'Q_del,j en Q_del,dh'!$D135,0)","v":0},{"$f":"IF(BA186=\"Ja\",'Q_del,j en Q_del,dh'!$D135,0)","v":0}]
["Qdel,l,j [MJ]","warmtevrager 129",129,{"$f":"IF(D187=\"Ja\",'Q_del,j en Q_del,dh'!$D136,0)","v":0},{"$f":"IF(E187=\"Ja\",'Q_del,j en Q_del,dh'!$D136,0)","v":0},{"$f":"IF(F187=\"Ja\",'Q_del,j en Q_del,dh'!$D136,0)","v":0},{"$f":"IF(G187=\"Ja\",'Q_del,j en Q_del,dh'!$D136,0)","v":0},{"$f":"IF(H187=\"Ja\",'Q_del,j en Q_del,dh'!$D136,0)","v":0},{"$f":"IF(I187=\"Ja\",'Q_del,j en Q_del,dh'!$D136,0)","v":0},{"$f":"IF(J187=\"Ja\",'Q_del,j en Q_del,dh'!$D136,0)","v":0},{"$f":"IF(K187=\"Ja\",'Q_del,j en Q_del,dh'!$D136,0)","v":0},{"$f":"IF(L187=\"Ja\",'Q_del,j en Q_del,dh'!$D136,0)","v":0},{"$f":"IF(M187=\"Ja\",'Q_del,j en Q_del,dh'!$D136,0)","v":0},{"$f":"IF(N187=\"Ja\",'Q_del,j en Q_del,dh'!$D136,0)","v":0},{"$f":"IF(O187=\"Ja\",'Q_del,j en Q_del,dh'!$D136,0)","v":0},{"$f":"IF(P187=\"Ja\",'Q_del,j en Q_del,dh'!$D136,0)","v":0},{"$f":"IF(Q187=\"Ja\",'Q_del,j en Q_del,dh'!$D136,0)","v":0},{"$f":"IF(R187=\"Ja\",'Q_del,j en Q_del,dh'!$D136,0)","v":0},{"$f":"IF(S187=\"Ja\",'Q_del,j en Q_del,dh'!$D136,0)","v":0},{"$f":"IF(T187=\"Ja\",'Q_del,j en Q_del,dh'!$D136,0)","v":0},{"$f":"IF(U187=\"Ja\",'Q_del,j en Q_del,dh'!$D136,0)","v":0},{"$f":"IF(V187=\"Ja\",'Q_del,j en Q_del,dh'!$D136,0)","v":0},{"$f":"IF(W187=\"Ja\",'Q_del,j en Q_del,dh'!$D136,0)","v":0},{"$f":"IF(X187=\"Ja\",'Q_del,j en Q_del,dh'!$D136,0)","v":0},{"$f":"IF(Y187=\"Ja\",'Q_del,j en Q_del,dh'!$D136,0)","v":0},{"$f":"IF(Z187=\"Ja\",'Q_del,j en Q_del,dh'!$D136,0)","v":0},{"$f":"IF(AA187=\"Ja\",'Q_del,j en Q_del,dh'!$D136,0)","v":0},{"$f":"IF(AB187=\"Ja\",'Q_del,j en Q_del,dh'!$D136,0)","v":0},{"$f":"IF(AC187=\"Ja\",'Q_del,j en Q_del,dh'!$D136,0)","v":0},{"$f":"IF(AD187=\"Ja\",'Q_del,j en Q_del,dh'!$D136,0)","v":0},{"$f":"IF(AE187=\"Ja\",'Q_del,j en Q_del,dh'!$D136,0)","v":0},{"$f":"IF(AF187=\"Ja\",'Q_del,j en Q_del,dh'!$D136,0)","v":0},{"$f":"IF(AG187=\"Ja\",'Q_del,j en Q_del,dh'!$D136,0)","v":0},{"$f":"IF(AH187=\"Ja\",'Q_del,j en Q_del,dh'!$D136,0)","v":0},{"$f":"IF(AI187=\"Ja\",'Q_del,j en Q_del,dh'!$D136,0)","v":0},{"$f":"IF(AJ187=\"Ja\",'Q_del,j en Q_del,dh'!$D136,0)","v":0},{"$f":"IF(AK187=\"Ja\",'Q_del,j en Q_del,dh'!$D136,0)","v":0},{"$f":"IF(AL187=\"Ja\",'Q_del,j en Q_del,dh'!$D136,0)","v":0},{"$f":"IF(AM187=\"Ja\",'Q_del,j en Q_del,dh'!$D136,0)","v":0},{"$f":"IF(AN187=\"Ja\",'Q_del,j en Q_del,dh'!$D136,0)","v":0},{"$f":"IF(AO187=\"Ja\",'Q_del,j en Q_del,dh'!$D136,0)","v":0},{"$f":"IF(AP187=\"Ja\",'Q_del,j en Q_del,dh'!$D136,0)","v":0},{"$f":"IF(AQ187=\"Ja\",'Q_del,j en Q_del,dh'!$D136,0)","v":0},{"$f":"IF(AR187=\"Ja\",'Q_del,j en Q_del,dh'!$D136,0)","v":0},{"$f":"IF(AS187=\"Ja\",'Q_del,j en Q_del,dh'!$D136,0)","v":0},{"$f":"IF(AT187=\"Ja\",'Q_del,j en Q_del,dh'!$D136,0)","v":0},{"$f":"IF(AU187=\"Ja\",'Q_del,j en Q_del,dh'!$D136,0)","v":0},{"$f":"IF(AV187=\"Ja\",'Q_del,j en Q_del,dh'!$D136,0)","v":0},{"$f":"IF(AW187=\"Ja\",'Q_del,j en Q_del,dh'!$D136,0)","v":0},{"$f":"IF(AX187=\"Ja\",'Q_del,j en Q_del,dh'!$D136,0)","v":0},{"$f":"IF(AY187=\"Ja\",'Q_del,j en Q_del,dh'!$D136,0)","v":0},{"$f":"IF(AZ187=\"Ja\",'Q_del,j en Q_del,dh'!$D136,0)","v":0},{"$f":"IF(BA187=\"Ja\",'Q_del,j en Q_del,dh'!$D136,0)","v":0}]
["Qdel,l,j [MJ]","warmtevrager 130",130,{"$f":"IF(D188=\"Ja\",'Q_del,j en Q_del,dh'!$D137,0)","v":0},{"$f":"IF(E188=\"Ja\",'Q_del,j en Q_del,dh'!$D137,0)","v":0},{"$f":"IF(F188=\"Ja\",'Q_del,j en Q_del,dh'!$D137,0)","v":0},{"$f":"IF(G188=\"Ja\",'Q_del,j en Q_del,dh'!$D137,0)","v":0},{"$f":"IF(H188=\"Ja\",'Q_del,j en Q_del,dh'!$D137,0)","v":0},{"$f":"IF(I188=\"Ja\",'Q_del,j en Q_del,dh'!$D137,0)","v":0},{"$f":"IF(J188=\"Ja\",'Q_del,j en Q_del,dh'!$D137,0)","v":0},{"$f":"IF(K188=\"Ja\",'Q_del,j en Q_del,dh'!$D137,0)","v":0},{"$f":"IF(L188=\"Ja\",'Q_del,j en Q_del,dh'!$D137,0)","v":0},{"$f":"IF(M188=\"Ja\",'Q_del,j en Q_del,dh'!$D137,0)","v":0},{"$f":"IF(N188=\"Ja\",'Q_del,j en Q_del,dh'!$D137,0)","v":0},{"$f":"IF(O188=\"Ja\",'Q_del,j en Q_del,dh'!$D137,0)","v":0},{"$f":"IF(P188=\"Ja\",'Q_del,j en Q_del,dh'!$D137,0)","v":0},{"$f":"IF(Q188=\"Ja\",'Q_del,j en Q_del,dh'!$D137,0)","v":0},{"$f":"IF(R188=\"Ja\",'Q_del,j en Q_del,dh'!$D137,0)","v":0},{"$f":"IF(S188=\"Ja\",'Q_del,j en Q_del,dh'!$D137,0)","v":0},{"$f":"IF(T188=\"Ja\",'Q_del,j en Q_del,dh'!$D137,0)","v":0},{"$f":"IF(U188=\"Ja\",'Q_del,j en Q_del,dh'!$D137,0)","v":0},{"$f":"IF(V188=\"Ja\",'Q_del,j en Q_del,dh'!$D137,0)","v":0},{"$f":"IF(W188=\"Ja\",'Q_del,j en Q_del,dh'!$D137,0)","v":0},{"$f":"IF(X188=\"Ja\",'Q_del,j en Q_del,dh'!$D137,0)","v":0},{"$f":"IF(Y188=\"Ja\",'Q_del,j en Q_del,dh'!$D137,0)","v":0},{"$f":"IF(Z188=\"Ja\",'Q_del,j en Q_del,dh'!$D137,0)","v":0},{"$f":"IF(AA188=\"Ja\",'Q_del,j en Q_del,dh'!$D137,0)","v":0},{"$f":"IF(AB188=\"Ja\",'Q_del,j en Q_del,dh'!$D137,0)","v":0},{"$f":"IF(AC188=\"Ja\",'Q_del,j en Q_del,dh'!$D137,0)","v":0},{"$f":"IF(AD188=\"Ja\",'Q_del,j en Q_del,dh'!$D137,0)","v":0},{"$f":"IF(AE188=\"Ja\",'Q_del,j en Q_del,dh'!$D137,0)","v":0},{"$f":"IF(AF188=\"Ja\",'Q_del,j en Q_del,dh'!$D137,0)","v":0},{"$f":"IF(AG188=\"Ja\",'Q_del,j en Q_del,dh'!$D137,0)","v":0},{"$f":"IF(AH188=\"Ja\",'Q_del,j en Q_del,dh'!$D137,0)","v":0},{"$f":"IF(AI188=\"Ja\",'Q_del,j en Q_del,dh'!$D137,0)","v":0},{"$f":"IF(AJ188=\"Ja\",'Q_del,j en Q_del,dh'!$D137,0)","v":0},{"$f":"IF(AK188=\"Ja\",'Q_del,j en Q_del,dh'!$D137,0)","v":0},{"$f":"IF(AL188=\"Ja\",'Q_del,j en Q_del,dh'!$D137,0)","v":0},{"$f":"IF(AM188=\"Ja\",'Q_del,j en Q_del,dh'!$D137,0)","v":0},{"$f":"IF(AN188=\"Ja\",'Q_del,j en Q_del,dh'!$D137,0)","v":0},{"$f":"IF(AO188=\"Ja\",'Q_del,j en Q_del,dh'!$D137,0)","v":0},{"$f":"IF(AP188=\"Ja\",'Q_del,j en Q_del,dh'!$D137,0)","v":0},{"$f":"IF(AQ188=\"Ja\",'Q_del,j en Q_del,dh'!$D137,0)","v":0},{"$f":"IF(AR188=\"Ja\",'Q_del,j en Q_del,dh'!$D137,0)","v":0},{"$f":"IF(AS188=\"Ja\",'Q_del,j en Q_del,dh'!$D137,0)","v":0},{"$f":"IF(AT188=\"Ja\",'Q_del,j en Q_del,dh'!$D137,0)","v":0},{"$f":"IF(AU188=\"Ja\",'Q_del,j en Q_del,dh'!$D137,0)","v":0},{"$f":"IF(AV188=\"Ja\",'Q_del,j en Q_del,dh'!$D137,0)","v":0},{"$f":"IF(AW188=\"Ja\",'Q_del,j en Q_del,dh'!$D137,0)","v":0},{"$f":"IF(AX188=\"Ja\",'Q_del,j en Q_del,dh'!$D137,0)","v":0},{"$f":"IF(AY188=\"Ja\",'Q_del,j en Q_del,dh'!$D137,0)","v":0},{"$f":"IF(AZ188=\"Ja\",'Q_del,j en Q_del,dh'!$D137,0)","v":0},{"$f":"IF(BA188=\"Ja\",'Q_del,j en Q_del,dh'!$D137,0)","v":0}]
["Qdel,l,j [MJ]",{"$f":"\"warmtevrager \"&C444","v":"warmtevrager 131"},{"$f":"C443+1","v":131},{"$f":"IF(D189=\"Ja\",'Q_del,j en Q_del,dh'!$D138,0)","v":0},{"$f":"IF(E189=\"Ja\",'Q_del,j en Q_del,dh'!$D138,0)","v":0},{"$f":"IF(F189=\"Ja\",'Q_del,j en Q_del,dh'!$D138,0)","v":0},{"$f":"IF(G189=\"Ja\",'Q_del,j en Q_del,dh'!$D138,0)","v":0},{"$f":"IF(H189=\"Ja\",'Q_del,j en Q_del,dh'!$D138,0)","v":0},{"$f":"IF(I189=\"Ja\",'Q_del,j en Q_del,dh'!$D138,0)","v":0},{"$f":"IF(J189=\"Ja\",'Q_del,j en Q_del,dh'!$D138,0)","v":0},{"$f":"IF(K189=\"Ja\",'Q_del,j en Q_del,dh'!$D138,0)","v":0},{"$f":"IF(L189=\"Ja\",'Q_del,j en Q_del,dh'!$D138,0)","v":0},{"$f":"IF(M189=\"Ja\",'Q_del,j en Q_del,dh'!$D138,0)","v":0},{"$f":"IF(N189=\"Ja\",'Q_del,j en Q_del,dh'!$D138,0)","v":0},{"$f":"IF(O189=\"Ja\",'Q_del,j en Q_del,dh'!$D138,0)","v":0},{"$f":"IF(P189=\"Ja\",'Q_del,j en Q_del,dh'!$D138,0)","v":0},{"$f":"IF(Q189=\"Ja\",'Q_del,j en Q_del,dh'!$D138,0)","v":0},{"$f":"IF(R189=\"Ja\",'Q_del,j en Q_del,dh'!$D138,0)","v":0},{"$f":"IF(S189=\"Ja\",'Q_del,j en Q_del,dh'!$D138,0)","v":0},{"$f":"IF(T189=\"Ja\",'Q_del,j en Q_del,dh'!$D138,0)","v":0},{"$f":"IF(U189=\"Ja\",'Q_del,j en Q_del,dh'!$D138,0)","v":0},{"$f":"IF(V189=\"Ja\",'Q_del,j en Q_del,dh'!$D138,0)","v":0},{"$f":"IF(W189=\"Ja\",'Q_del,j en Q_del,dh'!$D138,0)","v":0},{"$f":"IF(X189=\"Ja\",'Q_del,j en Q_del,dh'!$D138,0)","v":0},{"$f":"IF(Y189=\"Ja\",'Q_del,j en Q_del,dh'!$D138,0)","v":0},{"$f":"IF(Z189=\"Ja\",'Q_del,j en Q_del,dh'!$D138,0)","v":0},{"$f":"IF(AA189=\"Ja\",'Q_del,j en Q_del,dh'!$D138,0)","v":0},{"$f":"IF(AB189=\"Ja\",'Q_del,j en Q_del,dh'!$D138,0)","v":0},{"$f":"IF(AC189=\"Ja\",'Q_del,j en Q_del,dh'!$D138,0)","v":0},{"$f":"IF(AD189=\"Ja\",'Q_del,j en Q_del,dh'!$D138,0)","v":0},{"$f":"IF(AE189=\"Ja\",'Q_del,j en Q_del,dh'!$D138,0)","v":0},{"$f":"IF(AF189=\"Ja\",'Q_del,j en Q_del,dh'!$D138,0)","v":0},{"$f":"IF(AG189=\"Ja\",'Q_del,j en Q_del,dh'!$D138,0)","v":0},{"$f":"IF(AH189=\"Ja\",'Q_del,j en Q_del,dh'!$D138,0)","v":0},{"$f":"IF(AI189=\"Ja\",'Q_del,j en Q_del,dh'!$D138,0)","v":0},{"$f":"IF(AJ189=\"Ja\",'Q_del,j en Q_del,dh'!$D138,0)","v":0},{"$f":"IF(AK189=\"Ja\",'Q_del,j en Q_del,dh'!$D138,0)","v":0},{"$f":"IF(AL189=\"Ja\",'Q_del,j en Q_del,dh'!$D138,0)","v":0},{"$f":"IF(AM189=\"Ja\",'Q_del,j en Q_del,dh'!$D138,0)","v":0},{"$f":"IF(AN189=\"Ja\",'Q_del,j en Q_del,dh'!$D138,0)","v":0},{"$f":"IF(AO189=\"Ja\",'Q_del,j en Q_del,dh'!$D138,0)","v":0},{"$f":"IF(AP189=\"Ja\",'Q_del,j en Q_del,dh'!$D138,0)","v":0},{"$f":"IF(AQ189=\"Ja\",'Q_del,j en Q_del,dh'!$D138,0)","v":0},{"$f":"IF(AR189=\"Ja\",'Q_del,j en Q_del,dh'!$D138,0)","v":0},{"$f":"IF(AS189=\"Ja\",'Q_del,j en Q_del,dh'!$D138,0)","v":0},{"$f":"IF(AT189=\"Ja\",'Q_del,j en Q_del,dh'!$D138,0)","v":0},{"$f":"IF(AU189=\"Ja\",'Q_del,j en Q_del,dh'!$D138,0)","v":0},{"$f":"IF(AV189=\"Ja\",'Q_del,j en Q_del,dh'!$D138,0)","v":0},{"$f":"IF(AW189=\"Ja\",'Q_del,j en Q_del,dh'!$D138,0)","v":0},{"$f":"IF(AX189=\"Ja\",'Q_del,j en Q_del,dh'!$D138,0)","v":0},{"$f":"IF(AY189=\"Ja\",'Q_del,j en Q_del,dh'!$D138,0)","v":0},{"$f":"IF(AZ189=\"Ja\",'Q_del,j en Q_del,dh'!$D138,0)","v":0},{"$f":"IF(BA189=\"Ja\",'Q_del,j en Q_del,dh'!$D138,0)","v":0}]
["Qdel,l,j [MJ]","warmtevrager 132",132,{"$f":"IF(D190=\"Ja\",'Q_del,j en Q_del,dh'!$D139,0)","v":0},{"$f":"IF(E190=\"Ja\",'Q_del,j en Q_del,dh'!$D139,0)","v":0},{"$f":"IF(F190=\"Ja\",'Q_del,j en Q_del,dh'!$D139,0)","v":0},{"$f":"IF(G190=\"Ja\",'Q_del,j en Q_del,dh'!$D139,0)","v":0},{"$f":"IF(H190=\"Ja\",'Q_del,j en Q_del,dh'!$D139,0)","v":0},{"$f":"IF(I190=\"Ja\",'Q_del,j en Q_del,dh'!$D139,0)","v":0},{"$f":"IF(J190=\"Ja\",'Q_del,j en Q_del,dh'!$D139,0)","v":0},{"$f":"IF(K190=\"Ja\",'Q_del,j en Q_del,dh'!$D139,0)","v":0},{"$f":"IF(L190=\"Ja\",'Q_del,j en Q_del,dh'!$D139,0)","v":0},{"$f":"IF(M190=\"Ja\",'Q_del,j en Q_del,dh'!$D139,0)","v":0},{"$f":"IF(N190=\"Ja\",'Q_del,j en Q_del,dh'!$D139,0)","v":0},{"$f":"IF(O190=\"Ja\",'Q_del,j en Q_del,dh'!$D139,0)","v":0},{"$f":"IF(P190=\"Ja\",'Q_del,j en Q_del,dh'!$D139,0)","v":0},{"$f":"IF(Q190=\"Ja\",'Q_del,j en Q_del,dh'!$D139,0)","v":0},{"$f":"IF(R190=\"Ja\",'Q_del,j en Q_del,dh'!$D139,0)","v":0},{"$f":"IF(S190=\"Ja\",'Q_del,j en Q_del,dh'!$D139,0)","v":0},{"$f":"IF(T190=\"Ja\",'Q_del,j en Q_del,dh'!$D139,0)","v":0},{"$f":"IF(U190=\"Ja\",'Q_del,j en Q_del,dh'!$D139,0)","v":0},{"$f":"IF(V190=\"Ja\",'Q_del,j en Q_del,dh'!$D139,0)","v":0},{"$f":"IF(W190=\"Ja\",'Q_del,j en Q_del,dh'!$D139,0)","v":0},{"$f":"IF(X190=\"Ja\",'Q_del,j en Q_del,dh'!$D139,0)","v":0},{"$f":"IF(Y190=\"Ja\",'Q_del,j en Q_del,dh'!$D139,0)","v":0},{"$f":"IF(Z190=\"Ja\",'Q_del,j en Q_del,dh'!$D139,0)","v":0},{"$f":"IF(AA190=\"Ja\",'Q_del,j en Q_del,dh'!$D139,0)","v":0},{"$f":"IF(AB190=\"Ja\",'Q_del,j en Q_del,dh'!$D139,0)","v":0},{"$f":"IF(AC190=\"Ja\",'Q_del,j en Q_del,dh'!$D139,0)","v":0},{"$f":"IF(AD190=\"Ja\",'Q_del,j en Q_del,dh'!$D139,0)","v":0},{"$f":"IF(AE190=\"Ja\",'Q_del,j en Q_del,dh'!$D139,0)","v":0},{"$f":"IF(AF190=\"Ja\",'Q_del,j en Q_del,dh'!$D139,0)","v":0},{"$f":"IF(AG190=\"Ja\",'Q_del,j en Q_del,dh'!$D139,0)","v":0},{"$f":"IF(AH190=\"Ja\",'Q_del,j en Q_del,dh'!$D139,0)","v":0},{"$f":"IF(AI190=\"Ja\",'Q_del,j en Q_del,dh'!$D139,0)","v":0},{"$f":"IF(AJ190=\"Ja\",'Q_del,j en Q_del,dh'!$D139,0)","v":0},{"$f":"IF(AK190=\"Ja\",'Q_del,j en Q_del,dh'!$D139,0)","v":0},{"$f":"IF(AL190=\"Ja\",'Q_del,j en Q_del,dh'!$D139,0)","v":0},{"$f":"IF(AM190=\"Ja\",'Q_del,j en Q_del,dh'!$D139,0)","v":0},{"$f":"IF(AN190=\"Ja\",'Q_del,j en Q_del,dh'!$D139,0)","v":0},{"$f":"IF(AO190=\"Ja\",'Q_del,j en Q_del,dh'!$D139,0)","v":0},{"$f":"IF(AP190=\"Ja\",'Q_del,j en Q_del,dh'!$D139,0)","v":0},{"$f":"IF(AQ190=\"Ja\",'Q_del,j en Q_del,dh'!$D139,0)","v":0},{"$f":"IF(AR190=\"Ja\",'Q_del,j en Q_del,dh'!$D139,0)","v":0},{"$f":"IF(AS190=\"Ja\",'Q_del,j en Q_del,dh'!$D139,0)","v":0},{"$f":"IF(AT190=\"Ja\",'Q_del,j en Q_del,dh'!$D139,0)","v":0},{"$f":"IF(AU190=\"Ja\",'Q_del,j en Q_del,dh'!$D139,0)","v":0},{"$f":"IF(AV190=\"Ja\",'Q_del,j en Q_del,dh'!$D139,0)","v":0},{"$f":"IF(AW190=\"Ja\",'Q_del,j en Q_del,dh'!$D139,0)","v":0},{"$f":"IF(AX190=\"Ja\",'Q_del,j en Q_del,dh'!$D139,0)","v":0},{"$f":"IF(AY190=\"Ja\",'Q_del,j en Q_del,dh'!$D139,0)","v":0},{"$f":"IF(AZ190=\"Ja\",'Q_del,j en Q_del,dh'!$D139,0)","v":0},{"$f":"IF(BA190=\"Ja\",'Q_del,j en Q_del,dh'!$D139,0)","v":0}]
["Qdel,l,j [MJ]","warmtevrager 133",133,{"$f":"IF(D191=\"Ja\",'Q_del,j en Q_del,dh'!$D140,0)","v":0},{"$f":"IF(E191=\"Ja\",'Q_del,j en Q_del,dh'!$D140,0)","v":0},{"$f":"IF(F191=\"Ja\",'Q_del,j en Q_del,dh'!$D140,0)","v":0},{"$f":"IF(G191=\"Ja\",'Q_del,j en Q_del,dh'!$D140,0)","v":0},{"$f":"IF(H191=\"Ja\",'Q_del,j en Q_del,dh'!$D140,0)","v":0},{"$f":"IF(I191=\"Ja\",'Q_del,j en Q_del,dh'!$D140,0)","v":0},{"$f":"IF(J191=\"Ja\",'Q_del,j en Q_del,dh'!$D140,0)","v":0},{"$f":"IF(K191=\"Ja\",'Q_del,j en Q_del,dh'!$D140,0)","v":0},{"$f":"IF(L191=\"Ja\",'Q_del,j en Q_del,dh'!$D140,0)","v":0},{"$f":"IF(M191=\"Ja\",'Q_del,j en Q_del,dh'!$D140,0)","v":0},{"$f":"IF(N191=\"Ja\",'Q_del,j en Q_del,dh'!$D140,0)","v":0},{"$f":"IF(O191=\"Ja\",'Q_del,j en Q_del,dh'!$D140,0)","v":0},{"$f":"IF(P191=\"Ja\",'Q_del,j en Q_del,dh'!$D140,0)","v":0},{"$f":"IF(Q191=\"Ja\",'Q_del,j en Q_del,dh'!$D140,0)","v":0},{"$f":"IF(R191=\"Ja\",'Q_del,j en Q_del,dh'!$D140,0)","v":0},{"$f":"IF(S191=\"Ja\",'Q_del,j en Q_del,dh'!$D140,0)","v":0},{"$f":"IF(T191=\"Ja\",'Q_del,j en Q_del,dh'!$D140,0)","v":0},{"$f":"IF(U191=\"Ja\",'Q_del,j en Q_del,dh'!$D140,0)","v":0},{"$f":"IF(V191=\"Ja\",'Q_del,j en Q_del,dh'!$D140,0)","v":0},{"$f":"IF(W191=\"Ja\",'Q_del,j en Q_del,dh'!$D140,0)","v":0},{"$f":"IF(X191=\"Ja\",'Q_del,j en Q_del,dh'!$D140,0)","v":0},{"$f":"IF(Y191=\"Ja\",'Q_del,j en Q_del,dh'!$D140,0)","v":0},{"$f":"IF(Z191=\"Ja\",'Q_del,j en Q_del,dh'!$D140,0)","v":0},{"$f":"IF(AA191=\"Ja\",'Q_del,j en Q_del,dh'!$D140,0)","v":0},{"$f":"IF(AB191=\"Ja\",'Q_del,j en Q_del,dh'!$D140,0)","v":0},{"$f":"IF(AC191=\"Ja\",'Q_del,j en Q_del,dh'!$D140,0)","v":0},{"$f":"IF(AD191=\"Ja\",'Q_del,j en Q_del,dh'!$D140,0)","v":0},{"$f":"IF(AE191=\"Ja\",'Q_del,j en Q_del,dh'!$D140,0)","v":0},{"$f":"IF(AF191=\"Ja\",'Q_del,j en Q_del,dh'!$D140,0)","v":0},{"$f":"IF(AG191=\"Ja\",'Q_del,j en Q_del,dh'!$D140,0)","v":0},{"$f":"IF(AH191=\"Ja\",'Q_del,j en Q_del,dh'!$D140,0)","v":0},{"$f":"IF(AI191=\"Ja\",'Q_del,j en Q_del,dh'!$D140,0)","v":0},{"$f":"IF(AJ191=\"Ja\",'Q_del,j en Q_del,dh'!$D140,0)","v":0},{"$f":"IF(AK191=\"Ja\",'Q_del,j en Q_del,dh'!$D140,0)","v":0},{"$f":"IF(AL191=\"Ja\",'Q_del,j en Q_del,dh'!$D140,0)","v":0},{"$f":"IF(AM191=\"Ja\",'Q_del,j en Q_del,dh'!$D140,0)","v":0},{"$f":"IF(AN191=\"Ja\",'Q_del,j en Q_del,dh'!$D140,0)","v":0},{"$f":"IF(AO191=\"Ja\",'Q_del,j en Q_del,dh'!$D140,0)","v":0},{"$f":"IF(AP191=\"Ja\",'Q_del,j en Q_del,dh'!$D140,0)","v":0},{"$f":"IF(AQ191=\"Ja\",'Q_del,j en Q_del,dh'!$D140,0)","v":0},{"$f":"IF(AR191=\"Ja\",'Q_del,j en Q_del,dh'!$D140,0)","v":0},{"$f":"IF(AS191=\"Ja\",'Q_del,j en Q_del,dh'!$D140,0)","v":0},{"$f":"IF(AT191=\"Ja\",'Q_del,j en Q_del,dh'!$D140,0)","v":0},{"$f":"IF(AU191=\"Ja\",'Q_del,j en Q_del,dh'!$D140,0)","v":0},{"$f":"IF(AV191=\"Ja\",'Q_del,j en Q_del,dh'!$D140,0)","v":0},{"$f":"IF(AW191=\"Ja\",'Q_del,j en Q_del,dh'!$D140,0)","v":0},{"$f":"IF(AX191=\"Ja\",'Q_del,j en Q_del,dh'!$D140,0)","v":0},{"$f":"IF(AY191=\"Ja\",'Q_del,j en Q_del,dh'!$D140,0)","v":0},{"$f":"IF(AZ191=\"Ja\",'Q_del,j en Q_del,dh'!$D140,0)","v":0},{"$f":"IF(BA191=\"Ja\",'Q_del,j en Q_del,dh'!$D140,0)","v":0}]
["Qdel,l,j [MJ]","warmtevrager 134",134,{"$f":"IF(D192=\"Ja\",'Q_del,j en Q_del,dh'!$D141,0)","v":0},{"$f":"IF(E192=\"Ja\",'Q_del,j en Q_del,dh'!$D141,0)","v":0},{"$f":"IF(F192=\"Ja\",'Q_del,j en Q_del,dh'!$D141,0)","v":0},{"$f":"IF(G192=\"Ja\",'Q_del,j en Q_del,dh'!$D141,0)","v":0},{"$f":"IF(H192=\"Ja\",'Q_del,j en Q_del,dh'!$D141,0)","v":0},{"$f":"IF(I192=\"Ja\",'Q_del,j en Q_del,dh'!$D141,0)","v":0},{"$f":"IF(J192=\"Ja\",'Q_del,j en Q_del,dh'!$D141,0)","v":0},{"$f":"IF(K192=\"Ja\",'Q_del,j en Q_del,dh'!$D141,0)","v":0},{"$f":"IF(L192=\"Ja\",'Q_del,j en Q_del,dh'!$D141,0)","v":0},{"$f":"IF(M192=\"Ja\",'Q_del,j en Q_del,dh'!$D141,0)","v":0},{"$f":"IF(N192=\"Ja\",'Q_del,j en Q_del,dh'!$D141,0)","v":0},{"$f":"IF(O192=\"Ja\",'Q_del,j en Q_del,dh'!$D141,0)","v":0},{"$f":"IF(P192=\"Ja\",'Q_del,j en Q_del,dh'!$D141,0)","v":0},{"$f":"IF(Q192=\"Ja\",'Q_del,j en Q_del,dh'!$D141,0)","v":0},{"$f":"IF(R192=\"Ja\",'Q_del,j en Q_del,dh'!$D141,0)","v":0},{"$f":"IF(S192=\"Ja\",'Q_del,j en Q_del,dh'!$D141,0)","v":0},{"$f":"IF(T192=\"Ja\",'Q_del,j en Q_del,dh'!$D141,0)","v":0},{"$f":"IF(U192=\"Ja\",'Q_del,j en Q_del,dh'!$D141,0)","v":0},{"$f":"IF(V192=\"Ja\",'Q_del,j en Q_del,dh'!$D141,0)","v":0},{"$f":"IF(W192=\"Ja\",'Q_del,j en Q_del,dh'!$D141,0)","v":0},{"$f":"IF(X192=\"Ja\",'Q_del,j en Q_del,dh'!$D141,0)","v":0},{"$f":"IF(Y192=\"Ja\",'Q_del,j en Q_del,dh'!$D141,0)","v":0},{"$f":"IF(Z192=\"Ja\",'Q_del,j en Q_del,dh'!$D141,0)","v":0},{"$f":"IF(AA192=\"Ja\",'Q_del,j en Q_del,dh'!$D141,0)","v":0},{"$f":"IF(AB192=\"Ja\",'Q_del,j en Q_del,dh'!$D141,0)","v":0},{"$f":"IF(AC192=\"Ja\",'Q_del,j en Q_del,dh'!$D141,0)","v":0},{"$f":"IF(AD192=\"Ja\",'Q_del,j en Q_del,dh'!$D141,0)","v":0},{"$f":"IF(AE192=\"Ja\",'Q_del,j en Q_del,dh'!$D141,0)","v":0},{"$f":"IF(AF192=\"Ja\",'Q_del,j en Q_del,dh'!$D141,0)","v":0},{"$f":"IF(AG192=\"Ja\",'Q_del,j en Q_del,dh'!$D141,0)","v":0},{"$f":"IF(AH192=\"Ja\",'Q_del,j en Q_del,dh'!$D141,0)","v":0},{"$f":"IF(AI192=\"Ja\",'Q_del,j en Q_del,dh'!$D141,0)","v":0},{"$f":"IF(AJ192=\"Ja\",'Q_del,j en Q_del,dh'!$D141,0)","v":0},{"$f":"IF(AK192=\"Ja\",'Q_del,j en Q_del,dh'!$D141,0)","v":0},{"$f":"IF(AL192=\"Ja\",'Q_del,j en Q_del,dh'!$D141,0)","v":0},{"$f":"IF(AM192=\"Ja\",'Q_del,j en Q_del,dh'!$D141,0)","v":0},{"$f":"IF(AN192=\"Ja\",'Q_del,j en Q_del,dh'!$D141,0)","v":0},{"$f":"IF(AO192=\"Ja\",'Q_del,j en Q_del,dh'!$D141,0)","v":0},{"$f":"IF(AP192=\"Ja\",'Q_del,j en Q_del,dh'!$D141,0)","v":0},{"$f":"IF(AQ192=\"Ja\",'Q_del,j en Q_del,dh'!$D141,0)","v":0},{"$f":"IF(AR192=\"Ja\",'Q_del,j en Q_del,dh'!$D141,0)","v":0},{"$f":"IF(AS192=\"Ja\",'Q_del,j en Q_del,dh'!$D141,0)","v":0},{"$f":"IF(AT192=\"Ja\",'Q_del,j en Q_del,dh'!$D141,0)","v":0},{"$f":"IF(AU192=\"Ja\",'Q_del,j en Q_del,dh'!$D141,0)","v":0},{"$f":"IF(AV192=\"Ja\",'Q_del,j en Q_del,dh'!$D141,0)","v":0},{"$f":"IF(AW192=\"Ja\",'Q_del,j en Q_del,dh'!$D141,0)","v":0},{"$f":"IF(AX192=\"Ja\",'Q_del,j en Q_del,dh'!$D141,0)","v":0},{"$f":"IF(AY192=\"Ja\",'Q_del,j en Q_del,dh'!$D141,0)","v":0},{"$f":"IF(AZ192=\"Ja\",'Q_del,j en Q_del,dh'!$D141,0)","v":0},{"$f":"IF(BA192=\"Ja\",'Q_del,j en Q_del,dh'!$D141,0)","v":0}]
["Qdel,l,j [MJ]","warmtevrager 135",135,{"$f":"IF(D193=\"Ja\",'Q_del,j en Q_del,dh'!$D142,0)","v":0},{"$f":"IF(E193=\"Ja\",'Q_del,j en Q_del,dh'!$D142,0)","v":0},{"$f":"IF(F193=\"Ja\",'Q_del,j en Q_del,dh'!$D142,0)","v":0},{"$f":"IF(G193=\"Ja\",'Q_del,j en Q_del,dh'!$D142,0)","v":0},{"$f":"IF(H193=\"Ja\",'Q_del,j en Q_del,dh'!$D142,0)","v":0},{"$f":"IF(I193=\"Ja\",'Q_del,j en Q_del,dh'!$D142,0)","v":0},{"$f":"IF(J193=\"Ja\",'Q_del,j en Q_del,dh'!$D142,0)","v":0},{"$f":"IF(K193=\"Ja\",'Q_del,j en Q_del,dh'!$D142,0)","v":0},{"$f":"IF(L193=\"Ja\",'Q_del,j en Q_del,dh'!$D142,0)","v":0},{"$f":"IF(M193=\"Ja\",'Q_del,j en Q_del,dh'!$D142,0)","v":0},{"$f":"IF(N193=\"Ja\",'Q_del,j en Q_del,dh'!$D142,0)","v":0},{"$f":"IF(O193=\"Ja\",'Q_del,j en Q_del,dh'!$D142,0)","v":0},{"$f":"IF(P193=\"Ja\",'Q_del,j en Q_del,dh'!$D142,0)","v":0},{"$f":"IF(Q193=\"Ja\",'Q_del,j en Q_del,dh'!$D142,0)","v":0},{"$f":"IF(R193=\"Ja\",'Q_del,j en Q_del,dh'!$D142,0)","v":0},{"$f":"IF(S193=\"Ja\",'Q_del,j en Q_del,dh'!$D142,0)","v":0},{"$f":"IF(T193=\"Ja\",'Q_del,j en Q_del,dh'!$D142,0)","v":0},{"$f":"IF(U193=\"Ja\",'Q_del,j en Q_del,dh'!$D142,0)","v":0},{"$f":"IF(V193=\"Ja\",'Q_del,j en Q_del,dh'!$D142,0)","v":0},{"$f":"IF(W193=\"Ja\",'Q_del,j en Q_del,dh'!$D142,0)","v":0},{"$f":"IF(X193=\"Ja\",'Q_del,j en Q_del,dh'!$D142,0)","v":0},{"$f":"IF(Y193=\"Ja\",'Q_del,j en Q_del,dh'!$D142,0)","v":0},{"$f":"IF(Z193=\"Ja\",'Q_del,j en Q_del,dh'!$D142,0)","v":0},{"$f":"IF(AA193=\"Ja\",'Q_del,j en Q_del,dh'!$D142,0)","v":0},{"$f":"IF(AB193=\"Ja\",'Q_del,j en Q_del,dh'!$D142,0)","v":0},{"$f":"IF(AC193=\"Ja\",'Q_del,j en Q_del,dh'!$D142,0)","v":0},{"$f":"IF(AD193=\"Ja\",'Q_del,j en Q_del,dh'!$D142,0)","v":0},{"$f":"IF(AE193=\"Ja\",'Q_del,j en Q_del,dh'!$D142,0)","v":0},{"$f":"IF(AF193=\"Ja\",'Q_del,j en Q_del,dh'!$D142,0)","v":0},{"$f":"IF(AG193=\"Ja\",'Q_del,j en Q_del,dh'!$D142,0)","v":0},{"$f":"IF(AH193=\"Ja\",'Q_del,j en Q_del,dh'!$D142,0)","v":0},{"$f":"IF(AI193=\"Ja\",'Q_del,j en Q_del,dh'!$D142,0)","v":0},{"$f":"IF(AJ193=\"Ja\",'Q_del,j en Q_del,dh'!$D142,0)","v":0},{"$f":"IF(AK193=\"Ja\",'Q_del,j en Q_del,dh'!$D142,0)","v":0},{"$f":"IF(AL193=\"Ja\",'Q_del,j en Q_del,dh'!$D142,0)","v":0},{"$f":"IF(AM193=\"Ja\",'Q_del,j en Q_del,dh'!$D142,0)","v":0},{"$f":"IF(AN193=\"Ja\",'Q_del,j en Q_del,dh'!$D142,0)","v":0},{"$f":"IF(AO193=\"Ja\",'Q_del,j en Q_del,dh'!$D142,0)","v":0},{"$f":"IF(AP193=\"Ja\",'Q_del,j en Q_del,dh'!$D142,0)","v":0},{"$f":"IF(AQ193=\"Ja\",'Q_del,j en Q_del,dh'!$D142,0)","v":0},{"$f":"IF(AR193=\"Ja\",'Q_del,j en Q_del,dh'!$D142,0)","v":0},{"$f":"IF(AS193=\"Ja\",'Q_del,j en Q_del,dh'!$D142,0)","v":0},{"$f":"IF(AT193=\"Ja\",'Q_del,j en Q_del,dh'!$D142,0)","v":0},{"$f":"IF(AU193=\"Ja\",'Q_del,j en Q_del,dh'!$D142,0)","v":0},{"$f":"IF(AV193=\"Ja\",'Q_del,j en Q_del,dh'!$D142,0)","v":0},{"$f":"IF(AW193=\"Ja\",'Q_del,j en Q_del,dh'!$D142,0)","v":0},{"$f":"IF(AX193=\"Ja\",'Q_del,j en Q_del,dh'!$D142,0)","v":0},{"$f":"IF(AY193=\"Ja\",'Q_del,j en Q_del,dh'!$D142,0)","v":0},{"$f":"IF(AZ193=\"Ja\",'Q_del,j en Q_del,dh'!$D142,0)","v":0},{"$f":"IF(BA193=\"Ja\",'Q_del,j en Q_del,dh'!$D142,0)","v":0}]
["Qdel,l,j [MJ]","warmtevrager 136",136,{"$f":"IF(D194=\"Ja\",'Q_del,j en Q_del,dh'!$D143,0)","v":0},{"$f":"IF(E194=\"Ja\",'Q_del,j en Q_del,dh'!$D143,0)","v":0},{"$f":"IF(F194=\"Ja\",'Q_del,j en Q_del,dh'!$D143,0)","v":0},{"$f":"IF(G194=\"Ja\",'Q_del,j en Q_del,dh'!$D143,0)","v":0},{"$f":"IF(H194=\"Ja\",'Q_del,j en Q_del,dh'!$D143,0)","v":0},{"$f":"IF(I194=\"Ja\",'Q_del,j en Q_del,dh'!$D143,0)","v":0},{"$f":"IF(J194=\"Ja\",'Q_del,j en Q_del,dh'!$D143,0)","v":0},{"$f":"IF(K194=\"Ja\",'Q_del,j en Q_del,dh'!$D143,0)","v":0},{"$f":"IF(L194=\"Ja\",'Q_del,j en Q_del,dh'!$D143,0)","v":0},{"$f":"IF(M194=\"Ja\",'Q_del,j en Q_del,dh'!$D143,0)","v":0},{"$f":"IF(N194=\"Ja\",'Q_del,j en Q_del,dh'!$D143,0)","v":0},{"$f":"IF(O194=\"Ja\",'Q_del,j en Q_del,dh'!$D143,0)","v":0},{"$f":"IF(P194=\"Ja\",'Q_del,j en Q_del,dh'!$D143,0)","v":0},{"$f":"IF(Q194=\"Ja\",'Q_del,j en Q_del,dh'!$D143,0)","v":0},{"$f":"IF(R194=\"Ja\",'Q_del,j en Q_del,dh'!$D143,0)","v":0},{"$f":"IF(S194=\"Ja\",'Q_del,j en Q_del,dh'!$D143,0)","v":0},{"$f":"IF(T194=\"Ja\",'Q_del,j en Q_del,dh'!$D143,0)","v":0},{"$f":"IF(U194=\"Ja\",'Q_del,j en Q_del,dh'!$D143,0)","v":0},{"$f":"IF(V194=\"Ja\",'Q_del,j en Q_del,dh'!$D143,0)","v":0},{"$f":"IF(W194=\"Ja\",'Q_del,j en Q_del,dh'!$D143,0)","v":0},{"$f":"IF(X194=\"Ja\",'Q_del,j en Q_del,dh'!$D143,0)","v":0},{"$f":"IF(Y194=\"Ja\",'Q_del,j en Q_del,dh'!$D143,0)","v":0},{"$f":"IF(Z194=\"Ja\",'Q_del,j en Q_del,dh'!$D143,0)","v":0},{"$f":"IF(AA194=\"Ja\",'Q_del,j en Q_del,dh'!$D143,0)","v":0},{"$f":"IF(AB194=\"Ja\",'Q_del,j en Q_del,dh'!$D143,0)","v":0},{"$f":"IF(AC194=\"Ja\",'Q_del,j en Q_del,dh'!$D143,0)","v":0},{"$f":"IF(AD194=\"Ja\",'Q_del,j en Q_del,dh'!$D143,0)","v":0},{"$f":"IF(AE194=\"Ja\",'Q_del,j en Q_del,dh'!$D143,0)","v":0},{"$f":"IF(AF194=\"Ja\",'Q_del,j en Q_del,dh'!$D143,0)","v":0},{"$f":"IF(AG194=\"Ja\",'Q_del,j en Q_del,dh'!$D143,0)","v":0},{"$f":"IF(AH194=\"Ja\",'Q_del,j en Q_del,dh'!$D143,0)","v":0},{"$f":"IF(AI194=\"Ja\",'Q_del,j en Q_del,dh'!$D143,0)","v":0},{"$f":"IF(AJ194=\"Ja\",'Q_del,j en Q_del,dh'!$D143,0)","v":0},{"$f":"IF(AK194=\"Ja\",'Q_del,j en Q_del,dh'!$D143,0)","v":0},{"$f":"IF(AL194=\"Ja\",'Q_del,j en Q_del,dh'!$D143,0)","v":0},{"$f":"IF(AM194=\"Ja\",'Q_del,j en Q_del,dh'!$D143,0)","v":0},{"$f":"IF(AN194=\"Ja\",'Q_del,j en Q_del,dh'!$D143,0)","v":0},{"$f":"IF(AO194=\"Ja\",'Q_del,j en Q_del,dh'!$D143,0)","v":0},{"$f":"IF(AP194=\"Ja\",'Q_del,j en Q_del,dh'!$D143,0)","v":0},{"$f":"IF(AQ194=\"Ja\",'Q_del,j en Q_del,dh'!$D143,0)","v":0},{"$f":"IF(AR194=\"Ja\",'Q_del,j en Q_del,dh'!$D143,0)","v":0},{"$f":"IF(AS194=\"Ja\",'Q_del,j en Q_del,dh'!$D143,0)","v":0},{"$f":"IF(AT194=\"Ja\",'Q_del,j en Q_del,dh'!$D143,0)","v":0},{"$f":"IF(AU194=\"Ja\",'Q_del,j en Q_del,dh'!$D143,0)","v":0},{"$f":"IF(AV194=\"Ja\",'Q_del,j en Q_del,dh'!$D143,0)","v":0},{"$f":"IF(AW194=\"Ja\",'Q_del,j en Q_del,dh'!$D143,0)","v":0},{"$f":"IF(AX194=\"Ja\",'Q_del,j en Q_del,dh'!$D143,0)","v":0},{"$f":"IF(AY194=\"Ja\",'Q_del,j en Q_del,dh'!$D143,0)","v":0},{"$f":"IF(AZ194=\"Ja\",'Q_del,j en Q_del,dh'!$D143,0)","v":0},{"$f":"IF(BA194=\"Ja\",'Q_del,j en Q_del,dh'!$D143,0)","v":0}]
["Qdel,l,j [MJ]","warmtevrager 137",137,{"$f":"IF(D195=\"Ja\",'Q_del,j en Q_del,dh'!$D144,0)","v":0},{"$f":"IF(E195=\"Ja\",'Q_del,j en Q_del,dh'!$D144,0)","v":0},{"$f":"IF(F195=\"Ja\",'Q_del,j en Q_del,dh'!$D144,0)","v":0},{"$f":"IF(G195=\"Ja\",'Q_del,j en Q_del,dh'!$D144,0)","v":0},{"$f":"IF(H195=\"Ja\",'Q_del,j en Q_del,dh'!$D144,0)","v":0},{"$f":"IF(I195=\"Ja\",'Q_del,j en Q_del,dh'!$D144,0)","v":0},{"$f":"IF(J195=\"Ja\",'Q_del,j en Q_del,dh'!$D144,0)","v":0},{"$f":"IF(K195=\"Ja\",'Q_del,j en Q_del,dh'!$D144,0)","v":0},{"$f":"IF(L195=\"Ja\",'Q_del,j en Q_del,dh'!$D144,0)","v":0},{"$f":"IF(M195=\"Ja\",'Q_del,j en Q_del,dh'!$D144,0)","v":0},{"$f":"IF(N195=\"Ja\",'Q_del,j en Q_del,dh'!$D144,0)","v":0},{"$f":"IF(O195=\"Ja\",'Q_del,j en Q_del,dh'!$D144,0)","v":0},{"$f":"IF(P195=\"Ja\",'Q_del,j en Q_del,dh'!$D144,0)","v":0},{"$f":"IF(Q195=\"Ja\",'Q_del,j en Q_del,dh'!$D144,0)","v":0},{"$f":"IF(R195=\"Ja\",'Q_del,j en Q_del,dh'!$D144,0)","v":0},{"$f":"IF(S195=\"Ja\",'Q_del,j en Q_del,dh'!$D144,0)","v":0},{"$f":"IF(T195=\"Ja\",'Q_del,j en Q_del,dh'!$D144,0)","v":0},{"$f":"IF(U195=\"Ja\",'Q_del,j en Q_del,dh'!$D144,0)","v":0},{"$f":"IF(V195=\"Ja\",'Q_del,j en Q_del,dh'!$D144,0)","v":0},{"$f":"IF(W195=\"Ja\",'Q_del,j en Q_del,dh'!$D144,0)","v":0},{"$f":"IF(X195=\"Ja\",'Q_del,j en Q_del,dh'!$D144,0)","v":0},{"$f":"IF(Y195=\"Ja\",'Q_del,j en Q_del,dh'!$D144,0)","v":0},{"$f":"IF(Z195=\"Ja\",'Q_del,j en Q_del,dh'!$D144,0)","v":0},{"$f":"IF(AA195=\"Ja\",'Q_del,j en Q_del,dh'!$D144,0)","v":0},{"$f":"IF(AB195=\"Ja\",'Q_del,j en Q_del,dh'!$D144,0)","v":0},{"$f":"IF(AC195=\"Ja\",'Q_del,j en Q_del,dh'!$D144,0)","v":0},{"$f":"IF(AD195=\"Ja\",'Q_del,j en Q_del,dh'!$D144,0)","v":0},{"$f":"IF(AE195=\"Ja\",'Q_del,j en Q_del,dh'!$D144,0)","v":0},{"$f":"IF(AF195=\"Ja\",'Q_del,j en Q_del,dh'!$D144,0)","v":0},{"$f":"IF(AG195=\"Ja\",'Q_del,j en Q_del,dh'!$D144,0)","v":0},{"$f":"IF(AH195=\"Ja\",'Q_del,j en Q_del,dh'!$D144,0)","v":0},{"$f":"IF(AI195=\"Ja\",'Q_del,j en Q_del,dh'!$D144,0)","v":0},{"$f":"IF(AJ195=\"Ja\",'Q_del,j en Q_del,dh'!$D144,0)","v":0},{"$f":"IF(AK195=\"Ja\",'Q_del,j en Q_del,dh'!$D144,0)","v":0},{"$f":"IF(AL195=\"Ja\",'Q_del,j en Q_del,dh'!$D144,0)","v":0},{"$f":"IF(AM195=\"Ja\",'Q_del,j en Q_del,dh'!$D144,0)","v":0},{"$f":"IF(AN195=\"Ja\",'Q_del,j en Q_del,dh'!$D144,0)","v":0},{"$f":"IF(AO195=\"Ja\",'Q_del,j en Q_del,dh'!$D144,0)","v":0},{"$f":"IF(AP195=\"Ja\",'Q_del,j en Q_del,dh'!$D144,0)","v":0},{"$f":"IF(AQ195=\"Ja\",'Q_del,j en Q_del,dh'!$D144,0)","v":0},{"$f":"IF(AR195=\"Ja\",'Q_del,j en Q_del,dh'!$D144,0)","v":0},{"$f":"IF(AS195=\"Ja\",'Q_del,j en Q_del,dh'!$D144,0)","v":0},{"$f":"IF(AT195=\"Ja\",'Q_del,j en Q_del,dh'!$D144,0)","v":0},{"$f":"IF(AU195=\"Ja\",'Q_del,j en Q_del,dh'!$D144,0)","v":0},{"$f":"IF(AV195=\"Ja\",'Q_del,j en Q_del,dh'!$D144,0)","v":0},{"$f":"IF(AW195=\"Ja\",'Q_del,j en Q_del,dh'!$D144,0)","v":0},{"$f":"IF(AX195=\"Ja\",'Q_del,j en Q_del,dh'!$D144,0)","v":0},{"$f":"IF(AY195=\"Ja\",'Q_del,j en Q_del,dh'!$D144,0)","v":0},{"$f":"IF(AZ195=\"Ja\",'Q_del,j en Q_del,dh'!$D144,0)","v":0},{"$f":"IF(BA195=\"Ja\",'Q_del,j en Q_del,dh'!$D144,0)","v":0}]
["Qdel,l,j [MJ]","warmtevrager 138",138,{"$f":"IF(D196=\"Ja\",'Q_del,j en Q_del,dh'!$D145,0)","v":0},{"$f":"IF(E196=\"Ja\",'Q_del,j en Q_del,dh'!$D145,0)","v":0},{"$f":"IF(F196=\"Ja\",'Q_del,j en Q_del,dh'!$D145,0)","v":0},{"$f":"IF(G196=\"Ja\",'Q_del,j en Q_del,dh'!$D145,0)","v":0},{"$f":"IF(H196=\"Ja\",'Q_del,j en Q_del,dh'!$D145,0)","v":0},{"$f":"IF(I196=\"Ja\",'Q_del,j en Q_del,dh'!$D145,0)","v":0},{"$f":"IF(J196=\"Ja\",'Q_del,j en Q_del,dh'!$D145,0)","v":0},{"$f":"IF(K196=\"Ja\",'Q_del,j en Q_del,dh'!$D145,0)","v":0},{"$f":"IF(L196=\"Ja\",'Q_del,j en Q_del,dh'!$D145,0)","v":0},{"$f":"IF(M196=\"Ja\",'Q_del,j en Q_del,dh'!$D145,0)","v":0},{"$f":"IF(N196=\"Ja\",'Q_del,j en Q_del,dh'!$D145,0)","v":0},{"$f":"IF(O196=\"Ja\",'Q_del,j en Q_del,dh'!$D145,0)","v":0},{"$f":"IF(P196=\"Ja\",'Q_del,j en Q_del,dh'!$D145,0)","v":0},{"$f":"IF(Q196=\"Ja\",'Q_del,j en Q_del,dh'!$D145,0)","v":0},{"$f":"IF(R196=\"Ja\",'Q_del,j en Q_del,dh'!$D145,0)","v":0},{"$f":"IF(S196=\"Ja\",'Q_del,j en Q_del,dh'!$D145,0)","v":0},{"$f":"IF(T196=\"Ja\",'Q_del,j en Q_del,dh'!$D145,0)","v":0},{"$f":"IF(U196=\"Ja\",'Q_del,j en Q_del,dh'!$D145,0)","v":0},{"$f":"IF(V196=\"Ja\",'Q_del,j en Q_del,dh'!$D145,0)","v":0},{"$f":"IF(W196=\"Ja\",'Q_del,j en Q_del,dh'!$D145,0)","v":0},{"$f":"IF(X196=\"Ja\",'Q_del,j en Q_del,dh'!$D145,0)","v":0},{"$f":"IF(Y196=\"Ja\",'Q_del,j en Q_del,dh'!$D145,0)","v":0},{"$f":"IF(Z196=\"Ja\",'Q_del,j en Q_del,dh'!$D145,0)","v":0},{"$f":"IF(AA196=\"Ja\",'Q_del,j en Q_del,dh'!$D145,0)","v":0},{"$f":"IF(AB196=\"Ja\",'Q_del,j en Q_del,dh'!$D145,0)","v":0},{"$f":"IF(AC196=\"Ja\",'Q_del,j en Q_del,dh'!$D145,0)","v":0},{"$f":"IF(AD196=\"Ja\",'Q_del,j en Q_del,dh'!$D145,0)","v":0},{"$f":"IF(AE196=\"Ja\",'Q_del,j en Q_del,dh'!$D145,0)","v":0},{"$f":"IF(AF196=\"Ja\",'Q_del,j en Q_del,dh'!$D145,0)","v":0},{"$f":"IF(AG196=\"Ja\",'Q_del,j en Q_del,dh'!$D145,0)","v":0},{"$f":"IF(AH196=\"Ja\",'Q_del,j en Q_del,dh'!$D145,0)","v":0},{"$f":"IF(AI196=\"Ja\",'Q_del,j en Q_del,dh'!$D145,0)","v":0},{"$f":"IF(AJ196=\"Ja\",'Q_del,j en Q_del,dh'!$D145,0)","v":0},{"$f":"IF(AK196=\"Ja\",'Q_del,j en Q_del,dh'!$D145,0)","v":0},{"$f":"IF(AL196=\"Ja\",'Q_del,j en Q_del,dh'!$D145,0)","v":0},{"$f":"IF(AM196=\"Ja\",'Q_del,j en Q_del,dh'!$D145,0)","v":0},{"$f":"IF(AN196=\"Ja\",'Q_del,j en Q_del,dh'!$D145,0)","v":0},{"$f":"IF(AO196=\"Ja\",'Q_del,j en Q_del,dh'!$D145,0)","v":0},{"$f":"IF(AP196=\"Ja\",'Q_del,j en Q_del,dh'!$D145,0)","v":0},{"$f":"IF(AQ196=\"Ja\",'Q_del,j en Q_del,dh'!$D145,0)","v":0},{"$f":"IF(AR196=\"Ja\",'Q_del,j en Q_del,dh'!$D145,0)","v":0},{"$f":"IF(AS196=\"Ja\",'Q_del,j en Q_del,dh'!$D145,0)","v":0},{"$f":"IF(AT196=\"Ja\",'Q_del,j en Q_del,dh'!$D145,0)","v":0},{"$f":"IF(AU196=\"Ja\",'Q_del,j en Q_del,dh'!$D145,0)","v":0},{"$f":"IF(AV196=\"Ja\",'Q_del,j en Q_del,dh'!$D145,0)","v":0},{"$f":"IF(AW196=\"Ja\",'Q_del,j en Q_del,dh'!$D145,0)","v":0},{"$f":"IF(AX196=\"Ja\",'Q_del,j en Q_del,dh'!$D145,0)","v":0},{"$f":"IF(AY196=\"Ja\",'Q_del,j en Q_del,dh'!$D145,0)","v":0},{"$f":"IF(AZ196=\"Ja\",'Q_del,j en Q_del,dh'!$D145,0)","v":0},{"$f":"IF(BA196=\"Ja\",'Q_del,j en Q_del,dh'!$D145,0)","v":0}]
["Qdel,l,j [MJ]","warmtevrager 139",139,{"$f":"IF(D197=\"Ja\",'Q_del,j en Q_del,dh'!$D146,0)","v":0},{"$f":"IF(E197=\"Ja\",'Q_del,j en Q_del,dh'!$D146,0)","v":0},{"$f":"IF(F197=\"Ja\",'Q_del,j en Q_del,dh'!$D146,0)","v":0},{"$f":"IF(G197=\"Ja\",'Q_del,j en Q_del,dh'!$D146,0)","v":0},{"$f":"IF(H197=\"Ja\",'Q_del,j en Q_del,dh'!$D146,0)","v":0},{"$f":"IF(I197=\"Ja\",'Q_del,j en Q_del,dh'!$D146,0)","v":0},{"$f":"IF(J197=\"Ja\",'Q_del,j en Q_del,dh'!$D146,0)","v":0},{"$f":"IF(K197=\"Ja\",'Q_del,j en Q_del,dh'!$D146,0)","v":0},{"$f":"IF(L197=\"Ja\",'Q_del,j en Q_del,dh'!$D146,0)","v":0},{"$f":"IF(M197=\"Ja\",'Q_del,j en Q_del,dh'!$D146,0)","v":0},{"$f":"IF(N197=\"Ja\",'Q_del,j en Q_del,dh'!$D146,0)","v":0},{"$f":"IF(O197=\"Ja\",'Q_del,j en Q_del,dh'!$D146,0)","v":0},{"$f":"IF(P197=\"Ja\",'Q_del,j en Q_del,dh'!$D146,0)","v":0},{"$f":"IF(Q197=\"Ja\",'Q_del,j en Q_del,dh'!$D146,0)","v":0},{"$f":"IF(R197=\"Ja\",'Q_del,j en Q_del,dh'!$D146,0)","v":0},{"$f":"IF(S197=\"Ja\",'Q_del,j en Q_del,dh'!$D146,0)","v":0},{"$f":"IF(T197=\"Ja\",'Q_del,j en Q_del,dh'!$D146,0)","v":0},{"$f":"IF(U197=\"Ja\",'Q_del,j en Q_del,dh'!$D146,0)","v":0},{"$f":"IF(V197=\"Ja\",'Q_del,j en Q_del,dh'!$D146,0)","v":0},{"$f":"IF(W197=\"Ja\",'Q_del,j en Q_del,dh'!$D146,0)","v":0},{"$f":"IF(X197=\"Ja\",'Q_del,j en Q_del,dh'!$D146,0)","v":0},{"$f":"IF(Y197=\"Ja\",'Q_del,j en Q_del,dh'!$D146,0)","v":0},{"$f":"IF(Z197=\"Ja\",'Q_del,j en Q_del,dh'!$D146,0)","v":0},{"$f":"IF(AA197=\"Ja\",'Q_del,j en Q_del,dh'!$D146,0)","v":0},{"$f":"IF(AB197=\"Ja\",'Q_del,j en Q_del,dh'!$D146,0)","v":0},{"$f":"IF(AC197=\"Ja\",'Q_del,j en Q_del,dh'!$D146,0)","v":0},{"$f":"IF(AD197=\"Ja\",'Q_del,j en Q_del,dh'!$D146,0)","v":0},{"$f":"IF(AE197=\"Ja\",'Q_del,j en Q_del,dh'!$D146,0)","v":0},{"$f":"IF(AF197=\"Ja\",'Q_del,j en Q_del,dh'!$D146,0)","v":0},{"$f":"IF(AG197=\"Ja\",'Q_del,j en Q_del,dh'!$D146,0)","v":0},{"$f":"IF(AH197=\"Ja\",'Q_del,j en Q_del,dh'!$D146,0)","v":0},{"$f":"IF(AI197=\"Ja\",'Q_del,j en Q_del,dh'!$D146,0)","v":0},{"$f":"IF(AJ197=\"Ja\",'Q_del,j en Q_del,dh'!$D146,0)","v":0},{"$f":"IF(AK197=\"Ja\",'Q_del,j en Q_del,dh'!$D146,0)","v":0},{"$f":"IF(AL197=\"Ja\",'Q_del,j en Q_del,dh'!$D146,0)","v":0},{"$f":"IF(AM197=\"Ja\",'Q_del,j en Q_del,dh'!$D146,0)","v":0},{"$f":"IF(AN197=\"Ja\",'Q_del,j en Q_del,dh'!$D146,0)","v":0},{"$f":"IF(AO197=\"Ja\",'Q_del,j en Q_del,dh'!$D146,0)","v":0},{"$f":"IF(AP197=\"Ja\",'Q_del,j en Q_del,dh'!$D146,0)","v":0},{"$f":"IF(AQ197=\"Ja\",'Q_del,j en Q_del,dh'!$D146,0)","v":0},{"$f":"IF(AR197=\"Ja\",'Q_del,j en Q_del,dh'!$D146,0)","v":0},{"$f":"IF(AS197=\"Ja\",'Q_del,j en Q_del,dh'!$D146,0)","v":0},{"$f":"IF(AT197=\"Ja\",'Q_del,j en Q_del,dh'!$D146,0)","v":0},{"$f":"IF(AU197=\"Ja\",'Q_del,j en Q_del,dh'!$D146,0)","v":0},{"$f":"IF(AV197=\"Ja\",'Q_del,j en Q_del,dh'!$D146,0)","v":0},{"$f":"IF(AW197=\"Ja\",'Q_del,j en Q_del,dh'!$D146,0)","v":0},{"$f":"IF(AX197=\"Ja\",'Q_del,j en Q_del,dh'!$D146,0)","v":0},{"$f":"IF(AY197=\"Ja\",'Q_del,j en Q_del,dh'!$D146,0)","v":0},{"$f":"IF(AZ197=\"Ja\",'Q_del,j en Q_del,dh'!$D146,0)","v":0},{"$f":"IF(BA197=\"Ja\",'Q_del,j en Q_del,dh'!$D146,0)","v":0}]
["Qdel,l,j [MJ]","warmtevrager 140",140,{"$f":"IF(D198=\"Ja\",'Q_del,j en Q_del,dh'!$D147,0)","v":0},{"$f":"IF(E198=\"Ja\",'Q_del,j en Q_del,dh'!$D147,0)","v":0},{"$f":"IF(F198=\"Ja\",'Q_del,j en Q_del,dh'!$D147,0)","v":0},{"$f":"IF(G198=\"Ja\",'Q_del,j en Q_del,dh'!$D147,0)","v":0},{"$f":"IF(H198=\"Ja\",'Q_del,j en Q_del,dh'!$D147,0)","v":0},{"$f":"IF(I198=\"Ja\",'Q_del,j en Q_del,dh'!$D147,0)","v":0},{"$f":"IF(J198=\"Ja\",'Q_del,j en Q_del,dh'!$D147,0)","v":0},{"$f":"IF(K198=\"Ja\",'Q_del,j en Q_del,dh'!$D147,0)","v":0},{"$f":"IF(L198=\"Ja\",'Q_del,j en Q_del,dh'!$D147,0)","v":0},{"$f":"IF(M198=\"Ja\",'Q_del,j en Q_del,dh'!$D147,0)","v":0},{"$f":"IF(N198=\"Ja\",'Q_del,j en Q_del,dh'!$D147,0)","v":0},{"$f":"IF(O198=\"Ja\",'Q_del,j en Q_del,dh'!$D147,0)","v":0},{"$f":"IF(P198=\"Ja\",'Q_del,j en Q_del,dh'!$D147,0)","v":0},{"$f":"IF(Q198=\"Ja\",'Q_del,j en Q_del,dh'!$D147,0)","v":0},{"$f":"IF(R198=\"Ja\",'Q_del,j en Q_del,dh'!$D147,0)","v":0},{"$f":"IF(S198=\"Ja\",'Q_del,j en Q_del,dh'!$D147,0)","v":0},{"$f":"IF(T198=\"Ja\",'Q_del,j en Q_del,dh'!$D147,0)","v":0},{"$f":"IF(U198=\"Ja\",'Q_del,j en Q_del,dh'!$D147,0)","v":0},{"$f":"IF(V198=\"Ja\",'Q_del,j en Q_del,dh'!$D147,0)","v":0},{"$f":"IF(W198=\"Ja\",'Q_del,j en Q_del,dh'!$D147,0)","v":0},{"$f":"IF(X198=\"Ja\",'Q_del,j en Q_del,dh'!$D147,0)","v":0},{"$f":"IF(Y198=\"Ja\",'Q_del,j en Q_del,dh'!$D147,0)","v":0},{"$f":"IF(Z198=\"Ja\",'Q_del,j en Q_del,dh'!$D147,0)","v":0},{"$f":"IF(AA198=\"Ja\",'Q_del,j en Q_del,dh'!$D147,0)","v":0},{"$f":"IF(AB198=\"Ja\",'Q_del,j en Q_del,dh'!$D147,0)","v":0},{"$f":"IF(AC198=\"Ja\",'Q_del,j en Q_del,dh'!$D147,0)","v":0},{"$f":"IF(AD198=\"Ja\",'Q_del,j en Q_del,dh'!$D147,0)","v":0},{"$f":"IF(AE198=\"Ja\",'Q_del,j en Q_del,dh'!$D147,0)","v":0},{"$f":"IF(AF198=\"Ja\",'Q_del,j en Q_del,dh'!$D147,0)","v":0},{"$f":"IF(AG198=\"Ja\",'Q_del,j en Q_del,dh'!$D147,0)","v":0},{"$f":"IF(AH198=\"Ja\",'Q_del,j en Q_del,dh'!$D147,0)","v":0},{"$f":"IF(AI198=\"Ja\",'Q_del,j en Q_del,dh'!$D147,0)","v":0},{"$f":"IF(AJ198=\"Ja\",'Q_del,j en Q_del,dh'!$D147,0)","v":0},{"$f":"IF(AK198=\"Ja\",'Q_del,j en Q_del,dh'!$D147,0)","v":0},{"$f":"IF(AL198=\"Ja\",'Q_del,j en Q_del,dh'!$D147,0)","v":0},{"$f":"IF(AM198=\"Ja\",'Q_del,j en Q_del,dh'!$D147,0)","v":0},{"$f":"IF(AN198=\"Ja\",'Q_del,j en Q_del,dh'!$D147,0)","v":0},{"$f":"IF(AO198=\"Ja\",'Q_del,j en Q_del,dh'!$D147,0)","v":0},{"$f":"IF(AP198=\"Ja\",'Q_del,j en Q_del,dh'!$D147,0)","v":0},{"$f":"IF(AQ198=\"Ja\",'Q_del,j en Q_del,dh'!$D147,0)","v":0},{"$f":"IF(AR198=\"Ja\",'Q_del,j en Q_del,dh'!$D147,0)","v":0},{"$f":"IF(AS198=\"Ja\",'Q_del,j en Q_del,dh'!$D147,0)","v":0},{"$f":"IF(AT198=\"Ja\",'Q_del,j en Q_del,dh'!$D147,0)","v":0},{"$f":"IF(AU198=\"Ja\",'Q_del,j en Q_del,dh'!$D147,0)","v":0},{"$f":"IF(AV198=\"Ja\",'Q_del,j en Q_del,dh'!$D147,0)","v":0},{"$f":"IF(AW198=\"Ja\",'Q_del,j en Q_del,dh'!$D147,0)","v":0},{"$f":"IF(AX198=\"Ja\",'Q_del,j en Q_del,dh'!$D147,0)","v":0},{"$f":"IF(AY198=\"Ja\",'Q_del,j en Q_del,dh'!$D147,0)","v":0},{"$f":"IF(AZ198=\"Ja\",'Q_del,j en Q_del,dh'!$D147,0)","v":0},{"$f":"IF(BA198=\"Ja\",'Q_del,j en Q_del,dh'!$D147,0)","v":0}]
["Qdel,l,j [MJ]","warmtevrager 141",141,{"$f":"IF(D199=\"Ja\",'Q_del,j en Q_del,dh'!$D148,0)","v":0},{"$f":"IF(E199=\"Ja\",'Q_del,j en Q_del,dh'!$D148,0)","v":0},{"$f":"IF(F199=\"Ja\",'Q_del,j en Q_del,dh'!$D148,0)","v":0},{"$f":"IF(G199=\"Ja\",'Q_del,j en Q_del,dh'!$D148,0)","v":0},{"$f":"IF(H199=\"Ja\",'Q_del,j en Q_del,dh'!$D148,0)","v":0},{"$f":"IF(I199=\"Ja\",'Q_del,j en Q_del,dh'!$D148,0)","v":0},{"$f":"IF(J199=\"Ja\",'Q_del,j en Q_del,dh'!$D148,0)","v":0},{"$f":"IF(K199=\"Ja\",'Q_del,j en Q_del,dh'!$D148,0)","v":0},{"$f":"IF(L199=\"Ja\",'Q_del,j en Q_del,dh'!$D148,0)","v":0},{"$f":"IF(M199=\"Ja\",'Q_del,j en Q_del,dh'!$D148,0)","v":0},{"$f":"IF(N199=\"Ja\",'Q_del,j en Q_del,dh'!$D148,0)","v":0},{"$f":"IF(O199=\"Ja\",'Q_del,j en Q_del,dh'!$D148,0)","v":0},{"$f":"IF(P199=\"Ja\",'Q_del,j en Q_del,dh'!$D148,0)","v":0},{"$f":"IF(Q199=\"Ja\",'Q_del,j en Q_del,dh'!$D148,0)","v":0},{"$f":"IF(R199=\"Ja\",'Q_del,j en Q_del,dh'!$D148,0)","v":0},{"$f":"IF(S199=\"Ja\",'Q_del,j en Q_del,dh'!$D148,0)","v":0},{"$f":"IF(T199=\"Ja\",'Q_del,j en Q_del,dh'!$D148,0)","v":0},{"$f":"IF(U199=\"Ja\",'Q_del,j en Q_del,dh'!$D148,0)","v":0},{"$f":"IF(V199=\"Ja\",'Q_del,j en Q_del,dh'!$D148,0)","v":0},{"$f":"IF(W199=\"Ja\",'Q_del,j en Q_del,dh'!$D148,0)","v":0},{"$f":"IF(X199=\"Ja\",'Q_del,j en Q_del,dh'!$D148,0)","v":0},{"$f":"IF(Y199=\"Ja\",'Q_del,j en Q_del,dh'!$D148,0)","v":0},{"$f":"IF(Z199=\"Ja\",'Q_del,j en Q_del,dh'!$D148,0)","v":0},{"$f":"IF(AA199=\"Ja\",'Q_del,j en Q_del,dh'!$D148,0)","v":0},{"$f":"IF(AB199=\"Ja\",'Q_del,j en Q_del,dh'!$D148,0)","v":0},{"$f":"IF(AC199=\"Ja\",'Q_del,j en Q_del,dh'!$D148,0)","v":0},{"$f":"IF(AD199=\"Ja\",'Q_del,j en Q_del,dh'!$D148,0)","v":0},{"$f":"IF(AE199=\"Ja\",'Q_del,j en Q_del,dh'!$D148,0)","v":0},{"$f":"IF(AF199=\"Ja\",'Q_del,j en Q_del,dh'!$D148,0)","v":0},{"$f":"IF(AG199=\"Ja\",'Q_del,j en Q_del,dh'!$D148,0)","v":0},{"$f":"IF(AH199=\"Ja\",'Q_del,j en Q_del,dh'!$D148,0)","v":0},{"$f":"IF(AI199=\"Ja\",'Q_del,j en Q_del,dh'!$D148,0)","v":0},{"$f":"IF(AJ199=\"Ja\",'Q_del,j en Q_del,dh'!$D148,0)","v":0},{"$f":"IF(AK199=\"Ja\",'Q_del,j en Q_del,dh'!$D148,0)","v":0},{"$f":"IF(AL199=\"Ja\",'Q_del,j en Q_del,dh'!$D148,0)","v":0},{"$f":"IF(AM199=\"Ja\",'Q_del,j en Q_del,dh'!$D148,0)","v":0},{"$f":"IF(AN199=\"Ja\",'Q_del,j en Q_del,dh'!$D148,0)","v":0},{"$f":"IF(AO199=\"Ja\",'Q_del,j en Q_del,dh'!$D148,0)","v":0},{"$f":"IF(AP199=\"Ja\",'Q_del,j en Q_del,dh'!$D148,0)","v":0},{"$f":"IF(AQ199=\"Ja\",'Q_del,j en Q_del,dh'!$D148,0)","v":0},{"$f":"IF(AR199=\"Ja\",'Q_del,j en Q_del,dh'!$D148,0)","v":0},{"$f":"IF(AS199=\"Ja\",'Q_del,j en Q_del,dh'!$D148,0)","v":0},{"$f":"IF(AT199=\"Ja\",'Q_del,j en Q_del,dh'!$D148,0)","v":0},{"$f":"IF(AU199=\"Ja\",'Q_del,j en Q_del,dh'!$D148,0)","v":0},{"$f":"IF(AV199=\"Ja\",'Q_del,j en Q_del,dh'!$D148,0)","v":0},{"$f":"IF(AW199=\"Ja\",'Q_del,j en Q_del,dh'!$D148,0)","v":0},{"$f":"IF(AX199=\"Ja\",'Q_del,j en Q_del,dh'!$D148,0)","v":0},{"$f":"IF(AY199=\"Ja\",'Q_del,j en Q_del,dh'!$D148,0)","v":0},{"$f":"IF(AZ199=\"Ja\",'Q_del,j en Q_del,dh'!$D148,0)","v":0},{"$f":"IF(BA199=\"Ja\",'Q_del,j en Q_del,dh'!$D148,0)","v":0}]
["Qdel,l,j [MJ]","warmtevrager 142",142,{"$f":"IF(D200=\"Ja\",'Q_del,j en Q_del,dh'!$D149,0)","v":0},{"$f":"IF(E200=\"Ja\",'Q_del,j en Q_del,dh'!$D149,0)","v":0},{"$f":"IF(F200=\"Ja\",'Q_del,j en Q_del,dh'!$D149,0)","v":0},{"$f":"IF(G200=\"Ja\",'Q_del,j en Q_del,dh'!$D149,0)","v":0},{"$f":"IF(H200=\"Ja\",'Q_del,j en Q_del,dh'!$D149,0)","v":0},{"$f":"IF(I200=\"Ja\",'Q_del,j en Q_del,dh'!$D149,0)","v":0},{"$f":"IF(J200=\"Ja\",'Q_del,j en Q_del,dh'!$D149,0)","v":0},{"$f":"IF(K200=\"Ja\",'Q_del,j en Q_del,dh'!$D149,0)","v":0},{"$f":"IF(L200=\"Ja\",'Q_del,j en Q_del,dh'!$D149,0)","v":0},{"$f":"IF(M200=\"Ja\",'Q_del,j en Q_del,dh'!$D149,0)","v":0},{"$f":"IF(N200=\"Ja\",'Q_del,j en Q_del,dh'!$D149,0)","v":0},{"$f":"IF(O200=\"Ja\",'Q_del,j en Q_del,dh'!$D149,0)","v":0},{"$f":"IF(P200=\"Ja\",'Q_del,j en Q_del,dh'!$D149,0)","v":0},{"$f":"IF(Q200=\"Ja\",'Q_del,j en Q_del,dh'!$D149,0)","v":0},{"$f":"IF(R200=\"Ja\",'Q_del,j en Q_del,dh'!$D149,0)","v":0},{"$f":"IF(S200=\"Ja\",'Q_del,j en Q_del,dh'!$D149,0)","v":0},{"$f":"IF(T200=\"Ja\",'Q_del,j en Q_del,dh'!$D149,0)","v":0},{"$f":"IF(U200=\"Ja\",'Q_del,j en Q_del,dh'!$D149,0)","v":0},{"$f":"IF(V200=\"Ja\",'Q_del,j en Q_del,dh'!$D149,0)","v":0},{"$f":"IF(W200=\"Ja\",'Q_del,j en Q_del,dh'!$D149,0)","v":0},{"$f":"IF(X200=\"Ja\",'Q_del,j en Q_del,dh'!$D149,0)","v":0},{"$f":"IF(Y200=\"Ja\",'Q_del,j en Q_del,dh'!$D149,0)","v":0},{"$f":"IF(Z200=\"Ja\",'Q_del,j en Q_del,dh'!$D149,0)","v":0},{"$f":"IF(AA200=\"Ja\",'Q_del,j en Q_del,dh'!$D149,0)","v":0},{"$f":"IF(AB200=\"Ja\",'Q_del,j en Q_del,dh'!$D149,0)","v":0},{"$f":"IF(AC200=\"Ja\",'Q_del,j en Q_del,dh'!$D149,0)","v":0},{"$f":"IF(AD200=\"Ja\",'Q_del,j en Q_del,dh'!$D149,0)","v":0},{"$f":"IF(AE200=\"Ja\",'Q_del,j en Q_del,dh'!$D149,0)","v":0},{"$f":"IF(AF200=\"Ja\",'Q_del,j en Q_del,dh'!$D149,0)","v":0},{"$f":"IF(AG200=\"Ja\",'Q_del,j en Q_del,dh'!$D149,0)","v":0},{"$f":"IF(AH200=\"Ja\",'Q_del,j en Q_del,dh'!$D149,0)","v":0},{"$f":"IF(AI200=\"Ja\",'Q_del,j en Q_del,dh'!$D149,0)","v":0},{"$f":"IF(AJ200=\"Ja\",'Q_del,j en Q_del,dh'!$D149,0)","v":0},{"$f":"IF(AK200=\"Ja\",'Q_del,j en Q_del,dh'!$D149,0)","v":0},{"$f":"IF(AL200=\"Ja\",'Q_del,j en Q_del,dh'!$D149,0)","v":0},{"$f":"IF(AM200=\"Ja\",'Q_del,j en Q_del,dh'!$D149,0)","v":0},{"$f":"IF(AN200=\"Ja\",'Q_del,j en Q_del,dh'!$D149,0)","v":0},{"$f":"IF(AO200=\"Ja\",'Q_del,j en Q_del,dh'!$D149,0)","v":0},{"$f":"IF(AP200=\"Ja\",'Q_del,j en Q_del,dh'!$D149,0)","v":0},{"$f":"IF(AQ200=\"Ja\",'Q_del,j en Q_del,dh'!$D149,0)","v":0},{"$f":"IF(AR200=\"Ja\",'Q_del,j en Q_del,dh'!$D149,0)","v":0},{"$f":"IF(AS200=\"Ja\",'Q_del,j en Q_del,dh'!$D149,0)","v":0},{"$f":"IF(AT200=\"Ja\",'Q_del,j en Q_del,dh'!$D149,0)","v":0},{"$f":"IF(AU200=\"Ja\",'Q_del,j en Q_del,dh'!$D149,0)","v":0},{"$f":"IF(AV200=\"Ja\",'Q_del,j en Q_del,dh'!$D149,0)","v":0},{"$f":"IF(AW200=\"Ja\",'Q_del,j en Q_del,dh'!$D149,0)","v":0},{"$f":"IF(AX200=\"Ja\",'Q_del,j en Q_del,dh'!$D149,0)","v":0},{"$f":"IF(AY200=\"Ja\",'Q_del,j en Q_del,dh'!$D149,0)","v":0},{"$f":"IF(AZ200=\"Ja\",'Q_del,j en Q_del,dh'!$D149,0)","v":0},{"$f":"IF(BA200=\"Ja\",'Q_del,j en Q_del,dh'!$D149,0)","v":0}]
["Qdel,l,j [MJ]","warmtevrager 143",143,{"$f":"IF(D201=\"Ja\",'Q_del,j en Q_del,dh'!$D150,0)","v":0},{"$f":"IF(E201=\"Ja\",'Q_del,j en Q_del,dh'!$D150,0)","v":0},{"$f":"IF(F201=\"Ja\",'Q_del,j en Q_del,dh'!$D150,0)","v":0},{"$f":"IF(G201=\"Ja\",'Q_del,j en Q_del,dh'!$D150,0)","v":0},{"$f":"IF(H201=\"Ja\",'Q_del,j en Q_del,dh'!$D150,0)","v":0},{"$f":"IF(I201=\"Ja\",'Q_del,j en Q_del,dh'!$D150,0)","v":0},{"$f":"IF(J201=\"Ja\",'Q_del,j en Q_del,dh'!$D150,0)","v":0},{"$f":"IF(K201=\"Ja\",'Q_del,j en Q_del,dh'!$D150,0)","v":0},{"$f":"IF(L201=\"Ja\",'Q_del,j en Q_del,dh'!$D150,0)","v":0},{"$f":"IF(M201=\"Ja\",'Q_del,j en Q_del,dh'!$D150,0)","v":0},{"$f":"IF(N201=\"Ja\",'Q_del,j en Q_del,dh'!$D150,0)","v":0},{"$f":"IF(O201=\"Ja\",'Q_del,j en Q_del,dh'!$D150,0)","v":0},{"$f":"IF(P201=\"Ja\",'Q_del,j en Q_del,dh'!$D150,0)","v":0},{"$f":"IF(Q201=\"Ja\",'Q_del,j en Q_del,dh'!$D150,0)","v":0},{"$f":"IF(R201=\"Ja\",'Q_del,j en Q_del,dh'!$D150,0)","v":0},{"$f":"IF(S201=\"Ja\",'Q_del,j en Q_del,dh'!$D150,0)","v":0},{"$f":"IF(T201=\"Ja\",'Q_del,j en Q_del,dh'!$D150,0)","v":0},{"$f":"IF(U201=\"Ja\",'Q_del,j en Q_del,dh'!$D150,0)","v":0},{"$f":"IF(V201=\"Ja\",'Q_del,j en Q_del,dh'!$D150,0)","v":0},{"$f":"IF(W201=\"Ja\",'Q_del,j en Q_del,dh'!$D150,0)","v":0},{"$f":"IF(X201=\"Ja\",'Q_del,j en Q_del,dh'!$D150,0)","v":0},{"$f":"IF(Y201=\"Ja\",'Q_del,j en Q_del,dh'!$D150,0)","v":0},{"$f":"IF(Z201=\"Ja\",'Q_del,j en Q_del,dh'!$D150,0)","v":0},{"$f":"IF(AA201=\"Ja\",'Q_del,j en Q_del,dh'!$D150,0)","v":0},{"$f":"IF(AB201=\"Ja\",'Q_del,j en Q_del,dh'!$D150,0)","v":0},{"$f":"IF(AC201=\"Ja\",'Q_del,j en Q_del,dh'!$D150,0)","v":0},{"$f":"IF(AD201=\"Ja\",'Q_del,j en Q_del,dh'!$D150,0)","v":0},{"$f":"IF(AE201=\"Ja\",'Q_del,j en Q_del,dh'!$D150,0)","v":0},{"$f":"IF(AF201=\"Ja\",'Q_del,j en Q_del,dh'!$D150,0)","v":0},{"$f":"IF(AG201=\"Ja\",'Q_del,j en Q_del,dh'!$D150,0)","v":0},{"$f":"IF(AH201=\"Ja\",'Q_del,j en Q_del,dh'!$D150,0)","v":0},{"$f":"IF(AI201=\"Ja\",'Q_del,j en Q_del,dh'!$D150,0)","v":0},{"$f":"IF(AJ201=\"Ja\",'Q_del,j en Q_del,dh'!$D150,0)","v":0},{"$f":"IF(AK201=\"Ja\",'Q_del,j en Q_del,dh'!$D150,0)","v":0},{"$f":"IF(AL201=\"Ja\",'Q_del,j en Q_del,dh'!$D150,0)","v":0},{"$f":"IF(AM201=\"Ja\",'Q_del,j en Q_del,dh'!$D150,0)","v":0},{"$f":"IF(AN201=\"Ja\",'Q_del,j en Q_del,dh'!$D150,0)","v":0},{"$f":"IF(AO201=\"Ja\",'Q_del,j en Q_del,dh'!$D150,0)","v":0},{"$f":"IF(AP201=\"Ja\",'Q_del,j en Q_del,dh'!$D150,0)","v":0},{"$f":"IF(AQ201=\"Ja\",'Q_del,j en Q_del,dh'!$D150,0)","v":0},{"$f":"IF(AR201=\"Ja\",'Q_del,j en Q_del,dh'!$D150,0)","v":0},{"$f":"IF(AS201=\"Ja\",'Q_del,j en Q_del,dh'!$D150,0)","v":0},{"$f":"IF(AT201=\"Ja\",'Q_del,j en Q_del,dh'!$D150,0)","v":0},{"$f":"IF(AU201=\"Ja\",'Q_del,j en Q_del,dh'!$D150,0)","v":0},{"$f":"IF(AV201=\"Ja\",'Q_del,j en Q_del,dh'!$D150,0)","v":0},{"$f":"IF(AW201=\"Ja\",'Q_del,j en Q_del,dh'!$D150,0)","v":0},{"$f":"IF(AX201=\"Ja\",'Q_del,j en Q_del,dh'!$D150,0)","v":0},{"$f":"IF(AY201=\"Ja\",'Q_del,j en Q_del,dh'!$D150,0)","v":0},{"$f":"IF(AZ201=\"Ja\",'Q_del,j en Q_del,dh'!$D150,0)","v":0},{"$f":"IF(BA201=\"Ja\",'Q_del,j en Q_del,dh'!$D150,0)","v":0}]
["Qdel,l,j [MJ]","warmtevrager 144",144,{"$f":"IF(D202=\"Ja\",'Q_del,j en Q_del,dh'!$D151,0)","v":0},{"$f":"IF(E202=\"Ja\",'Q_del,j en Q_del,dh'!$D151,0)","v":0},{"$f":"IF(F202=\"Ja\",'Q_del,j en Q_del,dh'!$D151,0)","v":0},{"$f":"IF(G202=\"Ja\",'Q_del,j en Q_del,dh'!$D151,0)","v":0},{"$f":"IF(H202=\"Ja\",'Q_del,j en Q_del,dh'!$D151,0)","v":0},{"$f":"IF(I202=\"Ja\",'Q_del,j en Q_del,dh'!$D151,0)","v":0},{"$f":"IF(J202=\"Ja\",'Q_del,j en Q_del,dh'!$D151,0)","v":0},{"$f":"IF(K202=\"Ja\",'Q_del,j en Q_del,dh'!$D151,0)","v":0},{"$f":"IF(L202=\"Ja\",'Q_del,j en Q_del,dh'!$D151,0)","v":0},{"$f":"IF(M202=\"Ja\",'Q_del,j en Q_del,dh'!$D151,0)","v":0},{"$f":"IF(N202=\"Ja\",'Q_del,j en Q_del,dh'!$D151,0)","v":0},{"$f":"IF(O202=\"Ja\",'Q_del,j en Q_del,dh'!$D151,0)","v":0},{"$f":"IF(P202=\"Ja\",'Q_del,j en Q_del,dh'!$D151,0)","v":0},{"$f":"IF(Q202=\"Ja\",'Q_del,j en Q_del,dh'!$D151,0)","v":0},{"$f":"IF(R202=\"Ja\",'Q_del,j en Q_del,dh'!$D151,0)","v":0},{"$f":"IF(S202=\"Ja\",'Q_del,j en Q_del,dh'!$D151,0)","v":0},{"$f":"IF(T202=\"Ja\",'Q_del,j en Q_del,dh'!$D151,0)","v":0},{"$f":"IF(U202=\"Ja\",'Q_del,j en Q_del,dh'!$D151,0)","v":0},{"$f":"IF(V202=\"Ja\",'Q_del,j en Q_del,dh'!$D151,0)","v":0},{"$f":"IF(W202=\"Ja\",'Q_del,j en Q_del,dh'!$D151,0)","v":0},{"$f":"IF(X202=\"Ja\",'Q_del,j en Q_del,dh'!$D151,0)","v":0},{"$f":"IF(Y202=\"Ja\",'Q_del,j en Q_del,dh'!$D151,0)","v":0},{"$f":"IF(Z202=\"Ja\",'Q_del,j en Q_del,dh'!$D151,0)","v":0},{"$f":"IF(AA202=\"Ja\",'Q_del,j en Q_del,dh'!$D151,0)","v":0},{"$f":"IF(AB202=\"Ja\",'Q_del,j en Q_del,dh'!$D151,0)","v":0},{"$f":"IF(AC202=\"Ja\",'Q_del,j en Q_del,dh'!$D151,0)","v":0},{"$f":"IF(AD202=\"Ja\",'Q_del,j en Q_del,dh'!$D151,0)","v":0},{"$f":"IF(AE202=\"Ja\",'Q_del,j en Q_del,dh'!$D151,0)","v":0},{"$f":"IF(AF202=\"Ja\",'Q_del,j en Q_del,dh'!$D151,0)","v":0},{"$f":"IF(AG202=\"Ja\",'Q_del,j en Q_del,dh'!$D151,0)","v":0},{"$f":"IF(AH202=\"Ja\",'Q_del,j en Q_del,dh'!$D151,0)","v":0},{"$f":"IF(AI202=\"Ja\",'Q_del,j en Q_del,dh'!$D151,0)","v":0},{"$f":"IF(AJ202=\"Ja\",'Q_del,j en Q_del,dh'!$D151,0)","v":0},{"$f":"IF(AK202=\"Ja\",'Q_del,j en Q_del,dh'!$D151,0)","v":0},{"$f":"IF(AL202=\"Ja\",'Q_del,j en Q_del,dh'!$D151,0)","v":0},{"$f":"IF(AM202=\"Ja\",'Q_del,j en Q_del,dh'!$D151,0)","v":0},{"$f":"IF(AN202=\"Ja\",'Q_del,j en Q_del,dh'!$D151,0)","v":0},{"$f":"IF(AO202=\"Ja\",'Q_del,j en Q_del,dh'!$D151,0)","v":0},{"$f":"IF(AP202=\"Ja\",'Q_del,j en Q_del,dh'!$D151,0)","v":0},{"$f":"IF(AQ202=\"Ja\",'Q_del,j en Q_del,dh'!$D151,0)","v":0},{"$f":"IF(AR202=\"Ja\",'Q_del,j en Q_del,dh'!$D151,0)","v":0},{"$f":"IF(AS202=\"Ja\",'Q_del,j en Q_del,dh'!$D151,0)","v":0},{"$f":"IF(AT202=\"Ja\",'Q_del,j en Q_del,dh'!$D151,0)","v":0},{"$f":"IF(AU202=\"Ja\",'Q_del,j en Q_del,dh'!$D151,0)","v":0},{"$f":"IF(AV202=\"Ja\",'Q_del,j en Q_del,dh'!$D151,0)","v":0},{"$f":"IF(AW202=\"Ja\",'Q_del,j en Q_del,dh'!$D151,0)","v":0},{"$f":"IF(AX202=\"Ja\",'Q_del,j en Q_del,dh'!$D151,0)","v":0},{"$f":"IF(AY202=\"Ja\",'Q_del,j en Q_del,dh'!$D151,0)","v":0},{"$f":"IF(AZ202=\"Ja\",'Q_del,j en Q_del,dh'!$D151,0)","v":0},{"$f":"IF(BA202=\"Ja\",'Q_del,j en Q_del,dh'!$D151,0)","v":0}]
["Qdel,l,j [MJ]","warmtevrager 145",145,{"$f":"IF(D203=\"Ja\",'Q_del,j en Q_del,dh'!$D152,0)","v":0},{"$f":"IF(E203=\"Ja\",'Q_del,j en Q_del,dh'!$D152,0)","v":0},{"$f":"IF(F203=\"Ja\",'Q_del,j en Q_del,dh'!$D152,0)","v":0},{"$f":"IF(G203=\"Ja\",'Q_del,j en Q_del,dh'!$D152,0)","v":0},{"$f":"IF(H203=\"Ja\",'Q_del,j en Q_del,dh'!$D152,0)","v":0},{"$f":"IF(I203=\"Ja\",'Q_del,j en Q_del,dh'!$D152,0)","v":0},{"$f":"IF(J203=\"Ja\",'Q_del,j en Q_del,dh'!$D152,0)","v":0},{"$f":"IF(K203=\"Ja\",'Q_del,j en Q_del,dh'!$D152,0)","v":0},{"$f":"IF(L203=\"Ja\",'Q_del,j en Q_del,dh'!$D152,0)","v":0},{"$f":"IF(M203=\"Ja\",'Q_del,j en Q_del,dh'!$D152,0)","v":0},{"$f":"IF(N203=\"Ja\",'Q_del,j en Q_del,dh'!$D152,0)","v":0},{"$f":"IF(O203=\"Ja\",'Q_del,j en Q_del,dh'!$D152,0)","v":0},{"$f":"IF(P203=\"Ja\",'Q_del,j en Q_del,dh'!$D152,0)","v":0},{"$f":"IF(Q203=\"Ja\",'Q_del,j en Q_del,dh'!$D152,0)","v":0},{"$f":"IF(R203=\"Ja\",'Q_del,j en Q_del,dh'!$D152,0)","v":0},{"$f":"IF(S203=\"Ja\",'Q_del,j en Q_del,dh'!$D152,0)","v":0},{"$f":"IF(T203=\"Ja\",'Q_del,j en Q_del,dh'!$D152,0)","v":0},{"$f":"IF(U203=\"Ja\",'Q_del,j en Q_del,dh'!$D152,0)","v":0},{"$f":"IF(V203=\"Ja\",'Q_del,j en Q_del,dh'!$D152,0)","v":0},{"$f":"IF(W203=\"Ja\",'Q_del,j en Q_del,dh'!$D152,0)","v":0},{"$f":"IF(X203=\"Ja\",'Q_del,j en Q_del,dh'!$D152,0)","v":0},{"$f":"IF(Y203=\"Ja\",'Q_del,j en Q_del,dh'!$D152,0)","v":0},{"$f":"IF(Z203=\"Ja\",'Q_del,j en Q_del,dh'!$D152,0)","v":0},{"$f":"IF(AA203=\"Ja\",'Q_del,j en Q_del,dh'!$D152,0)","v":0},{"$f":"IF(AB203=\"Ja\",'Q_del,j en Q_del,dh'!$D152,0)","v":0},{"$f":"IF(AC203=\"Ja\",'Q_del,j en Q_del,dh'!$D152,0)","v":0},{"$f":"IF(AD203=\"Ja\",'Q_del,j en Q_del,dh'!$D152,0)","v":0},{"$f":"IF(AE203=\"Ja\",'Q_del,j en Q_del,dh'!$D152,0)","v":0},{"$f":"IF(AF203=\"Ja\",'Q_del,j en Q_del,dh'!$D152,0)","v":0},{"$f":"IF(AG203=\"Ja\",'Q_del,j en Q_del,dh'!$D152,0)","v":0},{"$f":"IF(AH203=\"Ja\",'Q_del,j en Q_del,dh'!$D152,0)","v":0},{"$f":"IF(AI203=\"Ja\",'Q_del,j en Q_del,dh'!$D152,0)","v":0},{"$f":"IF(AJ203=\"Ja\",'Q_del,j en Q_del,dh'!$D152,0)","v":0},{"$f":"IF(AK203=\"Ja\",'Q_del,j en Q_del,dh'!$D152,0)","v":0},{"$f":"IF(AL203=\"Ja\",'Q_del,j en Q_del,dh'!$D152,0)","v":0},{"$f":"IF(AM203=\"Ja\",'Q_del,j en Q_del,dh'!$D152,0)","v":0},{"$f":"IF(AN203=\"Ja\",'Q_del,j en Q_del,dh'!$D152,0)","v":0},{"$f":"IF(AO203=\"Ja\",'Q_del,j en Q_del,dh'!$D152,0)","v":0},{"$f":"IF(AP203=\"Ja\",'Q_del,j en Q_del,dh'!$D152,0)","v":0},{"$f":"IF(AQ203=\"Ja\",'Q_del,j en Q_del,dh'!$D152,0)","v":0},{"$f":"IF(AR203=\"Ja\",'Q_del,j en Q_del,dh'!$D152,0)","v":0},{"$f":"IF(AS203=\"Ja\",'Q_del,j en Q_del,dh'!$D152,0)","v":0},{"$f":"IF(AT203=\"Ja\",'Q_del,j en Q_del,dh'!$D152,0)","v":0},{"$f":"IF(AU203=\"Ja\",'Q_del,j en Q_del,dh'!$D152,0)","v":0},{"$f":"IF(AV203=\"Ja\",'Q_del,j en Q_del,dh'!$D152,0)","v":0},{"$f":"IF(AW203=\"Ja\",'Q_del,j en Q_del,dh'!$D152,0)","v":0},{"$f":"IF(AX203=\"Ja\",'Q_del,j en Q_del,dh'!$D152,0)","v":0},{"$f":"IF(AY203=\"Ja\",'Q_del,j en Q_del,dh'!$D152,0)","v":0},{"$f":"IF(AZ203=\"Ja\",'Q_del,j en Q_del,dh'!$D152,0)","v":0},{"$f":"IF(BA203=\"Ja\",'Q_del,j en Q_del,dh'!$D152,0)","v":0}]
["Qdel,l,j [MJ]","warmtevrager 146",146,{"$f":"IF(D204=\"Ja\",'Q_del,j en Q_del,dh'!$D153,0)","v":0},{"$f":"IF(E204=\"Ja\",'Q_del,j en Q_del,dh'!$D153,0)","v":0},{"$f":"IF(F204=\"Ja\",'Q_del,j en Q_del,dh'!$D153,0)","v":0},{"$f":"IF(G204=\"Ja\",'Q_del,j en Q_del,dh'!$D153,0)","v":0},{"$f":"IF(H204=\"Ja\",'Q_del,j en Q_del,dh'!$D153,0)","v":0},{"$f":"IF(I204=\"Ja\",'Q_del,j en Q_del,dh'!$D153,0)","v":0},{"$f":"IF(J204=\"Ja\",'Q_del,j en Q_del,dh'!$D153,0)","v":0},{"$f":"IF(K204=\"Ja\",'Q_del,j en Q_del,dh'!$D153,0)","v":0},{"$f":"IF(L204=\"Ja\",'Q_del,j en Q_del,dh'!$D153,0)","v":0},{"$f":"IF(M204=\"Ja\",'Q_del,j en Q_del,dh'!$D153,0)","v":0},{"$f":"IF(N204=\"Ja\",'Q_del,j en Q_del,dh'!$D153,0)","v":0},{"$f":"IF(O204=\"Ja\",'Q_del,j en Q_del,dh'!$D153,0)","v":0},{"$f":"IF(P204=\"Ja\",'Q_del,j en Q_del,dh'!$D153,0)","v":0},{"$f":"IF(Q204=\"Ja\",'Q_del,j en Q_del,dh'!$D153,0)","v":0},{"$f":"IF(R204=\"Ja\",'Q_del,j en Q_del,dh'!$D153,0)","v":0},{"$f":"IF(S204=\"Ja\",'Q_del,j en Q_del,dh'!$D153,0)","v":0},{"$f":"IF(T204=\"Ja\",'Q_del,j en Q_del,dh'!$D153,0)","v":0},{"$f":"IF(U204=\"Ja\",'Q_del,j en Q_del,dh'!$D153,0)","v":0},{"$f":"IF(V204=\"Ja\",'Q_del,j en Q_del,dh'!$D153,0)","v":0},{"$f":"IF(W204=\"Ja\",'Q_del,j en Q_del,dh'!$D153,0)","v":0},{"$f":"IF(X204=\"Ja\",'Q_del,j en Q_del,dh'!$D153,0)","v":0},{"$f":"IF(Y204=\"Ja\",'Q_del,j en Q_del,dh'!$D153,0)","v":0},{"$f":"IF(Z204=\"Ja\",'Q_del,j en Q_del,dh'!$D153,0)","v":0},{"$f":"IF(AA204=\"Ja\",'Q_del,j en Q_del,dh'!$D153,0)","v":0},{"$f":"IF(AB204=\"Ja\",'Q_del,j en Q_del,dh'!$D153,0)","v":0},{"$f":"IF(AC204=\"Ja\",'Q_del,j en Q_del,dh'!$D153,0)","v":0},{"$f":"IF(AD204=\"Ja\",'Q_del,j en Q_del,dh'!$D153,0)","v":0},{"$f":"IF(AE204=\"Ja\",'Q_del,j en Q_del,dh'!$D153,0)","v":0},{"$f":"IF(AF204=\"Ja\",'Q_del,j en Q_del,dh'!$D153,0)","v":0},{"$f":"IF(AG204=\"Ja\",'Q_del,j en Q_del,dh'!$D153,0)","v":0},{"$f":"IF(AH204=\"Ja\",'Q_del,j en Q_del,dh'!$D153,0)","v":0},{"$f":"IF(AI204=\"Ja\",'Q_del,j en Q_del,dh'!$D153,0)","v":0},{"$f":"IF(AJ204=\"Ja\",'Q_del,j en Q_del,dh'!$D153,0)","v":0},{"$f":"IF(AK204=\"Ja\",'Q_del,j en Q_del,dh'!$D153,0)","v":0},{"$f":"IF(AL204=\"Ja\",'Q_del,j en Q_del,dh'!$D153,0)","v":0},{"$f":"IF(AM204=\"Ja\",'Q_del,j en Q_del,dh'!$D153,0)","v":0},{"$f":"IF(AN204=\"Ja\",'Q_del,j en Q_del,dh'!$D153,0)","v":0},{"$f":"IF(AO204=\"Ja\",'Q_del,j en Q_del,dh'!$D153,0)","v":0},{"$f":"IF(AP204=\"Ja\",'Q_del,j en Q_del,dh'!$D153,0)","v":0},{"$f":"IF(AQ204=\"Ja\",'Q_del,j en Q_del,dh'!$D153,0)","v":0},{"$f":"IF(AR204=\"Ja\",'Q_del,j en Q_del,dh'!$D153,0)","v":0},{"$f":"IF(AS204=\"Ja\",'Q_del,j en Q_del,dh'!$D153,0)","v":0},{"$f":"IF(AT204=\"Ja\",'Q_del,j en Q_del,dh'!$D153,0)","v":0},{"$f":"IF(AU204=\"Ja\",'Q_del,j en Q_del,dh'!$D153,0)","v":0},{"$f":"IF(AV204=\"Ja\",'Q_del,j en Q_del,dh'!$D153,0)","v":0},{"$f":"IF(AW204=\"Ja\",'Q_del,j en Q_del,dh'!$D153,0)","v":0},{"$f":"IF(AX204=\"Ja\",'Q_del,j en Q_del,dh'!$D153,0)","v":0},{"$f":"IF(AY204=\"Ja\",'Q_del,j en Q_del,dh'!$D153,0)","v":0},{"$f":"IF(AZ204=\"Ja\",'Q_del,j en Q_del,dh'!$D153,0)","v":0},{"$f":"IF(BA204=\"Ja\",'Q_del,j en Q_del,dh'!$D153,0)","v":0}]
["Qdel,l,j [MJ]","warmtevrager 147",147,{"$f":"IF(D205=\"Ja\",'Q_del,j en Q_del,dh'!$D154,0)","v":0},{"$f":"IF(E205=\"Ja\",'Q_del,j en Q_del,dh'!$D154,0)","v":0},{"$f":"IF(F205=\"Ja\",'Q_del,j en Q_del,dh'!$D154,0)","v":0},{"$f":"IF(G205=\"Ja\",'Q_del,j en Q_del,dh'!$D154,0)","v":0},{"$f":"IF(H205=\"Ja\",'Q_del,j en Q_del,dh'!$D154,0)","v":0},{"$f":"IF(I205=\"Ja\",'Q_del,j en Q_del,dh'!$D154,0)","v":0},{"$f":"IF(J205=\"Ja\",'Q_del,j en Q_del,dh'!$D154,0)","v":0},{"$f":"IF(K205=\"Ja\",'Q_del,j en Q_del,dh'!$D154,0)","v":0},{"$f":"IF(L205=\"Ja\",'Q_del,j en Q_del,dh'!$D154,0)","v":0},{"$f":"IF(M205=\"Ja\",'Q_del,j en Q_del,dh'!$D154,0)","v":0},{"$f":"IF(N205=\"Ja\",'Q_del,j en Q_del,dh'!$D154,0)","v":0},{"$f":"IF(O205=\"Ja\",'Q_del,j en Q_del,dh'!$D154,0)","v":0},{"$f":"IF(P205=\"Ja\",'Q_del,j en Q_del,dh'!$D154,0)","v":0},{"$f":"IF(Q205=\"Ja\",'Q_del,j en Q_del,dh'!$D154,0)","v":0},{"$f":"IF(R205=\"Ja\",'Q_del,j en Q_del,dh'!$D154,0)","v":0},{"$f":"IF(S205=\"Ja\",'Q_del,j en Q_del,dh'!$D154,0)","v":0},{"$f":"IF(T205=\"Ja\",'Q_del,j en Q_del,dh'!$D154,0)","v":0},{"$f":"IF(U205=\"Ja\",'Q_del,j en Q_del,dh'!$D154,0)","v":0},{"$f":"IF(V205=\"Ja\",'Q_del,j en Q_del,dh'!$D154,0)","v":0},{"$f":"IF(W205=\"Ja\",'Q_del,j en Q_del,dh'!$D154,0)","v":0},{"$f":"IF(X205=\"Ja\",'Q_del,j en Q_del,dh'!$D154,0)","v":0},{"$f":"IF(Y205=\"Ja\",'Q_del,j en Q_del,dh'!$D154,0)","v":0},{"$f":"IF(Z205=\"Ja\",'Q_del,j en Q_del,dh'!$D154,0)","v":0},{"$f":"IF(AA205=\"Ja\",'Q_del,j en Q_del,dh'!$D154,0)","v":0},{"$f":"IF(AB205=\"Ja\",'Q_del,j en Q_del,dh'!$D154,0)","v":0},{"$f":"IF(AC205=\"Ja\",'Q_del,j en Q_del,dh'!$D154,0)","v":0},{"$f":"IF(AD205=\"Ja\",'Q_del,j en Q_del,dh'!$D154,0)","v":0},{"$f":"IF(AE205=\"Ja\",'Q_del,j en Q_del,dh'!$D154,0)","v":0},{"$f":"IF(AF205=\"Ja\",'Q_del,j en Q_del,dh'!$D154,0)","v":0},{"$f":"IF(AG205=\"Ja\",'Q_del,j en Q_del,dh'!$D154,0)","v":0},{"$f":"IF(AH205=\"Ja\",'Q_del,j en Q_del,dh'!$D154,0)","v":0},{"$f":"IF(AI205=\"Ja\",'Q_del,j en Q_del,dh'!$D154,0)","v":0},{"$f":"IF(AJ205=\"Ja\",'Q_del,j en Q_del,dh'!$D154,0)","v":0},{"$f":"IF(AK205=\"Ja\",'Q_del,j en Q_del,dh'!$D154,0)","v":0},{"$f":"IF(AL205=\"Ja\",'Q_del,j en Q_del,dh'!$D154,0)","v":0},{"$f":"IF(AM205=\"Ja\",'Q_del,j en Q_del,dh'!$D154,0)","v":0},{"$f":"IF(AN205=\"Ja\",'Q_del,j en Q_del,dh'!$D154,0)","v":0},{"$f":"IF(AO205=\"Ja\",'Q_del,j en Q_del,dh'!$D154,0)","v":0},{"$f":"IF(AP205=\"Ja\",'Q_del,j en Q_del,dh'!$D154,0)","v":0},{"$f":"IF(AQ205=\"Ja\",'Q_del,j en Q_del,dh'!$D154,0)","v":0},{"$f":"IF(AR205=\"Ja\",'Q_del,j en Q_del,dh'!$D154,0)","v":0},{"$f":"IF(AS205=\"Ja\",'Q_del,j en Q_del,dh'!$D154,0)","v":0},{"$f":"IF(AT205=\"Ja\",'Q_del,j en Q_del,dh'!$D154,0)","v":0},{"$f":"IF(AU205=\"Ja\",'Q_del,j en Q_del,dh'!$D154,0)","v":0},{"$f":"IF(AV205=\"Ja\",'Q_del,j en Q_del,dh'!$D154,0)","v":0},{"$f":"IF(AW205=\"Ja\",'Q_del,j en Q_del,dh'!$D154,0)","v":0},{"$f":"IF(AX205=\"Ja\",'Q_del,j en Q_del,dh'!$D154,0)","v":0},{"$f":"IF(AY205=\"Ja\",'Q_del,j en Q_del,dh'!$D154,0)","v":0},{"$f":"IF(AZ205=\"Ja\",'Q_del,j en Q_del,dh'!$D154,0)","v":0},{"$f":"IF(BA205=\"Ja\",'Q_del,j en Q_del,dh'!$D154,0)","v":0}]
["Qdel,l,j [MJ]","warmtevrager 148",148,{"$f":"IF(D206=\"Ja\",'Q_del,j en Q_del,dh'!$D155,0)","v":0},{"$f":"IF(E206=\"Ja\",'Q_del,j en Q_del,dh'!$D155,0)","v":0},{"$f":"IF(F206=\"Ja\",'Q_del,j en Q_del,dh'!$D155,0)","v":0},{"$f":"IF(G206=\"Ja\",'Q_del,j en Q_del,dh'!$D155,0)","v":0},{"$f":"IF(H206=\"Ja\",'Q_del,j en Q_del,dh'!$D155,0)","v":0},{"$f":"IF(I206=\"Ja\",'Q_del,j en Q_del,dh'!$D155,0)","v":0},{"$f":"IF(J206=\"Ja\",'Q_del,j en Q_del,dh'!$D155,0)","v":0},{"$f":"IF(K206=\"Ja\",'Q_del,j en Q_del,dh'!$D155,0)","v":0},{"$f":"IF(L206=\"Ja\",'Q_del,j en Q_del,dh'!$D155,0)","v":0},{"$f":"IF(M206=\"Ja\",'Q_del,j en Q_del,dh'!$D155,0)","v":0},{"$f":"IF(N206=\"Ja\",'Q_del,j en Q_del,dh'!$D155,0)","v":0},{"$f":"IF(O206=\"Ja\",'Q_del,j en Q_del,dh'!$D155,0)","v":0},{"$f":"IF(P206=\"Ja\",'Q_del,j en Q_del,dh'!$D155,0)","v":0},{"$f":"IF(Q206=\"Ja\",'Q_del,j en Q_del,dh'!$D155,0)","v":0},{"$f":"IF(R206=\"Ja\",'Q_del,j en Q_del,dh'!$D155,0)","v":0},{"$f":"IF(S206=\"Ja\",'Q_del,j en Q_del,dh'!$D155,0)","v":0},{"$f":"IF(T206=\"Ja\",'Q_del,j en Q_del,dh'!$D155,0)","v":0},{"$f":"IF(U206=\"Ja\",'Q_del,j en Q_del,dh'!$D155,0)","v":0},{"$f":"IF(V206=\"Ja\",'Q_del,j en Q_del,dh'!$D155,0)","v":0},{"$f":"IF(W206=\"Ja\",'Q_del,j en Q_del,dh'!$D155,0)","v":0},{"$f":"IF(X206=\"Ja\",'Q_del,j en Q_del,dh'!$D155,0)","v":0},{"$f":"IF(Y206=\"Ja\",'Q_del,j en Q_del,dh'!$D155,0)","v":0},{"$f":"IF(Z206=\"Ja\",'Q_del,j en Q_del,dh'!$D155,0)","v":0},{"$f":"IF(AA206=\"Ja\",'Q_del,j en Q_del,dh'!$D155,0)","v":0},{"$f":"IF(AB206=\"Ja\",'Q_del,j en Q_del,dh'!$D155,0)","v":0},{"$f":"IF(AC206=\"Ja\",'Q_del,j en Q_del,dh'!$D155,0)","v":0},{"$f":"IF(AD206=\"Ja\",'Q_del,j en Q_del,dh'!$D155,0)","v":0},{"$f":"IF(AE206=\"Ja\",'Q_del,j en Q_del,dh'!$D155,0)","v":0},{"$f":"IF(AF206=\"Ja\",'Q_del,j en Q_del,dh'!$D155,0)","v":0},{"$f":"IF(AG206=\"Ja\",'Q_del,j en Q_del,dh'!$D155,0)","v":0},{"$f":"IF(AH206=\"Ja\",'Q_del,j en Q_del,dh'!$D155,0)","v":0},{"$f":"IF(AI206=\"Ja\",'Q_del,j en Q_del,dh'!$D155,0)","v":0},{"$f":"IF(AJ206=\"Ja\",'Q_del,j en Q_del,dh'!$D155,0)","v":0},{"$f":"IF(AK206=\"Ja\",'Q_del,j en Q_del,dh'!$D155,0)","v":0},{"$f":"IF(AL206=\"Ja\",'Q_del,j en Q_del,dh'!$D155,0)","v":0},{"$f":"IF(AM206=\"Ja\",'Q_del,j en Q_del,dh'!$D155,0)","v":0},{"$f":"IF(AN206=\"Ja\",'Q_del,j en Q_del,dh'!$D155,0)","v":0},{"$f":"IF(AO206=\"Ja\",'Q_del,j en Q_del,dh'!$D155,0)","v":0},{"$f":"IF(AP206=\"Ja\",'Q_del,j en Q_del,dh'!$D155,0)","v":0},{"$f":"IF(AQ206=\"Ja\",'Q_del,j en Q_del,dh'!$D155,0)","v":0},{"$f":"IF(AR206=\"Ja\",'Q_del,j en Q_del,dh'!$D155,0)","v":0},{"$f":"IF(AS206=\"Ja\",'Q_del,j en Q_del,dh'!$D155,0)","v":0},{"$f":"IF(AT206=\"Ja\",'Q_del,j en Q_del,dh'!$D155,0)","v":0},{"$f":"IF(AU206=\"Ja\",'Q_del,j en Q_del,dh'!$D155,0)","v":0},{"$f":"IF(AV206=\"Ja\",'Q_del,j en Q_del,dh'!$D155,0)","v":0},{"$f":"IF(AW206=\"Ja\",'Q_del,j en Q_del,dh'!$D155,0)","v":0},{"$f":"IF(AX206=\"Ja\",'Q_del,j en Q_del,dh'!$D155,0)","v":0},{"$f":"IF(AY206=\"Ja\",'Q_del,j en Q_del,dh'!$D155,0)","v":0},{"$f":"IF(AZ206=\"Ja\",'Q_del,j en Q_del,dh'!$D155,0)","v":0},{"$f":"IF(BA206=\"Ja\",'Q_del,j en Q_del,dh'!$D155,0)","v":0}]
["Qdel,l,j [MJ]","warmtevrager 149",149,{"$f":"IF(D207=\"Ja\",'Q_del,j en Q_del,dh'!$D156,0)","v":0},{"$f":"IF(E207=\"Ja\",'Q_del,j en Q_del,dh'!$D156,0)","v":0},{"$f":"IF(F207=\"Ja\",'Q_del,j en Q_del,dh'!$D156,0)","v":0},{"$f":"IF(G207=\"Ja\",'Q_del,j en Q_del,dh'!$D156,0)","v":0},{"$f":"IF(H207=\"Ja\",'Q_del,j en Q_del,dh'!$D156,0)","v":0},{"$f":"IF(I207=\"Ja\",'Q_del,j en Q_del,dh'!$D156,0)","v":0},{"$f":"IF(J207=\"Ja\",'Q_del,j en Q_del,dh'!$D156,0)","v":0},{"$f":"IF(K207=\"Ja\",'Q_del,j en Q_del,dh'!$D156,0)","v":0},{"$f":"IF(L207=\"Ja\",'Q_del,j en Q_del,dh'!$D156,0)","v":0},{"$f":"IF(M207=\"Ja\",'Q_del,j en Q_del,dh'!$D156,0)","v":0},{"$f":"IF(N207=\"Ja\",'Q_del,j en Q_del,dh'!$D156,0)","v":0},{"$f":"IF(O207=\"Ja\",'Q_del,j en Q_del,dh'!$D156,0)","v":0},{"$f":"IF(P207=\"Ja\",'Q_del,j en Q_del,dh'!$D156,0)","v":0},{"$f":"IF(Q207=\"Ja\",'Q_del,j en Q_del,dh'!$D156,0)","v":0},{"$f":"IF(R207=\"Ja\",'Q_del,j en Q_del,dh'!$D156,0)","v":0},{"$f":"IF(S207=\"Ja\",'Q_del,j en Q_del,dh'!$D156,0)","v":0},{"$f":"IF(T207=\"Ja\",'Q_del,j en Q_del,dh'!$D156,0)","v":0},{"$f":"IF(U207=\"Ja\",'Q_del,j en Q_del,dh'!$D156,0)","v":0},{"$f":"IF(V207=\"Ja\",'Q_del,j en Q_del,dh'!$D156,0)","v":0},{"$f":"IF(W207=\"Ja\",'Q_del,j en Q_del,dh'!$D156,0)","v":0},{"$f":"IF(X207=\"Ja\",'Q_del,j en Q_del,dh'!$D156,0)","v":0},{"$f":"IF(Y207=\"Ja\",'Q_del,j en Q_del,dh'!$D156,0)","v":0},{"$f":"IF(Z207=\"Ja\",'Q_del,j en Q_del,dh'!$D156,0)","v":0},{"$f":"IF(AA207=\"Ja\",'Q_del,j en Q_del,dh'!$D156,0)","v":0},{"$f":"IF(AB207=\"Ja\",'Q_del,j en Q_del,dh'!$D156,0)","v":0},{"$f":"IF(AC207=\"Ja\",'Q_del,j en Q_del,dh'!$D156,0)","v":0},{"$f":"IF(AD207=\"Ja\",'Q_del,j en Q_del,dh'!$D156,0)","v":0},{"$f":"IF(AE207=\"Ja\",'Q_del,j en Q_del,dh'!$D156,0)","v":0},{"$f":"IF(AF207=\"Ja\",'Q_del,j en Q_del,dh'!$D156,0)","v":0},{"$f":"IF(AG207=\"Ja\",'Q_del,j en Q_del,dh'!$D156,0)","v":0},{"$f":"IF(AH207=\"Ja\",'Q_del,j en Q_del,dh'!$D156,0)","v":0},{"$f":"IF(AI207=\"Ja\",'Q_del,j en Q_del,dh'!$D156,0)","v":0},{"$f":"IF(AJ207=\"Ja\",'Q_del,j en Q_del,dh'!$D156,0)","v":0},{"$f":"IF(AK207=\"Ja\",'Q_del,j en Q_del,dh'!$D156,0)","v":0},{"$f":"IF(AL207=\"Ja\",'Q_del,j en Q_del,dh'!$D156,0)","v":0},{"$f":"IF(AM207=\"Ja\",'Q_del,j en Q_del,dh'!$D156,0)","v":0},{"$f":"IF(AN207=\"Ja\",'Q_del,j en Q_del,dh'!$D156,0)","v":0},{"$f":"IF(AO207=\"Ja\",'Q_del,j en Q_del,dh'!$D156,0)","v":0},{"$f":"IF(AP207=\"Ja\",'Q_del,j en Q_del,dh'!$D156,0)","v":0},{"$f":"IF(AQ207=\"Ja\",'Q_del,j en Q_del,dh'!$D156,0)","v":0},{"$f":"IF(AR207=\"Ja\",'Q_del,j en Q_del,dh'!$D156,0)","v":0},{"$f":"IF(AS207=\"Ja\",'Q_del,j en Q_del,dh'!$D156,0)","v":0},{"$f":"IF(AT207=\"Ja\",'Q_del,j en Q_del,dh'!$D156,0)","v":0},{"$f":"IF(AU207=\"Ja\",'Q_del,j en Q_del,dh'!$D156,0)","v":0},{"$f":"IF(AV207=\"Ja\",'Q_del,j en Q_del,dh'!$D156,0)","v":0},{"$f":"IF(AW207=\"Ja\",'Q_del,j en Q_del,dh'!$D156,0)","v":0},{"$f":"IF(AX207=\"Ja\",'Q_del,j en Q_del,dh'!$D156,0)","v":0},{"$f":"IF(AY207=\"Ja\",'Q_del,j en Q_del,dh'!$D156,0)","v":0},{"$f":"IF(AZ207=\"Ja\",'Q_del,j en Q_del,dh'!$D156,0)","v":0},{"$f":"IF(BA207=\"Ja\",'Q_del,j en Q_del,dh'!$D156,0)","v":0}]
["Qdel,l,j [MJ]","warmtevrager 150",150,{"$f":"IF(D208=\"Ja\",'Q_del,j en Q_del,dh'!$D157,0)","v":0},{"$f":"IF(E208=\"Ja\",'Q_del,j en Q_del,dh'!$D157,0)","v":0},{"$f":"IF(F208=\"Ja\",'Q_del,j en Q_del,dh'!$D157,0)","v":0},{"$f":"IF(G208=\"Ja\",'Q_del,j en Q_del,dh'!$D157,0)","v":0},{"$f":"IF(H208=\"Ja\",'Q_del,j en Q_del,dh'!$D157,0)","v":0},{"$f":"IF(I208=\"Ja\",'Q_del,j en Q_del,dh'!$D157,0)","v":0},{"$f":"IF(J208=\"Ja\",'Q_del,j en Q_del,dh'!$D157,0)","v":0},{"$f":"IF(K208=\"Ja\",'Q_del,j en Q_del,dh'!$D157,0)","v":0},{"$f":"IF(L208=\"Ja\",'Q_del,j en Q_del,dh'!$D157,0)","v":0},{"$f":"IF(M208=\"Ja\",'Q_del,j en Q_del,dh'!$D157,0)","v":0},{"$f":"IF(N208=\"Ja\",'Q_del,j en Q_del,dh'!$D157,0)","v":0},{"$f":"IF(O208=\"Ja\",'Q_del,j en Q_del,dh'!$D157,0)","v":0},{"$f":"IF(P208=\"Ja\",'Q_del,j en Q_del,dh'!$D157,0)","v":0},{"$f":"IF(Q208=\"Ja\",'Q_del,j en Q_del,dh'!$D157,0)","v":0},{"$f":"IF(R208=\"Ja\",'Q_del,j en Q_del,dh'!$D157,0)","v":0},{"$f":"IF(S208=\"Ja\",'Q_del,j en Q_del,dh'!$D157,0)","v":0},{"$f":"IF(T208=\"Ja\",'Q_del,j en Q_del,dh'!$D157,0)","v":0},{"$f":"IF(U208=\"Ja\",'Q_del,j en Q_del,dh'!$D157,0)","v":0},{"$f":"IF(V208=\"Ja\",'Q_del,j en Q_del,dh'!$D157,0)","v":0},{"$f":"IF(W208=\"Ja\",'Q_del,j en Q_del,dh'!$D157,0)","v":0},{"$f":"IF(X208=\"Ja\",'Q_del,j en Q_del,dh'!$D157,0)","v":0},{"$f":"IF(Y208=\"Ja\",'Q_del,j en Q_del,dh'!$D157,0)","v":0},{"$f":"IF(Z208=\"Ja\",'Q_del,j en Q_del,dh'!$D157,0)","v":0},{"$f":"IF(AA208=\"Ja\",'Q_del,j en Q_del,dh'!$D157,0)","v":0},{"$f":"IF(AB208=\"Ja\",'Q_del,j en Q_del,dh'!$D157,0)","v":0},{"$f":"IF(AC208=\"Ja\",'Q_del,j en Q_del,dh'!$D157,0)","v":0},{"$f":"IF(AD208=\"Ja\",'Q_del,j en Q_del,dh'!$D157,0)","v":0},{"$f":"IF(AE208=\"Ja\",'Q_del,j en Q_del,dh'!$D157,0)","v":0},{"$f":"IF(AF208=\"Ja\",'Q_del,j en Q_del,dh'!$D157,0)","v":0},{"$f":"IF(AG208=\"Ja\",'Q_del,j en Q_del,dh'!$D157,0)","v":0},{"$f":"IF(AH208=\"Ja\",'Q_del,j en Q_del,dh'!$D157,0)","v":0},{"$f":"IF(AI208=\"Ja\",'Q_del,j en Q_del,dh'!$D157,0)","v":0},{"$f":"IF(AJ208=\"Ja\",'Q_del,j en Q_del,dh'!$D157,0)","v":0},{"$f":"IF(AK208=\"Ja\",'Q_del,j en Q_del,dh'!$D157,0)","v":0},{"$f":"IF(AL208=\"Ja\",'Q_del,j en Q_del,dh'!$D157,0)","v":0},{"$f":"IF(AM208=\"Ja\",'Q_del,j en Q_del,dh'!$D157,0)","v":0},{"$f":"IF(AN208=\"Ja\",'Q_del,j en Q_del,dh'!$D157,0)","v":0},{"$f":"IF(AO208=\"Ja\",'Q_del,j en Q_del,dh'!$D157,0)","v":0},{"$f":"IF(AP208=\"Ja\",'Q_del,j en Q_del,dh'!$D157,0)","v":0},{"$f":"IF(AQ208=\"Ja\",'Q_del,j en Q_del,dh'!$D157,0)","v":0},{"$f":"IF(AR208=\"Ja\",'Q_del,j en Q_del,dh'!$D157,0)","v":0},{"$f":"IF(AS208=\"Ja\",'Q_del,j en Q_del,dh'!$D157,0)","v":0},{"$f":"IF(AT208=\"Ja\",'Q_del,j en Q_del,dh'!$D157,0)","v":0},{"$f":"IF(AU208=\"Ja\",'Q_del,j en Q_del,dh'!$D157,0)","v":0},{"$f":"IF(AV208=\"Ja\",'Q_del,j en Q_del,dh'!$D157,0)","v":0},{"$f":"IF(AW208=\"Ja\",'Q_del,j en Q_del,dh'!$D157,0)","v":0},{"$f":"IF(AX208=\"Ja\",'Q_del,j en Q_del,dh'!$D157,0)","v":0},{"$f":"IF(AY208=\"Ja\",'Q_del,j en Q_del,dh'!$D157,0)","v":0},{"$f":"IF(AZ208=\"Ja\",'Q_del,j en Q_del,dh'!$D157,0)","v":0},{"$f":"IF(BA208=\"Ja\",'Q_del,j en Q_del,dh'!$D157,0)","v":0}]
["Qdel,l,j [MJ]","warmtevrager 151",151,{"$f":"IF(D209=\"Ja\",'Q_del,j en Q_del,dh'!$D158,0)","v":0},{"$f":"IF(E209=\"Ja\",'Q_del,j en Q_del,dh'!$D158,0)","v":0},{"$f":"IF(F209=\"Ja\",'Q_del,j en Q_del,dh'!$D158,0)","v":0},{"$f":"IF(G209=\"Ja\",'Q_del,j en Q_del,dh'!$D158,0)","v":0},{"$f":"IF(H209=\"Ja\",'Q_del,j en Q_del,dh'!$D158,0)","v":0},{"$f":"IF(I209=\"Ja\",'Q_del,j en Q_del,dh'!$D158,0)","v":0},{"$f":"IF(J209=\"Ja\",'Q_del,j en Q_del,dh'!$D158,0)","v":0},{"$f":"IF(K209=\"Ja\",'Q_del,j en Q_del,dh'!$D158,0)","v":0},{"$f":"IF(L209=\"Ja\",'Q_del,j en Q_del,dh'!$D158,0)","v":0},{"$f":"IF(M209=\"Ja\",'Q_del,j en Q_del,dh'!$D158,0)","v":0},{"$f":"IF(N209=\"Ja\",'Q_del,j en Q_del,dh'!$D158,0)","v":0},{"$f":"IF(O209=\"Ja\",'Q_del,j en Q_del,dh'!$D158,0)","v":0},{"$f":"IF(P209=\"Ja\",'Q_del,j en Q_del,dh'!$D158,0)","v":0},{"$f":"IF(Q209=\"Ja\",'Q_del,j en Q_del,dh'!$D158,0)","v":0},{"$f":"IF(R209=\"Ja\",'Q_del,j en Q_del,dh'!$D158,0)","v":0},{"$f":"IF(S209=\"Ja\",'Q_del,j en Q_del,dh'!$D158,0)","v":0},{"$f":"IF(T209=\"Ja\",'Q_del,j en Q_del,dh'!$D158,0)","v":0},{"$f":"IF(U209=\"Ja\",'Q_del,j en Q_del,dh'!$D158,0)","v":0},{"$f":"IF(V209=\"Ja\",'Q_del,j en Q_del,dh'!$D158,0)","v":0},{"$f":"IF(W209=\"Ja\",'Q_del,j en Q_del,dh'!$D158,0)","v":0},{"$f":"IF(X209=\"Ja\",'Q_del,j en Q_del,dh'!$D158,0)","v":0},{"$f":"IF(Y209=\"Ja\",'Q_del,j en Q_del,dh'!$D158,0)","v":0},{"$f":"IF(Z209=\"Ja\",'Q_del,j en Q_del,dh'!$D158,0)","v":0},{"$f":"IF(AA209=\"Ja\",'Q_del,j en Q_del,dh'!$D158,0)","v":0},{"$f":"IF(AB209=\"Ja\",'Q_del,j en Q_del,dh'!$D158,0)","v":0},{"$f":"IF(AC209=\"Ja\",'Q_del,j en Q_del,dh'!$D158,0)","v":0},{"$f":"IF(AD209=\"Ja\",'Q_del,j en Q_del,dh'!$D158,0)","v":0},{"$f":"IF(AE209=\"Ja\",'Q_del,j en Q_del,dh'!$D158,0)","v":0},{"$f":"IF(AF209=\"Ja\",'Q_del,j en Q_del,dh'!$D158,0)","v":0},{"$f":"IF(AG209=\"Ja\",'Q_del,j en Q_del,dh'!$D158,0)","v":0},{"$f":"IF(AH209=\"Ja\",'Q_del,j en Q_del,dh'!$D158,0)","v":0},{"$f":"IF(AI209=\"Ja\",'Q_del,j en Q_del,dh'!$D158,0)","v":0},{"$f":"IF(AJ209=\"Ja\",'Q_del,j en Q_del,dh'!$D158,0)","v":0},{"$f":"IF(AK209=\"Ja\",'Q_del,j en Q_del,dh'!$D158,0)","v":0},{"$f":"IF(AL209=\"Ja\",'Q_del,j en Q_del,dh'!$D158,0)","v":0},{"$f":"IF(AM209=\"Ja\",'Q_del,j en Q_del,dh'!$D158,0)","v":0},{"$f":"IF(AN209=\"Ja\",'Q_del,j en Q_del,dh'!$D158,0)","v":0},{"$f":"IF(AO209=\"Ja\",'Q_del,j en Q_del,dh'!$D158,0)","v":0},{"$f":"IF(AP209=\"Ja\",'Q_del,j en Q_del,dh'!$D158,0)","v":0},{"$f":"IF(AQ209=\"Ja\",'Q_del,j en Q_del,dh'!$D158,0)","v":0},{"$f":"IF(AR209=\"Ja\",'Q_del,j en Q_del,dh'!$D158,0)","v":0},{"$f":"IF(AS209=\"Ja\",'Q_del,j en Q_del,dh'!$D158,0)","v":0},{"$f":"IF(AT209=\"Ja\",'Q_del,j en Q_del,dh'!$D158,0)","v":0},{"$f":"IF(AU209=\"Ja\",'Q_del,j en Q_del,dh'!$D158,0)","v":0},{"$f":"IF(AV209=\"Ja\",'Q_del,j en Q_del,dh'!$D158,0)","v":0},{"$f":"IF(AW209=\"Ja\",'Q_del,j en Q_del,dh'!$D158,0)","v":0},{"$f":"IF(AX209=\"Ja\",'Q_del,j en Q_del,dh'!$D158,0)","v":0},{"$f":"IF(AY209=\"Ja\",'Q_del,j en Q_del,dh'!$D158,0)","v":0},{"$f":"IF(AZ209=\"Ja\",'Q_del,j en Q_del,dh'!$D158,0)","v":0},{"$f":"IF(BA209=\"Ja\",'Q_del,j en Q_del,dh'!$D158,0)","v":0}]
["Qdel,l,j [MJ]","warmtevrager 152",152,{"$f":"IF(D210=\"Ja\",'Q_del,j en Q_del,dh'!$D159,0)","v":0},{"$f":"IF(E210=\"Ja\",'Q_del,j en Q_del,dh'!$D159,0)","v":0},{"$f":"IF(F210=\"Ja\",'Q_del,j en Q_del,dh'!$D159,0)","v":0},{"$f":"IF(G210=\"Ja\",'Q_del,j en Q_del,dh'!$D159,0)","v":0},{"$f":"IF(H210=\"Ja\",'Q_del,j en Q_del,dh'!$D159,0)","v":0},{"$f":"IF(I210=\"Ja\",'Q_del,j en Q_del,dh'!$D159,0)","v":0},{"$f":"IF(J210=\"Ja\",'Q_del,j en Q_del,dh'!$D159,0)","v":0},{"$f":"IF(K210=\"Ja\",'Q_del,j en Q_del,dh'!$D159,0)","v":0},{"$f":"IF(L210=\"Ja\",'Q_del,j en Q_del,dh'!$D159,0)","v":0},{"$f":"IF(M210=\"Ja\",'Q_del,j en Q_del,dh'!$D159,0)","v":0},{"$f":"IF(N210=\"Ja\",'Q_del,j en Q_del,dh'!$D159,0)","v":0},{"$f":"IF(O210=\"Ja\",'Q_del,j en Q_del,dh'!$D159,0)","v":0},{"$f":"IF(P210=\"Ja\",'Q_del,j en Q_del,dh'!$D159,0)","v":0},{"$f":"IF(Q210=\"Ja\",'Q_del,j en Q_del,dh'!$D159,0)","v":0},{"$f":"IF(R210=\"Ja\",'Q_del,j en Q_del,dh'!$D159,0)","v":0},{"$f":"IF(S210=\"Ja\",'Q_del,j en Q_del,dh'!$D159,0)","v":0},{"$f":"IF(T210=\"Ja\",'Q_del,j en Q_del,dh'!$D159,0)","v":0},{"$f":"IF(U210=\"Ja\",'Q_del,j en Q_del,dh'!$D159,0)","v":0},{"$f":"IF(V210=\"Ja\",'Q_del,j en Q_del,dh'!$D159,0)","v":0},{"$f":"IF(W210=\"Ja\",'Q_del,j en Q_del,dh'!$D159,0)","v":0},{"$f":"IF(X210=\"Ja\",'Q_del,j en Q_del,dh'!$D159,0)","v":0},{"$f":"IF(Y210=\"Ja\",'Q_del,j en Q_del,dh'!$D159,0)","v":0},{"$f":"IF(Z210=\"Ja\",'Q_del,j en Q_del,dh'!$D159,0)","v":0},{"$f":"IF(AA210=\"Ja\",'Q_del,j en Q_del,dh'!$D159,0)","v":0},{"$f":"IF(AB210=\"Ja\",'Q_del,j en Q_del,dh'!$D159,0)","v":0},{"$f":"IF(AC210=\"Ja\",'Q_del,j en Q_del,dh'!$D159,0)","v":0},{"$f":"IF(AD210=\"Ja\",'Q_del,j en Q_del,dh'!$D159,0)","v":0},{"$f":"IF(AE210=\"Ja\",'Q_del,j en Q_del,dh'!$D159,0)","v":0},{"$f":"IF(AF210=\"Ja\",'Q_del,j en Q_del,dh'!$D159,0)","v":0},{"$f":"IF(AG210=\"Ja\",'Q_del,j en Q_del,dh'!$D159,0)","v":0},{"$f":"IF(AH210=\"Ja\",'Q_del,j en Q_del,dh'!$D159,0)","v":0},{"$f":"IF(AI210=\"Ja\",'Q_del,j en Q_del,dh'!$D159,0)","v":0},{"$f":"IF(AJ210=\"Ja\",'Q_del,j en Q_del,dh'!$D159,0)","v":0},{"$f":"IF(AK210=\"Ja\",'Q_del,j en Q_del,dh'!$D159,0)","v":0},{"$f":"IF(AL210=\"Ja\",'Q_del,j en Q_del,dh'!$D159,0)","v":0},{"$f":"IF(AM210=\"Ja\",'Q_del,j en Q_del,dh'!$D159,0)","v":0},{"$f":"IF(AN210=\"Ja\",'Q_del,j en Q_del,dh'!$D159,0)","v":0},{"$f":"IF(AO210=\"Ja\",'Q_del,j en Q_del,dh'!$D159,0)","v":0},{"$f":"IF(AP210=\"Ja\",'Q_del,j en Q_del,dh'!$D159,0)","v":0},{"$f":"IF(AQ210=\"Ja\",'Q_del,j en Q_del,dh'!$D159,0)","v":0},{"$f":"IF(AR210=\"Ja\",'Q_del,j en Q_del,dh'!$D159,0)","v":0},{"$f":"IF(AS210=\"Ja\",'Q_del,j en Q_del,dh'!$D159,0)","v":0},{"$f":"IF(AT210=\"Ja\",'Q_del,j en Q_del,dh'!$D159,0)","v":0},{"$f":"IF(AU210=\"Ja\",'Q_del,j en Q_del,dh'!$D159,0)","v":0},{"$f":"IF(AV210=\"Ja\",'Q_del,j en Q_del,dh'!$D159,0)","v":0},{"$f":"IF(AW210=\"Ja\",'Q_del,j en Q_del,dh'!$D159,0)","v":0},{"$f":"IF(AX210=\"Ja\",'Q_del,j en Q_del,dh'!$D159,0)","v":0},{"$f":"IF(AY210=\"Ja\",'Q_del,j en Q_del,dh'!$D159,0)","v":0},{"$f":"IF(AZ210=\"Ja\",'Q_del,j en Q_del,dh'!$D159,0)","v":0},{"$f":"IF(BA210=\"Ja\",'Q_del,j en Q_del,dh'!$D159,0)","v":0}]
["Qdel,l,j [MJ]","warmtevrager 153",153,{"$f":"IF(D211=\"Ja\",'Q_del,j en Q_del,dh'!$D160,0)","v":0},{"$f":"IF(E211=\"Ja\",'Q_del,j en Q_del,dh'!$D160,0)","v":0},{"$f":"IF(F211=\"Ja\",'Q_del,j en Q_del,dh'!$D160,0)","v":0},{"$f":"IF(G211=\"Ja\",'Q_del,j en Q_del,dh'!$D160,0)","v":0},{"$f":"IF(H211=\"Ja\",'Q_del,j en Q_del,dh'!$D160,0)","v":0},{"$f":"IF(I211=\"Ja\",'Q_del,j en Q_del,dh'!$D160,0)","v":0},{"$f":"IF(J211=\"Ja\",'Q_del,j en Q_del,dh'!$D160,0)","v":0},{"$f":"IF(K211=\"Ja\",'Q_del,j en Q_del,dh'!$D160,0)","v":0},{"$f":"IF(L211=\"Ja\",'Q_del,j en Q_del,dh'!$D160,0)","v":0},{"$f":"IF(M211=\"Ja\",'Q_del,j en Q_del,dh'!$D160,0)","v":0},{"$f":"IF(N211=\"Ja\",'Q_del,j en Q_del,dh'!$D160,0)","v":0},{"$f":"IF(O211=\"Ja\",'Q_del,j en Q_del,dh'!$D160,0)","v":0},{"$f":"IF(P211=\"Ja\",'Q_del,j en Q_del,dh'!$D160,0)","v":0},{"$f":"IF(Q211=\"Ja\",'Q_del,j en Q_del,dh'!$D160,0)","v":0},{"$f":"IF(R211=\"Ja\",'Q_del,j en Q_del,dh'!$D160,0)","v":0},{"$f":"IF(S211=\"Ja\",'Q_del,j en Q_del,dh'!$D160,0)","v":0},{"$f":"IF(T211=\"Ja\",'Q_del,j en Q_del,dh'!$D160,0)","v":0},{"$f":"IF(U211=\"Ja\",'Q_del,j en Q_del,dh'!$D160,0)","v":0},{"$f":"IF(V211=\"Ja\",'Q_del,j en Q_del,dh'!$D160,0)","v":0},{"$f":"IF(W211=\"Ja\",'Q_del,j en Q_del,dh'!$D160,0)","v":0},{"$f":"IF(X211=\"Ja\",'Q_del,j en Q_del,dh'!$D160,0)","v":0},{"$f":"IF(Y211=\"Ja\",'Q_del,j en Q_del,dh'!$D160,0)","v":0},{"$f":"IF(Z211=\"Ja\",'Q_del,j en Q_del,dh'!$D160,0)","v":0},{"$f":"IF(AA211=\"Ja\",'Q_del,j en Q_del,dh'!$D160,0)","v":0},{"$f":"IF(AB211=\"Ja\",'Q_del,j en Q_del,dh'!$D160,0)","v":0},{"$f":"IF(AC211=\"Ja\",'Q_del,j en Q_del,dh'!$D160,0)","v":0},{"$f":"IF(AD211=\"Ja\",'Q_del,j en Q_del,dh'!$D160,0)","v":0},{"$f":"IF(AE211=\"Ja\",'Q_del,j en Q_del,dh'!$D160,0)","v":0},{"$f":"IF(AF211=\"Ja\",'Q_del,j en Q_del,dh'!$D160,0)","v":0},{"$f":"IF(AG211=\"Ja\",'Q_del,j en Q_del,dh'!$D160,0)","v":0},{"$f":"IF(AH211=\"Ja\",'Q_del,j en Q_del,dh'!$D160,0)","v":0},{"$f":"IF(AI211=\"Ja\",'Q_del,j en Q_del,dh'!$D160,0)","v":0},{"$f":"IF(AJ211=\"Ja\",'Q_del,j en Q_del,dh'!$D160,0)","v":0},{"$f":"IF(AK211=\"Ja\",'Q_del,j en Q_del,dh'!$D160,0)","v":0},{"$f":"IF(AL211=\"Ja\",'Q_del,j en Q_del,dh'!$D160,0)","v":0},{"$f":"IF(AM211=\"Ja\",'Q_del,j en Q_del,dh'!$D160,0)","v":0},{"$f":"IF(AN211=\"Ja\",'Q_del,j en Q_del,dh'!$D160,0)","v":0},{"$f":"IF(AO211=\"Ja\",'Q_del,j en Q_del,dh'!$D160,0)","v":0},{"$f":"IF(AP211=\"Ja\",'Q_del,j en Q_del,dh'!$D160,0)","v":0},{"$f":"IF(AQ211=\"Ja\",'Q_del,j en Q_del,dh'!$D160,0)","v":0},{"$f":"IF(AR211=\"Ja\",'Q_del,j en Q_del,dh'!$D160,0)","v":0},{"$f":"IF(AS211=\"Ja\",'Q_del,j en Q_del,dh'!$D160,0)","v":0},{"$f":"IF(AT211=\"Ja\",'Q_del,j en Q_del,dh'!$D160,0)","v":0},{"$f":"IF(AU211=\"Ja\",'Q_del,j en Q_del,dh'!$D160,0)","v":0},{"$f":"IF(AV211=\"Ja\",'Q_del,j en Q_del,dh'!$D160,0)","v":0},{"$f":"IF(AW211=\"Ja\",'Q_del,j en Q_del,dh'!$D160,0)","v":0},{"$f":"IF(AX211=\"Ja\",'Q_del,j en Q_del,dh'!$D160,0)","v":0},{"$f":"IF(AY211=\"Ja\",'Q_del,j en Q_del,dh'!$D160,0)","v":0},{"$f":"IF(AZ211=\"Ja\",'Q_del,j en Q_del,dh'!$D160,0)","v":0},{"$f":"IF(BA211=\"Ja\",'Q_del,j en Q_del,dh'!$D160,0)","v":0}]
["Qdel,l,j [MJ]","warmtevrager 154",154,{"$f":"IF(D212=\"Ja\",'Q_del,j en Q_del,dh'!$D161,0)","v":0},{"$f":"IF(E212=\"Ja\",'Q_del,j en Q_del,dh'!$D161,0)","v":0},{"$f":"IF(F212=\"Ja\",'Q_del,j en Q_del,dh'!$D161,0)","v":0},{"$f":"IF(G212=\"Ja\",'Q_del,j en Q_del,dh'!$D161,0)","v":0},{"$f":"IF(H212=\"Ja\",'Q_del,j en Q_del,dh'!$D161,0)","v":0},{"$f":"IF(I212=\"Ja\",'Q_del,j en Q_del,dh'!$D161,0)","v":0},{"$f":"IF(J212=\"Ja\",'Q_del,j en Q_del,dh'!$D161,0)","v":0},{"$f":"IF(K212=\"Ja\",'Q_del,j en Q_del,dh'!$D161,0)","v":0},{"$f":"IF(L212=\"Ja\",'Q_del,j en Q_del,dh'!$D161,0)","v":0},{"$f":"IF(M212=\"Ja\",'Q_del,j en Q_del,dh'!$D161,0)","v":0},{"$f":"IF(N212=\"Ja\",'Q_del,j en Q_del,dh'!$D161,0)","v":0},{"$f":"IF(O212=\"Ja\",'Q_del,j en Q_del,dh'!$D161,0)","v":0},{"$f":"IF(P212=\"Ja\",'Q_del,j en Q_del,dh'!$D161,0)","v":0},{"$f":"IF(Q212=\"Ja\",'Q_del,j en Q_del,dh'!$D161,0)","v":0},{"$f":"IF(R212=\"Ja\",'Q_del,j en Q_del,dh'!$D161,0)","v":0},{"$f":"IF(S212=\"Ja\",'Q_del,j en Q_del,dh'!$D161,0)","v":0},{"$f":"IF(T212=\"Ja\",'Q_del,j en Q_del,dh'!$D161,0)","v":0},{"$f":"IF(U212=\"Ja\",'Q_del,j en Q_del,dh'!$D161,0)","v":0},{"$f":"IF(V212=\"Ja\",'Q_del,j en Q_del,dh'!$D161,0)","v":0},{"$f":"IF(W212=\"Ja\",'Q_del,j en Q_del,dh'!$D161,0)","v":0},{"$f":"IF(X212=\"Ja\",'Q_del,j en Q_del,dh'!$D161,0)","v":0},{"$f":"IF(Y212=\"Ja\",'Q_del,j en Q_del,dh'!$D161,0)","v":0},{"$f":"IF(Z212=\"Ja\",'Q_del,j en Q_del,dh'!$D161,0)","v":0},{"$f":"IF(AA212=\"Ja\",'Q_del,j en Q_del,dh'!$D161,0)","v":0},{"$f":"IF(AB212=\"Ja\",'Q_del,j en Q_del,dh'!$D161,0)","v":0},{"$f":"IF(AC212=\"Ja\",'Q_del,j en Q_del,dh'!$D161,0)","v":0},{"$f":"IF(AD212=\"Ja\",'Q_del,j en Q_del,dh'!$D161,0)","v":0},{"$f":"IF(AE212=\"Ja\",'Q_del,j en Q_del,dh'!$D161,0)","v":0},{"$f":"IF(AF212=\"Ja\",'Q_del,j en Q_del,dh'!$D161,0)","v":0},{"$f":"IF(AG212=\"Ja\",'Q_del,j en Q_del,dh'!$D161,0)","v":0},{"$f":"IF(AH212=\"Ja\",'Q_del,j en Q_del,dh'!$D161,0)","v":0},{"$f":"IF(AI212=\"Ja\",'Q_del,j en Q_del,dh'!$D161,0)","v":0},{"$f":"IF(AJ212=\"Ja\",'Q_del,j en Q_del,dh'!$D161,0)","v":0},{"$f":"IF(AK212=\"Ja\",'Q_del,j en Q_del,dh'!$D161,0)","v":0},{"$f":"IF(AL212=\"Ja\",'Q_del,j en Q_del,dh'!$D161,0)","v":0},{"$f":"IF(AM212=\"Ja\",'Q_del,j en Q_del,dh'!$D161,0)","v":0},{"$f":"IF(AN212=\"Ja\",'Q_del,j en Q_del,dh'!$D161,0)","v":0},{"$f":"IF(AO212=\"Ja\",'Q_del,j en Q_del,dh'!$D161,0)","v":0},{"$f":"IF(AP212=\"Ja\",'Q_del,j en Q_del,dh'!$D161,0)","v":0},{"$f":"IF(AQ212=\"Ja\",'Q_del,j en Q_del,dh'!$D161,0)","v":0},{"$f":"IF(AR212=\"Ja\",'Q_del,j en Q_del,dh'!$D161,0)","v":0},{"$f":"IF(AS212=\"Ja\",'Q_del,j en Q_del,dh'!$D161,0)","v":0},{"$f":"IF(AT212=\"Ja\",'Q_del,j en Q_del,dh'!$D161,0)","v":0},{"$f":"IF(AU212=\"Ja\",'Q_del,j en Q_del,dh'!$D161,0)","v":0},{"$f":"IF(AV212=\"Ja\",'Q_del,j en Q_del,dh'!$D161,0)","v":0},{"$f":"IF(AW212=\"Ja\",'Q_del,j en Q_del,dh'!$D161,0)","v":0},{"$f":"IF(AX212=\"Ja\",'Q_del,j en Q_del,dh'!$D161,0)","v":0},{"$f":"IF(AY212=\"Ja\",'Q_del,j en Q_del,dh'!$D161,0)","v":0},{"$f":"IF(AZ212=\"Ja\",'Q_del,j en Q_del,dh'!$D161,0)","v":0},{"$f":"IF(BA212=\"Ja\",'Q_del,j en Q_del,dh'!$D161,0)","v":0}]
["Qdel,l,j [MJ]","warmtevrager 155",155,{"$f":"IF(D213=\"Ja\",'Q_del,j en Q_del,dh'!$D162,0)","v":0},{"$f":"IF(E213=\"Ja\",'Q_del,j en Q_del,dh'!$D162,0)","v":0},{"$f":"IF(F213=\"Ja\",'Q_del,j en Q_del,dh'!$D162,0)","v":0},{"$f":"IF(G213=\"Ja\",'Q_del,j en Q_del,dh'!$D162,0)","v":0},{"$f":"IF(H213=\"Ja\",'Q_del,j en Q_del,dh'!$D162,0)","v":0},{"$f":"IF(I213=\"Ja\",'Q_del,j en Q_del,dh'!$D162,0)","v":0},{"$f":"IF(J213=\"Ja\",'Q_del,j en Q_del,dh'!$D162,0)","v":0},{"$f":"IF(K213=\"Ja\",'Q_del,j en Q_del,dh'!$D162,0)","v":0},{"$f":"IF(L213=\"Ja\",'Q_del,j en Q_del,dh'!$D162,0)","v":0},{"$f":"IF(M213=\"Ja\",'Q_del,j en Q_del,dh'!$D162,0)","v":0},{"$f":"IF(N213=\"Ja\",'Q_del,j en Q_del,dh'!$D162,0)","v":0},{"$f":"IF(O213=\"Ja\",'Q_del,j en Q_del,dh'!$D162,0)","v":0},{"$f":"IF(P213=\"Ja\",'Q_del,j en Q_del,dh'!$D162,0)","v":0},{"$f":"IF(Q213=\"Ja\",'Q_del,j en Q_del,dh'!$D162,0)","v":0},{"$f":"IF(R213=\"Ja\",'Q_del,j en Q_del,dh'!$D162,0)","v":0},{"$f":"IF(S213=\"Ja\",'Q_del,j en Q_del,dh'!$D162,0)","v":0},{"$f":"IF(T213=\"Ja\",'Q_del,j en Q_del,dh'!$D162,0)","v":0},{"$f":"IF(U213=\"Ja\",'Q_del,j en Q_del,dh'!$D162,0)","v":0},{"$f":"IF(V213=\"Ja\",'Q_del,j en Q_del,dh'!$D162,0)","v":0},{"$f":"IF(W213=\"Ja\",'Q_del,j en Q_del,dh'!$D162,0)","v":0},{"$f":"IF(X213=\"Ja\",'Q_del,j en Q_del,dh'!$D162,0)","v":0},{"$f":"IF(Y213=\"Ja\",'Q_del,j en Q_del,dh'!$D162,0)","v":0},{"$f":"IF(Z213=\"Ja\",'Q_del,j en Q_del,dh'!$D162,0)","v":0},{"$f":"IF(AA213=\"Ja\",'Q_del,j en Q_del,dh'!$D162,0)","v":0},{"$f":"IF(AB213=\"Ja\",'Q_del,j en Q_del,dh'!$D162,0)","v":0},{"$f":"IF(AC213=\"Ja\",'Q_del,j en Q_del,dh'!$D162,0)","v":0},{"$f":"IF(AD213=\"Ja\",'Q_del,j en Q_del,dh'!$D162,0)","v":0},{"$f":"IF(AE213=\"Ja\",'Q_del,j en Q_del,dh'!$D162,0)","v":0},{"$f":"IF(AF213=\"Ja\",'Q_del,j en Q_del,dh'!$D162,0)","v":0},{"$f":"IF(AG213=\"Ja\",'Q_del,j en Q_del,dh'!$D162,0)","v":0},{"$f":"IF(AH213=\"Ja\",'Q_del,j en Q_del,dh'!$D162,0)","v":0},{"$f":"IF(AI213=\"Ja\",'Q_del,j en Q_del,dh'!$D162,0)","v":0},{"$f":"IF(AJ213=\"Ja\",'Q_del,j en Q_del,dh'!$D162,0)","v":0},{"$f":"IF(AK213=\"Ja\",'Q_del,j en Q_del,dh'!$D162,0)","v":0},{"$f":"IF(AL213=\"Ja\",'Q_del,j en Q_del,dh'!$D162,0)","v":0},{"$f":"IF(AM213=\"Ja\",'Q_del,j en Q_del,dh'!$D162,0)","v":0},{"$f":"IF(AN213=\"Ja\",'Q_del,j en Q_del,dh'!$D162,0)","v":0},{"$f":"IF(AO213=\"Ja\",'Q_del,j en Q_del,dh'!$D162,0)","v":0},{"$f":"IF(AP213=\"Ja\",'Q_del,j en Q_del,dh'!$D162,0)","v":0},{"$f":"IF(AQ213=\"Ja\",'Q_del,j en Q_del,dh'!$D162,0)","v":0},{"$f":"IF(AR213=\"Ja\",'Q_del,j en Q_del,dh'!$D162,0)","v":0},{"$f":"IF(AS213=\"Ja\",'Q_del,j en Q_del,dh'!$D162,0)","v":0},{"$f":"IF(AT213=\"Ja\",'Q_del,j en Q_del,dh'!$D162,0)","v":0},{"$f":"IF(AU213=\"Ja\",'Q_del,j en Q_del,dh'!$D162,0)","v":0},{"$f":"IF(AV213=\"Ja\",'Q_del,j en Q_del,dh'!$D162,0)","v":0},{"$f":"IF(AW213=\"Ja\",'Q_del,j en Q_del,dh'!$D162,0)","v":0},{"$f":"IF(AX213=\"Ja\",'Q_del,j en Q_del,dh'!$D162,0)","v":0},{"$f":"IF(AY213=\"Ja\",'Q_del,j en Q_del,dh'!$D162,0)","v":0},{"$f":"IF(AZ213=\"Ja\",'Q_del,j en Q_del,dh'!$D162,0)","v":0},{"$f":"IF(BA213=\"Ja\",'Q_del,j en Q_del,dh'!$D162,0)","v":0}]
["Qdel,l,j [MJ]","warmtevrager 156",156,{"$f":"IF(D214=\"Ja\",'Q_del,j en Q_del,dh'!$D163,0)","v":0},{"$f":"IF(E214=\"Ja\",'Q_del,j en Q_del,dh'!$D163,0)","v":0},{"$f":"IF(F214=\"Ja\",'Q_del,j en Q_del,dh'!$D163,0)","v":0},{"$f":"IF(G214=\"Ja\",'Q_del,j en Q_del,dh'!$D163,0)","v":0},{"$f":"IF(H214=\"Ja\",'Q_del,j en Q_del,dh'!$D163,0)","v":0},{"$f":"IF(I214=\"Ja\",'Q_del,j en Q_del,dh'!$D163,0)","v":0},{"$f":"IF(J214=\"Ja\",'Q_del,j en Q_del,dh'!$D163,0)","v":0},{"$f":"IF(K214=\"Ja\",'Q_del,j en Q_del,dh'!$D163,0)","v":0},{"$f":"IF(L214=\"Ja\",'Q_del,j en Q_del,dh'!$D163,0)","v":0},{"$f":"IF(M214=\"Ja\",'Q_del,j en Q_del,dh'!$D163,0)","v":0},{"$f":"IF(N214=\"Ja\",'Q_del,j en Q_del,dh'!$D163,0)","v":0},{"$f":"IF(O214=\"Ja\",'Q_del,j en Q_del,dh'!$D163,0)","v":0},{"$f":"IF(P214=\"Ja\",'Q_del,j en Q_del,dh'!$D163,0)","v":0},{"$f":"IF(Q214=\"Ja\",'Q_del,j en Q_del,dh'!$D163,0)","v":0},{"$f":"IF(R214=\"Ja\",'Q_del,j en Q_del,dh'!$D163,0)","v":0},{"$f":"IF(S214=\"Ja\",'Q_del,j en Q_del,dh'!$D163,0)","v":0},{"$f":"IF(T214=\"Ja\",'Q_del,j en Q_del,dh'!$D163,0)","v":0},{"$f":"IF(U214=\"Ja\",'Q_del,j en Q_del,dh'!$D163,0)","v":0},{"$f":"IF(V214=\"Ja\",'Q_del,j en Q_del,dh'!$D163,0)","v":0},{"$f":"IF(W214=\"Ja\",'Q_del,j en Q_del,dh'!$D163,0)","v":0},{"$f":"IF(X214=\"Ja\",'Q_del,j en Q_del,dh'!$D163,0)","v":0},{"$f":"IF(Y214=\"Ja\",'Q_del,j en Q_del,dh'!$D163,0)","v":0},{"$f":"IF(Z214=\"Ja\",'Q_del,j en Q_del,dh'!$D163,0)","v":0},{"$f":"IF(AA214=\"Ja\",'Q_del,j en Q_del,dh'!$D163,0)","v":0},{"$f":"IF(AB214=\"Ja\",'Q_del,j en Q_del,dh'!$D163,0)","v":0},{"$f":"IF(AC214=\"Ja\",'Q_del,j en Q_del,dh'!$D163,0)","v":0},{"$f":"IF(AD214=\"Ja\",'Q_del,j en Q_del,dh'!$D163,0)","v":0},{"$f":"IF(AE214=\"Ja\",'Q_del,j en Q_del,dh'!$D163,0)","v":0},{"$f":"IF(AF214=\"Ja\",'Q_del,j en Q_del,dh'!$D163,0)","v":0},{"$f":"IF(AG214=\"Ja\",'Q_del,j en Q_del,dh'!$D163,0)","v":0},{"$f":"IF(AH214=\"Ja\",'Q_del,j en Q_del,dh'!$D163,0)","v":0},{"$f":"IF(AI214=\"Ja\",'Q_del,j en Q_del,dh'!$D163,0)","v":0},{"$f":"IF(AJ214=\"Ja\",'Q_del,j en Q_del,dh'!$D163,0)","v":0},{"$f":"IF(AK214=\"Ja\",'Q_del,j en Q_del,dh'!$D163,0)","v":0},{"$f":"IF(AL214=\"Ja\",'Q_del,j en Q_del,dh'!$D163,0)","v":0},{"$f":"IF(AM214=\"Ja\",'Q_del,j en Q_del,dh'!$D163,0)","v":0},{"$f":"IF(AN214=\"Ja\",'Q_del,j en Q_del,dh'!$D163,0)","v":0},{"$f":"IF(AO214=\"Ja\",'Q_del,j en Q_del,dh'!$D163,0)","v":0},{"$f":"IF(AP214=\"Ja\",'Q_del,j en Q_del,dh'!$D163,0)","v":0},{"$f":"IF(AQ214=\"Ja\",'Q_del,j en Q_del,dh'!$D163,0)","v":0},{"$f":"IF(AR214=\"Ja\",'Q_del,j en Q_del,dh'!$D163,0)","v":0},{"$f":"IF(AS214=\"Ja\",'Q_del,j en Q_del,dh'!$D163,0)","v":0},{"$f":"IF(AT214=\"Ja\",'Q_del,j en Q_del,dh'!$D163,0)","v":0},{"$f":"IF(AU214=\"Ja\",'Q_del,j en Q_del,dh'!$D163,0)","v":0},{"$f":"IF(AV214=\"Ja\",'Q_del,j en Q_del,dh'!$D163,0)","v":0},{"$f":"IF(AW214=\"Ja\",'Q_del,j en Q_del,dh'!$D163,0)","v":0},{"$f":"IF(AX214=\"Ja\",'Q_del,j en Q_del,dh'!$D163,0)","v":0},{"$f":"IF(AY214=\"Ja\",'Q_del,j en Q_del,dh'!$D163,0)","v":0},{"$f":"IF(AZ214=\"Ja\",'Q_del,j en Q_del,dh'!$D163,0)","v":0},{"$f":"IF(BA214=\"Ja\",'Q_del,j en Q_del,dh'!$D163,0)","v":0}]
["Qdel,l,j [MJ]","warmtevrager 157",157,{"$f":"IF(D215=\"Ja\",'Q_del,j en Q_del,dh'!$D164,0)","v":0},{"$f":"IF(E215=\"Ja\",'Q_del,j en Q_del,dh'!$D164,0)","v":0},{"$f":"IF(F215=\"Ja\",'Q_del,j en Q_del,dh'!$D164,0)","v":0},{"$f":"IF(G215=\"Ja\",'Q_del,j en Q_del,dh'!$D164,0)","v":0},{"$f":"IF(H215=\"Ja\",'Q_del,j en Q_del,dh'!$D164,0)","v":0},{"$f":"IF(I215=\"Ja\",'Q_del,j en Q_del,dh'!$D164,0)","v":0},{"$f":"IF(J215=\"Ja\",'Q_del,j en Q_del,dh'!$D164,0)","v":0},{"$f":"IF(K215=\"Ja\",'Q_del,j en Q_del,dh'!$D164,0)","v":0},{"$f":"IF(L215=\"Ja\",'Q_del,j en Q_del,dh'!$D164,0)","v":0},{"$f":"IF(M215=\"Ja\",'Q_del,j en Q_del,dh'!$D164,0)","v":0},{"$f":"IF(N215=\"Ja\",'Q_del,j en Q_del,dh'!$D164,0)","v":0},{"$f":"IF(O215=\"Ja\",'Q_del,j en Q_del,dh'!$D164,0)","v":0},{"$f":"IF(P215=\"Ja\",'Q_del,j en Q_del,dh'!$D164,0)","v":0},{"$f":"IF(Q215=\"Ja\",'Q_del,j en Q_del,dh'!$D164,0)","v":0},{"$f":"IF(R215=\"Ja\",'Q_del,j en Q_del,dh'!$D164,0)","v":0},{"$f":"IF(S215=\"Ja\",'Q_del,j en Q_del,dh'!$D164,0)","v":0},{"$f":"IF(T215=\"Ja\",'Q_del,j en Q_del,dh'!$D164,0)","v":0},{"$f":"IF(U215=\"Ja\",'Q_del,j en Q_del,dh'!$D164,0)","v":0},{"$f":"IF(V215=\"Ja\",'Q_del,j en Q_del,dh'!$D164,0)","v":0},{"$f":"IF(W215=\"Ja\",'Q_del,j en Q_del,dh'!$D164,0)","v":0},{"$f":"IF(X215=\"Ja\",'Q_del,j en Q_del,dh'!$D164,0)","v":0},{"$f":"IF(Y215=\"Ja\",'Q_del,j en Q_del,dh'!$D164,0)","v":0},{"$f":"IF(Z215=\"Ja\",'Q_del,j en Q_del,dh'!$D164,0)","v":0},{"$f":"IF(AA215=\"Ja\",'Q_del,j en Q_del,dh'!$D164,0)","v":0},{"$f":"IF(AB215=\"Ja\",'Q_del,j en Q_del,dh'!$D164,0)","v":0},{"$f":"IF(AC215=\"Ja\",'Q_del,j en Q_del,dh'!$D164,0)","v":0},{"$f":"IF(AD215=\"Ja\",'Q_del,j en Q_del,dh'!$D164,0)","v":0},{"$f":"IF(AE215=\"Ja\",'Q_del,j en Q_del,dh'!$D164,0)","v":0},{"$f":"IF(AF215=\"Ja\",'Q_del,j en Q_del,dh'!$D164,0)","v":0},{"$f":"IF(AG215=\"Ja\",'Q_del,j en Q_del,dh'!$D164,0)","v":0},{"$f":"IF(AH215=\"Ja\",'Q_del,j en Q_del,dh'!$D164,0)","v":0},{"$f":"IF(AI215=\"Ja\",'Q_del,j en Q_del,dh'!$D164,0)","v":0},{"$f":"IF(AJ215=\"Ja\",'Q_del,j en Q_del,dh'!$D164,0)","v":0},{"$f":"IF(AK215=\"Ja\",'Q_del,j en Q_del,dh'!$D164,0)","v":0},{"$f":"IF(AL215=\"Ja\",'Q_del,j en Q_del,dh'!$D164,0)","v":0},{"$f":"IF(AM215=\"Ja\",'Q_del,j en Q_del,dh'!$D164,0)","v":0},{"$f":"IF(AN215=\"Ja\",'Q_del,j en Q_del,dh'!$D164,0)","v":0},{"$f":"IF(AO215=\"Ja\",'Q_del,j en Q_del,dh'!$D164,0)","v":0},{"$f":"IF(AP215=\"Ja\",'Q_del,j en Q_del,dh'!$D164,0)","v":0},{"$f":"IF(AQ215=\"Ja\",'Q_del,j en Q_del,dh'!$D164,0)","v":0},{"$f":"IF(AR215=\"Ja\",'Q_del,j en Q_del,dh'!$D164,0)","v":0},{"$f":"IF(AS215=\"Ja\",'Q_del,j en Q_del,dh'!$D164,0)","v":0},{"$f":"IF(AT215=\"Ja\",'Q_del,j en Q_del,dh'!$D164,0)","v":0},{"$f":"IF(AU215=\"Ja\",'Q_del,j en Q_del,dh'!$D164,0)","v":0},{"$f":"IF(AV215=\"Ja\",'Q_del,j en Q_del,dh'!$D164,0)","v":0},{"$f":"IF(AW215=\"Ja\",'Q_del,j en Q_del,dh'!$D164,0)","v":0},{"$f":"IF(AX215=\"Ja\",'Q_del,j en Q_del,dh'!$D164,0)","v":0},{"$f":"IF(AY215=\"Ja\",'Q_del,j en Q_del,dh'!$D164,0)","v":0},{"$f":"IF(AZ215=\"Ja\",'Q_del,j en Q_del,dh'!$D164,0)","v":0},{"$f":"IF(BA215=\"Ja\",'Q_del,j en Q_del,dh'!$D164,0)","v":0}]
["Qdel,l,j [MJ]","warmtevrager 158",158,{"$f":"IF(D216=\"Ja\",'Q_del,j en Q_del,dh'!$D165,0)","v":0},{"$f":"IF(E216=\"Ja\",'Q_del,j en Q_del,dh'!$D165,0)","v":0},{"$f":"IF(F216=\"Ja\",'Q_del,j en Q_del,dh'!$D165,0)","v":0},{"$f":"IF(G216=\"Ja\",'Q_del,j en Q_del,dh'!$D165,0)","v":0},{"$f":"IF(H216=\"Ja\",'Q_del,j en Q_del,dh'!$D165,0)","v":0},{"$f":"IF(I216=\"Ja\",'Q_del,j en Q_del,dh'!$D165,0)","v":0},{"$f":"IF(J216=\"Ja\",'Q_del,j en Q_del,dh'!$D165,0)","v":0},{"$f":"IF(K216=\"Ja\",'Q_del,j en Q_del,dh'!$D165,0)","v":0},{"$f":"IF(L216=\"Ja\",'Q_del,j en Q_del,dh'!$D165,0)","v":0},{"$f":"IF(M216=\"Ja\",'Q_del,j en Q_del,dh'!$D165,0)","v":0},{"$f":"IF(N216=\"Ja\",'Q_del,j en Q_del,dh'!$D165,0)","v":0},{"$f":"IF(O216=\"Ja\",'Q_del,j en Q_del,dh'!$D165,0)","v":0},{"$f":"IF(P216=\"Ja\",'Q_del,j en Q_del,dh'!$D165,0)","v":0},{"$f":"IF(Q216=\"Ja\",'Q_del,j en Q_del,dh'!$D165,0)","v":0},{"$f":"IF(R216=\"Ja\",'Q_del,j en Q_del,dh'!$D165,0)","v":0},{"$f":"IF(S216=\"Ja\",'Q_del,j en Q_del,dh'!$D165,0)","v":0},{"$f":"IF(T216=\"Ja\",'Q_del,j en Q_del,dh'!$D165,0)","v":0},{"$f":"IF(U216=\"Ja\",'Q_del,j en Q_del,dh'!$D165,0)","v":0},{"$f":"IF(V216=\"Ja\",'Q_del,j en Q_del,dh'!$D165,0)","v":0},{"$f":"IF(W216=\"Ja\",'Q_del,j en Q_del,dh'!$D165,0)","v":0},{"$f":"IF(X216=\"Ja\",'Q_del,j en Q_del,dh'!$D165,0)","v":0},{"$f":"IF(Y216=\"Ja\",'Q_del,j en Q_del,dh'!$D165,0)","v":0},{"$f":"IF(Z216=\"Ja\",'Q_del,j en Q_del,dh'!$D165,0)","v":0},{"$f":"IF(AA216=\"Ja\",'Q_del,j en Q_del,dh'!$D165,0)","v":0},{"$f":"IF(AB216=\"Ja\",'Q_del,j en Q_del,dh'!$D165,0)","v":0},{"$f":"IF(AC216=\"Ja\",'Q_del,j en Q_del,dh'!$D165,0)","v":0},{"$f":"IF(AD216=\"Ja\",'Q_del,j en Q_del,dh'!$D165,0)","v":0},{"$f":"IF(AE216=\"Ja\",'Q_del,j en Q_del,dh'!$D165,0)","v":0},{"$f":"IF(AF216=\"Ja\",'Q_del,j en Q_del,dh'!$D165,0)","v":0},{"$f":"IF(AG216=\"Ja\",'Q_del,j en Q_del,dh'!$D165,0)","v":0},{"$f":"IF(AH216=\"Ja\",'Q_del,j en Q_del,dh'!$D165,0)","v":0},{"$f":"IF(AI216=\"Ja\",'Q_del,j en Q_del,dh'!$D165,0)","v":0},{"$f":"IF(AJ216=\"Ja\",'Q_del,j en Q_del,dh'!$D165,0)","v":0},{"$f":"IF(AK216=\"Ja\",'Q_del,j en Q_del,dh'!$D165,0)","v":0},{"$f":"IF(AL216=\"Ja\",'Q_del,j en Q_del,dh'!$D165,0)","v":0},{"$f":"IF(AM216=\"Ja\",'Q_del,j en Q_del,dh'!$D165,0)","v":0},{"$f":"IF(AN216=\"Ja\",'Q_del,j en Q_del,dh'!$D165,0)","v":0},{"$f":"IF(AO216=\"Ja\",'Q_del,j en Q_del,dh'!$D165,0)","v":0},{"$f":"IF(AP216=\"Ja\",'Q_del,j en Q_del,dh'!$D165,0)","v":0},{"$f":"IF(AQ216=\"Ja\",'Q_del,j en Q_del,dh'!$D165,0)","v":0},{"$f":"IF(AR216=\"Ja\",'Q_del,j en Q_del,dh'!$D165,0)","v":0},{"$f":"IF(AS216=\"Ja\",'Q_del,j en Q_del,dh'!$D165,0)","v":0},{"$f":"IF(AT216=\"Ja\",'Q_del,j en Q_del,dh'!$D165,0)","v":0},{"$f":"IF(AU216=\"Ja\",'Q_del,j en Q_del,dh'!$D165,0)","v":0},{"$f":"IF(AV216=\"Ja\",'Q_del,j en Q_del,dh'!$D165,0)","v":0},{"$f":"IF(AW216=\"Ja\",'Q_del,j en Q_del,dh'!$D165,0)","v":0},{"$f":"IF(AX216=\"Ja\",'Q_del,j en Q_del,dh'!$D165,0)","v":0},{"$f":"IF(AY216=\"Ja\",'Q_del,j en Q_del,dh'!$D165,0)","v":0},{"$f":"IF(AZ216=\"Ja\",'Q_del,j en Q_del,dh'!$D165,0)","v":0},{"$f":"IF(BA216=\"Ja\",'Q_del,j en Q_del,dh'!$D165,0)","v":0}]
["Qdel,l,j [MJ]","warmtevrager 159",159,{"$f":"IF(D217=\"Ja\",'Q_del,j en Q_del,dh'!$D166,0)","v":0},{"$f":"IF(E217=\"Ja\",'Q_del,j en Q_del,dh'!$D166,0)","v":0},{"$f":"IF(F217=\"Ja\",'Q_del,j en Q_del,dh'!$D166,0)","v":0},{"$f":"IF(G217=\"Ja\",'Q_del,j en Q_del,dh'!$D166,0)","v":0},{"$f":"IF(H217=\"Ja\",'Q_del,j en Q_del,dh'!$D166,0)","v":0},{"$f":"IF(I217=\"Ja\",'Q_del,j en Q_del,dh'!$D166,0)","v":0},{"$f":"IF(J217=\"Ja\",'Q_del,j en Q_del,dh'!$D166,0)","v":0},{"$f":"IF(K217=\"Ja\",'Q_del,j en Q_del,dh'!$D166,0)","v":0},{"$f":"IF(L217=\"Ja\",'Q_del,j en Q_del,dh'!$D166,0)","v":0},{"$f":"IF(M217=\"Ja\",'Q_del,j en Q_del,dh'!$D166,0)","v":0},{"$f":"IF(N217=\"Ja\",'Q_del,j en Q_del,dh'!$D166,0)","v":0},{"$f":"IF(O217=\"Ja\",'Q_del,j en Q_del,dh'!$D166,0)","v":0},{"$f":"IF(P217=\"Ja\",'Q_del,j en Q_del,dh'!$D166,0)","v":0},{"$f":"IF(Q217=\"Ja\",'Q_del,j en Q_del,dh'!$D166,0)","v":0},{"$f":"IF(R217=\"Ja\",'Q_del,j en Q_del,dh'!$D166,0)","v":0},{"$f":"IF(S217=\"Ja\",'Q_del,j en Q_del,dh'!$D166,0)","v":0},{"$f":"IF(T217=\"Ja\",'Q_del,j en Q_del,dh'!$D166,0)","v":0},{"$f":"IF(U217=\"Ja\",'Q_del,j en Q_del,dh'!$D166,0)","v":0},{"$f":"IF(V217=\"Ja\",'Q_del,j en Q_del,dh'!$D166,0)","v":0},{"$f":"IF(W217=\"Ja\",'Q_del,j en Q_del,dh'!$D166,0)","v":0},{"$f":"IF(X217=\"Ja\",'Q_del,j en Q_del,dh'!$D166,0)","v":0},{"$f":"IF(Y217=\"Ja\",'Q_del,j en Q_del,dh'!$D166,0)","v":0},{"$f":"IF(Z217=\"Ja\",'Q_del,j en Q_del,dh'!$D166,0)","v":0},{"$f":"IF(AA217=\"Ja\",'Q_del,j en Q_del,dh'!$D166,0)","v":0},{"$f":"IF(AB217=\"Ja\",'Q_del,j en Q_del,dh'!$D166,0)","v":0},{"$f":"IF(AC217=\"Ja\",'Q_del,j en Q_del,dh'!$D166,0)","v":0},{"$f":"IF(AD217=\"Ja\",'Q_del,j en Q_del,dh'!$D166,0)","v":0},{"$f":"IF(AE217=\"Ja\",'Q_del,j en Q_del,dh'!$D166,0)","v":0},{"$f":"IF(AF217=\"Ja\",'Q_del,j en Q_del,dh'!$D166,0)","v":0},{"$f":"IF(AG217=\"Ja\",'Q_del,j en Q_del,dh'!$D166,0)","v":0},{"$f":"IF(AH217=\"Ja\",'Q_del,j en Q_del,dh'!$D166,0)","v":0},{"$f":"IF(AI217=\"Ja\",'Q_del,j en Q_del,dh'!$D166,0)","v":0},{"$f":"IF(AJ217=\"Ja\",'Q_del,j en Q_del,dh'!$D166,0)","v":0},{"$f":"IF(AK217=\"Ja\",'Q_del,j en Q_del,dh'!$D166,0)","v":0},{"$f":"IF(AL217=\"Ja\",'Q_del,j en Q_del,dh'!$D166,0)","v":0},{"$f":"IF(AM217=\"Ja\",'Q_del,j en Q_del,dh'!$D166,0)","v":0},{"$f":"IF(AN217=\"Ja\",'Q_del,j en Q_del,dh'!$D166,0)","v":0},{"$f":"IF(AO217=\"Ja\",'Q_del,j en Q_del,dh'!$D166,0)","v":0},{"$f":"IF(AP217=\"Ja\",'Q_del,j en Q_del,dh'!$D166,0)","v":0},{"$f":"IF(AQ217=\"Ja\",'Q_del,j en Q_del,dh'!$D166,0)","v":0},{"$f":"IF(AR217=\"Ja\",'Q_del,j en Q_del,dh'!$D166,0)","v":0},{"$f":"IF(AS217=\"Ja\",'Q_del,j en Q_del,dh'!$D166,0)","v":0},{"$f":"IF(AT217=\"Ja\",'Q_del,j en Q_del,dh'!$D166,0)","v":0},{"$f":"IF(AU217=\"Ja\",'Q_del,j en Q_del,dh'!$D166,0)","v":0},{"$f":"IF(AV217=\"Ja\",'Q_del,j en Q_del,dh'!$D166,0)","v":0},{"$f":"IF(AW217=\"Ja\",'Q_del,j en Q_del,dh'!$D166,0)","v":0},{"$f":"IF(AX217=\"Ja\",'Q_del,j en Q_del,dh'!$D166,0)","v":0},{"$f":"IF(AY217=\"Ja\",'Q_del,j en Q_del,dh'!$D166,0)","v":0},{"$f":"IF(AZ217=\"Ja\",'Q_del,j en Q_del,dh'!$D166,0)","v":0},{"$f":"IF(BA217=\"Ja\",'Q_del,j en Q_del,dh'!$D166,0)","v":0}]
["Qdel,l,j [MJ]","warmtevrager 160",160,{"$f":"IF(D218=\"Ja\",'Q_del,j en Q_del,dh'!$D167,0)","v":0},{"$f":"IF(E218=\"Ja\",'Q_del,j en Q_del,dh'!$D167,0)","v":0},{"$f":"IF(F218=\"Ja\",'Q_del,j en Q_del,dh'!$D167,0)","v":0},{"$f":"IF(G218=\"Ja\",'Q_del,j en Q_del,dh'!$D167,0)","v":0},{"$f":"IF(H218=\"Ja\",'Q_del,j en Q_del,dh'!$D167,0)","v":0},{"$f":"IF(I218=\"Ja\",'Q_del,j en Q_del,dh'!$D167,0)","v":0},{"$f":"IF(J218=\"Ja\",'Q_del,j en Q_del,dh'!$D167,0)","v":0},{"$f":"IF(K218=\"Ja\",'Q_del,j en Q_del,dh'!$D167,0)","v":0},{"$f":"IF(L218=\"Ja\",'Q_del,j en Q_del,dh'!$D167,0)","v":0},{"$f":"IF(M218=\"Ja\",'Q_del,j en Q_del,dh'!$D167,0)","v":0},{"$f":"IF(N218=\"Ja\",'Q_del,j en Q_del,dh'!$D167,0)","v":0},{"$f":"IF(O218=\"Ja\",'Q_del,j en Q_del,dh'!$D167,0)","v":0},{"$f":"IF(P218=\"Ja\",'Q_del,j en Q_del,dh'!$D167,0)","v":0},{"$f":"IF(Q218=\"Ja\",'Q_del,j en Q_del,dh'!$D167,0)","v":0},{"$f":"IF(R218=\"Ja\",'Q_del,j en Q_del,dh'!$D167,0)","v":0},{"$f":"IF(S218=\"Ja\",'Q_del,j en Q_del,dh'!$D167,0)","v":0},{"$f":"IF(T218=\"Ja\",'Q_del,j en Q_del,dh'!$D167,0)","v":0},{"$f":"IF(U218=\"Ja\",'Q_del,j en Q_del,dh'!$D167,0)","v":0},{"$f":"IF(V218=\"Ja\",'Q_del,j en Q_del,dh'!$D167,0)","v":0},{"$f":"IF(W218=\"Ja\",'Q_del,j en Q_del,dh'!$D167,0)","v":0},{"$f":"IF(X218=\"Ja\",'Q_del,j en Q_del,dh'!$D167,0)","v":0},{"$f":"IF(Y218=\"Ja\",'Q_del,j en Q_del,dh'!$D167,0)","v":0},{"$f":"IF(Z218=\"Ja\",'Q_del,j en Q_del,dh'!$D167,0)","v":0},{"$f":"IF(AA218=\"Ja\",'Q_del,j en Q_del,dh'!$D167,0)","v":0},{"$f":"IF(AB218=\"Ja\",'Q_del,j en Q_del,dh'!$D167,0)","v":0},{"$f":"IF(AC218=\"Ja\",'Q_del,j en Q_del,dh'!$D167,0)","v":0},{"$f":"IF(AD218=\"Ja\",'Q_del,j en Q_del,dh'!$D167,0)","v":0},{"$f":"IF(AE218=\"Ja\",'Q_del,j en Q_del,dh'!$D167,0)","v":0},{"$f":"IF(AF218=\"Ja\",'Q_del,j en Q_del,dh'!$D167,0)","v":0},{"$f":"IF(AG218=\"Ja\",'Q_del,j en Q_del,dh'!$D167,0)","v":0},{"$f":"IF(AH218=\"Ja\",'Q_del,j en Q_del,dh'!$D167,0)","v":0},{"$f":"IF(AI218=\"Ja\",'Q_del,j en Q_del,dh'!$D167,0)","v":0},{"$f":"IF(AJ218=\"Ja\",'Q_del,j en Q_del,dh'!$D167,0)","v":0},{"$f":"IF(AK218=\"Ja\",'Q_del,j en Q_del,dh'!$D167,0)","v":0},{"$f":"IF(AL218=\"Ja\",'Q_del,j en Q_del,dh'!$D167,0)","v":0},{"$f":"IF(AM218=\"Ja\",'Q_del,j en Q_del,dh'!$D167,0)","v":0},{"$f":"IF(AN218=\"Ja\",'Q_del,j en Q_del,dh'!$D167,0)","v":0},{"$f":"IF(AO218=\"Ja\",'Q_del,j en Q_del,dh'!$D167,0)","v":0},{"$f":"IF(AP218=\"Ja\",'Q_del,j en Q_del,dh'!$D167,0)","v":0},{"$f":"IF(AQ218=\"Ja\",'Q_del,j en Q_del,dh'!$D167,0)","v":0},{"$f":"IF(AR218=\"Ja\",'Q_del,j en Q_del,dh'!$D167,0)","v":0},{"$f":"IF(AS218=\"Ja\",'Q_del,j en Q_del,dh'!$D167,0)","v":0},{"$f":"IF(AT218=\"Ja\",'Q_del,j en Q_del,dh'!$D167,0)","v":0},{"$f":"IF(AU218=\"Ja\",'Q_del,j en Q_del,dh'!$D167,0)","v":0},{"$f":"IF(AV218=\"Ja\",'Q_del,j en Q_del,dh'!$D167,0)","v":0},{"$f":"IF(AW218=\"Ja\",'Q_del,j en Q_del,dh'!$D167,0)","v":0},{"$f":"IF(AX218=\"Ja\",'Q_del,j en Q_del,dh'!$D167,0)","v":0},{"$f":"IF(AY218=\"Ja\",'Q_del,j en Q_del,dh'!$D167,0)","v":0},{"$f":"IF(AZ218=\"Ja\",'Q_del,j en Q_del,dh'!$D167,0)","v":0},{"$f":"IF(BA218=\"Ja\",'Q_del,j en Q_del,dh'!$D167,0)","v":0}]
["Qdel,l,j [MJ]","warmtevrager 161",161,{"$f":"IF(D219=\"Ja\",'Q_del,j en Q_del,dh'!$D168,0)","v":0},{"$f":"IF(E219=\"Ja\",'Q_del,j en Q_del,dh'!$D168,0)","v":0},{"$f":"IF(F219=\"Ja\",'Q_del,j en Q_del,dh'!$D168,0)","v":0},{"$f":"IF(G219=\"Ja\",'Q_del,j en Q_del,dh'!$D168,0)","v":0},{"$f":"IF(H219=\"Ja\",'Q_del,j en Q_del,dh'!$D168,0)","v":0},{"$f":"IF(I219=\"Ja\",'Q_del,j en Q_del,dh'!$D168,0)","v":0},{"$f":"IF(J219=\"Ja\",'Q_del,j en Q_del,dh'!$D168,0)","v":0},{"$f":"IF(K219=\"Ja\",'Q_del,j en Q_del,dh'!$D168,0)","v":0},{"$f":"IF(L219=\"Ja\",'Q_del,j en Q_del,dh'!$D168,0)","v":0},{"$f":"IF(M219=\"Ja\",'Q_del,j en Q_del,dh'!$D168,0)","v":0},{"$f":"IF(N219=\"Ja\",'Q_del,j en Q_del,dh'!$D168,0)","v":0},{"$f":"IF(O219=\"Ja\",'Q_del,j en Q_del,dh'!$D168,0)","v":0},{"$f":"IF(P219=\"Ja\",'Q_del,j en Q_del,dh'!$D168,0)","v":0},{"$f":"IF(Q219=\"Ja\",'Q_del,j en Q_del,dh'!$D168,0)","v":0},{"$f":"IF(R219=\"Ja\",'Q_del,j en Q_del,dh'!$D168,0)","v":0},{"$f":"IF(S219=\"Ja\",'Q_del,j en Q_del,dh'!$D168,0)","v":0},{"$f":"IF(T219=\"Ja\",'Q_del,j en Q_del,dh'!$D168,0)","v":0},{"$f":"IF(U219=\"Ja\",'Q_del,j en Q_del,dh'!$D168,0)","v":0},{"$f":"IF(V219=\"Ja\",'Q_del,j en Q_del,dh'!$D168,0)","v":0},{"$f":"IF(W219=\"Ja\",'Q_del,j en Q_del,dh'!$D168,0)","v":0},{"$f":"IF(X219=\"Ja\",'Q_del,j en Q_del,dh'!$D168,0)","v":0},{"$f":"IF(Y219=\"Ja\",'Q_del,j en Q_del,dh'!$D168,0)","v":0},{"$f":"IF(Z219=\"Ja\",'Q_del,j en Q_del,dh'!$D168,0)","v":0},{"$f":"IF(AA219=\"Ja\",'Q_del,j en Q_del,dh'!$D168,0)","v":0},{"$f":"IF(AB219=\"Ja\",'Q_del,j en Q_del,dh'!$D168,0)","v":0},{"$f":"IF(AC219=\"Ja\",'Q_del,j en Q_del,dh'!$D168,0)","v":0},{"$f":"IF(AD219=\"Ja\",'Q_del,j en Q_del,dh'!$D168,0)","v":0},{"$f":"IF(AE219=\"Ja\",'Q_del,j en Q_del,dh'!$D168,0)","v":0},{"$f":"IF(AF219=\"Ja\",'Q_del,j en Q_del,dh'!$D168,0)","v":0},{"$f":"IF(AG219=\"Ja\",'Q_del,j en Q_del,dh'!$D168,0)","v":0},{"$f":"IF(AH219=\"Ja\",'Q_del,j en Q_del,dh'!$D168,0)","v":0},{"$f":"IF(AI219=\"Ja\",'Q_del,j en Q_del,dh'!$D168,0)","v":0},{"$f":"IF(AJ219=\"Ja\",'Q_del,j en Q_del,dh'!$D168,0)","v":0},{"$f":"IF(AK219=\"Ja\",'Q_del,j en Q_del,dh'!$D168,0)","v":0},{"$f":"IF(AL219=\"Ja\",'Q_del,j en Q_del,dh'!$D168,0)","v":0},{"$f":"IF(AM219=\"Ja\",'Q_del,j en Q_del,dh'!$D168,0)","v":0},{"$f":"IF(AN219=\"Ja\",'Q_del,j en Q_del,dh'!$D168,0)","v":0},{"$f":"IF(AO219=\"Ja\",'Q_del,j en Q_del,dh'!$D168,0)","v":0},{"$f":"IF(AP219=\"Ja\",'Q_del,j en Q_del,dh'!$D168,0)","v":0},{"$f":"IF(AQ219=\"Ja\",'Q_del,j en Q_del,dh'!$D168,0)","v":0},{"$f":"IF(AR219=\"Ja\",'Q_del,j en Q_del,dh'!$D168,0)","v":0},{"$f":"IF(AS219=\"Ja\",'Q_del,j en Q_del,dh'!$D168,0)","v":0},{"$f":"IF(AT219=\"Ja\",'Q_del,j en Q_del,dh'!$D168,0)","v":0},{"$f":"IF(AU219=\"Ja\",'Q_del,j en Q_del,dh'!$D168,0)","v":0},{"$f":"IF(AV219=\"Ja\",'Q_del,j en Q_del,dh'!$D168,0)","v":0},{"$f":"IF(AW219=\"Ja\",'Q_del,j en Q_del,dh'!$D168,0)","v":0},{"$f":"IF(AX219=\"Ja\",'Q_del,j en Q_del,dh'!$D168,0)","v":0},{"$f":"IF(AY219=\"Ja\",'Q_del,j en Q_del,dh'!$D168,0)","v":0},{"$f":"IF(AZ219=\"Ja\",'Q_del,j en Q_del,dh'!$D168,0)","v":0},{"$f":"IF(BA219=\"Ja\",'Q_del,j en Q_del,dh'!$D168,0)","v":0}]
["Qdel,l,j [MJ]","warmtevrager 162",162,{"$f":"IF(D220=\"Ja\",'Q_del,j en Q_del,dh'!$D169,0)","v":0},{"$f":"IF(E220=\"Ja\",'Q_del,j en Q_del,dh'!$D169,0)","v":0},{"$f":"IF(F220=\"Ja\",'Q_del,j en Q_del,dh'!$D169,0)","v":0},{"$f":"IF(G220=\"Ja\",'Q_del,j en Q_del,dh'!$D169,0)","v":0},{"$f":"IF(H220=\"Ja\",'Q_del,j en Q_del,dh'!$D169,0)","v":0},{"$f":"IF(I220=\"Ja\",'Q_del,j en Q_del,dh'!$D169,0)","v":0},{"$f":"IF(J220=\"Ja\",'Q_del,j en Q_del,dh'!$D169,0)","v":0},{"$f":"IF(K220=\"Ja\",'Q_del,j en Q_del,dh'!$D169,0)","v":0},{"$f":"IF(L220=\"Ja\",'Q_del,j en Q_del,dh'!$D169,0)","v":0},{"$f":"IF(M220=\"Ja\",'Q_del,j en Q_del,dh'!$D169,0)","v":0},{"$f":"IF(N220=\"Ja\",'Q_del,j en Q_del,dh'!$D169,0)","v":0},{"$f":"IF(O220=\"Ja\",'Q_del,j en Q_del,dh'!$D169,0)","v":0},{"$f":"IF(P220=\"Ja\",'Q_del,j en Q_del,dh'!$D169,0)","v":0},{"$f":"IF(Q220=\"Ja\",'Q_del,j en Q_del,dh'!$D169,0)","v":0},{"$f":"IF(R220=\"Ja\",'Q_del,j en Q_del,dh'!$D169,0)","v":0},{"$f":"IF(S220=\"Ja\",'Q_del,j en Q_del,dh'!$D169,0)","v":0},{"$f":"IF(T220=\"Ja\",'Q_del,j en Q_del,dh'!$D169,0)","v":0},{"$f":"IF(U220=\"Ja\",'Q_del,j en Q_del,dh'!$D169,0)","v":0},{"$f":"IF(V220=\"Ja\",'Q_del,j en Q_del,dh'!$D169,0)","v":0},{"$f":"IF(W220=\"Ja\",'Q_del,j en Q_del,dh'!$D169,0)","v":0},{"$f":"IF(X220=\"Ja\",'Q_del,j en Q_del,dh'!$D169,0)","v":0},{"$f":"IF(Y220=\"Ja\",'Q_del,j en Q_del,dh'!$D169,0)","v":0},{"$f":"IF(Z220=\"Ja\",'Q_del,j en Q_del,dh'!$D169,0)","v":0},{"$f":"IF(AA220=\"Ja\",'Q_del,j en Q_del,dh'!$D169,0)","v":0},{"$f":"IF(AB220=\"Ja\",'Q_del,j en Q_del,dh'!$D169,0)","v":0},{"$f":"IF(AC220=\"Ja\",'Q_del,j en Q_del,dh'!$D169,0)","v":0},{"$f":"IF(AD220=\"Ja\",'Q_del,j en Q_del,dh'!$D169,0)","v":0},{"$f":"IF(AE220=\"Ja\",'Q_del,j en Q_del,dh'!$D169,0)","v":0},{"$f":"IF(AF220=\"Ja\",'Q_del,j en Q_del,dh'!$D169,0)","v":0},{"$f":"IF(AG220=\"Ja\",'Q_del,j en Q_del,dh'!$D169,0)","v":0},{"$f":"IF(AH220=\"Ja\",'Q_del,j en Q_del,dh'!$D169,0)","v":0},{"$f":"IF(AI220=\"Ja\",'Q_del,j en Q_del,dh'!$D169,0)","v":0},{"$f":"IF(AJ220=\"Ja\",'Q_del,j en Q_del,dh'!$D169,0)","v":0},{"$f":"IF(AK220=\"Ja\",'Q_del,j en Q_del,dh'!$D169,0)","v":0},{"$f":"IF(AL220=\"Ja\",'Q_del,j en Q_del,dh'!$D169,0)","v":0},{"$f":"IF(AM220=\"Ja\",'Q_del,j en Q_del,dh'!$D169,0)","v":0},{"$f":"IF(AN220=\"Ja\",'Q_del,j en Q_del,dh'!$D169,0)","v":0},{"$f":"IF(AO220=\"Ja\",'Q_del,j en Q_del,dh'!$D169,0)","v":0},{"$f":"IF(AP220=\"Ja\",'Q_del,j en Q_del,dh'!$D169,0)","v":0},{"$f":"IF(AQ220=\"Ja\",'Q_del,j en Q_del,dh'!$D169,0)","v":0},{"$f":"IF(AR220=\"Ja\",'Q_del,j en Q_del,dh'!$D169,0)","v":0},{"$f":"IF(AS220=\"Ja\",'Q_del,j en Q_del,dh'!$D169,0)","v":0},{"$f":"IF(AT220=\"Ja\",'Q_del,j en Q_del,dh'!$D169,0)","v":0},{"$f":"IF(AU220=\"Ja\",'Q_del,j en Q_del,dh'!$D169,0)","v":0},{"$f":"IF(AV220=\"Ja\",'Q_del,j en Q_del,dh'!$D169,0)","v":0},{"$f":"IF(AW220=\"Ja\",'Q_del,j en Q_del,dh'!$D169,0)","v":0},{"$f":"IF(AX220=\"Ja\",'Q_del,j en Q_del,dh'!$D169,0)","v":0},{"$f":"IF(AY220=\"Ja\",'Q_del,j en Q_del,dh'!$D169,0)","v":0},{"$f":"IF(AZ220=\"Ja\",'Q_del,j en Q_del,dh'!$D169,0)","v":0},{"$f":"IF(BA220=\"Ja\",'Q_del,j en Q_del,dh'!$D169,0)","v":0}]
["Qdel,l,j [MJ]","warmtevrager 163",163,{"$f":"IF(D221=\"Ja\",'Q_del,j en Q_del,dh'!$D170,0)","v":0},{"$f":"IF(E221=\"Ja\",'Q_del,j en Q_del,dh'!$D170,0)","v":0},{"$f":"IF(F221=\"Ja\",'Q_del,j en Q_del,dh'!$D170,0)","v":0},{"$f":"IF(G221=\"Ja\",'Q_del,j en Q_del,dh'!$D170,0)","v":0},{"$f":"IF(H221=\"Ja\",'Q_del,j en Q_del,dh'!$D170,0)","v":0},{"$f":"IF(I221=\"Ja\",'Q_del,j en Q_del,dh'!$D170,0)","v":0},{"$f":"IF(J221=\"Ja\",'Q_del,j en Q_del,dh'!$D170,0)","v":0},{"$f":"IF(K221=\"Ja\",'Q_del,j en Q_del,dh'!$D170,0)","v":0},{"$f":"IF(L221=\"Ja\",'Q_del,j en Q_del,dh'!$D170,0)","v":0},{"$f":"IF(M221=\"Ja\",'Q_del,j en Q_del,dh'!$D170,0)","v":0},{"$f":"IF(N221=\"Ja\",'Q_del,j en Q_del,dh'!$D170,0)","v":0},{"$f":"IF(O221=\"Ja\",'Q_del,j en Q_del,dh'!$D170,0)","v":0},{"$f":"IF(P221=\"Ja\",'Q_del,j en Q_del,dh'!$D170,0)","v":0},{"$f":"IF(Q221=\"Ja\",'Q_del,j en Q_del,dh'!$D170,0)","v":0},{"$f":"IF(R221=\"Ja\",'Q_del,j en Q_del,dh'!$D170,0)","v":0},{"$f":"IF(S221=\"Ja\",'Q_del,j en Q_del,dh'!$D170,0)","v":0},{"$f":"IF(T221=\"Ja\",'Q_del,j en Q_del,dh'!$D170,0)","v":0},{"$f":"IF(U221=\"Ja\",'Q_del,j en Q_del,dh'!$D170,0)","v":0},{"$f":"IF(V221=\"Ja\",'Q_del,j en Q_del,dh'!$D170,0)","v":0},{"$f":"IF(W221=\"Ja\",'Q_del,j en Q_del,dh'!$D170,0)","v":0},{"$f":"IF(X221=\"Ja\",'Q_del,j en Q_del,dh'!$D170,0)","v":0},{"$f":"IF(Y221=\"Ja\",'Q_del,j en Q_del,dh'!$D170,0)","v":0},{"$f":"IF(Z221=\"Ja\",'Q_del,j en Q_del,dh'!$D170,0)","v":0},{"$f":"IF(AA221=\"Ja\",'Q_del,j en Q_del,dh'!$D170,0)","v":0},{"$f":"IF(AB221=\"Ja\",'Q_del,j en Q_del,dh'!$D170,0)","v":0},{"$f":"IF(AC221=\"Ja\",'Q_del,j en Q_del,dh'!$D170,0)","v":0},{"$f":"IF(AD221=\"Ja\",'Q_del,j en Q_del,dh'!$D170,0)","v":0},{"$f":"IF(AE221=\"Ja\",'Q_del,j en Q_del,dh'!$D170,0)","v":0},{"$f":"IF(AF221=\"Ja\",'Q_del,j en Q_del,dh'!$D170,0)","v":0},{"$f":"IF(AG221=\"Ja\",'Q_del,j en Q_del,dh'!$D170,0)","v":0},{"$f":"IF(AH221=\"Ja\",'Q_del,j en Q_del,dh'!$D170,0)","v":0},{"$f":"IF(AI221=\"Ja\",'Q_del,j en Q_del,dh'!$D170,0)","v":0},{"$f":"IF(AJ221=\"Ja\",'Q_del,j en Q_del,dh'!$D170,0)","v":0},{"$f":"IF(AK221=\"Ja\",'Q_del,j en Q_del,dh'!$D170,0)","v":0},{"$f":"IF(AL221=\"Ja\",'Q_del,j en Q_del,dh'!$D170,0)","v":0},{"$f":"IF(AM221=\"Ja\",'Q_del,j en Q_del,dh'!$D170,0)","v":0},{"$f":"IF(AN221=\"Ja\",'Q_del,j en Q_del,dh'!$D170,0)","v":0},{"$f":"IF(AO221=\"Ja\",'Q_del,j en Q_del,dh'!$D170,0)","v":0},{"$f":"IF(AP221=\"Ja\",'Q_del,j en Q_del,dh'!$D170,0)","v":0},{"$f":"IF(AQ221=\"Ja\",'Q_del,j en Q_del,dh'!$D170,0)","v":0},{"$f":"IF(AR221=\"Ja\",'Q_del,j en Q_del,dh'!$D170,0)","v":0},{"$f":"IF(AS221=\"Ja\",'Q_del,j en Q_del,dh'!$D170,0)","v":0},{"$f":"IF(AT221=\"Ja\",'Q_del,j en Q_del,dh'!$D170,0)","v":0},{"$f":"IF(AU221=\"Ja\",'Q_del,j en Q_del,dh'!$D170,0)","v":0},{"$f":"IF(AV221=\"Ja\",'Q_del,j en Q_del,dh'!$D170,0)","v":0},{"$f":"IF(AW221=\"Ja\",'Q_del,j en Q_del,dh'!$D170,0)","v":0},{"$f":"IF(AX221=\"Ja\",'Q_del,j en Q_del,dh'!$D170,0)","v":0},{"$f":"IF(AY221=\"Ja\",'Q_del,j en Q_del,dh'!$D170,0)","v":0},{"$f":"IF(AZ221=\"Ja\",'Q_del,j en Q_del,dh'!$D170,0)","v":0},{"$f":"IF(BA221=\"Ja\",'Q_del,j en Q_del,dh'!$D170,0)","v":0}]
["Qdel,l,j [MJ]","warmtevrager 164",164,{"$f":"IF(D222=\"Ja\",'Q_del,j en Q_del,dh'!$D171,0)","v":0},{"$f":"IF(E222=\"Ja\",'Q_del,j en Q_del,dh'!$D171,0)","v":0},{"$f":"IF(F222=\"Ja\",'Q_del,j en Q_del,dh'!$D171,0)","v":0},{"$f":"IF(G222=\"Ja\",'Q_del,j en Q_del,dh'!$D171,0)","v":0},{"$f":"IF(H222=\"Ja\",'Q_del,j en Q_del,dh'!$D171,0)","v":0},{"$f":"IF(I222=\"Ja\",'Q_del,j en Q_del,dh'!$D171,0)","v":0},{"$f":"IF(J222=\"Ja\",'Q_del,j en Q_del,dh'!$D171,0)","v":0},{"$f":"IF(K222=\"Ja\",'Q_del,j en Q_del,dh'!$D171,0)","v":0},{"$f":"IF(L222=\"Ja\",'Q_del,j en Q_del,dh'!$D171,0)","v":0},{"$f":"IF(M222=\"Ja\",'Q_del,j en Q_del,dh'!$D171,0)","v":0},{"$f":"IF(N222=\"Ja\",'Q_del,j en Q_del,dh'!$D171,0)","v":0},{"$f":"IF(O222=\"Ja\",'Q_del,j en Q_del,dh'!$D171,0)","v":0},{"$f":"IF(P222=\"Ja\",'Q_del,j en Q_del,dh'!$D171,0)","v":0},{"$f":"IF(Q222=\"Ja\",'Q_del,j en Q_del,dh'!$D171,0)","v":0},{"$f":"IF(R222=\"Ja\",'Q_del,j en Q_del,dh'!$D171,0)","v":0},{"$f":"IF(S222=\"Ja\",'Q_del,j en Q_del,dh'!$D171,0)","v":0},{"$f":"IF(T222=\"Ja\",'Q_del,j en Q_del,dh'!$D171,0)","v":0},{"$f":"IF(U222=\"Ja\",'Q_del,j en Q_del,dh'!$D171,0)","v":0},{"$f":"IF(V222=\"Ja\",'Q_del,j en Q_del,dh'!$D171,0)","v":0},{"$f":"IF(W222=\"Ja\",'Q_del,j en Q_del,dh'!$D171,0)","v":0},{"$f":"IF(X222=\"Ja\",'Q_del,j en Q_del,dh'!$D171,0)","v":0},{"$f":"IF(Y222=\"Ja\",'Q_del,j en Q_del,dh'!$D171,0)","v":0},{"$f":"IF(Z222=\"Ja\",'Q_del,j en Q_del,dh'!$D171,0)","v":0},{"$f":"IF(AA222=\"Ja\",'Q_del,j en Q_del,dh'!$D171,0)","v":0},{"$f":"IF(AB222=\"Ja\",'Q_del,j en Q_del,dh'!$D171,0)","v":0},{"$f":"IF(AC222=\"Ja\",'Q_del,j en Q_del,dh'!$D171,0)","v":0},{"$f":"IF(AD222=\"Ja\",'Q_del,j en Q_del,dh'!$D171,0)","v":0},{"$f":"IF(AE222=\"Ja\",'Q_del,j en Q_del,dh'!$D171,0)","v":0},{"$f":"IF(AF222=\"Ja\",'Q_del,j en Q_del,dh'!$D171,0)","v":0},{"$f":"IF(AG222=\"Ja\",'Q_del,j en Q_del,dh'!$D171,0)","v":0},{"$f":"IF(AH222=\"Ja\",'Q_del,j en Q_del,dh'!$D171,0)","v":0},{"$f":"IF(AI222=\"Ja\",'Q_del,j en Q_del,dh'!$D171,0)","v":0},{"$f":"IF(AJ222=\"Ja\",'Q_del,j en Q_del,dh'!$D171,0)","v":0},{"$f":"IF(AK222=\"Ja\",'Q_del,j en Q_del,dh'!$D171,0)","v":0},{"$f":"IF(AL222=\"Ja\",'Q_del,j en Q_del,dh'!$D171,0)","v":0},{"$f":"IF(AM222=\"Ja\",'Q_del,j en Q_del,dh'!$D171,0)","v":0},{"$f":"IF(AN222=\"Ja\",'Q_del,j en Q_del,dh'!$D171,0)","v":0},{"$f":"IF(AO222=\"Ja\",'Q_del,j en Q_del,dh'!$D171,0)","v":0},{"$f":"IF(AP222=\"Ja\",'Q_del,j en Q_del,dh'!$D171,0)","v":0},{"$f":"IF(AQ222=\"Ja\",'Q_del,j en Q_del,dh'!$D171,0)","v":0},{"$f":"IF(AR222=\"Ja\",'Q_del,j en Q_del,dh'!$D171,0)","v":0},{"$f":"IF(AS222=\"Ja\",'Q_del,j en Q_del,dh'!$D171,0)","v":0},{"$f":"IF(AT222=\"Ja\",'Q_del,j en Q_del,dh'!$D171,0)","v":0},{"$f":"IF(AU222=\"Ja\",'Q_del,j en Q_del,dh'!$D171,0)","v":0},{"$f":"IF(AV222=\"Ja\",'Q_del,j en Q_del,dh'!$D171,0)","v":0},{"$f":"IF(AW222=\"Ja\",'Q_del,j en Q_del,dh'!$D171,0)","v":0},{"$f":"IF(AX222=\"Ja\",'Q_del,j en Q_del,dh'!$D171,0)","v":0},{"$f":"IF(AY222=\"Ja\",'Q_del,j en Q_del,dh'!$D171,0)","v":0},{"$f":"IF(AZ222=\"Ja\",'Q_del,j en Q_del,dh'!$D171,0)","v":0},{"$f":"IF(BA222=\"Ja\",'Q_del,j en Q_del,dh'!$D171,0)","v":0}]
["Qdel,l,j [MJ]","warmtevrager 165",165,{"$f":"IF(D223=\"Ja\",'Q_del,j en Q_del,dh'!$D172,0)","v":0},{"$f":"IF(E223=\"Ja\",'Q_del,j en Q_del,dh'!$D172,0)","v":0},{"$f":"IF(F223=\"Ja\",'Q_del,j en Q_del,dh'!$D172,0)","v":0},{"$f":"IF(G223=\"Ja\",'Q_del,j en Q_del,dh'!$D172,0)","v":0},{"$f":"IF(H223=\"Ja\",'Q_del,j en Q_del,dh'!$D172,0)","v":0},{"$f":"IF(I223=\"Ja\",'Q_del,j en Q_del,dh'!$D172,0)","v":0},{"$f":"IF(J223=\"Ja\",'Q_del,j en Q_del,dh'!$D172,0)","v":0},{"$f":"IF(K223=\"Ja\",'Q_del,j en Q_del,dh'!$D172,0)","v":0},{"$f":"IF(L223=\"Ja\",'Q_del,j en Q_del,dh'!$D172,0)","v":0},{"$f":"IF(M223=\"Ja\",'Q_del,j en Q_del,dh'!$D172,0)","v":0},{"$f":"IF(N223=\"Ja\",'Q_del,j en Q_del,dh'!$D172,0)","v":0},{"$f":"IF(O223=\"Ja\",'Q_del,j en Q_del,dh'!$D172,0)","v":0},{"$f":"IF(P223=\"Ja\",'Q_del,j en Q_del,dh'!$D172,0)","v":0},{"$f":"IF(Q223=\"Ja\",'Q_del,j en Q_del,dh'!$D172,0)","v":0},{"$f":"IF(R223=\"Ja\",'Q_del,j en Q_del,dh'!$D172,0)","v":0},{"$f":"IF(S223=\"Ja\",'Q_del,j en Q_del,dh'!$D172,0)","v":0},{"$f":"IF(T223=\"Ja\",'Q_del,j en Q_del,dh'!$D172,0)","v":0},{"$f":"IF(U223=\"Ja\",'Q_del,j en Q_del,dh'!$D172,0)","v":0},{"$f":"IF(V223=\"Ja\",'Q_del,j en Q_del,dh'!$D172,0)","v":0},{"$f":"IF(W223=\"Ja\",'Q_del,j en Q_del,dh'!$D172,0)","v":0},{"$f":"IF(X223=\"Ja\",'Q_del,j en Q_del,dh'!$D172,0)","v":0},{"$f":"IF(Y223=\"Ja\",'Q_del,j en Q_del,dh'!$D172,0)","v":0},{"$f":"IF(Z223=\"Ja\",'Q_del,j en Q_del,dh'!$D172,0)","v":0},{"$f":"IF(AA223=\"Ja\",'Q_del,j en Q_del,dh'!$D172,0)","v":0},{"$f":"IF(AB223=\"Ja\",'Q_del,j en Q_del,dh'!$D172,0)","v":0},{"$f":"IF(AC223=\"Ja\",'Q_del,j en Q_del,dh'!$D172,0)","v":0},{"$f":"IF(AD223=\"Ja\",'Q_del,j en Q_del,dh'!$D172,0)","v":0},{"$f":"IF(AE223=\"Ja\",'Q_del,j en Q_del,dh'!$D172,0)","v":0},{"$f":"IF(AF223=\"Ja\",'Q_del,j en Q_del,dh'!$D172,0)","v":0},{"$f":"IF(AG223=\"Ja\",'Q_del,j en Q_del,dh'!$D172,0)","v":0},{"$f":"IF(AH223=\"Ja\",'Q_del,j en Q_del,dh'!$D172,0)","v":0},{"$f":"IF(AI223=\"Ja\",'Q_del,j en Q_del,dh'!$D172,0)","v":0},{"$f":"IF(AJ223=\"Ja\",'Q_del,j en Q_del,dh'!$D172,0)","v":0},{"$f":"IF(AK223=\"Ja\",'Q_del,j en Q_del,dh'!$D172,0)","v":0},{"$f":"IF(AL223=\"Ja\",'Q_del,j en Q_del,dh'!$D172,0)","v":0},{"$f":"IF(AM223=\"Ja\",'Q_del,j en Q_del,dh'!$D172,0)","v":0},{"$f":"IF(AN223=\"Ja\",'Q_del,j en Q_del,dh'!$D172,0)","v":0},{"$f":"IF(AO223=\"Ja\",'Q_del,j en Q_del,dh'!$D172,0)","v":0},{"$f":"IF(AP223=\"Ja\",'Q_del,j en Q_del,dh'!$D172,0)","v":0},{"$f":"IF(AQ223=\"Ja\",'Q_del,j en Q_del,dh'!$D172,0)","v":0},{"$f":"IF(AR223=\"Ja\",'Q_del,j en Q_del,dh'!$D172,0)","v":0},{"$f":"IF(AS223=\"Ja\",'Q_del,j en Q_del,dh'!$D172,0)","v":0},{"$f":"IF(AT223=\"Ja\",'Q_del,j en Q_del,dh'!$D172,0)","v":0},{"$f":"IF(AU223=\"Ja\",'Q_del,j en Q_del,dh'!$D172,0)","v":0},{"$f":"IF(AV223=\"Ja\",'Q_del,j en Q_del,dh'!$D172,0)","v":0},{"$f":"IF(AW223=\"Ja\",'Q_del,j en Q_del,dh'!$D172,0)","v":0},{"$f":"IF(AX223=\"Ja\",'Q_del,j en Q_del,dh'!$D172,0)","v":0},{"$f":"IF(AY223=\"Ja\",'Q_del,j en Q_del,dh'!$D172,0)","v":0},{"$f":"IF(AZ223=\"Ja\",'Q_del,j en Q_del,dh'!$D172,0)","v":0},{"$f":"IF(BA223=\"Ja\",'Q_del,j en Q_del,dh'!$D172,0)","v":0}]
["Qdel,l,j [MJ]","warmtevrager 166",166,{"$f":"IF(D224=\"Ja\",'Q_del,j en Q_del,dh'!$D173,0)","v":0},{"$f":"IF(E224=\"Ja\",'Q_del,j en Q_del,dh'!$D173,0)","v":0},{"$f":"IF(F224=\"Ja\",'Q_del,j en Q_del,dh'!$D173,0)","v":0},{"$f":"IF(G224=\"Ja\",'Q_del,j en Q_del,dh'!$D173,0)","v":0},{"$f":"IF(H224=\"Ja\",'Q_del,j en Q_del,dh'!$D173,0)","v":0},{"$f":"IF(I224=\"Ja\",'Q_del,j en Q_del,dh'!$D173,0)","v":0},{"$f":"IF(J224=\"Ja\",'Q_del,j en Q_del,dh'!$D173,0)","v":0},{"$f":"IF(K224=\"Ja\",'Q_del,j en Q_del,dh'!$D173,0)","v":0},{"$f":"IF(L224=\"Ja\",'Q_del,j en Q_del,dh'!$D173,0)","v":0},{"$f":"IF(M224=\"Ja\",'Q_del,j en Q_del,dh'!$D173,0)","v":0},{"$f":"IF(N224=\"Ja\",'Q_del,j en Q_del,dh'!$D173,0)","v":0},{"$f":"IF(O224=\"Ja\",'Q_del,j en Q_del,dh'!$D173,0)","v":0},{"$f":"IF(P224=\"Ja\",'Q_del,j en Q_del,dh'!$D173,0)","v":0},{"$f":"IF(Q224=\"Ja\",'Q_del,j en Q_del,dh'!$D173,0)","v":0},{"$f":"IF(R224=\"Ja\",'Q_del,j en Q_del,dh'!$D173,0)","v":0},{"$f":"IF(S224=\"Ja\",'Q_del,j en Q_del,dh'!$D173,0)","v":0},{"$f":"IF(T224=\"Ja\",'Q_del,j en Q_del,dh'!$D173,0)","v":0},{"$f":"IF(U224=\"Ja\",'Q_del,j en Q_del,dh'!$D173,0)","v":0},{"$f":"IF(V224=\"Ja\",'Q_del,j en Q_del,dh'!$D173,0)","v":0},{"$f":"IF(W224=\"Ja\",'Q_del,j en Q_del,dh'!$D173,0)","v":0},{"$f":"IF(X224=\"Ja\",'Q_del,j en Q_del,dh'!$D173,0)","v":0},{"$f":"IF(Y224=\"Ja\",'Q_del,j en Q_del,dh'!$D173,0)","v":0},{"$f":"IF(Z224=\"Ja\",'Q_del,j en Q_del,dh'!$D173,0)","v":0},{"$f":"IF(AA224=\"Ja\",'Q_del,j en Q_del,dh'!$D173,0)","v":0},{"$f":"IF(AB224=\"Ja\",'Q_del,j en Q_del,dh'!$D173,0)","v":0},{"$f":"IF(AC224=\"Ja\",'Q_del,j en Q_del,dh'!$D173,0)","v":0},{"$f":"IF(AD224=\"Ja\",'Q_del,j en Q_del,dh'!$D173,0)","v":0},{"$f":"IF(AE224=\"Ja\",'Q_del,j en Q_del,dh'!$D173,0)","v":0},{"$f":"IF(AF224=\"Ja\",'Q_del,j en Q_del,dh'!$D173,0)","v":0},{"$f":"IF(AG224=\"Ja\",'Q_del,j en Q_del,dh'!$D173,0)","v":0},{"$f":"IF(AH224=\"Ja\",'Q_del,j en Q_del,dh'!$D173,0)","v":0},{"$f":"IF(AI224=\"Ja\",'Q_del,j en Q_del,dh'!$D173,0)","v":0},{"$f":"IF(AJ224=\"Ja\",'Q_del,j en Q_del,dh'!$D173,0)","v":0},{"$f":"IF(AK224=\"Ja\",'Q_del,j en Q_del,dh'!$D173,0)","v":0},{"$f":"IF(AL224=\"Ja\",'Q_del,j en Q_del,dh'!$D173,0)","v":0},{"$f":"IF(AM224=\"Ja\",'Q_del,j en Q_del,dh'!$D173,0)","v":0},{"$f":"IF(AN224=\"Ja\",'Q_del,j en Q_del,dh'!$D173,0)","v":0},{"$f":"IF(AO224=\"Ja\",'Q_del,j en Q_del,dh'!$D173,0)","v":0},{"$f":"IF(AP224=\"Ja\",'Q_del,j en Q_del,dh'!$D173,0)","v":0},{"$f":"IF(AQ224=\"Ja\",'Q_del,j en Q_del,dh'!$D173,0)","v":0},{"$f":"IF(AR224=\"Ja\",'Q_del,j en Q_del,dh'!$D173,0)","v":0},{"$f":"IF(AS224=\"Ja\",'Q_del,j en Q_del,dh'!$D173,0)","v":0},{"$f":"IF(AT224=\"Ja\",'Q_del,j en Q_del,dh'!$D173,0)","v":0},{"$f":"IF(AU224=\"Ja\",'Q_del,j en Q_del,dh'!$D173,0)","v":0},{"$f":"IF(AV224=\"Ja\",'Q_del,j en Q_del,dh'!$D173,0)","v":0},{"$f":"IF(AW224=\"Ja\",'Q_del,j en Q_del,dh'!$D173,0)","v":0},{"$f":"IF(AX224=\"Ja\",'Q_del,j en Q_del,dh'!$D173,0)","v":0},{"$f":"IF(AY224=\"Ja\",'Q_del,j en Q_del,dh'!$D173,0)","v":0},{"$f":"IF(AZ224=\"Ja\",'Q_del,j en Q_del,dh'!$D173,0)","v":0},{"$f":"IF(BA224=\"Ja\",'Q_del,j en Q_del,dh'!$D173,0)","v":0}]
["Qdel,l,j [MJ]","warmtevrager 167",167,{"$f":"IF(D225=\"Ja\",'Q_del,j en Q_del,dh'!$D174,0)","v":0},{"$f":"IF(E225=\"Ja\",'Q_del,j en Q_del,dh'!$D174,0)","v":0},{"$f":"IF(F225=\"Ja\",'Q_del,j en Q_del,dh'!$D174,0)","v":0},{"$f":"IF(G225=\"Ja\",'Q_del,j en Q_del,dh'!$D174,0)","v":0},{"$f":"IF(H225=\"Ja\",'Q_del,j en Q_del,dh'!$D174,0)","v":0},{"$f":"IF(I225=\"Ja\",'Q_del,j en Q_del,dh'!$D174,0)","v":0},{"$f":"IF(J225=\"Ja\",'Q_del,j en Q_del,dh'!$D174,0)","v":0},{"$f":"IF(K225=\"Ja\",'Q_del,j en Q_del,dh'!$D174,0)","v":0},{"$f":"IF(L225=\"Ja\",'Q_del,j en Q_del,dh'!$D174,0)","v":0},{"$f":"IF(M225=\"Ja\",'Q_del,j en Q_del,dh'!$D174,0)","v":0},{"$f":"IF(N225=\"Ja\",'Q_del,j en Q_del,dh'!$D174,0)","v":0},{"$f":"IF(O225=\"Ja\",'Q_del,j en Q_del,dh'!$D174,0)","v":0},{"$f":"IF(P225=\"Ja\",'Q_del,j en Q_del,dh'!$D174,0)","v":0},{"$f":"IF(Q225=\"Ja\",'Q_del,j en Q_del,dh'!$D174,0)","v":0},{"$f":"IF(R225=\"Ja\",'Q_del,j en Q_del,dh'!$D174,0)","v":0},{"$f":"IF(S225=\"Ja\",'Q_del,j en Q_del,dh'!$D174,0)","v":0},{"$f":"IF(T225=\"Ja\",'Q_del,j en Q_del,dh'!$D174,0)","v":0},{"$f":"IF(U225=\"Ja\",'Q_del,j en Q_del,dh'!$D174,0)","v":0},{"$f":"IF(V225=\"Ja\",'Q_del,j en Q_del,dh'!$D174,0)","v":0},{"$f":"IF(W225=\"Ja\",'Q_del,j en Q_del,dh'!$D174,0)","v":0},{"$f":"IF(X225=\"Ja\",'Q_del,j en Q_del,dh'!$D174,0)","v":0},{"$f":"IF(Y225=\"Ja\",'Q_del,j en Q_del,dh'!$D174,0)","v":0},{"$f":"IF(Z225=\"Ja\",'Q_del,j en Q_del,dh'!$D174,0)","v":0},{"$f":"IF(AA225=\"Ja\",'Q_del,j en Q_del,dh'!$D174,0)","v":0},{"$f":"IF(AB225=\"Ja\",'Q_del,j en Q_del,dh'!$D174,0)","v":0},{"$f":"IF(AC225=\"Ja\",'Q_del,j en Q_del,dh'!$D174,0)","v":0},{"$f":"IF(AD225=\"Ja\",'Q_del,j en Q_del,dh'!$D174,0)","v":0},{"$f":"IF(AE225=\"Ja\",'Q_del,j en Q_del,dh'!$D174,0)","v":0},{"$f":"IF(AF225=\"Ja\",'Q_del,j en Q_del,dh'!$D174,0)","v":0},{"$f":"IF(AG225=\"Ja\",'Q_del,j en Q_del,dh'!$D174,0)","v":0},{"$f":"IF(AH225=\"Ja\",'Q_del,j en Q_del,dh'!$D174,0)","v":0},{"$f":"IF(AI225=\"Ja\",'Q_del,j en Q_del,dh'!$D174,0)","v":0},{"$f":"IF(AJ225=\"Ja\",'Q_del,j en Q_del,dh'!$D174,0)","v":0},{"$f":"IF(AK225=\"Ja\",'Q_del,j en Q_del,dh'!$D174,0)","v":0},{"$f":"IF(AL225=\"Ja\",'Q_del,j en Q_del,dh'!$D174,0)","v":0},{"$f":"IF(AM225=\"Ja\",'Q_del,j en Q_del,dh'!$D174,0)","v":0},{"$f":"IF(AN225=\"Ja\",'Q_del,j en Q_del,dh'!$D174,0)","v":0},{"$f":"IF(AO225=\"Ja\",'Q_del,j en Q_del,dh'!$D174,0)","v":0},{"$f":"IF(AP225=\"Ja\",'Q_del,j en Q_del,dh'!$D174,0)","v":0},{"$f":"IF(AQ225=\"Ja\",'Q_del,j en Q_del,dh'!$D174,0)","v":0},{"$f":"IF(AR225=\"Ja\",'Q_del,j en Q_del,dh'!$D174,0)","v":0},{"$f":"IF(AS225=\"Ja\",'Q_del,j en Q_del,dh'!$D174,0)","v":0},{"$f":"IF(AT225=\"Ja\",'Q_del,j en Q_del,dh'!$D174,0)","v":0},{"$f":"IF(AU225=\"Ja\",'Q_del,j en Q_del,dh'!$D174,0)","v":0},{"$f":"IF(AV225=\"Ja\",'Q_del,j en Q_del,dh'!$D174,0)","v":0},{"$f":"IF(AW225=\"Ja\",'Q_del,j en Q_del,dh'!$D174,0)","v":0},{"$f":"IF(AX225=\"Ja\",'Q_del,j en Q_del,dh'!$D174,0)","v":0},{"$f":"IF(AY225=\"Ja\",'Q_del,j en Q_del,dh'!$D174,0)","v":0},{"$f":"IF(AZ225=\"Ja\",'Q_del,j en Q_del,dh'!$D174,0)","v":0},{"$f":"IF(BA225=\"Ja\",'Q_del,j en Q_del,dh'!$D174,0)","v":0}]
["Qdel,l,j [MJ]","warmtevrager 168",168,{"$f":"IF(D226=\"Ja\",'Q_del,j en Q_del,dh'!$D175,0)","v":0},{"$f":"IF(E226=\"Ja\",'Q_del,j en Q_del,dh'!$D175,0)","v":0},{"$f":"IF(F226=\"Ja\",'Q_del,j en Q_del,dh'!$D175,0)","v":0},{"$f":"IF(G226=\"Ja\",'Q_del,j en Q_del,dh'!$D175,0)","v":0},{"$f":"IF(H226=\"Ja\",'Q_del,j en Q_del,dh'!$D175,0)","v":0},{"$f":"IF(I226=\"Ja\",'Q_del,j en Q_del,dh'!$D175,0)","v":0},{"$f":"IF(J226=\"Ja\",'Q_del,j en Q_del,dh'!$D175,0)","v":0},{"$f":"IF(K226=\"Ja\",'Q_del,j en Q_del,dh'!$D175,0)","v":0},{"$f":"IF(L226=\"Ja\",'Q_del,j en Q_del,dh'!$D175,0)","v":0},{"$f":"IF(M226=\"Ja\",'Q_del,j en Q_del,dh'!$D175,0)","v":0},{"$f":"IF(N226=\"Ja\",'Q_del,j en Q_del,dh'!$D175,0)","v":0},{"$f":"IF(O226=\"Ja\",'Q_del,j en Q_del,dh'!$D175,0)","v":0},{"$f":"IF(P226=\"Ja\",'Q_del,j en Q_del,dh'!$D175,0)","v":0},{"$f":"IF(Q226=\"Ja\",'Q_del,j en Q_del,dh'!$D175,0)","v":0},{"$f":"IF(R226=\"Ja\",'Q_del,j en Q_del,dh'!$D175,0)","v":0},{"$f":"IF(S226=\"Ja\",'Q_del,j en Q_del,dh'!$D175,0)","v":0},{"$f":"IF(T226=\"Ja\",'Q_del,j en Q_del,dh'!$D175,0)","v":0},{"$f":"IF(U226=\"Ja\",'Q_del,j en Q_del,dh'!$D175,0)","v":0},{"$f":"IF(V226=\"Ja\",'Q_del,j en Q_del,dh'!$D175,0)","v":0},{"$f":"IF(W226=\"Ja\",'Q_del,j en Q_del,dh'!$D175,0)","v":0},{"$f":"IF(X226=\"Ja\",'Q_del,j en Q_del,dh'!$D175,0)","v":0},{"$f":"IF(Y226=\"Ja\",'Q_del,j en Q_del,dh'!$D175,0)","v":0},{"$f":"IF(Z226=\"Ja\",'Q_del,j en Q_del,dh'!$D175,0)","v":0},{"$f":"IF(AA226=\"Ja\",'Q_del,j en Q_del,dh'!$D175,0)","v":0},{"$f":"IF(AB226=\"Ja\",'Q_del,j en Q_del,dh'!$D175,0)","v":0},{"$f":"IF(AC226=\"Ja\",'Q_del,j en Q_del,dh'!$D175,0)","v":0},{"$f":"IF(AD226=\"Ja\",'Q_del,j en Q_del,dh'!$D175,0)","v":0},{"$f":"IF(AE226=\"Ja\",'Q_del,j en Q_del,dh'!$D175,0)","v":0},{"$f":"IF(AF226=\"Ja\",'Q_del,j en Q_del,dh'!$D175,0)","v":0},{"$f":"IF(AG226=\"Ja\",'Q_del,j en Q_del,dh'!$D175,0)","v":0},{"$f":"IF(AH226=\"Ja\",'Q_del,j en Q_del,dh'!$D175,0)","v":0},{"$f":"IF(AI226=\"Ja\",'Q_del,j en Q_del,dh'!$D175,0)","v":0},{"$f":"IF(AJ226=\"Ja\",'Q_del,j en Q_del,dh'!$D175,0)","v":0},{"$f":"IF(AK226=\"Ja\",'Q_del,j en Q_del,dh'!$D175,0)","v":0},{"$f":"IF(AL226=\"Ja\",'Q_del,j en Q_del,dh'!$D175,0)","v":0},{"$f":"IF(AM226=\"Ja\",'Q_del,j en Q_del,dh'!$D175,0)","v":0},{"$f":"IF(AN226=\"Ja\",'Q_del,j en Q_del,dh'!$D175,0)","v":0},{"$f":"IF(AO226=\"Ja\",'Q_del,j en Q_del,dh'!$D175,0)","v":0},{"$f":"IF(AP226=\"Ja\",'Q_del,j en Q_del,dh'!$D175,0)","v":0},{"$f":"IF(AQ226=\"Ja\",'Q_del,j en Q_del,dh'!$D175,0)","v":0},{"$f":"IF(AR226=\"Ja\",'Q_del,j en Q_del,dh'!$D175,0)","v":0},{"$f":"IF(AS226=\"Ja\",'Q_del,j en Q_del,dh'!$D175,0)","v":0},{"$f":"IF(AT226=\"Ja\",'Q_del,j en Q_del,dh'!$D175,0)","v":0},{"$f":"IF(AU226=\"Ja\",'Q_del,j en Q_del,dh'!$D175,0)","v":0},{"$f":"IF(AV226=\"Ja\",'Q_del,j en Q_del,dh'!$D175,0)","v":0},{"$f":"IF(AW226=\"Ja\",'Q_del,j en Q_del,dh'!$D175,0)","v":0},{"$f":"IF(AX226=\"Ja\",'Q_del,j en Q_del,dh'!$D175,0)","v":0},{"$f":"IF(AY226=\"Ja\",'Q_del,j en Q_del,dh'!$D175,0)","v":0},{"$f":"IF(AZ226=\"Ja\",'Q_del,j en Q_del,dh'!$D175,0)","v":0},{"$f":"IF(BA226=\"Ja\",'Q_del,j en Q_del,dh'!$D175,0)","v":0}]
["Qdel,l,j [MJ]","warmtevrager 169",169,{"$f":"IF(D227=\"Ja\",'Q_del,j en Q_del,dh'!$D176,0)","v":0},{"$f":"IF(E227=\"Ja\",'Q_del,j en Q_del,dh'!$D176,0)","v":0},{"$f":"IF(F227=\"Ja\",'Q_del,j en Q_del,dh'!$D176,0)","v":0},{"$f":"IF(G227=\"Ja\",'Q_del,j en Q_del,dh'!$D176,0)","v":0},{"$f":"IF(H227=\"Ja\",'Q_del,j en Q_del,dh'!$D176,0)","v":0},{"$f":"IF(I227=\"Ja\",'Q_del,j en Q_del,dh'!$D176,0)","v":0},{"$f":"IF(J227=\"Ja\",'Q_del,j en Q_del,dh'!$D176,0)","v":0},{"$f":"IF(K227=\"Ja\",'Q_del,j en Q_del,dh'!$D176,0)","v":0},{"$f":"IF(L227=\"Ja\",'Q_del,j en Q_del,dh'!$D176,0)","v":0},{"$f":"IF(M227=\"Ja\",'Q_del,j en Q_del,dh'!$D176,0)","v":0},{"$f":"IF(N227=\"Ja\",'Q_del,j en Q_del,dh'!$D176,0)","v":0},{"$f":"IF(O227=\"Ja\",'Q_del,j en Q_del,dh'!$D176,0)","v":0},{"$f":"IF(P227=\"Ja\",'Q_del,j en Q_del,dh'!$D176,0)","v":0},{"$f":"IF(Q227=\"Ja\",'Q_del,j en Q_del,dh'!$D176,0)","v":0},{"$f":"IF(R227=\"Ja\",'Q_del,j en Q_del,dh'!$D176,0)","v":0},{"$f":"IF(S227=\"Ja\",'Q_del,j en Q_del,dh'!$D176,0)","v":0},{"$f":"IF(T227=\"Ja\",'Q_del,j en Q_del,dh'!$D176,0)","v":0},{"$f":"IF(U227=\"Ja\",'Q_del,j en Q_del,dh'!$D176,0)","v":0},{"$f":"IF(V227=\"Ja\",'Q_del,j en Q_del,dh'!$D176,0)","v":0},{"$f":"IF(W227=\"Ja\",'Q_del,j en Q_del,dh'!$D176,0)","v":0},{"$f":"IF(X227=\"Ja\",'Q_del,j en Q_del,dh'!$D176,0)","v":0},{"$f":"IF(Y227=\"Ja\",'Q_del,j en Q_del,dh'!$D176,0)","v":0},{"$f":"IF(Z227=\"Ja\",'Q_del,j en Q_del,dh'!$D176,0)","v":0},{"$f":"IF(AA227=\"Ja\",'Q_del,j en Q_del,dh'!$D176,0)","v":0},{"$f":"IF(AB227=\"Ja\",'Q_del,j en Q_del,dh'!$D176,0)","v":0},{"$f":"IF(AC227=\"Ja\",'Q_del,j en Q_del,dh'!$D176,0)","v":0},{"$f":"IF(AD227=\"Ja\",'Q_del,j en Q_del,dh'!$D176,0)","v":0},{"$f":"IF(AE227=\"Ja\",'Q_del,j en Q_del,dh'!$D176,0)","v":0},{"$f":"IF(AF227=\"Ja\",'Q_del,j en Q_del,dh'!$D176,0)","v":0},{"$f":"IF(AG227=\"Ja\",'Q_del,j en Q_del,dh'!$D176,0)","v":0},{"$f":"IF(AH227=\"Ja\",'Q_del,j en Q_del,dh'!$D176,0)","v":0},{"$f":"IF(AI227=\"Ja\",'Q_del,j en Q_del,dh'!$D176,0)","v":0},{"$f":"IF(AJ227=\"Ja\",'Q_del,j en Q_del,dh'!$D176,0)","v":0},{"$f":"IF(AK227=\"Ja\",'Q_del,j en Q_del,dh'!$D176,0)","v":0},{"$f":"IF(AL227=\"Ja\",'Q_del,j en Q_del,dh'!$D176,0)","v":0},{"$f":"IF(AM227=\"Ja\",'Q_del,j en Q_del,dh'!$D176,0)","v":0},{"$f":"IF(AN227=\"Ja\",'Q_del,j en Q_del,dh'!$D176,0)","v":0},{"$f":"IF(AO227=\"Ja\",'Q_del,j en Q_del,dh'!$D176,0)","v":0},{"$f":"IF(AP227=\"Ja\",'Q_del,j en Q_del,dh'!$D176,0)","v":0},{"$f":"IF(AQ227=\"Ja\",'Q_del,j en Q_del,dh'!$D176,0)","v":0},{"$f":"IF(AR227=\"Ja\",'Q_del,j en Q_del,dh'!$D176,0)","v":0},{"$f":"IF(AS227=\"Ja\",'Q_del,j en Q_del,dh'!$D176,0)","v":0},{"$f":"IF(AT227=\"Ja\",'Q_del,j en Q_del,dh'!$D176,0)","v":0},{"$f":"IF(AU227=\"Ja\",'Q_del,j en Q_del,dh'!$D176,0)","v":0},{"$f":"IF(AV227=\"Ja\",'Q_del,j en Q_del,dh'!$D176,0)","v":0},{"$f":"IF(AW227=\"Ja\",'Q_del,j en Q_del,dh'!$D176,0)","v":0},{"$f":"IF(AX227=\"Ja\",'Q_del,j en Q_del,dh'!$D176,0)","v":0},{"$f":"IF(AY227=\"Ja\",'Q_del,j en Q_del,dh'!$D176,0)","v":0},{"$f":"IF(AZ227=\"Ja\",'Q_del,j en Q_del,dh'!$D176,0)","v":0},{"$f":"IF(BA227=\"Ja\",'Q_del,j en Q_del,dh'!$D176,0)","v":0}]
["Qdel,l,j [MJ]","warmtevrager 170",170,{"$f":"IF(D228=\"Ja\",'Q_del,j en Q_del,dh'!$D177,0)","v":0},{"$f":"IF(E228=\"Ja\",'Q_del,j en Q_del,dh'!$D177,0)","v":0},{"$f":"IF(F228=\"Ja\",'Q_del,j en Q_del,dh'!$D177,0)","v":0},{"$f":"IF(G228=\"Ja\",'Q_del,j en Q_del,dh'!$D177,0)","v":0},{"$f":"IF(H228=\"Ja\",'Q_del,j en Q_del,dh'!$D177,0)","v":0},{"$f":"IF(I228=\"Ja\",'Q_del,j en Q_del,dh'!$D177,0)","v":0},{"$f":"IF(J228=\"Ja\",'Q_del,j en Q_del,dh'!$D177,0)","v":0},{"$f":"IF(K228=\"Ja\",'Q_del,j en Q_del,dh'!$D177,0)","v":0},{"$f":"IF(L228=\"Ja\",'Q_del,j en Q_del,dh'!$D177,0)","v":0},{"$f":"IF(M228=\"Ja\",'Q_del,j en Q_del,dh'!$D177,0)","v":0},{"$f":"IF(N228=\"Ja\",'Q_del,j en Q_del,dh'!$D177,0)","v":0},{"$f":"IF(O228=\"Ja\",'Q_del,j en Q_del,dh'!$D177,0)","v":0},{"$f":"IF(P228=\"Ja\",'Q_del,j en Q_del,dh'!$D177,0)","v":0},{"$f":"IF(Q228=\"Ja\",'Q_del,j en Q_del,dh'!$D177,0)","v":0},{"$f":"IF(R228=\"Ja\",'Q_del,j en Q_del,dh'!$D177,0)","v":0},{"$f":"IF(S228=\"Ja\",'Q_del,j en Q_del,dh'!$D177,0)","v":0},{"$f":"IF(T228=\"Ja\",'Q_del,j en Q_del,dh'!$D177,0)","v":0},{"$f":"IF(U228=\"Ja\",'Q_del,j en Q_del,dh'!$D177,0)","v":0},{"$f":"IF(V228=\"Ja\",'Q_del,j en Q_del,dh'!$D177,0)","v":0},{"$f":"IF(W228=\"Ja\",'Q_del,j en Q_del,dh'!$D177,0)","v":0},{"$f":"IF(X228=\"Ja\",'Q_del,j en Q_del,dh'!$D177,0)","v":0},{"$f":"IF(Y228=\"Ja\",'Q_del,j en Q_del,dh'!$D177,0)","v":0},{"$f":"IF(Z228=\"Ja\",'Q_del,j en Q_del,dh'!$D177,0)","v":0},{"$f":"IF(AA228=\"Ja\",'Q_del,j en Q_del,dh'!$D177,0)","v":0},{"$f":"IF(AB228=\"Ja\",'Q_del,j en Q_del,dh'!$D177,0)","v":0},{"$f":"IF(AC228=\"Ja\",'Q_del,j en Q_del,dh'!$D177,0)","v":0},{"$f":"IF(AD228=\"Ja\",'Q_del,j en Q_del,dh'!$D177,0)","v":0},{"$f":"IF(AE228=\"Ja\",'Q_del,j en Q_del,dh'!$D177,0)","v":0},{"$f":"IF(AF228=\"Ja\",'Q_del,j en Q_del,dh'!$D177,0)","v":0},{"$f":"IF(AG228=\"Ja\",'Q_del,j en Q_del,dh'!$D177,0)","v":0},{"$f":"IF(AH228=\"Ja\",'Q_del,j en Q_del,dh'!$D177,0)","v":0},{"$f":"IF(AI228=\"Ja\",'Q_del,j en Q_del,dh'!$D177,0)","v":0},{"$f":"IF(AJ228=\"Ja\",'Q_del,j en Q_del,dh'!$D177,0)","v":0},{"$f":"IF(AK228=\"Ja\",'Q_del,j en Q_del,dh'!$D177,0)","v":0},{"$f":"IF(AL228=\"Ja\",'Q_del,j en Q_del,dh'!$D177,0)","v":0},{"$f":"IF(AM228=\"Ja\",'Q_del,j en Q_del,dh'!$D177,0)","v":0},{"$f":"IF(AN228=\"Ja\",'Q_del,j en Q_del,dh'!$D177,0)","v":0},{"$f":"IF(AO228=\"Ja\",'Q_del,j en Q_del,dh'!$D177,0)","v":0},{"$f":"IF(AP228=\"Ja\",'Q_del,j en Q_del,dh'!$D177,0)","v":0},{"$f":"IF(AQ228=\"Ja\",'Q_del,j en Q_del,dh'!$D177,0)","v":0},{"$f":"IF(AR228=\"Ja\",'Q_del,j en Q_del,dh'!$D177,0)","v":0},{"$f":"IF(AS228=\"Ja\",'Q_del,j en Q_del,dh'!$D177,0)","v":0},{"$f":"IF(AT228=\"Ja\",'Q_del,j en Q_del,dh'!$D177,0)","v":0},{"$f":"IF(AU228=\"Ja\",'Q_del,j en Q_del,dh'!$D177,0)","v":0},{"$f":"IF(AV228=\"Ja\",'Q_del,j en Q_del,dh'!$D177,0)","v":0},{"$f":"IF(AW228=\"Ja\",'Q_del,j en Q_del,dh'!$D177,0)","v":0},{"$f":"IF(AX228=\"Ja\",'Q_del,j en Q_del,dh'!$D177,0)","v":0},{"$f":"IF(AY228=\"Ja\",'Q_del,j en Q_del,dh'!$D177,0)","v":0},{"$f":"IF(AZ228=\"Ja\",'Q_del,j en Q_del,dh'!$D177,0)","v":0},{"$f":"IF(BA228=\"Ja\",'Q_del,j en Q_del,dh'!$D177,0)","v":0}]
["Qdel,l,j [MJ]","warmtevrager 171",171,{"$f":"IF(D229=\"Ja\",'Q_del,j en Q_del,dh'!$D178,0)","v":0},{"$f":"IF(E229=\"Ja\",'Q_del,j en Q_del,dh'!$D178,0)","v":0},{"$f":"IF(F229=\"Ja\",'Q_del,j en Q_del,dh'!$D178,0)","v":0},{"$f":"IF(G229=\"Ja\",'Q_del,j en Q_del,dh'!$D178,0)","v":0},{"$f":"IF(H229=\"Ja\",'Q_del,j en Q_del,dh'!$D178,0)","v":0},{"$f":"IF(I229=\"Ja\",'Q_del,j en Q_del,dh'!$D178,0)","v":0},{"$f":"IF(J229=\"Ja\",'Q_del,j en Q_del,dh'!$D178,0)","v":0},{"$f":"IF(K229=\"Ja\",'Q_del,j en Q_del,dh'!$D178,0)","v":0},{"$f":"IF(L229=\"Ja\",'Q_del,j en Q_del,dh'!$D178,0)","v":0},{"$f":"IF(M229=\"Ja\",'Q_del,j en Q_del,dh'!$D178,0)","v":0},{"$f":"IF(N229=\"Ja\",'Q_del,j en Q_del,dh'!$D178,0)","v":0},{"$f":"IF(O229=\"Ja\",'Q_del,j en Q_del,dh'!$D178,0)","v":0},{"$f":"IF(P229=\"Ja\",'Q_del,j en Q_del,dh'!$D178,0)","v":0},{"$f":"IF(Q229=\"Ja\",'Q_del,j en Q_del,dh'!$D178,0)","v":0},{"$f":"IF(R229=\"Ja\",'Q_del,j en Q_del,dh'!$D178,0)","v":0},{"$f":"IF(S229=\"Ja\",'Q_del,j en Q_del,dh'!$D178,0)","v":0},{"$f":"IF(T229=\"Ja\",'Q_del,j en Q_del,dh'!$D178,0)","v":0},{"$f":"IF(U229=\"Ja\",'Q_del,j en Q_del,dh'!$D178,0)","v":0},{"$f":"IF(V229=\"Ja\",'Q_del,j en Q_del,dh'!$D178,0)","v":0},{"$f":"IF(W229=\"Ja\",'Q_del,j en Q_del,dh'!$D178,0)","v":0},{"$f":"IF(X229=\"Ja\",'Q_del,j en Q_del,dh'!$D178,0)","v":0},{"$f":"IF(Y229=\"Ja\",'Q_del,j en Q_del,dh'!$D178,0)","v":0},{"$f":"IF(Z229=\"Ja\",'Q_del,j en Q_del,dh'!$D178,0)","v":0},{"$f":"IF(AA229=\"Ja\",'Q_del,j en Q_del,dh'!$D178,0)","v":0},{"$f":"IF(AB229=\"Ja\",'Q_del,j en Q_del,dh'!$D178,0)","v":0},{"$f":"IF(AC229=\"Ja\",'Q_del,j en Q_del,dh'!$D178,0)","v":0},{"$f":"IF(AD229=\"Ja\",'Q_del,j en Q_del,dh'!$D178,0)","v":0},{"$f":"IF(AE229=\"Ja\",'Q_del,j en Q_del,dh'!$D178,0)","v":0},{"$f":"IF(AF229=\"Ja\",'Q_del,j en Q_del,dh'!$D178,0)","v":0},{"$f":"IF(AG229=\"Ja\",'Q_del,j en Q_del,dh'!$D178,0)","v":0},{"$f":"IF(AH229=\"Ja\",'Q_del,j en Q_del,dh'!$D178,0)","v":0},{"$f":"IF(AI229=\"Ja\",'Q_del,j en Q_del,dh'!$D178,0)","v":0},{"$f":"IF(AJ229=\"Ja\",'Q_del,j en Q_del,dh'!$D178,0)","v":0},{"$f":"IF(AK229=\"Ja\",'Q_del,j en Q_del,dh'!$D178,0)","v":0},{"$f":"IF(AL229=\"Ja\",'Q_del,j en Q_del,dh'!$D178,0)","v":0},{"$f":"IF(AM229=\"Ja\",'Q_del,j en Q_del,dh'!$D178,0)","v":0},{"$f":"IF(AN229=\"Ja\",'Q_del,j en Q_del,dh'!$D178,0)","v":0},{"$f":"IF(AO229=\"Ja\",'Q_del,j en Q_del,dh'!$D178,0)","v":0},{"$f":"IF(AP229=\"Ja\",'Q_del,j en Q_del,dh'!$D178,0)","v":0},{"$f":"IF(AQ229=\"Ja\",'Q_del,j en Q_del,dh'!$D178,0)","v":0},{"$f":"IF(AR229=\"Ja\",'Q_del,j en Q_del,dh'!$D178,0)","v":0},{"$f":"IF(AS229=\"Ja\",'Q_del,j en Q_del,dh'!$D178,0)","v":0},{"$f":"IF(AT229=\"Ja\",'Q_del,j en Q_del,dh'!$D178,0)","v":0},{"$f":"IF(AU229=\"Ja\",'Q_del,j en Q_del,dh'!$D178,0)","v":0},{"$f":"IF(AV229=\"Ja\",'Q_del,j en Q_del,dh'!$D178,0)","v":0},{"$f":"IF(AW229=\"Ja\",'Q_del,j en Q_del,dh'!$D178,0)","v":0},{"$f":"IF(AX229=\"Ja\",'Q_del,j en Q_del,dh'!$D178,0)","v":0},{"$f":"IF(AY229=\"Ja\",'Q_del,j en Q_del,dh'!$D178,0)","v":0},{"$f":"IF(AZ229=\"Ja\",'Q_del,j en Q_del,dh'!$D178,0)","v":0},{"$f":"IF(BA229=\"Ja\",'Q_del,j en Q_del,dh'!$D178,0)","v":0}]
["Qdel,l,j [MJ]","warmtevrager 172",172,{"$f":"IF(D230=\"Ja\",'Q_del,j en Q_del,dh'!$D179,0)","v":0},{"$f":"IF(E230=\"Ja\",'Q_del,j en Q_del,dh'!$D179,0)","v":0},{"$f":"IF(F230=\"Ja\",'Q_del,j en Q_del,dh'!$D179,0)","v":0},{"$f":"IF(G230=\"Ja\",'Q_del,j en Q_del,dh'!$D179,0)","v":0},{"$f":"IF(H230=\"Ja\",'Q_del,j en Q_del,dh'!$D179,0)","v":0},{"$f":"IF(I230=\"Ja\",'Q_del,j en Q_del,dh'!$D179,0)","v":0},{"$f":"IF(J230=\"Ja\",'Q_del,j en Q_del,dh'!$D179,0)","v":0},{"$f":"IF(K230=\"Ja\",'Q_del,j en Q_del,dh'!$D179,0)","v":0},{"$f":"IF(L230=\"Ja\",'Q_del,j en Q_del,dh'!$D179,0)","v":0},{"$f":"IF(M230=\"Ja\",'Q_del,j en Q_del,dh'!$D179,0)","v":0},{"$f":"IF(N230=\"Ja\",'Q_del,j en Q_del,dh'!$D179,0)","v":0},{"$f":"IF(O230=\"Ja\",'Q_del,j en Q_del,dh'!$D179,0)","v":0},{"$f":"IF(P230=\"Ja\",'Q_del,j en Q_del,dh'!$D179,0)","v":0},{"$f":"IF(Q230=\"Ja\",'Q_del,j en Q_del,dh'!$D179,0)","v":0},{"$f":"IF(R230=\"Ja\",'Q_del,j en Q_del,dh'!$D179,0)","v":0},{"$f":"IF(S230=\"Ja\",'Q_del,j en Q_del,dh'!$D179,0)","v":0},{"$f":"IF(T230=\"Ja\",'Q_del,j en Q_del,dh'!$D179,0)","v":0},{"$f":"IF(U230=\"Ja\",'Q_del,j en Q_del,dh'!$D179,0)","v":0},{"$f":"IF(V230=\"Ja\",'Q_del,j en Q_del,dh'!$D179,0)","v":0},{"$f":"IF(W230=\"Ja\",'Q_del,j en Q_del,dh'!$D179,0)","v":0},{"$f":"IF(X230=\"Ja\",'Q_del,j en Q_del,dh'!$D179,0)","v":0},{"$f":"IF(Y230=\"Ja\",'Q_del,j en Q_del,dh'!$D179,0)","v":0},{"$f":"IF(Z230=\"Ja\",'Q_del,j en Q_del,dh'!$D179,0)","v":0},{"$f":"IF(AA230=\"Ja\",'Q_del,j en Q_del,dh'!$D179,0)","v":0},{"$f":"IF(AB230=\"Ja\",'Q_del,j en Q_del,dh'!$D179,0)","v":0},{"$f":"IF(AC230=\"Ja\",'Q_del,j en Q_del,dh'!$D179,0)","v":0},{"$f":"IF(AD230=\"Ja\",'Q_del,j en Q_del,dh'!$D179,0)","v":0},{"$f":"IF(AE230=\"Ja\",'Q_del,j en Q_del,dh'!$D179,0)","v":0},{"$f":"IF(AF230=\"Ja\",'Q_del,j en Q_del,dh'!$D179,0)","v":0},{"$f":"IF(AG230=\"Ja\",'Q_del,j en Q_del,dh'!$D179,0)","v":0},{"$f":"IF(AH230=\"Ja\",'Q_del,j en Q_del,dh'!$D179,0)","v":0},{"$f":"IF(AI230=\"Ja\",'Q_del,j en Q_del,dh'!$D179,0)","v":0},{"$f":"IF(AJ230=\"Ja\",'Q_del,j en Q_del,dh'!$D179,0)","v":0},{"$f":"IF(AK230=\"Ja\",'Q_del,j en Q_del,dh'!$D179,0)","v":0},{"$f":"IF(AL230=\"Ja\",'Q_del,j en Q_del,dh'!$D179,0)","v":0},{"$f":"IF(AM230=\"Ja\",'Q_del,j en Q_del,dh'!$D179,0)","v":0},{"$f":"IF(AN230=\"Ja\",'Q_del,j en Q_del,dh'!$D179,0)","v":0},{"$f":"IF(AO230=\"Ja\",'Q_del,j en Q_del,dh'!$D179,0)","v":0},{"$f":"IF(AP230=\"Ja\",'Q_del,j en Q_del,dh'!$D179,0)","v":0},{"$f":"IF(AQ230=\"Ja\",'Q_del,j en Q_del,dh'!$D179,0)","v":0},{"$f":"IF(AR230=\"Ja\",'Q_del,j en Q_del,dh'!$D179,0)","v":0},{"$f":"IF(AS230=\"Ja\",'Q_del,j en Q_del,dh'!$D179,0)","v":0},{"$f":"IF(AT230=\"Ja\",'Q_del,j en Q_del,dh'!$D179,0)","v":0},{"$f":"IF(AU230=\"Ja\",'Q_del,j en Q_del,dh'!$D179,0)","v":0},{"$f":"IF(AV230=\"Ja\",'Q_del,j en Q_del,dh'!$D179,0)","v":0},{"$f":"IF(AW230=\"Ja\",'Q_del,j en Q_del,dh'!$D179,0)","v":0},{"$f":"IF(AX230=\"Ja\",'Q_del,j en Q_del,dh'!$D179,0)","v":0},{"$f":"IF(AY230=\"Ja\",'Q_del,j en Q_del,dh'!$D179,0)","v":0},{"$f":"IF(AZ230=\"Ja\",'Q_del,j en Q_del,dh'!$D179,0)","v":0},{"$f":"IF(BA230=\"Ja\",'Q_del,j en Q_del,dh'!$D179,0)","v":0}]
["Qdel,l,j [MJ]","warmtevrager 173",173,{"$f":"IF(D231=\"Ja\",'Q_del,j en Q_del,dh'!$D180,0)","v":0},{"$f":"IF(E231=\"Ja\",'Q_del,j en Q_del,dh'!$D180,0)","v":0},{"$f":"IF(F231=\"Ja\",'Q_del,j en Q_del,dh'!$D180,0)","v":0},{"$f":"IF(G231=\"Ja\",'Q_del,j en Q_del,dh'!$D180,0)","v":0},{"$f":"IF(H231=\"Ja\",'Q_del,j en Q_del,dh'!$D180,0)","v":0},{"$f":"IF(I231=\"Ja\",'Q_del,j en Q_del,dh'!$D180,0)","v":0},{"$f":"IF(J231=\"Ja\",'Q_del,j en Q_del,dh'!$D180,0)","v":0},{"$f":"IF(K231=\"Ja\",'Q_del,j en Q_del,dh'!$D180,0)","v":0},{"$f":"IF(L231=\"Ja\",'Q_del,j en Q_del,dh'!$D180,0)","v":0},{"$f":"IF(M231=\"Ja\",'Q_del,j en Q_del,dh'!$D180,0)","v":0},{"$f":"IF(N231=\"Ja\",'Q_del,j en Q_del,dh'!$D180,0)","v":0},{"$f":"IF(O231=\"Ja\",'Q_del,j en Q_del,dh'!$D180,0)","v":0},{"$f":"IF(P231=\"Ja\",'Q_del,j en Q_del,dh'!$D180,0)","v":0},{"$f":"IF(Q231=\"Ja\",'Q_del,j en Q_del,dh'!$D180,0)","v":0},{"$f":"IF(R231=\"Ja\",'Q_del,j en Q_del,dh'!$D180,0)","v":0},{"$f":"IF(S231=\"Ja\",'Q_del,j en Q_del,dh'!$D180,0)","v":0},{"$f":"IF(T231=\"Ja\",'Q_del,j en Q_del,dh'!$D180,0)","v":0},{"$f":"IF(U231=\"Ja\",'Q_del,j en Q_del,dh'!$D180,0)","v":0},{"$f":"IF(V231=\"Ja\",'Q_del,j en Q_del,dh'!$D180,0)","v":0},{"$f":"IF(W231=\"Ja\",'Q_del,j en Q_del,dh'!$D180,0)","v":0},{"$f":"IF(X231=\"Ja\",'Q_del,j en Q_del,dh'!$D180,0)","v":0},{"$f":"IF(Y231=\"Ja\",'Q_del,j en Q_del,dh'!$D180,0)","v":0},{"$f":"IF(Z231=\"Ja\",'Q_del,j en Q_del,dh'!$D180,0)","v":0},{"$f":"IF(AA231=\"Ja\",'Q_del,j en Q_del,dh'!$D180,0)","v":0},{"$f":"IF(AB231=\"Ja\",'Q_del,j en Q_del,dh'!$D180,0)","v":0},{"$f":"IF(AC231=\"Ja\",'Q_del,j en Q_del,dh'!$D180,0)","v":0},{"$f":"IF(AD231=\"Ja\",'Q_del,j en Q_del,dh'!$D180,0)","v":0},{"$f":"IF(AE231=\"Ja\",'Q_del,j en Q_del,dh'!$D180,0)","v":0},{"$f":"IF(AF231=\"Ja\",'Q_del,j en Q_del,dh'!$D180,0)","v":0},{"$f":"IF(AG231=\"Ja\",'Q_del,j en Q_del,dh'!$D180,0)","v":0},{"$f":"IF(AH231=\"Ja\",'Q_del,j en Q_del,dh'!$D180,0)","v":0},{"$f":"IF(AI231=\"Ja\",'Q_del,j en Q_del,dh'!$D180,0)","v":0},{"$f":"IF(AJ231=\"Ja\",'Q_del,j en Q_del,dh'!$D180,0)","v":0},{"$f":"IF(AK231=\"Ja\",'Q_del,j en Q_del,dh'!$D180,0)","v":0},{"$f":"IF(AL231=\"Ja\",'Q_del,j en Q_del,dh'!$D180,0)","v":0},{"$f":"IF(AM231=\"Ja\",'Q_del,j en Q_del,dh'!$D180,0)","v":0},{"$f":"IF(AN231=\"Ja\",'Q_del,j en Q_del,dh'!$D180,0)","v":0},{"$f":"IF(AO231=\"Ja\",'Q_del,j en Q_del,dh'!$D180,0)","v":0},{"$f":"IF(AP231=\"Ja\",'Q_del,j en Q_del,dh'!$D180,0)","v":0},{"$f":"IF(AQ231=\"Ja\",'Q_del,j en Q_del,dh'!$D180,0)","v":0},{"$f":"IF(AR231=\"Ja\",'Q_del,j en Q_del,dh'!$D180,0)","v":0},{"$f":"IF(AS231=\"Ja\",'Q_del,j en Q_del,dh'!$D180,0)","v":0},{"$f":"IF(AT231=\"Ja\",'Q_del,j en Q_del,dh'!$D180,0)","v":0},{"$f":"IF(AU231=\"Ja\",'Q_del,j en Q_del,dh'!$D180,0)","v":0},{"$f":"IF(AV231=\"Ja\",'Q_del,j en Q_del,dh'!$D180,0)","v":0},{"$f":"IF(AW231=\"Ja\",'Q_del,j en Q_del,dh'!$D180,0)","v":0},{"$f":"IF(AX231=\"Ja\",'Q_del,j en Q_del,dh'!$D180,0)","v":0},{"$f":"IF(AY231=\"Ja\",'Q_del,j en Q_del,dh'!$D180,0)","v":0},{"$f":"IF(AZ231=\"Ja\",'Q_del,j en Q_del,dh'!$D180,0)","v":0},{"$f":"IF(BA231=\"Ja\",'Q_del,j en Q_del,dh'!$D180,0)","v":0}]
["Qdel,l,j [MJ]","warmtevrager 174",174,{"$f":"IF(D232=\"Ja\",'Q_del,j en Q_del,dh'!$D181,0)","v":0},{"$f":"IF(E232=\"Ja\",'Q_del,j en Q_del,dh'!$D181,0)","v":0},{"$f":"IF(F232=\"Ja\",'Q_del,j en Q_del,dh'!$D181,0)","v":0},{"$f":"IF(G232=\"Ja\",'Q_del,j en Q_del,dh'!$D181,0)","v":0},{"$f":"IF(H232=\"Ja\",'Q_del,j en Q_del,dh'!$D181,0)","v":0},{"$f":"IF(I232=\"Ja\",'Q_del,j en Q_del,dh'!$D181,0)","v":0},{"$f":"IF(J232=\"Ja\",'Q_del,j en Q_del,dh'!$D181,0)","v":0},{"$f":"IF(K232=\"Ja\",'Q_del,j en Q_del,dh'!$D181,0)","v":0},{"$f":"IF(L232=\"Ja\",'Q_del,j en Q_del,dh'!$D181,0)","v":0},{"$f":"IF(M232=\"Ja\",'Q_del,j en Q_del,dh'!$D181,0)","v":0},{"$f":"IF(N232=\"Ja\",'Q_del,j en Q_del,dh'!$D181,0)","v":0},{"$f":"IF(O232=\"Ja\",'Q_del,j en Q_del,dh'!$D181,0)","v":0},{"$f":"IF(P232=\"Ja\",'Q_del,j en Q_del,dh'!$D181,0)","v":0},{"$f":"IF(Q232=\"Ja\",'Q_del,j en Q_del,dh'!$D181,0)","v":0},{"$f":"IF(R232=\"Ja\",'Q_del,j en Q_del,dh'!$D181,0)","v":0},{"$f":"IF(S232=\"Ja\",'Q_del,j en Q_del,dh'!$D181,0)","v":0},{"$f":"IF(T232=\"Ja\",'Q_del,j en Q_del,dh'!$D181,0)","v":0},{"$f":"IF(U232=\"Ja\",'Q_del,j en Q_del,dh'!$D181,0)","v":0},{"$f":"IF(V232=\"Ja\",'Q_del,j en Q_del,dh'!$D181,0)","v":0},{"$f":"IF(W232=\"Ja\",'Q_del,j en Q_del,dh'!$D181,0)","v":0},{"$f":"IF(X232=\"Ja\",'Q_del,j en Q_del,dh'!$D181,0)","v":0},{"$f":"IF(Y232=\"Ja\",'Q_del,j en Q_del,dh'!$D181,0)","v":0},{"$f":"IF(Z232=\"Ja\",'Q_del,j en Q_del,dh'!$D181,0)","v":0},{"$f":"IF(AA232=\"Ja\",'Q_del,j en Q_del,dh'!$D181,0)","v":0},{"$f":"IF(AB232=\"Ja\",'Q_del,j en Q_del,dh'!$D181,0)","v":0},{"$f":"IF(AC232=\"Ja\",'Q_del,j en Q_del,dh'!$D181,0)","v":0},{"$f":"IF(AD232=\"Ja\",'Q_del,j en Q_del,dh'!$D181,0)","v":0},{"$f":"IF(AE232=\"Ja\",'Q_del,j en Q_del,dh'!$D181,0)","v":0},{"$f":"IF(AF232=\"Ja\",'Q_del,j en Q_del,dh'!$D181,0)","v":0},{"$f":"IF(AG232=\"Ja\",'Q_del,j en Q_del,dh'!$D181,0)","v":0},{"$f":"IF(AH232=\"Ja\",'Q_del,j en Q_del,dh'!$D181,0)","v":0},{"$f":"IF(AI232=\"Ja\",'Q_del,j en Q_del,dh'!$D181,0)","v":0},{"$f":"IF(AJ232=\"Ja\",'Q_del,j en Q_del,dh'!$D181,0)","v":0},{"$f":"IF(AK232=\"Ja\",'Q_del,j en Q_del,dh'!$D181,0)","v":0},{"$f":"IF(AL232=\"Ja\",'Q_del,j en Q_del,dh'!$D181,0)","v":0},{"$f":"IF(AM232=\"Ja\",'Q_del,j en Q_del,dh'!$D181,0)","v":0},{"$f":"IF(AN232=\"Ja\",'Q_del,j en Q_del,dh'!$D181,0)","v":0},{"$f":"IF(AO232=\"Ja\",'Q_del,j en Q_del,dh'!$D181,0)","v":0},{"$f":"IF(AP232=\"Ja\",'Q_del,j en Q_del,dh'!$D181,0)","v":0},{"$f":"IF(AQ232=\"Ja\",'Q_del,j en Q_del,dh'!$D181,0)","v":0},{"$f":"IF(AR232=\"Ja\",'Q_del,j en Q_del,dh'!$D181,0)","v":0},{"$f":"IF(AS232=\"Ja\",'Q_del,j en Q_del,dh'!$D181,0)","v":0},{"$f":"IF(AT232=\"Ja\",'Q_del,j en Q_del,dh'!$D181,0)","v":0},{"$f":"IF(AU232=\"Ja\",'Q_del,j en Q_del,dh'!$D181,0)","v":0},{"$f":"IF(AV232=\"Ja\",'Q_del,j en Q_del,dh'!$D181,0)","v":0},{"$f":"IF(AW232=\"Ja\",'Q_del,j en Q_del,dh'!$D181,0)","v":0},{"$f":"IF(AX232=\"Ja\",'Q_del,j en Q_del,dh'!$D181,0)","v":0},{"$f":"IF(AY232=\"Ja\",'Q_del,j en Q_del,dh'!$D181,0)","v":0},{"$f":"IF(AZ232=\"Ja\",'Q_del,j en Q_del,dh'!$D181,0)","v":0},{"$f":"IF(BA232=\"Ja\",'Q_del,j en Q_del,dh'!$D181,0)","v":0}]
["Qdel,l,j [MJ]","warmtevrager 175",175,{"$f":"IF(D233=\"Ja\",'Q_del,j en Q_del,dh'!$D182,0)","v":0},{"$f":"IF(E233=\"Ja\",'Q_del,j en Q_del,dh'!$D182,0)","v":0},{"$f":"IF(F233=\"Ja\",'Q_del,j en Q_del,dh'!$D182,0)","v":0},{"$f":"IF(G233=\"Ja\",'Q_del,j en Q_del,dh'!$D182,0)","v":0},{"$f":"IF(H233=\"Ja\",'Q_del,j en Q_del,dh'!$D182,0)","v":0},{"$f":"IF(I233=\"Ja\",'Q_del,j en Q_del,dh'!$D182,0)","v":0},{"$f":"IF(J233=\"Ja\",'Q_del,j en Q_del,dh'!$D182,0)","v":0},{"$f":"IF(K233=\"Ja\",'Q_del,j en Q_del,dh'!$D182,0)","v":0},{"$f":"IF(L233=\"Ja\",'Q_del,j en Q_del,dh'!$D182,0)","v":0},{"$f":"IF(M233=\"Ja\",'Q_del,j en Q_del,dh'!$D182,0)","v":0},{"$f":"IF(N233=\"Ja\",'Q_del,j en Q_del,dh'!$D182,0)","v":0},{"$f":"IF(O233=\"Ja\",'Q_del,j en Q_del,dh'!$D182,0)","v":0},{"$f":"IF(P233=\"Ja\",'Q_del,j en Q_del,dh'!$D182,0)","v":0},{"$f":"IF(Q233=\"Ja\",'Q_del,j en Q_del,dh'!$D182,0)","v":0},{"$f":"IF(R233=\"Ja\",'Q_del,j en Q_del,dh'!$D182,0)","v":0},{"$f":"IF(S233=\"Ja\",'Q_del,j en Q_del,dh'!$D182,0)","v":0},{"$f":"IF(T233=\"Ja\",'Q_del,j en Q_del,dh'!$D182,0)","v":0},{"$f":"IF(U233=\"Ja\",'Q_del,j en Q_del,dh'!$D182,0)","v":0},{"$f":"IF(V233=\"Ja\",'Q_del,j en Q_del,dh'!$D182,0)","v":0},{"$f":"IF(W233=\"Ja\",'Q_del,j en Q_del,dh'!$D182,0)","v":0},{"$f":"IF(X233=\"Ja\",'Q_del,j en Q_del,dh'!$D182,0)","v":0},{"$f":"IF(Y233=\"Ja\",'Q_del,j en Q_del,dh'!$D182,0)","v":0},{"$f":"IF(Z233=\"Ja\",'Q_del,j en Q_del,dh'!$D182,0)","v":0},{"$f":"IF(AA233=\"Ja\",'Q_del,j en Q_del,dh'!$D182,0)","v":0},{"$f":"IF(AB233=\"Ja\",'Q_del,j en Q_del,dh'!$D182,0)","v":0},{"$f":"IF(AC233=\"Ja\",'Q_del,j en Q_del,dh'!$D182,0)","v":0},{"$f":"IF(AD233=\"Ja\",'Q_del,j en Q_del,dh'!$D182,0)","v":0},{"$f":"IF(AE233=\"Ja\",'Q_del,j en Q_del,dh'!$D182,0)","v":0},{"$f":"IF(AF233=\"Ja\",'Q_del,j en Q_del,dh'!$D182,0)","v":0},{"$f":"IF(AG233=\"Ja\",'Q_del,j en Q_del,dh'!$D182,0)","v":0},{"$f":"IF(AH233=\"Ja\",'Q_del,j en Q_del,dh'!$D182,0)","v":0},{"$f":"IF(AI233=\"Ja\",'Q_del,j en Q_del,dh'!$D182,0)","v":0},{"$f":"IF(AJ233=\"Ja\",'Q_del,j en Q_del,dh'!$D182,0)","v":0},{"$f":"IF(AK233=\"Ja\",'Q_del,j en Q_del,dh'!$D182,0)","v":0},{"$f":"IF(AL233=\"Ja\",'Q_del,j en Q_del,dh'!$D182,0)","v":0},{"$f":"IF(AM233=\"Ja\",'Q_del,j en Q_del,dh'!$D182,0)","v":0},{"$f":"IF(AN233=\"Ja\",'Q_del,j en Q_del,dh'!$D182,0)","v":0},{"$f":"IF(AO233=\"Ja\",'Q_del,j en Q_del,dh'!$D182,0)","v":0},{"$f":"IF(AP233=\"Ja\",'Q_del,j en Q_del,dh'!$D182,0)","v":0},{"$f":"IF(AQ233=\"Ja\",'Q_del,j en Q_del,dh'!$D182,0)","v":0},{"$f":"IF(AR233=\"Ja\",'Q_del,j en Q_del,dh'!$D182,0)","v":0},{"$f":"IF(AS233=\"Ja\",'Q_del,j en Q_del,dh'!$D182,0)","v":0},{"$f":"IF(AT233=\"Ja\",'Q_del,j en Q_del,dh'!$D182,0)","v":0},{"$f":"IF(AU233=\"Ja\",'Q_del,j en Q_del,dh'!$D182,0)","v":0},{"$f":"IF(AV233=\"Ja\",'Q_del,j en Q_del,dh'!$D182,0)","v":0},{"$f":"IF(AW233=\"Ja\",'Q_del,j en Q_del,dh'!$D182,0)","v":0},{"$f":"IF(AX233=\"Ja\",'Q_del,j en Q_del,dh'!$D182,0)","v":0},{"$f":"IF(AY233=\"Ja\",'Q_del,j en Q_del,dh'!$D182,0)","v":0},{"$f":"IF(AZ233=\"Ja\",'Q_del,j en Q_del,dh'!$D182,0)","v":0},{"$f":"IF(BA233=\"Ja\",'Q_del,j en Q_del,dh'!$D182,0)","v":0}]
["Qdel,l,j [MJ]","warmtevrager 176",176,{"$f":"IF(D234=\"Ja\",'Q_del,j en Q_del,dh'!$D183,0)","v":0},{"$f":"IF(E234=\"Ja\",'Q_del,j en Q_del,dh'!$D183,0)","v":0},{"$f":"IF(F234=\"Ja\",'Q_del,j en Q_del,dh'!$D183,0)","v":0},{"$f":"IF(G234=\"Ja\",'Q_del,j en Q_del,dh'!$D183,0)","v":0},{"$f":"IF(H234=\"Ja\",'Q_del,j en Q_del,dh'!$D183,0)","v":0},{"$f":"IF(I234=\"Ja\",'Q_del,j en Q_del,dh'!$D183,0)","v":0},{"$f":"IF(J234=\"Ja\",'Q_del,j en Q_del,dh'!$D183,0)","v":0},{"$f":"IF(K234=\"Ja\",'Q_del,j en Q_del,dh'!$D183,0)","v":0},{"$f":"IF(L234=\"Ja\",'Q_del,j en Q_del,dh'!$D183,0)","v":0},{"$f":"IF(M234=\"Ja\",'Q_del,j en Q_del,dh'!$D183,0)","v":0},{"$f":"IF(N234=\"Ja\",'Q_del,j en Q_del,dh'!$D183,0)","v":0},{"$f":"IF(O234=\"Ja\",'Q_del,j en Q_del,dh'!$D183,0)","v":0},{"$f":"IF(P234=\"Ja\",'Q_del,j en Q_del,dh'!$D183,0)","v":0},{"$f":"IF(Q234=\"Ja\",'Q_del,j en Q_del,dh'!$D183,0)","v":0},{"$f":"IF(R234=\"Ja\",'Q_del,j en Q_del,dh'!$D183,0)","v":0},{"$f":"IF(S234=\"Ja\",'Q_del,j en Q_del,dh'!$D183,0)","v":0},{"$f":"IF(T234=\"Ja\",'Q_del,j en Q_del,dh'!$D183,0)","v":0},{"$f":"IF(U234=\"Ja\",'Q_del,j en Q_del,dh'!$D183,0)","v":0},{"$f":"IF(V234=\"Ja\",'Q_del,j en Q_del,dh'!$D183,0)","v":0},{"$f":"IF(W234=\"Ja\",'Q_del,j en Q_del,dh'!$D183,0)","v":0},{"$f":"IF(X234=\"Ja\",'Q_del,j en Q_del,dh'!$D183,0)","v":0},{"$f":"IF(Y234=\"Ja\",'Q_del,j en Q_del,dh'!$D183,0)","v":0},{"$f":"IF(Z234=\"Ja\",'Q_del,j en Q_del,dh'!$D183,0)","v":0},{"$f":"IF(AA234=\"Ja\",'Q_del,j en Q_del,dh'!$D183,0)","v":0},{"$f":"IF(AB234=\"Ja\",'Q_del,j en Q_del,dh'!$D183,0)","v":0},{"$f":"IF(AC234=\"Ja\",'Q_del,j en Q_del,dh'!$D183,0)","v":0},{"$f":"IF(AD234=\"Ja\",'Q_del,j en Q_del,dh'!$D183,0)","v":0},{"$f":"IF(AE234=\"Ja\",'Q_del,j en Q_del,dh'!$D183,0)","v":0},{"$f":"IF(AF234=\"Ja\",'Q_del,j en Q_del,dh'!$D183,0)","v":0},{"$f":"IF(AG234=\"Ja\",'Q_del,j en Q_del,dh'!$D183,0)","v":0},{"$f":"IF(AH234=\"Ja\",'Q_del,j en Q_del,dh'!$D183,0)","v":0},{"$f":"IF(AI234=\"Ja\",'Q_del,j en Q_del,dh'!$D183,0)","v":0},{"$f":"IF(AJ234=\"Ja\",'Q_del,j en Q_del,dh'!$D183,0)","v":0},{"$f":"IF(AK234=\"Ja\",'Q_del,j en Q_del,dh'!$D183,0)","v":0},{"$f":"IF(AL234=\"Ja\",'Q_del,j en Q_del,dh'!$D183,0)","v":0},{"$f":"IF(AM234=\"Ja\",'Q_del,j en Q_del,dh'!$D183,0)","v":0},{"$f":"IF(AN234=\"Ja\",'Q_del,j en Q_del,dh'!$D183,0)","v":0},{"$f":"IF(AO234=\"Ja\",'Q_del,j en Q_del,dh'!$D183,0)","v":0},{"$f":"IF(AP234=\"Ja\",'Q_del,j en Q_del,dh'!$D183,0)","v":0},{"$f":"IF(AQ234=\"Ja\",'Q_del,j en Q_del,dh'!$D183,0)","v":0},{"$f":"IF(AR234=\"Ja\",'Q_del,j en Q_del,dh'!$D183,0)","v":0},{"$f":"IF(AS234=\"Ja\",'Q_del,j en Q_del,dh'!$D183,0)","v":0},{"$f":"IF(AT234=\"Ja\",'Q_del,j en Q_del,dh'!$D183,0)","v":0},{"$f":"IF(AU234=\"Ja\",'Q_del,j en Q_del,dh'!$D183,0)","v":0},{"$f":"IF(AV234=\"Ja\",'Q_del,j en Q_del,dh'!$D183,0)","v":0},{"$f":"IF(AW234=\"Ja\",'Q_del,j en Q_del,dh'!$D183,0)","v":0},{"$f":"IF(AX234=\"Ja\",'Q_del,j en Q_del,dh'!$D183,0)","v":0},{"$f":"IF(AY234=\"Ja\",'Q_del,j en Q_del,dh'!$D183,0)","v":0},{"$f":"IF(AZ234=\"Ja\",'Q_del,j en Q_del,dh'!$D183,0)","v":0},{"$f":"IF(BA234=\"Ja\",'Q_del,j en Q_del,dh'!$D183,0)","v":0}]
["Qdel,l,j [MJ]","warmtevrager 177",177,{"$f":"IF(D235=\"Ja\",'Q_del,j en Q_del,dh'!$D184,0)","v":0},{"$f":"IF(E235=\"Ja\",'Q_del,j en Q_del,dh'!$D184,0)","v":0},{"$f":"IF(F235=\"Ja\",'Q_del,j en Q_del,dh'!$D184,0)","v":0},{"$f":"IF(G235=\"Ja\",'Q_del,j en Q_del,dh'!$D184,0)","v":0},{"$f":"IF(H235=\"Ja\",'Q_del,j en Q_del,dh'!$D184,0)","v":0},{"$f":"IF(I235=\"Ja\",'Q_del,j en Q_del,dh'!$D184,0)","v":0},{"$f":"IF(J235=\"Ja\",'Q_del,j en Q_del,dh'!$D184,0)","v":0},{"$f":"IF(K235=\"Ja\",'Q_del,j en Q_del,dh'!$D184,0)","v":0},{"$f":"IF(L235=\"Ja\",'Q_del,j en Q_del,dh'!$D184,0)","v":0},{"$f":"IF(M235=\"Ja\",'Q_del,j en Q_del,dh'!$D184,0)","v":0},{"$f":"IF(N235=\"Ja\",'Q_del,j en Q_del,dh'!$D184,0)","v":0},{"$f":"IF(O235=\"Ja\",'Q_del,j en Q_del,dh'!$D184,0)","v":0},{"$f":"IF(P235=\"Ja\",'Q_del,j en Q_del,dh'!$D184,0)","v":0},{"$f":"IF(Q235=\"Ja\",'Q_del,j en Q_del,dh'!$D184,0)","v":0},{"$f":"IF(R235=\"Ja\",'Q_del,j en Q_del,dh'!$D184,0)","v":0},{"$f":"IF(S235=\"Ja\",'Q_del,j en Q_del,dh'!$D184,0)","v":0},{"$f":"IF(T235=\"Ja\",'Q_del,j en Q_del,dh'!$D184,0)","v":0},{"$f":"IF(U235=\"Ja\",'Q_del,j en Q_del,dh'!$D184,0)","v":0},{"$f":"IF(V235=\"Ja\",'Q_del,j en Q_del,dh'!$D184,0)","v":0},{"$f":"IF(W235=\"Ja\",'Q_del,j en Q_del,dh'!$D184,0)","v":0},{"$f":"IF(X235=\"Ja\",'Q_del,j en Q_del,dh'!$D184,0)","v":0},{"$f":"IF(Y235=\"Ja\",'Q_del,j en Q_del,dh'!$D184,0)","v":0},{"$f":"IF(Z235=\"Ja\",'Q_del,j en Q_del,dh'!$D184,0)","v":0},{"$f":"IF(AA235=\"Ja\",'Q_del,j en Q_del,dh'!$D184,0)","v":0},{"$f":"IF(AB235=\"Ja\",'Q_del,j en Q_del,dh'!$D184,0)","v":0},{"$f":"IF(AC235=\"Ja\",'Q_del,j en Q_del,dh'!$D184,0)","v":0},{"$f":"IF(AD235=\"Ja\",'Q_del,j en Q_del,dh'!$D184,0)","v":0},{"$f":"IF(AE235=\"Ja\",'Q_del,j en Q_del,dh'!$D184,0)","v":0},{"$f":"IF(AF235=\"Ja\",'Q_del,j en Q_del,dh'!$D184,0)","v":0},{"$f":"IF(AG235=\"Ja\",'Q_del,j en Q_del,dh'!$D184,0)","v":0},{"$f":"IF(AH235=\"Ja\",'Q_del,j en Q_del,dh'!$D184,0)","v":0},{"$f":"IF(AI235=\"Ja\",'Q_del,j en Q_del,dh'!$D184,0)","v":0},{"$f":"IF(AJ235=\"Ja\",'Q_del,j en Q_del,dh'!$D184,0)","v":0},{"$f":"IF(AK235=\"Ja\",'Q_del,j en Q_del,dh'!$D184,0)","v":0},{"$f":"IF(AL235=\"Ja\",'Q_del,j en Q_del,dh'!$D184,0)","v":0},{"$f":"IF(AM235=\"Ja\",'Q_del,j en Q_del,dh'!$D184,0)","v":0},{"$f":"IF(AN235=\"Ja\",'Q_del,j en Q_del,dh'!$D184,0)","v":0},{"$f":"IF(AO235=\"Ja\",'Q_del,j en Q_del,dh'!$D184,0)","v":0},{"$f":"IF(AP235=\"Ja\",'Q_del,j en Q_del,dh'!$D184,0)","v":0},{"$f":"IF(AQ235=\"Ja\",'Q_del,j en Q_del,dh'!$D184,0)","v":0},{"$f":"IF(AR235=\"Ja\",'Q_del,j en Q_del,dh'!$D184,0)","v":0},{"$f":"IF(AS235=\"Ja\",'Q_del,j en Q_del,dh'!$D184,0)","v":0},{"$f":"IF(AT235=\"Ja\",'Q_del,j en Q_del,dh'!$D184,0)","v":0},{"$f":"IF(AU235=\"Ja\",'Q_del,j en Q_del,dh'!$D184,0)","v":0},{"$f":"IF(AV235=\"Ja\",'Q_del,j en Q_del,dh'!$D184,0)","v":0},{"$f":"IF(AW235=\"Ja\",'Q_del,j en Q_del,dh'!$D184,0)","v":0},{"$f":"IF(AX235=\"Ja\",'Q_del,j en Q_del,dh'!$D184,0)","v":0},{"$f":"IF(AY235=\"Ja\",'Q_del,j en Q_del,dh'!$D184,0)","v":0},{"$f":"IF(AZ235=\"Ja\",'Q_del,j en Q_del,dh'!$D184,0)","v":0},{"$f":"IF(BA235=\"Ja\",'Q_del,j en Q_del,dh'!$D184,0)","v":0}]
["Qdel,l,j [MJ]","warmtevrager 178",178,{"$f":"IF(D236=\"Ja\",'Q_del,j en Q_del,dh'!$D185,0)","v":0},{"$f":"IF(E236=\"Ja\",'Q_del,j en Q_del,dh'!$D185,0)","v":0},{"$f":"IF(F236=\"Ja\",'Q_del,j en Q_del,dh'!$D185,0)","v":0},{"$f":"IF(G236=\"Ja\",'Q_del,j en Q_del,dh'!$D185,0)","v":0},{"$f":"IF(H236=\"Ja\",'Q_del,j en Q_del,dh'!$D185,0)","v":0},{"$f":"IF(I236=\"Ja\",'Q_del,j en Q_del,dh'!$D185,0)","v":0},{"$f":"IF(J236=\"Ja\",'Q_del,j en Q_del,dh'!$D185,0)","v":0},{"$f":"IF(K236=\"Ja\",'Q_del,j en Q_del,dh'!$D185,0)","v":0},{"$f":"IF(L236=\"Ja\",'Q_del,j en Q_del,dh'!$D185,0)","v":0},{"$f":"IF(M236=\"Ja\",'Q_del,j en Q_del,dh'!$D185,0)","v":0},{"$f":"IF(N236=\"Ja\",'Q_del,j en Q_del,dh'!$D185,0)","v":0},{"$f":"IF(O236=\"Ja\",'Q_del,j en Q_del,dh'!$D185,0)","v":0},{"$f":"IF(P236=\"Ja\",'Q_del,j en Q_del,dh'!$D185,0)","v":0},{"$f":"IF(Q236=\"Ja\",'Q_del,j en Q_del,dh'!$D185,0)","v":0},{"$f":"IF(R236=\"Ja\",'Q_del,j en Q_del,dh'!$D185,0)","v":0},{"$f":"IF(S236=\"Ja\",'Q_del,j en Q_del,dh'!$D185,0)","v":0},{"$f":"IF(T236=\"Ja\",'Q_del,j en Q_del,dh'!$D185,0)","v":0},{"$f":"IF(U236=\"Ja\",'Q_del,j en Q_del,dh'!$D185,0)","v":0},{"$f":"IF(V236=\"Ja\",'Q_del,j en Q_del,dh'!$D185,0)","v":0},{"$f":"IF(W236=\"Ja\",'Q_del,j en Q_del,dh'!$D185,0)","v":0},{"$f":"IF(X236=\"Ja\",'Q_del,j en Q_del,dh'!$D185,0)","v":0},{"$f":"IF(Y236=\"Ja\",'Q_del,j en Q_del,dh'!$D185,0)","v":0},{"$f":"IF(Z236=\"Ja\",'Q_del,j en Q_del,dh'!$D185,0)","v":0},{"$f":"IF(AA236=\"Ja\",'Q_del,j en Q_del,dh'!$D185,0)","v":0},{"$f":"IF(AB236=\"Ja\",'Q_del,j en Q_del,dh'!$D185,0)","v":0},{"$f":"IF(AC236=\"Ja\",'Q_del,j en Q_del,dh'!$D185,0)","v":0},{"$f":"IF(AD236=\"Ja\",'Q_del,j en Q_del,dh'!$D185,0)","v":0},{"$f":"IF(AE236=\"Ja\",'Q_del,j en Q_del,dh'!$D185,0)","v":0},{"$f":"IF(AF236=\"Ja\",'Q_del,j en Q_del,dh'!$D185,0)","v":0},{"$f":"IF(AG236=\"Ja\",'Q_del,j en Q_del,dh'!$D185,0)","v":0},{"$f":"IF(AH236=\"Ja\",'Q_del,j en Q_del,dh'!$D185,0)","v":0},{"$f":"IF(AI236=\"Ja\",'Q_del,j en Q_del,dh'!$D185,0)","v":0},{"$f":"IF(AJ236=\"Ja\",'Q_del,j en Q_del,dh'!$D185,0)","v":0},{"$f":"IF(AK236=\"Ja\",'Q_del,j en Q_del,dh'!$D185,0)","v":0},{"$f":"IF(AL236=\"Ja\",'Q_del,j en Q_del,dh'!$D185,0)","v":0},{"$f":"IF(AM236=\"Ja\",'Q_del,j en Q_del,dh'!$D185,0)","v":0},{"$f":"IF(AN236=\"Ja\",'Q_del,j en Q_del,dh'!$D185,0)","v":0},{"$f":"IF(AO236=\"Ja\",'Q_del,j en Q_del,dh'!$D185,0)","v":0},{"$f":"IF(AP236=\"Ja\",'Q_del,j en Q_del,dh'!$D185,0)","v":0},{"$f":"IF(AQ236=\"Ja\",'Q_del,j en Q_del,dh'!$D185,0)","v":0},{"$f":"IF(AR236=\"Ja\",'Q_del,j en Q_del,dh'!$D185,0)","v":0},{"$f":"IF(AS236=\"Ja\",'Q_del,j en Q_del,dh'!$D185,0)","v":0},{"$f":"IF(AT236=\"Ja\",'Q_del,j en Q_del,dh'!$D185,0)","v":0},{"$f":"IF(AU236=\"Ja\",'Q_del,j en Q_del,dh'!$D185,0)","v":0},{"$f":"IF(AV236=\"Ja\",'Q_del,j en Q_del,dh'!$D185,0)","v":0},{"$f":"IF(AW236=\"Ja\",'Q_del,j en Q_del,dh'!$D185,0)","v":0},{"$f":"IF(AX236=\"Ja\",'Q_del,j en Q_del,dh'!$D185,0)","v":0},{"$f":"IF(AY236=\"Ja\",'Q_del,j en Q_del,dh'!$D185,0)","v":0},{"$f":"IF(AZ236=\"Ja\",'Q_del,j en Q_del,dh'!$D185,0)","v":0},{"$f":"IF(BA236=\"Ja\",'Q_del,j en Q_del,dh'!$D185,0)","v":0}]
["Qdel,l,j [MJ]","warmtevrager 179",179,{"$f":"IF(D237=\"Ja\",'Q_del,j en Q_del,dh'!$D186,0)","v":0},{"$f":"IF(E237=\"Ja\",'Q_del,j en Q_del,dh'!$D186,0)","v":0},{"$f":"IF(F237=\"Ja\",'Q_del,j en Q_del,dh'!$D186,0)","v":0},{"$f":"IF(G237=\"Ja\",'Q_del,j en Q_del,dh'!$D186,0)","v":0},{"$f":"IF(H237=\"Ja\",'Q_del,j en Q_del,dh'!$D186,0)","v":0},{"$f":"IF(I237=\"Ja\",'Q_del,j en Q_del,dh'!$D186,0)","v":0},{"$f":"IF(J237=\"Ja\",'Q_del,j en Q_del,dh'!$D186,0)","v":0},{"$f":"IF(K237=\"Ja\",'Q_del,j en Q_del,dh'!$D186,0)","v":0},{"$f":"IF(L237=\"Ja\",'Q_del,j en Q_del,dh'!$D186,0)","v":0},{"$f":"IF(M237=\"Ja\",'Q_del,j en Q_del,dh'!$D186,0)","v":0},{"$f":"IF(N237=\"Ja\",'Q_del,j en Q_del,dh'!$D186,0)","v":0},{"$f":"IF(O237=\"Ja\",'Q_del,j en Q_del,dh'!$D186,0)","v":0},{"$f":"IF(P237=\"Ja\",'Q_del,j en Q_del,dh'!$D186,0)","v":0},{"$f":"IF(Q237=\"Ja\",'Q_del,j en Q_del,dh'!$D186,0)","v":0},{"$f":"IF(R237=\"Ja\",'Q_del,j en Q_del,dh'!$D186,0)","v":0},{"$f":"IF(S237=\"Ja\",'Q_del,j en Q_del,dh'!$D186,0)","v":0},{"$f":"IF(T237=\"Ja\",'Q_del,j en Q_del,dh'!$D186,0)","v":0},{"$f":"IF(U237=\"Ja\",'Q_del,j en Q_del,dh'!$D186,0)","v":0},{"$f":"IF(V237=\"Ja\",'Q_del,j en Q_del,dh'!$D186,0)","v":0},{"$f":"IF(W237=\"Ja\",'Q_del,j en Q_del,dh'!$D186,0)","v":0},{"$f":"IF(X237=\"Ja\",'Q_del,j en Q_del,dh'!$D186,0)","v":0},{"$f":"IF(Y237=\"Ja\",'Q_del,j en Q_del,dh'!$D186,0)","v":0},{"$f":"IF(Z237=\"Ja\",'Q_del,j en Q_del,dh'!$D186,0)","v":0},{"$f":"IF(AA237=\"Ja\",'Q_del,j en Q_del,dh'!$D186,0)","v":0},{"$f":"IF(AB237=\"Ja\",'Q_del,j en Q_del,dh'!$D186,0)","v":0},{"$f":"IF(AC237=\"Ja\",'Q_del,j en Q_del,dh'!$D186,0)","v":0},{"$f":"IF(AD237=\"Ja\",'Q_del,j en Q_del,dh'!$D186,0)","v":0},{"$f":"IF(AE237=\"Ja\",'Q_del,j en Q_del,dh'!$D186,0)","v":0},{"$f":"IF(AF237=\"Ja\",'Q_del,j en Q_del,dh'!$D186,0)","v":0},{"$f":"IF(AG237=\"Ja\",'Q_del,j en Q_del,dh'!$D186,0)","v":0},{"$f":"IF(AH237=\"Ja\",'Q_del,j en Q_del,dh'!$D186,0)","v":0},{"$f":"IF(AI237=\"Ja\",'Q_del,j en Q_del,dh'!$D186,0)","v":0},{"$f":"IF(AJ237=\"Ja\",'Q_del,j en Q_del,dh'!$D186,0)","v":0},{"$f":"IF(AK237=\"Ja\",'Q_del,j en Q_del,dh'!$D186,0)","v":0},{"$f":"IF(AL237=\"Ja\",'Q_del,j en Q_del,dh'!$D186,0)","v":0},{"$f":"IF(AM237=\"Ja\",'Q_del,j en Q_del,dh'!$D186,0)","v":0},{"$f":"IF(AN237=\"Ja\",'Q_del,j en Q_del,dh'!$D186,0)","v":0},{"$f":"IF(AO237=\"Ja\",'Q_del,j en Q_del,dh'!$D186,0)","v":0},{"$f":"IF(AP237=\"Ja\",'Q_del,j en Q_del,dh'!$D186,0)","v":0},{"$f":"IF(AQ237=\"Ja\",'Q_del,j en Q_del,dh'!$D186,0)","v":0},{"$f":"IF(AR237=\"Ja\",'Q_del,j en Q_del,dh'!$D186,0)","v":0},{"$f":"IF(AS237=\"Ja\",'Q_del,j en Q_del,dh'!$D186,0)","v":0},{"$f":"IF(AT237=\"Ja\",'Q_del,j en Q_del,dh'!$D186,0)","v":0},{"$f":"IF(AU237=\"Ja\",'Q_del,j en Q_del,dh'!$D186,0)","v":0},{"$f":"IF(AV237=\"Ja\",'Q_del,j en Q_del,dh'!$D186,0)","v":0},{"$f":"IF(AW237=\"Ja\",'Q_del,j en Q_del,dh'!$D186,0)","v":0},{"$f":"IF(AX237=\"Ja\",'Q_del,j en Q_del,dh'!$D186,0)","v":0},{"$f":"IF(AY237=\"Ja\",'Q_del,j en Q_del,dh'!$D186,0)","v":0},{"$f":"IF(AZ237=\"Ja\",'Q_del,j en Q_del,dh'!$D186,0)","v":0},{"$f":"IF(BA237=\"Ja\",'Q_del,j en Q_del,dh'!$D186,0)","v":0}]
["Qdel,l,j [MJ]","warmtevrager 180",180,{"$f":"IF(D238=\"Ja\",'Q_del,j en Q_del,dh'!$D187,0)","v":0},{"$f":"IF(E238=\"Ja\",'Q_del,j en Q_del,dh'!$D187,0)","v":0},{"$f":"IF(F238=\"Ja\",'Q_del,j en Q_del,dh'!$D187,0)","v":0},{"$f":"IF(G238=\"Ja\",'Q_del,j en Q_del,dh'!$D187,0)","v":0},{"$f":"IF(H238=\"Ja\",'Q_del,j en Q_del,dh'!$D187,0)","v":0},{"$f":"IF(I238=\"Ja\",'Q_del,j en Q_del,dh'!$D187,0)","v":0},{"$f":"IF(J238=\"Ja\",'Q_del,j en Q_del,dh'!$D187,0)","v":0},{"$f":"IF(K238=\"Ja\",'Q_del,j en Q_del,dh'!$D187,0)","v":0},{"$f":"IF(L238=\"Ja\",'Q_del,j en Q_del,dh'!$D187,0)","v":0},{"$f":"IF(M238=\"Ja\",'Q_del,j en Q_del,dh'!$D187,0)","v":0},{"$f":"IF(N238=\"Ja\",'Q_del,j en Q_del,dh'!$D187,0)","v":0},{"$f":"IF(O238=\"Ja\",'Q_del,j en Q_del,dh'!$D187,0)","v":0},{"$f":"IF(P238=\"Ja\",'Q_del,j en Q_del,dh'!$D187,0)","v":0},{"$f":"IF(Q238=\"Ja\",'Q_del,j en Q_del,dh'!$D187,0)","v":0},{"$f":"IF(R238=\"Ja\",'Q_del,j en Q_del,dh'!$D187,0)","v":0},{"$f":"IF(S238=\"Ja\",'Q_del,j en Q_del,dh'!$D187,0)","v":0},{"$f":"IF(T238=\"Ja\",'Q_del,j en Q_del,dh'!$D187,0)","v":0},{"$f":"IF(U238=\"Ja\",'Q_del,j en Q_del,dh'!$D187,0)","v":0},{"$f":"IF(V238=\"Ja\",'Q_del,j en Q_del,dh'!$D187,0)","v":0},{"$f":"IF(W238=\"Ja\",'Q_del,j en Q_del,dh'!$D187,0)","v":0},{"$f":"IF(X238=\"Ja\",'Q_del,j en Q_del,dh'!$D187,0)","v":0},{"$f":"IF(Y238=\"Ja\",'Q_del,j en Q_del,dh'!$D187,0)","v":0},{"$f":"IF(Z238=\"Ja\",'Q_del,j en Q_del,dh'!$D187,0)","v":0},{"$f":"IF(AA238=\"Ja\",'Q_del,j en Q_del,dh'!$D187,0)","v":0},{"$f":"IF(AB238=\"Ja\",'Q_del,j en Q_del,dh'!$D187,0)","v":0},{"$f":"IF(AC238=\"Ja\",'Q_del,j en Q_del,dh'!$D187,0)","v":0},{"$f":"IF(AD238=\"Ja\",'Q_del,j en Q_del,dh'!$D187,0)","v":0},{"$f":"IF(AE238=\"Ja\",'Q_del,j en Q_del,dh'!$D187,0)","v":0},{"$f":"IF(AF238=\"Ja\",'Q_del,j en Q_del,dh'!$D187,0)","v":0},{"$f":"IF(AG238=\"Ja\",'Q_del,j en Q_del,dh'!$D187,0)","v":0},{"$f":"IF(AH238=\"Ja\",'Q_del,j en Q_del,dh'!$D187,0)","v":0},{"$f":"IF(AI238=\"Ja\",'Q_del,j en Q_del,dh'!$D187,0)","v":0},{"$f":"IF(AJ238=\"Ja\",'Q_del,j en Q_del,dh'!$D187,0)","v":0},{"$f":"IF(AK238=\"Ja\",'Q_del,j en Q_del,dh'!$D187,0)","v":0},{"$f":"IF(AL238=\"Ja\",'Q_del,j en Q_del,dh'!$D187,0)","v":0},{"$f":"IF(AM238=\"Ja\",'Q_del,j en Q_del,dh'!$D187,0)","v":0},{"$f":"IF(AN238=\"Ja\",'Q_del,j en Q_del,dh'!$D187,0)","v":0},{"$f":"IF(AO238=\"Ja\",'Q_del,j en Q_del,dh'!$D187,0)","v":0},{"$f":"IF(AP238=\"Ja\",'Q_del,j en Q_del,dh'!$D187,0)","v":0},{"$f":"IF(AQ238=\"Ja\",'Q_del,j en Q_del,dh'!$D187,0)","v":0},{"$f":"IF(AR238=\"Ja\",'Q_del,j en Q_del,dh'!$D187,0)","v":0},{"$f":"IF(AS238=\"Ja\",'Q_del,j en Q_del,dh'!$D187,0)","v":0},{"$f":"IF(AT238=\"Ja\",'Q_del,j en Q_del,dh'!$D187,0)","v":0},{"$f":"IF(AU238=\"Ja\",'Q_del,j en Q_del,dh'!$D187,0)","v":0},{"$f":"IF(AV238=\"Ja\",'Q_del,j en Q_del,dh'!$D187,0)","v":0},{"$f":"IF(AW238=\"Ja\",'Q_del,j en Q_del,dh'!$D187,0)","v":0},{"$f":"IF(AX238=\"Ja\",'Q_del,j en Q_del,dh'!$D187,0)","v":0},{"$f":"IF(AY238=\"Ja\",'Q_del,j en Q_del,dh'!$D187,0)","v":0},{"$f":"IF(AZ238=\"Ja\",'Q_del,j en Q_del,dh'!$D187,0)","v":0},{"$f":"IF(BA238=\"Ja\",'Q_del,j en Q_del,dh'!$D187,0)","v":0}]
["Qdel,l,j [MJ]","warmtevrager 181",181,{"$f":"IF(D239=\"Ja\",'Q_del,j en Q_del,dh'!$D188,0)","v":0},{"$f":"IF(E239=\"Ja\",'Q_del,j en Q_del,dh'!$D188,0)","v":0},{"$f":"IF(F239=\"Ja\",'Q_del,j en Q_del,dh'!$D188,0)","v":0},{"$f":"IF(G239=\"Ja\",'Q_del,j en Q_del,dh'!$D188,0)","v":0},{"$f":"IF(H239=\"Ja\",'Q_del,j en Q_del,dh'!$D188,0)","v":0},{"$f":"IF(I239=\"Ja\",'Q_del,j en Q_del,dh'!$D188,0)","v":0},{"$f":"IF(J239=\"Ja\",'Q_del,j en Q_del,dh'!$D188,0)","v":0},{"$f":"IF(K239=\"Ja\",'Q_del,j en Q_del,dh'!$D188,0)","v":0},{"$f":"IF(L239=\"Ja\",'Q_del,j en Q_del,dh'!$D188,0)","v":0},{"$f":"IF(M239=\"Ja\",'Q_del,j en Q_del,dh'!$D188,0)","v":0},{"$f":"IF(N239=\"Ja\",'Q_del,j en Q_del,dh'!$D188,0)","v":0},{"$f":"IF(O239=\"Ja\",'Q_del,j en Q_del,dh'!$D188,0)","v":0},{"$f":"IF(P239=\"Ja\",'Q_del,j en Q_del,dh'!$D188,0)","v":0},{"$f":"IF(Q239=\"Ja\",'Q_del,j en Q_del,dh'!$D188,0)","v":0},{"$f":"IF(R239=\"Ja\",'Q_del,j en Q_del,dh'!$D188,0)","v":0},{"$f":"IF(S239=\"Ja\",'Q_del,j en Q_del,dh'!$D188,0)","v":0},{"$f":"IF(T239=\"Ja\",'Q_del,j en Q_del,dh'!$D188,0)","v":0},{"$f":"IF(U239=\"Ja\",'Q_del,j en Q_del,dh'!$D188,0)","v":0},{"$f":"IF(V239=\"Ja\",'Q_del,j en Q_del,dh'!$D188,0)","v":0},{"$f":"IF(W239=\"Ja\",'Q_del,j en Q_del,dh'!$D188,0)","v":0},{"$f":"IF(X239=\"Ja\",'Q_del,j en Q_del,dh'!$D188,0)","v":0},{"$f":"IF(Y239=\"Ja\",'Q_del,j en Q_del,dh'!$D188,0)","v":0},{"$f":"IF(Z239=\"Ja\",'Q_del,j en Q_del,dh'!$D188,0)","v":0},{"$f":"IF(AA239=\"Ja\",'Q_del,j en Q_del,dh'!$D188,0)","v":0},{"$f":"IF(AB239=\"Ja\",'Q_del,j en Q_del,dh'!$D188,0)","v":0},{"$f":"IF(AC239=\"Ja\",'Q_del,j en Q_del,dh'!$D188,0)","v":0},{"$f":"IF(AD239=\"Ja\",'Q_del,j en Q_del,dh'!$D188,0)","v":0},{"$f":"IF(AE239=\"Ja\",'Q_del,j en Q_del,dh'!$D188,0)","v":0},{"$f":"IF(AF239=\"Ja\",'Q_del,j en Q_del,dh'!$D188,0)","v":0},{"$f":"IF(AG239=\"Ja\",'Q_del,j en Q_del,dh'!$D188,0)","v":0},{"$f":"IF(AH239=\"Ja\",'Q_del,j en Q_del,dh'!$D188,0)","v":0},{"$f":"IF(AI239=\"Ja\",'Q_del,j en Q_del,dh'!$D188,0)","v":0},{"$f":"IF(AJ239=\"Ja\",'Q_del,j en Q_del,dh'!$D188,0)","v":0},{"$f":"IF(AK239=\"Ja\",'Q_del,j en Q_del,dh'!$D188,0)","v":0},{"$f":"IF(AL239=\"Ja\",'Q_del,j en Q_del,dh'!$D188,0)","v":0},{"$f":"IF(AM239=\"Ja\",'Q_del,j en Q_del,dh'!$D188,0)","v":0},{"$f":"IF(AN239=\"Ja\",'Q_del,j en Q_del,dh'!$D188,0)","v":0},{"$f":"IF(AO239=\"Ja\",'Q_del,j en Q_del,dh'!$D188,0)","v":0},{"$f":"IF(AP239=\"Ja\",'Q_del,j en Q_del,dh'!$D188,0)","v":0},{"$f":"IF(AQ239=\"Ja\",'Q_del,j en Q_del,dh'!$D188,0)","v":0},{"$f":"IF(AR239=\"Ja\",'Q_del,j en Q_del,dh'!$D188,0)","v":0},{"$f":"IF(AS239=\"Ja\",'Q_del,j en Q_del,dh'!$D188,0)","v":0},{"$f":"IF(AT239=\"Ja\",'Q_del,j en Q_del,dh'!$D188,0)","v":0},{"$f":"IF(AU239=\"Ja\",'Q_del,j en Q_del,dh'!$D188,0)","v":0},{"$f":"IF(AV239=\"Ja\",'Q_del,j en Q_del,dh'!$D188,0)","v":0},{"$f":"IF(AW239=\"Ja\",'Q_del,j en Q_del,dh'!$D188,0)","v":0},{"$f":"IF(AX239=\"Ja\",'Q_del,j en Q_del,dh'!$D188,0)","v":0},{"$f":"IF(AY239=\"Ja\",'Q_del,j en Q_del,dh'!$D188,0)","v":0},{"$f":"IF(AZ239=\"Ja\",'Q_del,j en Q_del,dh'!$D188,0)","v":0},{"$f":"IF(BA239=\"Ja\",'Q_del,j en Q_del,dh'!$D188,0)","v":0}]
["Qdel,l,j [MJ]","warmtevrager 182",182,{"$f":"IF(D240=\"Ja\",'Q_del,j en Q_del,dh'!$D189,0)","v":0},{"$f":"IF(E240=\"Ja\",'Q_del,j en Q_del,dh'!$D189,0)","v":0},{"$f":"IF(F240=\"Ja\",'Q_del,j en Q_del,dh'!$D189,0)","v":0},{"$f":"IF(G240=\"Ja\",'Q_del,j en Q_del,dh'!$D189,0)","v":0},{"$f":"IF(H240=\"Ja\",'Q_del,j en Q_del,dh'!$D189,0)","v":0},{"$f":"IF(I240=\"Ja\",'Q_del,j en Q_del,dh'!$D189,0)","v":0},{"$f":"IF(J240=\"Ja\",'Q_del,j en Q_del,dh'!$D189,0)","v":0},{"$f":"IF(K240=\"Ja\",'Q_del,j en Q_del,dh'!$D189,0)","v":0},{"$f":"IF(L240=\"Ja\",'Q_del,j en Q_del,dh'!$D189,0)","v":0},{"$f":"IF(M240=\"Ja\",'Q_del,j en Q_del,dh'!$D189,0)","v":0},{"$f":"IF(N240=\"Ja\",'Q_del,j en Q_del,dh'!$D189,0)","v":0},{"$f":"IF(O240=\"Ja\",'Q_del,j en Q_del,dh'!$D189,0)","v":0},{"$f":"IF(P240=\"Ja\",'Q_del,j en Q_del,dh'!$D189,0)","v":0},{"$f":"IF(Q240=\"Ja\",'Q_del,j en Q_del,dh'!$D189,0)","v":0},{"$f":"IF(R240=\"Ja\",'Q_del,j en Q_del,dh'!$D189,0)","v":0},{"$f":"IF(S240=\"Ja\",'Q_del,j en Q_del,dh'!$D189,0)","v":0},{"$f":"IF(T240=\"Ja\",'Q_del,j en Q_del,dh'!$D189,0)","v":0},{"$f":"IF(U240=\"Ja\",'Q_del,j en Q_del,dh'!$D189,0)","v":0},{"$f":"IF(V240=\"Ja\",'Q_del,j en Q_del,dh'!$D189,0)","v":0},{"$f":"IF(W240=\"Ja\",'Q_del,j en Q_del,dh'!$D189,0)","v":0},{"$f":"IF(X240=\"Ja\",'Q_del,j en Q_del,dh'!$D189,0)","v":0},{"$f":"IF(Y240=\"Ja\",'Q_del,j en Q_del,dh'!$D189,0)","v":0},{"$f":"IF(Z240=\"Ja\",'Q_del,j en Q_del,dh'!$D189,0)","v":0},{"$f":"IF(AA240=\"Ja\",'Q_del,j en Q_del,dh'!$D189,0)","v":0},{"$f":"IF(AB240=\"Ja\",'Q_del,j en Q_del,dh'!$D189,0)","v":0},{"$f":"IF(AC240=\"Ja\",'Q_del,j en Q_del,dh'!$D189,0)","v":0},{"$f":"IF(AD240=\"Ja\",'Q_del,j en Q_del,dh'!$D189,0)","v":0},{"$f":"IF(AE240=\"Ja\",'Q_del,j en Q_del,dh'!$D189,0)","v":0},{"$f":"IF(AF240=\"Ja\",'Q_del,j en Q_del,dh'!$D189,0)","v":0},{"$f":"IF(AG240=\"Ja\",'Q_del,j en Q_del,dh'!$D189,0)","v":0},{"$f":"IF(AH240=\"Ja\",'Q_del,j en Q_del,dh'!$D189,0)","v":0},{"$f":"IF(AI240=\"Ja\",'Q_del,j en Q_del,dh'!$D189,0)","v":0},{"$f":"IF(AJ240=\"Ja\",'Q_del,j en Q_del,dh'!$D189,0)","v":0},{"$f":"IF(AK240=\"Ja\",'Q_del,j en Q_del,dh'!$D189,0)","v":0},{"$f":"IF(AL240=\"Ja\",'Q_del,j en Q_del,dh'!$D189,0)","v":0},{"$f":"IF(AM240=\"Ja\",'Q_del,j en Q_del,dh'!$D189,0)","v":0},{"$f":"IF(AN240=\"Ja\",'Q_del,j en Q_del,dh'!$D189,0)","v":0},{"$f":"IF(AO240=\"Ja\",'Q_del,j en Q_del,dh'!$D189,0)","v":0},{"$f":"IF(AP240=\"Ja\",'Q_del,j en Q_del,dh'!$D189,0)","v":0},{"$f":"IF(AQ240=\"Ja\",'Q_del,j en Q_del,dh'!$D189,0)","v":0},{"$f":"IF(AR240=\"Ja\",'Q_del,j en Q_del,dh'!$D189,0)","v":0},{"$f":"IF(AS240=\"Ja\",'Q_del,j en Q_del,dh'!$D189,0)","v":0},{"$f":"IF(AT240=\"Ja\",'Q_del,j en Q_del,dh'!$D189,0)","v":0},{"$f":"IF(AU240=\"Ja\",'Q_del,j en Q_del,dh'!$D189,0)","v":0},{"$f":"IF(AV240=\"Ja\",'Q_del,j en Q_del,dh'!$D189,0)","v":0},{"$f":"IF(AW240=\"Ja\",'Q_del,j en Q_del,dh'!$D189,0)","v":0},{"$f":"IF(AX240=\"Ja\",'Q_del,j en Q_del,dh'!$D189,0)","v":0},{"$f":"IF(AY240=\"Ja\",'Q_del,j en Q_del,dh'!$D189,0)","v":0},{"$f":"IF(AZ240=\"Ja\",'Q_del,j en Q_del,dh'!$D189,0)","v":0},{"$f":"IF(BA240=\"Ja\",'Q_del,j en Q_del,dh'!$D189,0)","v":0}]
["Qdel,l,j [MJ]","warmtevrager 183",183,{"$f":"IF(D241=\"Ja\",'Q_del,j en Q_del,dh'!$D190,0)","v":0},{"$f":"IF(E241=\"Ja\",'Q_del,j en Q_del,dh'!$D190,0)","v":0},{"$f":"IF(F241=\"Ja\",'Q_del,j en Q_del,dh'!$D190,0)","v":0},{"$f":"IF(G241=\"Ja\",'Q_del,j en Q_del,dh'!$D190,0)","v":0},{"$f":"IF(H241=\"Ja\",'Q_del,j en Q_del,dh'!$D190,0)","v":0},{"$f":"IF(I241=\"Ja\",'Q_del,j en Q_del,dh'!$D190,0)","v":0},{"$f":"IF(J241=\"Ja\",'Q_del,j en Q_del,dh'!$D190,0)","v":0},{"$f":"IF(K241=\"Ja\",'Q_del,j en Q_del,dh'!$D190,0)","v":0},{"$f":"IF(L241=\"Ja\",'Q_del,j en Q_del,dh'!$D190,0)","v":0},{"$f":"IF(M241=\"Ja\",'Q_del,j en Q_del,dh'!$D190,0)","v":0},{"$f":"IF(N241=\"Ja\",'Q_del,j en Q_del,dh'!$D190,0)","v":0},{"$f":"IF(O241=\"Ja\",'Q_del,j en Q_del,dh'!$D190,0)","v":0},{"$f":"IF(P241=\"Ja\",'Q_del,j en Q_del,dh'!$D190,0)","v":0},{"$f":"IF(Q241=\"Ja\",'Q_del,j en Q_del,dh'!$D190,0)","v":0},{"$f":"IF(R241=\"Ja\",'Q_del,j en Q_del,dh'!$D190,0)","v":0},{"$f":"IF(S241=\"Ja\",'Q_del,j en Q_del,dh'!$D190,0)","v":0},{"$f":"IF(T241=\"Ja\",'Q_del,j en Q_del,dh'!$D190,0)","v":0},{"$f":"IF(U241=\"Ja\",'Q_del,j en Q_del,dh'!$D190,0)","v":0},{"$f":"IF(V241=\"Ja\",'Q_del,j en Q_del,dh'!$D190,0)","v":0},{"$f":"IF(W241=\"Ja\",'Q_del,j en Q_del,dh'!$D190,0)","v":0},{"$f":"IF(X241=\"Ja\",'Q_del,j en Q_del,dh'!$D190,0)","v":0},{"$f":"IF(Y241=\"Ja\",'Q_del,j en Q_del,dh'!$D190,0)","v":0},{"$f":"IF(Z241=\"Ja\",'Q_del,j en Q_del,dh'!$D190,0)","v":0},{"$f":"IF(AA241=\"Ja\",'Q_del,j en Q_del,dh'!$D190,0)","v":0},{"$f":"IF(AB241=\"Ja\",'Q_del,j en Q_del,dh'!$D190,0)","v":0},{"$f":"IF(AC241=\"Ja\",'Q_del,j en Q_del,dh'!$D190,0)","v":0},{"$f":"IF(AD241=\"Ja\",'Q_del,j en Q_del,dh'!$D190,0)","v":0},{"$f":"IF(AE241=\"Ja\",'Q_del,j en Q_del,dh'!$D190,0)","v":0},{"$f":"IF(AF241=\"Ja\",'Q_del,j en Q_del,dh'!$D190,0)","v":0},{"$f":"IF(AG241=\"Ja\",'Q_del,j en Q_del,dh'!$D190,0)","v":0},{"$f":"IF(AH241=\"Ja\",'Q_del,j en Q_del,dh'!$D190,0)","v":0},{"$f":"IF(AI241=\"Ja\",'Q_del,j en Q_del,dh'!$D190,0)","v":0},{"$f":"IF(AJ241=\"Ja\",'Q_del,j en Q_del,dh'!$D190,0)","v":0},{"$f":"IF(AK241=\"Ja\",'Q_del,j en Q_del,dh'!$D190,0)","v":0},{"$f":"IF(AL241=\"Ja\",'Q_del,j en Q_del,dh'!$D190,0)","v":0},{"$f":"IF(AM241=\"Ja\",'Q_del,j en Q_del,dh'!$D190,0)","v":0},{"$f":"IF(AN241=\"Ja\",'Q_del,j en Q_del,dh'!$D190,0)","v":0},{"$f":"IF(AO241=\"Ja\",'Q_del,j en Q_del,dh'!$D190,0)","v":0},{"$f":"IF(AP241=\"Ja\",'Q_del,j en Q_del,dh'!$D190,0)","v":0},{"$f":"IF(AQ241=\"Ja\",'Q_del,j en Q_del,dh'!$D190,0)","v":0},{"$f":"IF(AR241=\"Ja\",'Q_del,j en Q_del,dh'!$D190,0)","v":0},{"$f":"IF(AS241=\"Ja\",'Q_del,j en Q_del,dh'!$D190,0)","v":0},{"$f":"IF(AT241=\"Ja\",'Q_del,j en Q_del,dh'!$D190,0)","v":0},{"$f":"IF(AU241=\"Ja\",'Q_del,j en Q_del,dh'!$D190,0)","v":0},{"$f":"IF(AV241=\"Ja\",'Q_del,j en Q_del,dh'!$D190,0)","v":0},{"$f":"IF(AW241=\"Ja\",'Q_del,j en Q_del,dh'!$D190,0)","v":0},{"$f":"IF(AX241=\"Ja\",'Q_del,j en Q_del,dh'!$D190,0)","v":0},{"$f":"IF(AY241=\"Ja\",'Q_del,j en Q_del,dh'!$D190,0)","v":0},{"$f":"IF(AZ241=\"Ja\",'Q_del,j en Q_del,dh'!$D190,0)","v":0},{"$f":"IF(BA241=\"Ja\",'Q_del,j en Q_del,dh'!$D190,0)","v":0}]
["Qdel,l,j [MJ]","warmtevrager 184",184,{"$f":"IF(D242=\"Ja\",'Q_del,j en Q_del,dh'!$D191,0)","v":0},{"$f":"IF(E242=\"Ja\",'Q_del,j en Q_del,dh'!$D191,0)","v":0},{"$f":"IF(F242=\"Ja\",'Q_del,j en Q_del,dh'!$D191,0)","v":0},{"$f":"IF(G242=\"Ja\",'Q_del,j en Q_del,dh'!$D191,0)","v":0},{"$f":"IF(H242=\"Ja\",'Q_del,j en Q_del,dh'!$D191,0)","v":0},{"$f":"IF(I242=\"Ja\",'Q_del,j en Q_del,dh'!$D191,0)","v":0},{"$f":"IF(J242=\"Ja\",'Q_del,j en Q_del,dh'!$D191,0)","v":0},{"$f":"IF(K242=\"Ja\",'Q_del,j en Q_del,dh'!$D191,0)","v":0},{"$f":"IF(L242=\"Ja\",'Q_del,j en Q_del,dh'!$D191,0)","v":0},{"$f":"IF(M242=\"Ja\",'Q_del,j en Q_del,dh'!$D191,0)","v":0},{"$f":"IF(N242=\"Ja\",'Q_del,j en Q_del,dh'!$D191,0)","v":0},{"$f":"IF(O242=\"Ja\",'Q_del,j en Q_del,dh'!$D191,0)","v":0},{"$f":"IF(P242=\"Ja\",'Q_del,j en Q_del,dh'!$D191,0)","v":0},{"$f":"IF(Q242=\"Ja\",'Q_del,j en Q_del,dh'!$D191,0)","v":0},{"$f":"IF(R242=\"Ja\",'Q_del,j en Q_del,dh'!$D191,0)","v":0},{"$f":"IF(S242=\"Ja\",'Q_del,j en Q_del,dh'!$D191,0)","v":0},{"$f":"IF(T242=\"Ja\",'Q_del,j en Q_del,dh'!$D191,0)","v":0},{"$f":"IF(U242=\"Ja\",'Q_del,j en Q_del,dh'!$D191,0)","v":0},{"$f":"IF(V242=\"Ja\",'Q_del,j en Q_del,dh'!$D191,0)","v":0},{"$f":"IF(W242=\"Ja\",'Q_del,j en Q_del,dh'!$D191,0)","v":0},{"$f":"IF(X242=\"Ja\",'Q_del,j en Q_del,dh'!$D191,0)","v":0},{"$f":"IF(Y242=\"Ja\",'Q_del,j en Q_del,dh'!$D191,0)","v":0},{"$f":"IF(Z242=\"Ja\",'Q_del,j en Q_del,dh'!$D191,0)","v":0},{"$f":"IF(AA242=\"Ja\",'Q_del,j en Q_del,dh'!$D191,0)","v":0},{"$f":"IF(AB242=\"Ja\",'Q_del,j en Q_del,dh'!$D191,0)","v":0},{"$f":"IF(AC242=\"Ja\",'Q_del,j en Q_del,dh'!$D191,0)","v":0},{"$f":"IF(AD242=\"Ja\",'Q_del,j en Q_del,dh'!$D191,0)","v":0},{"$f":"IF(AE242=\"Ja\",'Q_del,j en Q_del,dh'!$D191,0)","v":0},{"$f":"IF(AF242=\"Ja\",'Q_del,j en Q_del,dh'!$D191,0)","v":0},{"$f":"IF(AG242=\"Ja\",'Q_del,j en Q_del,dh'!$D191,0)","v":0},{"$f":"IF(AH242=\"Ja\",'Q_del,j en Q_del,dh'!$D191,0)","v":0},{"$f":"IF(AI242=\"Ja\",'Q_del,j en Q_del,dh'!$D191,0)","v":0},{"$f":"IF(AJ242=\"Ja\",'Q_del,j en Q_del,dh'!$D191,0)","v":0},{"$f":"IF(AK242=\"Ja\",'Q_del,j en Q_del,dh'!$D191,0)","v":0},{"$f":"IF(AL242=\"Ja\",'Q_del,j en Q_del,dh'!$D191,0)","v":0},{"$f":"IF(AM242=\"Ja\",'Q_del,j en Q_del,dh'!$D191,0)","v":0},{"$f":"IF(AN242=\"Ja\",'Q_del,j en Q_del,dh'!$D191,0)","v":0},{"$f":"IF(AO242=\"Ja\",'Q_del,j en Q_del,dh'!$D191,0)","v":0},{"$f":"IF(AP242=\"Ja\",'Q_del,j en Q_del,dh'!$D191,0)","v":0},{"$f":"IF(AQ242=\"Ja\",'Q_del,j en Q_del,dh'!$D191,0)","v":0},{"$f":"IF(AR242=\"Ja\",'Q_del,j en Q_del,dh'!$D191,0)","v":0},{"$f":"IF(AS242=\"Ja\",'Q_del,j en Q_del,dh'!$D191,0)","v":0},{"$f":"IF(AT242=\"Ja\",'Q_del,j en Q_del,dh'!$D191,0)","v":0},{"$f":"IF(AU242=\"Ja\",'Q_del,j en Q_del,dh'!$D191,0)","v":0},{"$f":"IF(AV242=\"Ja\",'Q_del,j en Q_del,dh'!$D191,0)","v":0},{"$f":"IF(AW242=\"Ja\",'Q_del,j en Q_del,dh'!$D191,0)","v":0},{"$f":"IF(AX242=\"Ja\",'Q_del,j en Q_del,dh'!$D191,0)","v":0},{"$f":"IF(AY242=\"Ja\",'Q_del,j en Q_del,dh'!$D191,0)","v":0},{"$f":"IF(AZ242=\"Ja\",'Q_del,j en Q_del,dh'!$D191,0)","v":0},{"$f":"IF(BA242=\"Ja\",'Q_del,j en Q_del,dh'!$D191,0)","v":0}]
["Qdel,l,j [MJ]","warmtevrager 185",185,{"$f":"IF(D243=\"Ja\",'Q_del,j en Q_del,dh'!$D192,0)","v":0},{"$f":"IF(E243=\"Ja\",'Q_del,j en Q_del,dh'!$D192,0)","v":0},{"$f":"IF(F243=\"Ja\",'Q_del,j en Q_del,dh'!$D192,0)","v":0},{"$f":"IF(G243=\"Ja\",'Q_del,j en Q_del,dh'!$D192,0)","v":0},{"$f":"IF(H243=\"Ja\",'Q_del,j en Q_del,dh'!$D192,0)","v":0},{"$f":"IF(I243=\"Ja\",'Q_del,j en Q_del,dh'!$D192,0)","v":0},{"$f":"IF(J243=\"Ja\",'Q_del,j en Q_del,dh'!$D192,0)","v":0},{"$f":"IF(K243=\"Ja\",'Q_del,j en Q_del,dh'!$D192,0)","v":0},{"$f":"IF(L243=\"Ja\",'Q_del,j en Q_del,dh'!$D192,0)","v":0},{"$f":"IF(M243=\"Ja\",'Q_del,j en Q_del,dh'!$D192,0)","v":0},{"$f":"IF(N243=\"Ja\",'Q_del,j en Q_del,dh'!$D192,0)","v":0},{"$f":"IF(O243=\"Ja\",'Q_del,j en Q_del,dh'!$D192,0)","v":0},{"$f":"IF(P243=\"Ja\",'Q_del,j en Q_del,dh'!$D192,0)","v":0},{"$f":"IF(Q243=\"Ja\",'Q_del,j en Q_del,dh'!$D192,0)","v":0},{"$f":"IF(R243=\"Ja\",'Q_del,j en Q_del,dh'!$D192,0)","v":0},{"$f":"IF(S243=\"Ja\",'Q_del,j en Q_del,dh'!$D192,0)","v":0},{"$f":"IF(T243=\"Ja\",'Q_del,j en Q_del,dh'!$D192,0)","v":0},{"$f":"IF(U243=\"Ja\",'Q_del,j en Q_del,dh'!$D192,0)","v":0},{"$f":"IF(V243=\"Ja\",'Q_del,j en Q_del,dh'!$D192,0)","v":0},{"$f":"IF(W243=\"Ja\",'Q_del,j en Q_del,dh'!$D192,0)","v":0},{"$f":"IF(X243=\"Ja\",'Q_del,j en Q_del,dh'!$D192,0)","v":0},{"$f":"IF(Y243=\"Ja\",'Q_del,j en Q_del,dh'!$D192,0)","v":0},{"$f":"IF(Z243=\"Ja\",'Q_del,j en Q_del,dh'!$D192,0)","v":0},{"$f":"IF(AA243=\"Ja\",'Q_del,j en Q_del,dh'!$D192,0)","v":0},{"$f":"IF(AB243=\"Ja\",'Q_del,j en Q_del,dh'!$D192,0)","v":0},{"$f":"IF(AC243=\"Ja\",'Q_del,j en Q_del,dh'!$D192,0)","v":0},{"$f":"IF(AD243=\"Ja\",'Q_del,j en Q_del,dh'!$D192,0)","v":0},{"$f":"IF(AE243=\"Ja\",'Q_del,j en Q_del,dh'!$D192,0)","v":0},{"$f":"IF(AF243=\"Ja\",'Q_del,j en Q_del,dh'!$D192,0)","v":0},{"$f":"IF(AG243=\"Ja\",'Q_del,j en Q_del,dh'!$D192,0)","v":0},{"$f":"IF(AH243=\"Ja\",'Q_del,j en Q_del,dh'!$D192,0)","v":0},{"$f":"IF(AI243=\"Ja\",'Q_del,j en Q_del,dh'!$D192,0)","v":0},{"$f":"IF(AJ243=\"Ja\",'Q_del,j en Q_del,dh'!$D192,0)","v":0},{"$f":"IF(AK243=\"Ja\",'Q_del,j en Q_del,dh'!$D192,0)","v":0},{"$f":"IF(AL243=\"Ja\",'Q_del,j en Q_del,dh'!$D192,0)","v":0},{"$f":"IF(AM243=\"Ja\",'Q_del,j en Q_del,dh'!$D192,0)","v":0},{"$f":"IF(AN243=\"Ja\",'Q_del,j en Q_del,dh'!$D192,0)","v":0},{"$f":"IF(AO243=\"Ja\",'Q_del,j en Q_del,dh'!$D192,0)","v":0},{"$f":"IF(AP243=\"Ja\",'Q_del,j en Q_del,dh'!$D192,0)","v":0},{"$f":"IF(AQ243=\"Ja\",'Q_del,j en Q_del,dh'!$D192,0)","v":0},{"$f":"IF(AR243=\"Ja\",'Q_del,j en Q_del,dh'!$D192,0)","v":0},{"$f":"IF(AS243=\"Ja\",'Q_del,j en Q_del,dh'!$D192,0)","v":0},{"$f":"IF(AT243=\"Ja\",'Q_del,j en Q_del,dh'!$D192,0)","v":0},{"$f":"IF(AU243=\"Ja\",'Q_del,j en Q_del,dh'!$D192,0)","v":0},{"$f":"IF(AV243=\"Ja\",'Q_del,j en Q_del,dh'!$D192,0)","v":0},{"$f":"IF(AW243=\"Ja\",'Q_del,j en Q_del,dh'!$D192,0)","v":0},{"$f":"IF(AX243=\"Ja\",'Q_del,j en Q_del,dh'!$D192,0)","v":0},{"$f":"IF(AY243=\"Ja\",'Q_del,j en Q_del,dh'!$D192,0)","v":0},{"$f":"IF(AZ243=\"Ja\",'Q_del,j en Q_del,dh'!$D192,0)","v":0},{"$f":"IF(BA243=\"Ja\",'Q_del,j en Q_del,dh'!$D192,0)","v":0}]
["Qdel,l,j [MJ]","warmtevrager 186",186,{"$f":"IF(D244=\"Ja\",'Q_del,j en Q_del,dh'!$D193,0)","v":0},{"$f":"IF(E244=\"Ja\",'Q_del,j en Q_del,dh'!$D193,0)","v":0},{"$f":"IF(F244=\"Ja\",'Q_del,j en Q_del,dh'!$D193,0)","v":0},{"$f":"IF(G244=\"Ja\",'Q_del,j en Q_del,dh'!$D193,0)","v":0},{"$f":"IF(H244=\"Ja\",'Q_del,j en Q_del,dh'!$D193,0)","v":0},{"$f":"IF(I244=\"Ja\",'Q_del,j en Q_del,dh'!$D193,0)","v":0},{"$f":"IF(J244=\"Ja\",'Q_del,j en Q_del,dh'!$D193,0)","v":0},{"$f":"IF(K244=\"Ja\",'Q_del,j en Q_del,dh'!$D193,0)","v":0},{"$f":"IF(L244=\"Ja\",'Q_del,j en Q_del,dh'!$D193,0)","v":0},{"$f":"IF(M244=\"Ja\",'Q_del,j en Q_del,dh'!$D193,0)","v":0},{"$f":"IF(N244=\"Ja\",'Q_del,j en Q_del,dh'!$D193,0)","v":0},{"$f":"IF(O244=\"Ja\",'Q_del,j en Q_del,dh'!$D193,0)","v":0},{"$f":"IF(P244=\"Ja\",'Q_del,j en Q_del,dh'!$D193,0)","v":0},{"$f":"IF(Q244=\"Ja\",'Q_del,j en Q_del,dh'!$D193,0)","v":0},{"$f":"IF(R244=\"Ja\",'Q_del,j en Q_del,dh'!$D193,0)","v":0},{"$f":"IF(S244=\"Ja\",'Q_del,j en Q_del,dh'!$D193,0)","v":0},{"$f":"IF(T244=\"Ja\",'Q_del,j en Q_del,dh'!$D193,0)","v":0},{"$f":"IF(U244=\"Ja\",'Q_del,j en Q_del,dh'!$D193,0)","v":0},{"$f":"IF(V244=\"Ja\",'Q_del,j en Q_del,dh'!$D193,0)","v":0},{"$f":"IF(W244=\"Ja\",'Q_del,j en Q_del,dh'!$D193,0)","v":0},{"$f":"IF(X244=\"Ja\",'Q_del,j en Q_del,dh'!$D193,0)","v":0},{"$f":"IF(Y244=\"Ja\",'Q_del,j en Q_del,dh'!$D193,0)","v":0},{"$f":"IF(Z244=\"Ja\",'Q_del,j en Q_del,dh'!$D193,0)","v":0},{"$f":"IF(AA244=\"Ja\",'Q_del,j en Q_del,dh'!$D193,0)","v":0},{"$f":"IF(AB244=\"Ja\",'Q_del,j en Q_del,dh'!$D193,0)","v":0},{"$f":"IF(AC244=\"Ja\",'Q_del,j en Q_del,dh'!$D193,0)","v":0},{"$f":"IF(AD244=\"Ja\",'Q_del,j en Q_del,dh'!$D193,0)","v":0},{"$f":"IF(AE244=\"Ja\",'Q_del,j en Q_del,dh'!$D193,0)","v":0},{"$f":"IF(AF244=\"Ja\",'Q_del,j en Q_del,dh'!$D193,0)","v":0},{"$f":"IF(AG244=\"Ja\",'Q_del,j en Q_del,dh'!$D193,0)","v":0},{"$f":"IF(AH244=\"Ja\",'Q_del,j en Q_del,dh'!$D193,0)","v":0},{"$f":"IF(AI244=\"Ja\",'Q_del,j en Q_del,dh'!$D193,0)","v":0},{"$f":"IF(AJ244=\"Ja\",'Q_del,j en Q_del,dh'!$D193,0)","v":0},{"$f":"IF(AK244=\"Ja\",'Q_del,j en Q_del,dh'!$D193,0)","v":0},{"$f":"IF(AL244=\"Ja\",'Q_del,j en Q_del,dh'!$D193,0)","v":0},{"$f":"IF(AM244=\"Ja\",'Q_del,j en Q_del,dh'!$D193,0)","v":0},{"$f":"IF(AN244=\"Ja\",'Q_del,j en Q_del,dh'!$D193,0)","v":0},{"$f":"IF(AO244=\"Ja\",'Q_del,j en Q_del,dh'!$D193,0)","v":0},{"$f":"IF(AP244=\"Ja\",'Q_del,j en Q_del,dh'!$D193,0)","v":0},{"$f":"IF(AQ244=\"Ja\",'Q_del,j en Q_del,dh'!$D193,0)","v":0},{"$f":"IF(AR244=\"Ja\",'Q_del,j en Q_del,dh'!$D193,0)","v":0},{"$f":"IF(AS244=\"Ja\",'Q_del,j en Q_del,dh'!$D193,0)","v":0},{"$f":"IF(AT244=\"Ja\",'Q_del,j en Q_del,dh'!$D193,0)","v":0},{"$f":"IF(AU244=\"Ja\",'Q_del,j en Q_del,dh'!$D193,0)","v":0},{"$f":"IF(AV244=\"Ja\",'Q_del,j en Q_del,dh'!$D193,0)","v":0},{"$f":"IF(AW244=\"Ja\",'Q_del,j en Q_del,dh'!$D193,0)","v":0},{"$f":"IF(AX244=\"Ja\",'Q_del,j en Q_del,dh'!$D193,0)","v":0},{"$f":"IF(AY244=\"Ja\",'Q_del,j en Q_del,dh'!$D193,0)","v":0},{"$f":"IF(AZ244=\"Ja\",'Q_del,j en Q_del,dh'!$D193,0)","v":0},{"$f":"IF(BA244=\"Ja\",'Q_del,j en Q_del,dh'!$D193,0)","v":0}]
["Qdel,l,j [MJ]","warmtevrager 187",187,{"$f":"IF(D245=\"Ja\",'Q_del,j en Q_del,dh'!$D194,0)","v":0},{"$f":"IF(E245=\"Ja\",'Q_del,j en Q_del,dh'!$D194,0)","v":0},{"$f":"IF(F245=\"Ja\",'Q_del,j en Q_del,dh'!$D194,0)","v":0},{"$f":"IF(G245=\"Ja\",'Q_del,j en Q_del,dh'!$D194,0)","v":0},{"$f":"IF(H245=\"Ja\",'Q_del,j en Q_del,dh'!$D194,0)","v":0},{"$f":"IF(I245=\"Ja\",'Q_del,j en Q_del,dh'!$D194,0)","v":0},{"$f":"IF(J245=\"Ja\",'Q_del,j en Q_del,dh'!$D194,0)","v":0},{"$f":"IF(K245=\"Ja\",'Q_del,j en Q_del,dh'!$D194,0)","v":0},{"$f":"IF(L245=\"Ja\",'Q_del,j en Q_del,dh'!$D194,0)","v":0},{"$f":"IF(M245=\"Ja\",'Q_del,j en Q_del,dh'!$D194,0)","v":0},{"$f":"IF(N245=\"Ja\",'Q_del,j en Q_del,dh'!$D194,0)","v":0},{"$f":"IF(O245=\"Ja\",'Q_del,j en Q_del,dh'!$D194,0)","v":0},{"$f":"IF(P245=\"Ja\",'Q_del,j en Q_del,dh'!$D194,0)","v":0},{"$f":"IF(Q245=\"Ja\",'Q_del,j en Q_del,dh'!$D194,0)","v":0},{"$f":"IF(R245=\"Ja\",'Q_del,j en Q_del,dh'!$D194,0)","v":0},{"$f":"IF(S245=\"Ja\",'Q_del,j en Q_del,dh'!$D194,0)","v":0},{"$f":"IF(T245=\"Ja\",'Q_del,j en Q_del,dh'!$D194,0)","v":0},{"$f":"IF(U245=\"Ja\",'Q_del,j en Q_del,dh'!$D194,0)","v":0},{"$f":"IF(V245=\"Ja\",'Q_del,j en Q_del,dh'!$D194,0)","v":0},{"$f":"IF(W245=\"Ja\",'Q_del,j en Q_del,dh'!$D194,0)","v":0},{"$f":"IF(X245=\"Ja\",'Q_del,j en Q_del,dh'!$D194,0)","v":0},{"$f":"IF(Y245=\"Ja\",'Q_del,j en Q_del,dh'!$D194,0)","v":0},{"$f":"IF(Z245=\"Ja\",'Q_del,j en Q_del,dh'!$D194,0)","v":0},{"$f":"IF(AA245=\"Ja\",'Q_del,j en Q_del,dh'!$D194,0)","v":0},{"$f":"IF(AB245=\"Ja\",'Q_del,j en Q_del,dh'!$D194,0)","v":0},{"$f":"IF(AC245=\"Ja\",'Q_del,j en Q_del,dh'!$D194,0)","v":0},{"$f":"IF(AD245=\"Ja\",'Q_del,j en Q_del,dh'!$D194,0)","v":0},{"$f":"IF(AE245=\"Ja\",'Q_del,j en Q_del,dh'!$D194,0)","v":0},{"$f":"IF(AF245=\"Ja\",'Q_del,j en Q_del,dh'!$D194,0)","v":0},{"$f":"IF(AG245=\"Ja\",'Q_del,j en Q_del,dh'!$D194,0)","v":0},{"$f":"IF(AH245=\"Ja\",'Q_del,j en Q_del,dh'!$D194,0)","v":0},{"$f":"IF(AI245=\"Ja\",'Q_del,j en Q_del,dh'!$D194,0)","v":0},{"$f":"IF(AJ245=\"Ja\",'Q_del,j en Q_del,dh'!$D194,0)","v":0},{"$f":"IF(AK245=\"Ja\",'Q_del,j en Q_del,dh'!$D194,0)","v":0},{"$f":"IF(AL245=\"Ja\",'Q_del,j en Q_del,dh'!$D194,0)","v":0},{"$f":"IF(AM245=\"Ja\",'Q_del,j en Q_del,dh'!$D194,0)","v":0},{"$f":"IF(AN245=\"Ja\",'Q_del,j en Q_del,dh'!$D194,0)","v":0},{"$f":"IF(AO245=\"Ja\",'Q_del,j en Q_del,dh'!$D194,0)","v":0},{"$f":"IF(AP245=\"Ja\",'Q_del,j en Q_del,dh'!$D194,0)","v":0},{"$f":"IF(AQ245=\"Ja\",'Q_del,j en Q_del,dh'!$D194,0)","v":0},{"$f":"IF(AR245=\"Ja\",'Q_del,j en Q_del,dh'!$D194,0)","v":0},{"$f":"IF(AS245=\"Ja\",'Q_del,j en Q_del,dh'!$D194,0)","v":0},{"$f":"IF(AT245=\"Ja\",'Q_del,j en Q_del,dh'!$D194,0)","v":0},{"$f":"IF(AU245=\"Ja\",'Q_del,j en Q_del,dh'!$D194,0)","v":0},{"$f":"IF(AV245=\"Ja\",'Q_del,j en Q_del,dh'!$D194,0)","v":0},{"$f":"IF(AW245=\"Ja\",'Q_del,j en Q_del,dh'!$D194,0)","v":0},{"$f":"IF(AX245=\"Ja\",'Q_del,j en Q_del,dh'!$D194,0)","v":0},{"$f":"IF(AY245=\"Ja\",'Q_del,j en Q_del,dh'!$D194,0)","v":0},{"$f":"IF(AZ245=\"Ja\",'Q_del,j en Q_del,dh'!$D194,0)","v":0},{"$f":"IF(BA245=\"Ja\",'Q_del,j en Q_del,dh'!$D194,0)","v":0}]
["Qdel,l,j [MJ]","warmtevrager 188",188,{"$f":"IF(D246=\"Ja\",'Q_del,j en Q_del,dh'!$D195,0)","v":0},{"$f":"IF(E246=\"Ja\",'Q_del,j en Q_del,dh'!$D195,0)","v":0},{"$f":"IF(F246=\"Ja\",'Q_del,j en Q_del,dh'!$D195,0)","v":0},{"$f":"IF(G246=\"Ja\",'Q_del,j en Q_del,dh'!$D195,0)","v":0},{"$f":"IF(H246=\"Ja\",'Q_del,j en Q_del,dh'!$D195,0)","v":0},{"$f":"IF(I246=\"Ja\",'Q_del,j en Q_del,dh'!$D195,0)","v":0},{"$f":"IF(J246=\"Ja\",'Q_del,j en Q_del,dh'!$D195,0)","v":0},{"$f":"IF(K246=\"Ja\",'Q_del,j en Q_del,dh'!$D195,0)","v":0},{"$f":"IF(L246=\"Ja\",'Q_del,j en Q_del,dh'!$D195,0)","v":0},{"$f":"IF(M246=\"Ja\",'Q_del,j en Q_del,dh'!$D195,0)","v":0},{"$f":"IF(N246=\"Ja\",'Q_del,j en Q_del,dh'!$D195,0)","v":0},{"$f":"IF(O246=\"Ja\",'Q_del,j en Q_del,dh'!$D195,0)","v":0},{"$f":"IF(P246=\"Ja\",'Q_del,j en Q_del,dh'!$D195,0)","v":0},{"$f":"IF(Q246=\"Ja\",'Q_del,j en Q_del,dh'!$D195,0)","v":0},{"$f":"IF(R246=\"Ja\",'Q_del,j en Q_del,dh'!$D195,0)","v":0},{"$f":"IF(S246=\"Ja\",'Q_del,j en Q_del,dh'!$D195,0)","v":0},{"$f":"IF(T246=\"Ja\",'Q_del,j en Q_del,dh'!$D195,0)","v":0},{"$f":"IF(U246=\"Ja\",'Q_del,j en Q_del,dh'!$D195,0)","v":0},{"$f":"IF(V246=\"Ja\",'Q_del,j en Q_del,dh'!$D195,0)","v":0},{"$f":"IF(W246=\"Ja\",'Q_del,j en Q_del,dh'!$D195,0)","v":0},{"$f":"IF(X246=\"Ja\",'Q_del,j en Q_del,dh'!$D195,0)","v":0},{"$f":"IF(Y246=\"Ja\",'Q_del,j en Q_del,dh'!$D195,0)","v":0},{"$f":"IF(Z246=\"Ja\",'Q_del,j en Q_del,dh'!$D195,0)","v":0},{"$f":"IF(AA246=\"Ja\",'Q_del,j en Q_del,dh'!$D195,0)","v":0},{"$f":"IF(AB246=\"Ja\",'Q_del,j en Q_del,dh'!$D195,0)","v":0},{"$f":"IF(AC246=\"Ja\",'Q_del,j en Q_del,dh'!$D195,0)","v":0},{"$f":"IF(AD246=\"Ja\",'Q_del,j en Q_del,dh'!$D195,0)","v":0},{"$f":"IF(AE246=\"Ja\",'Q_del,j en Q_del,dh'!$D195,0)","v":0},{"$f":"IF(AF246=\"Ja\",'Q_del,j en Q_del,dh'!$D195,0)","v":0},{"$f":"IF(AG246=\"Ja\",'Q_del,j en Q_del,dh'!$D195,0)","v":0},{"$f":"IF(AH246=\"Ja\",'Q_del,j en Q_del,dh'!$D195,0)","v":0},{"$f":"IF(AI246=\"Ja\",'Q_del,j en Q_del,dh'!$D195,0)","v":0},{"$f":"IF(AJ246=\"Ja\",'Q_del,j en Q_del,dh'!$D195,0)","v":0},{"$f":"IF(AK246=\"Ja\",'Q_del,j en Q_del,dh'!$D195,0)","v":0},{"$f":"IF(AL246=\"Ja\",'Q_del,j en Q_del,dh'!$D195,0)","v":0},{"$f":"IF(AM246=\"Ja\",'Q_del,j en Q_del,dh'!$D195,0)","v":0},{"$f":"IF(AN246=\"Ja\",'Q_del,j en Q_del,dh'!$D195,0)","v":0},{"$f":"IF(AO246=\"Ja\",'Q_del,j en Q_del,dh'!$D195,0)","v":0},{"$f":"IF(AP246=\"Ja\",'Q_del,j en Q_del,dh'!$D195,0)","v":0},{"$f":"IF(AQ246=\"Ja\",'Q_del,j en Q_del,dh'!$D195,0)","v":0},{"$f":"IF(AR246=\"Ja\",'Q_del,j en Q_del,dh'!$D195,0)","v":0},{"$f":"IF(AS246=\"Ja\",'Q_del,j en Q_del,dh'!$D195,0)","v":0},{"$f":"IF(AT246=\"Ja\",'Q_del,j en Q_del,dh'!$D195,0)","v":0},{"$f":"IF(AU246=\"Ja\",'Q_del,j en Q_del,dh'!$D195,0)","v":0},{"$f":"IF(AV246=\"Ja\",'Q_del,j en Q_del,dh'!$D195,0)","v":0},{"$f":"IF(AW246=\"Ja\",'Q_del,j en Q_del,dh'!$D195,0)","v":0},{"$f":"IF(AX246=\"Ja\",'Q_del,j en Q_del,dh'!$D195,0)","v":0},{"$f":"IF(AY246=\"Ja\",'Q_del,j en Q_del,dh'!$D195,0)","v":0},{"$f":"IF(AZ246=\"Ja\",'Q_del,j en Q_del,dh'!$D195,0)","v":0},{"$f":"IF(BA246=\"Ja\",'Q_del,j en Q_del,dh'!$D195,0)","v":0}]
["Qdel,l,j [MJ]","warmtevrager 189",189,{"$f":"IF(D247=\"Ja\",'Q_del,j en Q_del,dh'!$D196,0)","v":0},{"$f":"IF(E247=\"Ja\",'Q_del,j en Q_del,dh'!$D196,0)","v":0},{"$f":"IF(F247=\"Ja\",'Q_del,j en Q_del,dh'!$D196,0)","v":0},{"$f":"IF(G247=\"Ja\",'Q_del,j en Q_del,dh'!$D196,0)","v":0},{"$f":"IF(H247=\"Ja\",'Q_del,j en Q_del,dh'!$D196,0)","v":0},{"$f":"IF(I247=\"Ja\",'Q_del,j en Q_del,dh'!$D196,0)","v":0},{"$f":"IF(J247=\"Ja\",'Q_del,j en Q_del,dh'!$D196,0)","v":0},{"$f":"IF(K247=\"Ja\",'Q_del,j en Q_del,dh'!$D196,0)","v":0},{"$f":"IF(L247=\"Ja\",'Q_del,j en Q_del,dh'!$D196,0)","v":0},{"$f":"IF(M247=\"Ja\",'Q_del,j en Q_del,dh'!$D196,0)","v":0},{"$f":"IF(N247=\"Ja\",'Q_del,j en Q_del,dh'!$D196,0)","v":0},{"$f":"IF(O247=\"Ja\",'Q_del,j en Q_del,dh'!$D196,0)","v":0},{"$f":"IF(P247=\"Ja\",'Q_del,j en Q_del,dh'!$D196,0)","v":0},{"$f":"IF(Q247=\"Ja\",'Q_del,j en Q_del,dh'!$D196,0)","v":0},{"$f":"IF(R247=\"Ja\",'Q_del,j en Q_del,dh'!$D196,0)","v":0},{"$f":"IF(S247=\"Ja\",'Q_del,j en Q_del,dh'!$D196,0)","v":0},{"$f":"IF(T247=\"Ja\",'Q_del,j en Q_del,dh'!$D196,0)","v":0},{"$f":"IF(U247=\"Ja\",'Q_del,j en Q_del,dh'!$D196,0)","v":0},{"$f":"IF(V247=\"Ja\",'Q_del,j en Q_del,dh'!$D196,0)","v":0},{"$f":"IF(W247=\"Ja\",'Q_del,j en Q_del,dh'!$D196,0)","v":0},{"$f":"IF(X247=\"Ja\",'Q_del,j en Q_del,dh'!$D196,0)","v":0},{"$f":"IF(Y247=\"Ja\",'Q_del,j en Q_del,dh'!$D196,0)","v":0},{"$f":"IF(Z247=\"Ja\",'Q_del,j en Q_del,dh'!$D196,0)","v":0},{"$f":"IF(AA247=\"Ja\",'Q_del,j en Q_del,dh'!$D196,0)","v":0},{"$f":"IF(AB247=\"Ja\",'Q_del,j en Q_del,dh'!$D196,0)","v":0},{"$f":"IF(AC247=\"Ja\",'Q_del,j en Q_del,dh'!$D196,0)","v":0},{"$f":"IF(AD247=\"Ja\",'Q_del,j en Q_del,dh'!$D196,0)","v":0},{"$f":"IF(AE247=\"Ja\",'Q_del,j en Q_del,dh'!$D196,0)","v":0},{"$f":"IF(AF247=\"Ja\",'Q_del,j en Q_del,dh'!$D196,0)","v":0},{"$f":"IF(AG247=\"Ja\",'Q_del,j en Q_del,dh'!$D196,0)","v":0},{"$f":"IF(AH247=\"Ja\",'Q_del,j en Q_del,dh'!$D196,0)","v":0},{"$f":"IF(AI247=\"Ja\",'Q_del,j en Q_del,dh'!$D196,0)","v":0},{"$f":"IF(AJ247=\"Ja\",'Q_del,j en Q_del,dh'!$D196,0)","v":0},{"$f":"IF(AK247=\"Ja\",'Q_del,j en Q_del,dh'!$D196,0)","v":0},{"$f":"IF(AL247=\"Ja\",'Q_del,j en Q_del,dh'!$D196,0)","v":0},{"$f":"IF(AM247=\"Ja\",'Q_del,j en Q_del,dh'!$D196,0)","v":0},{"$f":"IF(AN247=\"Ja\",'Q_del,j en Q_del,dh'!$D196,0)","v":0},{"$f":"IF(AO247=\"Ja\",'Q_del,j en Q_del,dh'!$D196,0)","v":0},{"$f":"IF(AP247=\"Ja\",'Q_del,j en Q_del,dh'!$D196,0)","v":0},{"$f":"IF(AQ247=\"Ja\",'Q_del,j en Q_del,dh'!$D196,0)","v":0},{"$f":"IF(AR247=\"Ja\",'Q_del,j en Q_del,dh'!$D196,0)","v":0},{"$f":"IF(AS247=\"Ja\",'Q_del,j en Q_del,dh'!$D196,0)","v":0},{"$f":"IF(AT247=\"Ja\",'Q_del,j en Q_del,dh'!$D196,0)","v":0},{"$f":"IF(AU247=\"Ja\",'Q_del,j en Q_del,dh'!$D196,0)","v":0},{"$f":"IF(AV247=\"Ja\",'Q_del,j en Q_del,dh'!$D196,0)","v":0},{"$f":"IF(AW247=\"Ja\",'Q_del,j en Q_del,dh'!$D196,0)","v":0},{"$f":"IF(AX247=\"Ja\",'Q_del,j en Q_del,dh'!$D196,0)","v":0},{"$f":"IF(AY247=\"Ja\",'Q_del,j en Q_del,dh'!$D196,0)","v":0},{"$f":"IF(AZ247=\"Ja\",'Q_del,j en Q_del,dh'!$D196,0)","v":0},{"$f":"IF(BA247=\"Ja\",'Q_del,j en Q_del,dh'!$D196,0)","v":0}]
["Qdel,l,j [MJ]","warmtevrager 190",190,{"$f":"IF(D248=\"Ja\",'Q_del,j en Q_del,dh'!$D197,0)","v":0},{"$f":"IF(E248=\"Ja\",'Q_del,j en Q_del,dh'!$D197,0)","v":0},{"$f":"IF(F248=\"Ja\",'Q_del,j en Q_del,dh'!$D197,0)","v":0},{"$f":"IF(G248=\"Ja\",'Q_del,j en Q_del,dh'!$D197,0)","v":0},{"$f":"IF(H248=\"Ja\",'Q_del,j en Q_del,dh'!$D197,0)","v":0},{"$f":"IF(I248=\"Ja\",'Q_del,j en Q_del,dh'!$D197,0)","v":0},{"$f":"IF(J248=\"Ja\",'Q_del,j en Q_del,dh'!$D197,0)","v":0},{"$f":"IF(K248=\"Ja\",'Q_del,j en Q_del,dh'!$D197,0)","v":0},{"$f":"IF(L248=\"Ja\",'Q_del,j en Q_del,dh'!$D197,0)","v":0},{"$f":"IF(M248=\"Ja\",'Q_del,j en Q_del,dh'!$D197,0)","v":0},{"$f":"IF(N248=\"Ja\",'Q_del,j en Q_del,dh'!$D197,0)","v":0},{"$f":"IF(O248=\"Ja\",'Q_del,j en Q_del,dh'!$D197,0)","v":0},{"$f":"IF(P248=\"Ja\",'Q_del,j en Q_del,dh'!$D197,0)","v":0},{"$f":"IF(Q248=\"Ja\",'Q_del,j en Q_del,dh'!$D197,0)","v":0},{"$f":"IF(R248=\"Ja\",'Q_del,j en Q_del,dh'!$D197,0)","v":0},{"$f":"IF(S248=\"Ja\",'Q_del,j en Q_del,dh'!$D197,0)","v":0},{"$f":"IF(T248=\"Ja\",'Q_del,j en Q_del,dh'!$D197,0)","v":0},{"$f":"IF(U248=\"Ja\",'Q_del,j en Q_del,dh'!$D197,0)","v":0},{"$f":"IF(V248=\"Ja\",'Q_del,j en Q_del,dh'!$D197,0)","v":0},{"$f":"IF(W248=\"Ja\",'Q_del,j en Q_del,dh'!$D197,0)","v":0},{"$f":"IF(X248=\"Ja\",'Q_del,j en Q_del,dh'!$D197,0)","v":0},{"$f":"IF(Y248=\"Ja\",'Q_del,j en Q_del,dh'!$D197,0)","v":0},{"$f":"IF(Z248=\"Ja\",'Q_del,j en Q_del,dh'!$D197,0)","v":0},{"$f":"IF(AA248=\"Ja\",'Q_del,j en Q_del,dh'!$D197,0)","v":0},{"$f":"IF(AB248=\"Ja\",'Q_del,j en Q_del,dh'!$D197,0)","v":0},{"$f":"IF(AC248=\"Ja\",'Q_del,j en Q_del,dh'!$D197,0)","v":0},{"$f":"IF(AD248=\"Ja\",'Q_del,j en Q_del,dh'!$D197,0)","v":0},{"$f":"IF(AE248=\"Ja\",'Q_del,j en Q_del,dh'!$D197,0)","v":0},{"$f":"IF(AF248=\"Ja\",'Q_del,j en Q_del,dh'!$D197,0)","v":0},{"$f":"IF(AG248=\"Ja\",'Q_del,j en Q_del,dh'!$D197,0)","v":0},{"$f":"IF(AH248=\"Ja\",'Q_del,j en Q_del,dh'!$D197,0)","v":0},{"$f":"IF(AI248=\"Ja\",'Q_del,j en Q_del,dh'!$D197,0)","v":0},{"$f":"IF(AJ248=\"Ja\",'Q_del,j en Q_del,dh'!$D197,0)","v":0},{"$f":"IF(AK248=\"Ja\",'Q_del,j en Q_del,dh'!$D197,0)","v":0},{"$f":"IF(AL248=\"Ja\",'Q_del,j en Q_del,dh'!$D197,0)","v":0},{"$f":"IF(AM248=\"Ja\",'Q_del,j en Q_del,dh'!$D197,0)","v":0},{"$f":"IF(AN248=\"Ja\",'Q_del,j en Q_del,dh'!$D197,0)","v":0},{"$f":"IF(AO248=\"Ja\",'Q_del,j en Q_del,dh'!$D197,0)","v":0},{"$f":"IF(AP248=\"Ja\",'Q_del,j en Q_del,dh'!$D197,0)","v":0},{"$f":"IF(AQ248=\"Ja\",'Q_del,j en Q_del,dh'!$D197,0)","v":0},{"$f":"IF(AR248=\"Ja\",'Q_del,j en Q_del,dh'!$D197,0)","v":0},{"$f":"IF(AS248=\"Ja\",'Q_del,j en Q_del,dh'!$D197,0)","v":0},{"$f":"IF(AT248=\"Ja\",'Q_del,j en Q_del,dh'!$D197,0)","v":0},{"$f":"IF(AU248=\"Ja\",'Q_del,j en Q_del,dh'!$D197,0)","v":0},{"$f":"IF(AV248=\"Ja\",'Q_del,j en Q_del,dh'!$D197,0)","v":0},{"$f":"IF(AW248=\"Ja\",'Q_del,j en Q_del,dh'!$D197,0)","v":0},{"$f":"IF(AX248=\"Ja\",'Q_del,j en Q_del,dh'!$D197,0)","v":0},{"$f":"IF(AY248=\"Ja\",'Q_del,j en Q_del,dh'!$D197,0)","v":0},{"$f":"IF(AZ248=\"Ja\",'Q_del,j en Q_del,dh'!$D197,0)","v":0},{"$f":"IF(BA248=\"Ja\",'Q_del,j en Q_del,dh'!$D197,0)","v":0}]
["Qdel,l,j [MJ]","warmtevrager 191",191,{"$f":"IF(D249=\"Ja\",'Q_del,j en Q_del,dh'!$D198,0)","v":0},{"$f":"IF(E249=\"Ja\",'Q_del,j en Q_del,dh'!$D198,0)","v":0},{"$f":"IF(F249=\"Ja\",'Q_del,j en Q_del,dh'!$D198,0)","v":0},{"$f":"IF(G249=\"Ja\",'Q_del,j en Q_del,dh'!$D198,0)","v":0},{"$f":"IF(H249=\"Ja\",'Q_del,j en Q_del,dh'!$D198,0)","v":0},{"$f":"IF(I249=\"Ja\",'Q_del,j en Q_del,dh'!$D198,0)","v":0},{"$f":"IF(J249=\"Ja\",'Q_del,j en Q_del,dh'!$D198,0)","v":0},{"$f":"IF(K249=\"Ja\",'Q_del,j en Q_del,dh'!$D198,0)","v":0},{"$f":"IF(L249=\"Ja\",'Q_del,j en Q_del,dh'!$D198,0)","v":0},{"$f":"IF(M249=\"Ja\",'Q_del,j en Q_del,dh'!$D198,0)","v":0},{"$f":"IF(N249=\"Ja\",'Q_del,j en Q_del,dh'!$D198,0)","v":0},{"$f":"IF(O249=\"Ja\",'Q_del,j en Q_del,dh'!$D198,0)","v":0},{"$f":"IF(P249=\"Ja\",'Q_del,j en Q_del,dh'!$D198,0)","v":0},{"$f":"IF(Q249=\"Ja\",'Q_del,j en Q_del,dh'!$D198,0)","v":0},{"$f":"IF(R249=\"Ja\",'Q_del,j en Q_del,dh'!$D198,0)","v":0},{"$f":"IF(S249=\"Ja\",'Q_del,j en Q_del,dh'!$D198,0)","v":0},{"$f":"IF(T249=\"Ja\",'Q_del,j en Q_del,dh'!$D198,0)","v":0},{"$f":"IF(U249=\"Ja\",'Q_del,j en Q_del,dh'!$D198,0)","v":0},{"$f":"IF(V249=\"Ja\",'Q_del,j en Q_del,dh'!$D198,0)","v":0},{"$f":"IF(W249=\"Ja\",'Q_del,j en Q_del,dh'!$D198,0)","v":0},{"$f":"IF(X249=\"Ja\",'Q_del,j en Q_del,dh'!$D198,0)","v":0},{"$f":"IF(Y249=\"Ja\",'Q_del,j en Q_del,dh'!$D198,0)","v":0},{"$f":"IF(Z249=\"Ja\",'Q_del,j en Q_del,dh'!$D198,0)","v":0},{"$f":"IF(AA249=\"Ja\",'Q_del,j en Q_del,dh'!$D198,0)","v":0},{"$f":"IF(AB249=\"Ja\",'Q_del,j en Q_del,dh'!$D198,0)","v":0},{"$f":"IF(AC249=\"Ja\",'Q_del,j en Q_del,dh'!$D198,0)","v":0},{"$f":"IF(AD249=\"Ja\",'Q_del,j en Q_del,dh'!$D198,0)","v":0},{"$f":"IF(AE249=\"Ja\",'Q_del,j en Q_del,dh'!$D198,0)","v":0},{"$f":"IF(AF249=\"Ja\",'Q_del,j en Q_del,dh'!$D198,0)","v":0},{"$f":"IF(AG249=\"Ja\",'Q_del,j en Q_del,dh'!$D198,0)","v":0},{"$f":"IF(AH249=\"Ja\",'Q_del,j en Q_del,dh'!$D198,0)","v":0},{"$f":"IF(AI249=\"Ja\",'Q_del,j en Q_del,dh'!$D198,0)","v":0},{"$f":"IF(AJ249=\"Ja\",'Q_del,j en Q_del,dh'!$D198,0)","v":0},{"$f":"IF(AK249=\"Ja\",'Q_del,j en Q_del,dh'!$D198,0)","v":0},{"$f":"IF(AL249=\"Ja\",'Q_del,j en Q_del,dh'!$D198,0)","v":0},{"$f":"IF(AM249=\"Ja\",'Q_del,j en Q_del,dh'!$D198,0)","v":0},{"$f":"IF(AN249=\"Ja\",'Q_del,j en Q_del,dh'!$D198,0)","v":0},{"$f":"IF(AO249=\"Ja\",'Q_del,j en Q_del,dh'!$D198,0)","v":0},{"$f":"IF(AP249=\"Ja\",'Q_del,j en Q_del,dh'!$D198,0)","v":0},{"$f":"IF(AQ249=\"Ja\",'Q_del,j en Q_del,dh'!$D198,0)","v":0},{"$f":"IF(AR249=\"Ja\",'Q_del,j en Q_del,dh'!$D198,0)","v":0},{"$f":"IF(AS249=\"Ja\",'Q_del,j en Q_del,dh'!$D198,0)","v":0},{"$f":"IF(AT249=\"Ja\",'Q_del,j en Q_del,dh'!$D198,0)","v":0},{"$f":"IF(AU249=\"Ja\",'Q_del,j en Q_del,dh'!$D198,0)","v":0},{"$f":"IF(AV249=\"Ja\",'Q_del,j en Q_del,dh'!$D198,0)","v":0},{"$f":"IF(AW249=\"Ja\",'Q_del,j en Q_del,dh'!$D198,0)","v":0},{"$f":"IF(AX249=\"Ja\",'Q_del,j en Q_del,dh'!$D198,0)","v":0},{"$f":"IF(AY249=\"Ja\",'Q_del,j en Q_del,dh'!$D198,0)","v":0},{"$f":"IF(AZ249=\"Ja\",'Q_del,j en Q_del,dh'!$D198,0)","v":0},{"$f":"IF(BA249=\"Ja\",'Q_del,j en Q_del,dh'!$D198,0)","v":0}]
["Qdel,l,j [MJ]","warmtevrager 192",192,{"$f":"IF(D250=\"Ja\",'Q_del,j en Q_del,dh'!$D199,0)","v":0},{"$f":"IF(E250=\"Ja\",'Q_del,j en Q_del,dh'!$D199,0)","v":0},{"$f":"IF(F250=\"Ja\",'Q_del,j en Q_del,dh'!$D199,0)","v":0},{"$f":"IF(G250=\"Ja\",'Q_del,j en Q_del,dh'!$D199,0)","v":0},{"$f":"IF(H250=\"Ja\",'Q_del,j en Q_del,dh'!$D199,0)","v":0},{"$f":"IF(I250=\"Ja\",'Q_del,j en Q_del,dh'!$D199,0)","v":0},{"$f":"IF(J250=\"Ja\",'Q_del,j en Q_del,dh'!$D199,0)","v":0},{"$f":"IF(K250=\"Ja\",'Q_del,j en Q_del,dh'!$D199,0)","v":0},{"$f":"IF(L250=\"Ja\",'Q_del,j en Q_del,dh'!$D199,0)","v":0},{"$f":"IF(M250=\"Ja\",'Q_del,j en Q_del,dh'!$D199,0)","v":0},{"$f":"IF(N250=\"Ja\",'Q_del,j en Q_del,dh'!$D199,0)","v":0},{"$f":"IF(O250=\"Ja\",'Q_del,j en Q_del,dh'!$D199,0)","v":0},{"$f":"IF(P250=\"Ja\",'Q_del,j en Q_del,dh'!$D199,0)","v":0},{"$f":"IF(Q250=\"Ja\",'Q_del,j en Q_del,dh'!$D199,0)","v":0},{"$f":"IF(R250=\"Ja\",'Q_del,j en Q_del,dh'!$D199,0)","v":0},{"$f":"IF(S250=\"Ja\",'Q_del,j en Q_del,dh'!$D199,0)","v":0},{"$f":"IF(T250=\"Ja\",'Q_del,j en Q_del,dh'!$D199,0)","v":0},{"$f":"IF(U250=\"Ja\",'Q_del,j en Q_del,dh'!$D199,0)","v":0},{"$f":"IF(V250=\"Ja\",'Q_del,j en Q_del,dh'!$D199,0)","v":0},{"$f":"IF(W250=\"Ja\",'Q_del,j en Q_del,dh'!$D199,0)","v":0},{"$f":"IF(X250=\"Ja\",'Q_del,j en Q_del,dh'!$D199,0)","v":0},{"$f":"IF(Y250=\"Ja\",'Q_del,j en Q_del,dh'!$D199,0)","v":0},{"$f":"IF(Z250=\"Ja\",'Q_del,j en Q_del,dh'!$D199,0)","v":0},{"$f":"IF(AA250=\"Ja\",'Q_del,j en Q_del,dh'!$D199,0)","v":0},{"$f":"IF(AB250=\"Ja\",'Q_del,j en Q_del,dh'!$D199,0)","v":0},{"$f":"IF(AC250=\"Ja\",'Q_del,j en Q_del,dh'!$D199,0)","v":0},{"$f":"IF(AD250=\"Ja\",'Q_del,j en Q_del,dh'!$D199,0)","v":0},{"$f":"IF(AE250=\"Ja\",'Q_del,j en Q_del,dh'!$D199,0)","v":0},{"$f":"IF(AF250=\"Ja\",'Q_del,j en Q_del,dh'!$D199,0)","v":0},{"$f":"IF(AG250=\"Ja\",'Q_del,j en Q_del,dh'!$D199,0)","v":0},{"$f":"IF(AH250=\"Ja\",'Q_del,j en Q_del,dh'!$D199,0)","v":0},{"$f":"IF(AI250=\"Ja\",'Q_del,j en Q_del,dh'!$D199,0)","v":0},{"$f":"IF(AJ250=\"Ja\",'Q_del,j en Q_del,dh'!$D199,0)","v":0},{"$f":"IF(AK250=\"Ja\",'Q_del,j en Q_del,dh'!$D199,0)","v":0},{"$f":"IF(AL250=\"Ja\",'Q_del,j en Q_del,dh'!$D199,0)","v":0},{"$f":"IF(AM250=\"Ja\",'Q_del,j en Q_del,dh'!$D199,0)","v":0},{"$f":"IF(AN250=\"Ja\",'Q_del,j en Q_del,dh'!$D199,0)","v":0},{"$f":"IF(AO250=\"Ja\",'Q_del,j en Q_del,dh'!$D199,0)","v":0},{"$f":"IF(AP250=\"Ja\",'Q_del,j en Q_del,dh'!$D199,0)","v":0},{"$f":"IF(AQ250=\"Ja\",'Q_del,j en Q_del,dh'!$D199,0)","v":0},{"$f":"IF(AR250=\"Ja\",'Q_del,j en Q_del,dh'!$D199,0)","v":0},{"$f":"IF(AS250=\"Ja\",'Q_del,j en Q_del,dh'!$D199,0)","v":0},{"$f":"IF(AT250=\"Ja\",'Q_del,j en Q_del,dh'!$D199,0)","v":0},{"$f":"IF(AU250=\"Ja\",'Q_del,j en Q_del,dh'!$D199,0)","v":0},{"$f":"IF(AV250=\"Ja\",'Q_del,j en Q_del,dh'!$D199,0)","v":0},{"$f":"IF(AW250=\"Ja\",'Q_del,j en Q_del,dh'!$D199,0)","v":0},{"$f":"IF(AX250=\"Ja\",'Q_del,j en Q_del,dh'!$D199,0)","v":0},{"$f":"IF(AY250=\"Ja\",'Q_del,j en Q_del,dh'!$D199,0)","v":0},{"$f":"IF(AZ250=\"Ja\",'Q_del,j en Q_del,dh'!$D199,0)","v":0},{"$f":"IF(BA250=\"Ja\",'Q_del,j en Q_del,dh'!$D199,0)","v":0}]
["Qdel,l,j [MJ]","warmtevrager 193",193,{"$f":"IF(D251=\"Ja\",'Q_del,j en Q_del,dh'!$D200,0)","v":0},{"$f":"IF(E251=\"Ja\",'Q_del,j en Q_del,dh'!$D200,0)","v":0},{"$f":"IF(F251=\"Ja\",'Q_del,j en Q_del,dh'!$D200,0)","v":0},{"$f":"IF(G251=\"Ja\",'Q_del,j en Q_del,dh'!$D200,0)","v":0},{"$f":"IF(H251=\"Ja\",'Q_del,j en Q_del,dh'!$D200,0)","v":0},{"$f":"IF(I251=\"Ja\",'Q_del,j en Q_del,dh'!$D200,0)","v":0},{"$f":"IF(J251=\"Ja\",'Q_del,j en Q_del,dh'!$D200,0)","v":0},{"$f":"IF(K251=\"Ja\",'Q_del,j en Q_del,dh'!$D200,0)","v":0},{"$f":"IF(L251=\"Ja\",'Q_del,j en Q_del,dh'!$D200,0)","v":0},{"$f":"IF(M251=\"Ja\",'Q_del,j en Q_del,dh'!$D200,0)","v":0},{"$f":"IF(N251=\"Ja\",'Q_del,j en Q_del,dh'!$D200,0)","v":0},{"$f":"IF(O251=\"Ja\",'Q_del,j en Q_del,dh'!$D200,0)","v":0},{"$f":"IF(P251=\"Ja\",'Q_del,j en Q_del,dh'!$D200,0)","v":0},{"$f":"IF(Q251=\"Ja\",'Q_del,j en Q_del,dh'!$D200,0)","v":0},{"$f":"IF(R251=\"Ja\",'Q_del,j en Q_del,dh'!$D200,0)","v":0},{"$f":"IF(S251=\"Ja\",'Q_del,j en Q_del,dh'!$D200,0)","v":0},{"$f":"IF(T251=\"Ja\",'Q_del,j en Q_del,dh'!$D200,0)","v":0},{"$f":"IF(U251=\"Ja\",'Q_del,j en Q_del,dh'!$D200,0)","v":0},{"$f":"IF(V251=\"Ja\",'Q_del,j en Q_del,dh'!$D200,0)","v":0},{"$f":"IF(W251=\"Ja\",'Q_del,j en Q_del,dh'!$D200,0)","v":0},{"$f":"IF(X251=\"Ja\",'Q_del,j en Q_del,dh'!$D200,0)","v":0},{"$f":"IF(Y251=\"Ja\",'Q_del,j en Q_del,dh'!$D200,0)","v":0},{"$f":"IF(Z251=\"Ja\",'Q_del,j en Q_del,dh'!$D200,0)","v":0},{"$f":"IF(AA251=\"Ja\",'Q_del,j en Q_del,dh'!$D200,0)","v":0},{"$f":"IF(AB251=\"Ja\",'Q_del,j en Q_del,dh'!$D200,0)","v":0},{"$f":"IF(AC251=\"Ja\",'Q_del,j en Q_del,dh'!$D200,0)","v":0},{"$f":"IF(AD251=\"Ja\",'Q_del,j en Q_del,dh'!$D200,0)","v":0},{"$f":"IF(AE251=\"Ja\",'Q_del,j en Q_del,dh'!$D200,0)","v":0},{"$f":"IF(AF251=\"Ja\",'Q_del,j en Q_del,dh'!$D200,0)","v":0},{"$f":"IF(AG251=\"Ja\",'Q_del,j en Q_del,dh'!$D200,0)","v":0},{"$f":"IF(AH251=\"Ja\",'Q_del,j en Q_del,dh'!$D200,0)","v":0},{"$f":"IF(AI251=\"Ja\",'Q_del,j en Q_del,dh'!$D200,0)","v":0},{"$f":"IF(AJ251=\"Ja\",'Q_del,j en Q_del,dh'!$D200,0)","v":0},{"$f":"IF(AK251=\"Ja\",'Q_del,j en Q_del,dh'!$D200,0)","v":0},{"$f":"IF(AL251=\"Ja\",'Q_del,j en Q_del,dh'!$D200,0)","v":0},{"$f":"IF(AM251=\"Ja\",'Q_del,j en Q_del,dh'!$D200,0)","v":0},{"$f":"IF(AN251=\"Ja\",'Q_del,j en Q_del,dh'!$D200,0)","v":0},{"$f":"IF(AO251=\"Ja\",'Q_del,j en Q_del,dh'!$D200,0)","v":0},{"$f":"IF(AP251=\"Ja\",'Q_del,j en Q_del,dh'!$D200,0)","v":0},{"$f":"IF(AQ251=\"Ja\",'Q_del,j en Q_del,dh'!$D200,0)","v":0},{"$f":"IF(AR251=\"Ja\",'Q_del,j en Q_del,dh'!$D200,0)","v":0},{"$f":"IF(AS251=\"Ja\",'Q_del,j en Q_del,dh'!$D200,0)","v":0},{"$f":"IF(AT251=\"Ja\",'Q_del,j en Q_del,dh'!$D200,0)","v":0},{"$f":"IF(AU251=\"Ja\",'Q_del,j en Q_del,dh'!$D200,0)","v":0},{"$f":"IF(AV251=\"Ja\",'Q_del,j en Q_del,dh'!$D200,0)","v":0},{"$f":"IF(AW251=\"Ja\",'Q_del,j en Q_del,dh'!$D200,0)","v":0},{"$f":"IF(AX251=\"Ja\",'Q_del,j en Q_del,dh'!$D200,0)","v":0},{"$f":"IF(AY251=\"Ja\",'Q_del,j en Q_del,dh'!$D200,0)","v":0},{"$f":"IF(AZ251=\"Ja\",'Q_del,j en Q_del,dh'!$D200,0)","v":0},{"$f":"IF(BA251=\"Ja\",'Q_del,j en Q_del,dh'!$D200,0)","v":0}]
["Qdel,l,j [MJ]","warmtevrager 194",194,{"$f":"IF(D252=\"Ja\",'Q_del,j en Q_del,dh'!$D201,0)","v":0},{"$f":"IF(E252=\"Ja\",'Q_del,j en Q_del,dh'!$D201,0)","v":0},{"$f":"IF(F252=\"Ja\",'Q_del,j en Q_del,dh'!$D201,0)","v":0},{"$f":"IF(G252=\"Ja\",'Q_del,j en Q_del,dh'!$D201,0)","v":0},{"$f":"IF(H252=\"Ja\",'Q_del,j en Q_del,dh'!$D201,0)","v":0},{"$f":"IF(I252=\"Ja\",'Q_del,j en Q_del,dh'!$D201,0)","v":0},{"$f":"IF(J252=\"Ja\",'Q_del,j en Q_del,dh'!$D201,0)","v":0},{"$f":"IF(K252=\"Ja\",'Q_del,j en Q_del,dh'!$D201,0)","v":0},{"$f":"IF(L252=\"Ja\",'Q_del,j en Q_del,dh'!$D201,0)","v":0},{"$f":"IF(M252=\"Ja\",'Q_del,j en Q_del,dh'!$D201,0)","v":0},{"$f":"IF(N252=\"Ja\",'Q_del,j en Q_del,dh'!$D201,0)","v":0},{"$f":"IF(O252=\"Ja\",'Q_del,j en Q_del,dh'!$D201,0)","v":0},{"$f":"IF(P252=\"Ja\",'Q_del,j en Q_del,dh'!$D201,0)","v":0},{"$f":"IF(Q252=\"Ja\",'Q_del,j en Q_del,dh'!$D201,0)","v":0},{"$f":"IF(R252=\"Ja\",'Q_del,j en Q_del,dh'!$D201,0)","v":0},{"$f":"IF(S252=\"Ja\",'Q_del,j en Q_del,dh'!$D201,0)","v":0},{"$f":"IF(T252=\"Ja\",'Q_del,j en Q_del,dh'!$D201,0)","v":0},{"$f":"IF(U252=\"Ja\",'Q_del,j en Q_del,dh'!$D201,0)","v":0},{"$f":"IF(V252=\"Ja\",'Q_del,j en Q_del,dh'!$D201,0)","v":0},{"$f":"IF(W252=\"Ja\",'Q_del,j en Q_del,dh'!$D201,0)","v":0},{"$f":"IF(X252=\"Ja\",'Q_del,j en Q_del,dh'!$D201,0)","v":0},{"$f":"IF(Y252=\"Ja\",'Q_del,j en Q_del,dh'!$D201,0)","v":0},{"$f":"IF(Z252=\"Ja\",'Q_del,j en Q_del,dh'!$D201,0)","v":0},{"$f":"IF(AA252=\"Ja\",'Q_del,j en Q_del,dh'!$D201,0)","v":0},{"$f":"IF(AB252=\"Ja\",'Q_del,j en Q_del,dh'!$D201,0)","v":0},{"$f":"IF(AC252=\"Ja\",'Q_del,j en Q_del,dh'!$D201,0)","v":0},{"$f":"IF(AD252=\"Ja\",'Q_del,j en Q_del,dh'!$D201,0)","v":0},{"$f":"IF(AE252=\"Ja\",'Q_del,j en Q_del,dh'!$D201,0)","v":0},{"$f":"IF(AF252=\"Ja\",'Q_del,j en Q_del,dh'!$D201,0)","v":0},{"$f":"IF(AG252=\"Ja\",'Q_del,j en Q_del,dh'!$D201,0)","v":0},{"$f":"IF(AH252=\"Ja\",'Q_del,j en Q_del,dh'!$D201,0)","v":0},{"$f":"IF(AI252=\"Ja\",'Q_del,j en Q_del,dh'!$D201,0)","v":0},{"$f":"IF(AJ252=\"Ja\",'Q_del,j en Q_del,dh'!$D201,0)","v":0},{"$f":"IF(AK252=\"Ja\",'Q_del,j en Q_del,dh'!$D201,0)","v":0},{"$f":"IF(AL252=\"Ja\",'Q_del,j en Q_del,dh'!$D201,0)","v":0},{"$f":"IF(AM252=\"Ja\",'Q_del,j en Q_del,dh'!$D201,0)","v":0},{"$f":"IF(AN252=\"Ja\",'Q_del,j en Q_del,dh'!$D201,0)","v":0},{"$f":"IF(AO252=\"Ja\",'Q_del,j en Q_del,dh'!$D201,0)","v":0},{"$f":"IF(AP252=\"Ja\",'Q_del,j en Q_del,dh'!$D201,0)","v":0},{"$f":"IF(AQ252=\"Ja\",'Q_del,j en Q_del,dh'!$D201,0)","v":0},{"$f":"IF(AR252=\"Ja\",'Q_del,j en Q_del,dh'!$D201,0)","v":0},{"$f":"IF(AS252=\"Ja\",'Q_del,j en Q_del,dh'!$D201,0)","v":0},{"$f":"IF(AT252=\"Ja\",'Q_del,j en Q_del,dh'!$D201,0)","v":0},{"$f":"IF(AU252=\"Ja\",'Q_del,j en Q_del,dh'!$D201,0)","v":0},{"$f":"IF(AV252=\"Ja\",'Q_del,j en Q_del,dh'!$D201,0)","v":0},{"$f":"IF(AW252=\"Ja\",'Q_del,j en Q_del,dh'!$D201,0)","v":0},{"$f":"IF(AX252=\"Ja\",'Q_del,j en Q_del,dh'!$D201,0)","v":0},{"$f":"IF(AY252=\"Ja\",'Q_del,j en Q_del,dh'!$D201,0)","v":0},{"$f":"IF(AZ252=\"Ja\",'Q_del,j en Q_del,dh'!$D201,0)","v":0},{"$f":"IF(BA252=\"Ja\",'Q_del,j en Q_del,dh'!$D201,0)","v":0}]
["Qdel,l,j [MJ]",{"$f":"\"warmtevrager \"&C508","v":"warmtevrager 195"},{"$f":"C507+1","v":195},{"$f":"IF(D253=\"Ja\",'Q_del,j en Q_del,dh'!$D202,0)","v":0},{"$f":"IF(E253=\"Ja\",'Q_del,j en Q_del,dh'!$D202,0)","v":0},{"$f":"IF(F253=\"Ja\",'Q_del,j en Q_del,dh'!$D202,0)","v":0},{"$f":"IF(G253=\"Ja\",'Q_del,j en Q_del,dh'!$D202,0)","v":0},{"$f":"IF(H253=\"Ja\",'Q_del,j en Q_del,dh'!$D202,0)","v":0},{"$f":"IF(I253=\"Ja\",'Q_del,j en Q_del,dh'!$D202,0)","v":0},{"$f":"IF(J253=\"Ja\",'Q_del,j en Q_del,dh'!$D202,0)","v":0},{"$f":"IF(K253=\"Ja\",'Q_del,j en Q_del,dh'!$D202,0)","v":0},{"$f":"IF(L253=\"Ja\",'Q_del,j en Q_del,dh'!$D202,0)","v":0},{"$f":"IF(M253=\"Ja\",'Q_del,j en Q_del,dh'!$D202,0)","v":0},{"$f":"IF(N253=\"Ja\",'Q_del,j en Q_del,dh'!$D202,0)","v":0},{"$f":"IF(O253=\"Ja\",'Q_del,j en Q_del,dh'!$D202,0)","v":0},{"$f":"IF(P253=\"Ja\",'Q_del,j en Q_del,dh'!$D202,0)","v":0},{"$f":"IF(Q253=\"Ja\",'Q_del,j en Q_del,dh'!$D202,0)","v":0},{"$f":"IF(R253=\"Ja\",'Q_del,j en Q_del,dh'!$D202,0)","v":0},{"$f":"IF(S253=\"Ja\",'Q_del,j en Q_del,dh'!$D202,0)","v":0},{"$f":"IF(T253=\"Ja\",'Q_del,j en Q_del,dh'!$D202,0)","v":0},{"$f":"IF(U253=\"Ja\",'Q_del,j en Q_del,dh'!$D202,0)","v":0},{"$f":"IF(V253=\"Ja\",'Q_del,j en Q_del,dh'!$D202,0)","v":0},{"$f":"IF(W253=\"Ja\",'Q_del,j en Q_del,dh'!$D202,0)","v":0},{"$f":"IF(X253=\"Ja\",'Q_del,j en Q_del,dh'!$D202,0)","v":0},{"$f":"IF(Y253=\"Ja\",'Q_del,j en Q_del,dh'!$D202,0)","v":0},{"$f":"IF(Z253=\"Ja\",'Q_del,j en Q_del,dh'!$D202,0)","v":0},{"$f":"IF(AA253=\"Ja\",'Q_del,j en Q_del,dh'!$D202,0)","v":0},{"$f":"IF(AB253=\"Ja\",'Q_del,j en Q_del,dh'!$D202,0)","v":0},{"$f":"IF(AC253=\"Ja\",'Q_del,j en Q_del,dh'!$D202,0)","v":0},{"$f":"IF(AD253=\"Ja\",'Q_del,j en Q_del,dh'!$D202,0)","v":0},{"$f":"IF(AE253=\"Ja\",'Q_del,j en Q_del,dh'!$D202,0)","v":0},{"$f":"IF(AF253=\"Ja\",'Q_del,j en Q_del,dh'!$D202,0)","v":0},{"$f":"IF(AG253=\"Ja\",'Q_del,j en Q_del,dh'!$D202,0)","v":0},{"$f":"IF(AH253=\"Ja\",'Q_del,j en Q_del,dh'!$D202,0)","v":0},{"$f":"IF(AI253=\"Ja\",'Q_del,j en Q_del,dh'!$D202,0)","v":0},{"$f":"IF(AJ253=\"Ja\",'Q_del,j en Q_del,dh'!$D202,0)","v":0},{"$f":"IF(AK253=\"Ja\",'Q_del,j en Q_del,dh'!$D202,0)","v":0},{"$f":"IF(AL253=\"Ja\",'Q_del,j en Q_del,dh'!$D202,0)","v":0},{"$f":"IF(AM253=\"Ja\",'Q_del,j en Q_del,dh'!$D202,0)","v":0},{"$f":"IF(AN253=\"Ja\",'Q_del,j en Q_del,dh'!$D202,0)","v":0},{"$f":"IF(AO253=\"Ja\",'Q_del,j en Q_del,dh'!$D202,0)","v":0},{"$f":"IF(AP253=\"Ja\",'Q_del,j en Q_del,dh'!$D202,0)","v":0},{"$f":"IF(AQ253=\"Ja\",'Q_del,j en Q_del,dh'!$D202,0)","v":0},{"$f":"IF(AR253=\"Ja\",'Q_del,j en Q_del,dh'!$D202,0)","v":0},{"$f":"IF(AS253=\"Ja\",'Q_del,j en Q_del,dh'!$D202,0)","v":0},{"$f":"IF(AT253=\"Ja\",'Q_del,j en Q_del,dh'!$D202,0)","v":0},{"$f":"IF(AU253=\"Ja\",'Q_del,j en Q_del,dh'!$D202,0)","v":0},{"$f":"IF(AV253=\"Ja\",'Q_del,j en Q_del,dh'!$D202,0)","v":0},{"$f":"IF(AW253=\"Ja\",'Q_del,j en Q_del,dh'!$D202,0)","v":0},{"$f":"IF(AX253=\"Ja\",'Q_del,j en Q_del,dh'!$D202,0)","v":0},{"$f":"IF(AY253=\"Ja\",'Q_del,j en Q_del,dh'!$D202,0)","v":0},{"$f":"IF(AZ253=\"Ja\",'Q_del,j en Q_del,dh'!$D202,0)","v":0},{"$f":"IF(BA253=\"Ja\",'Q_del,j en Q_del,dh'!$D202,0)","v":0}]
["Qdel,l,j [MJ]","warmtevrager 196",196,{"$f":"IF(D254=\"Ja\",'Q_del,j en Q_del,dh'!$D203,0)","v":0},{"$f":"IF(E254=\"Ja\",'Q_del,j en Q_del,dh'!$D203,0)","v":0},{"$f":"IF(F254=\"Ja\",'Q_del,j en Q_del,dh'!$D203,0)","v":0},{"$f":"IF(G254=\"Ja\",'Q_del,j en Q_del,dh'!$D203,0)","v":0},{"$f":"IF(H254=\"Ja\",'Q_del,j en Q_del,dh'!$D203,0)","v":0},{"$f":"IF(I254=\"Ja\",'Q_del,j en Q_del,dh'!$D203,0)","v":0},{"$f":"IF(J254=\"Ja\",'Q_del,j en Q_del,dh'!$D203,0)","v":0},{"$f":"IF(K254=\"Ja\",'Q_del,j en Q_del,dh'!$D203,0)","v":0},{"$f":"IF(L254=\"Ja\",'Q_del,j en Q_del,dh'!$D203,0)","v":0},{"$f":"IF(M254=\"Ja\",'Q_del,j en Q_del,dh'!$D203,0)","v":0},{"$f":"IF(N254=\"Ja\",'Q_del,j en Q_del,dh'!$D203,0)","v":0},{"$f":"IF(O254=\"Ja\",'Q_del,j en Q_del,dh'!$D203,0)","v":0},{"$f":"IF(P254=\"Ja\",'Q_del,j en Q_del,dh'!$D203,0)","v":0},{"$f":"IF(Q254=\"Ja\",'Q_del,j en Q_del,dh'!$D203,0)","v":0},{"$f":"IF(R254=\"Ja\",'Q_del,j en Q_del,dh'!$D203,0)","v":0},{"$f":"IF(S254=\"Ja\",'Q_del,j en Q_del,dh'!$D203,0)","v":0},{"$f":"IF(T254=\"Ja\",'Q_del,j en Q_del,dh'!$D203,0)","v":0},{"$f":"IF(U254=\"Ja\",'Q_del,j en Q_del,dh'!$D203,0)","v":0},{"$f":"IF(V254=\"Ja\",'Q_del,j en Q_del,dh'!$D203,0)","v":0},{"$f":"IF(W254=\"Ja\",'Q_del,j en Q_del,dh'!$D203,0)","v":0},{"$f":"IF(X254=\"Ja\",'Q_del,j en Q_del,dh'!$D203,0)","v":0},{"$f":"IF(Y254=\"Ja\",'Q_del,j en Q_del,dh'!$D203,0)","v":0},{"$f":"IF(Z254=\"Ja\",'Q_del,j en Q_del,dh'!$D203,0)","v":0},{"$f":"IF(AA254=\"Ja\",'Q_del,j en Q_del,dh'!$D203,0)","v":0},{"$f":"IF(AB254=\"Ja\",'Q_del,j en Q_del,dh'!$D203,0)","v":0},{"$f":"IF(AC254=\"Ja\",'Q_del,j en Q_del,dh'!$D203,0)","v":0},{"$f":"IF(AD254=\"Ja\",'Q_del,j en Q_del,dh'!$D203,0)","v":0},{"$f":"IF(AE254=\"Ja\",'Q_del,j en Q_del,dh'!$D203,0)","v":0},{"$f":"IF(AF254=\"Ja\",'Q_del,j en Q_del,dh'!$D203,0)","v":0},{"$f":"IF(AG254=\"Ja\",'Q_del,j en Q_del,dh'!$D203,0)","v":0},{"$f":"IF(AH254=\"Ja\",'Q_del,j en Q_del,dh'!$D203,0)","v":0},{"$f":"IF(AI254=\"Ja\",'Q_del,j en Q_del,dh'!$D203,0)","v":0},{"$f":"IF(AJ254=\"Ja\",'Q_del,j en Q_del,dh'!$D203,0)","v":0},{"$f":"IF(AK254=\"Ja\",'Q_del,j en Q_del,dh'!$D203,0)","v":0},{"$f":"IF(AL254=\"Ja\",'Q_del,j en Q_del,dh'!$D203,0)","v":0},{"$f":"IF(AM254=\"Ja\",'Q_del,j en Q_del,dh'!$D203,0)","v":0},{"$f":"IF(AN254=\"Ja\",'Q_del,j en Q_del,dh'!$D203,0)","v":0},{"$f":"IF(AO254=\"Ja\",'Q_del,j en Q_del,dh'!$D203,0)","v":0},{"$f":"IF(AP254=\"Ja\",'Q_del,j en Q_del,dh'!$D203,0)","v":0},{"$f":"IF(AQ254=\"Ja\",'Q_del,j en Q_del,dh'!$D203,0)","v":0},{"$f":"IF(AR254=\"Ja\",'Q_del,j en Q_del,dh'!$D203,0)","v":0},{"$f":"IF(AS254=\"Ja\",'Q_del,j en Q_del,dh'!$D203,0)","v":0},{"$f":"IF(AT254=\"Ja\",'Q_del,j en Q_del,dh'!$D203,0)","v":0},{"$f":"IF(AU254=\"Ja\",'Q_del,j en Q_del,dh'!$D203,0)","v":0},{"$f":"IF(AV254=\"Ja\",'Q_del,j en Q_del,dh'!$D203,0)","v":0},{"$f":"IF(AW254=\"Ja\",'Q_del,j en Q_del,dh'!$D203,0)","v":0},{"$f":"IF(AX254=\"Ja\",'Q_del,j en Q_del,dh'!$D203,0)","v":0},{"$f":"IF(AY254=\"Ja\",'Q_del,j en Q_del,dh'!$D203,0)","v":0},{"$f":"IF(AZ254=\"Ja\",'Q_del,j en Q_del,dh'!$D203,0)","v":0},{"$f":"IF(BA254=\"Ja\",'Q_del,j en Q_del,dh'!$D203,0)","v":0}]
["Qdel,l,j [MJ]","warmtevrager 197",197,{"$f":"IF(D255=\"Ja\",'Q_del,j en Q_del,dh'!$D204,0)","v":0},{"$f":"IF(E255=\"Ja\",'Q_del,j en Q_del,dh'!$D204,0)","v":0},{"$f":"IF(F255=\"Ja\",'Q_del,j en Q_del,dh'!$D204,0)","v":0},{"$f":"IF(G255=\"Ja\",'Q_del,j en Q_del,dh'!$D204,0)","v":0},{"$f":"IF(H255=\"Ja\",'Q_del,j en Q_del,dh'!$D204,0)","v":0},{"$f":"IF(I255=\"Ja\",'Q_del,j en Q_del,dh'!$D204,0)","v":0},{"$f":"IF(J255=\"Ja\",'Q_del,j en Q_del,dh'!$D204,0)","v":0},{"$f":"IF(K255=\"Ja\",'Q_del,j en Q_del,dh'!$D204,0)","v":0},{"$f":"IF(L255=\"Ja\",'Q_del,j en Q_del,dh'!$D204,0)","v":0},{"$f":"IF(M255=\"Ja\",'Q_del,j en Q_del,dh'!$D204,0)","v":0},{"$f":"IF(N255=\"Ja\",'Q_del,j en Q_del,dh'!$D204,0)","v":0},{"$f":"IF(O255=\"Ja\",'Q_del,j en Q_del,dh'!$D204,0)","v":0},{"$f":"IF(P255=\"Ja\",'Q_del,j en Q_del,dh'!$D204,0)","v":0},{"$f":"IF(Q255=\"Ja\",'Q_del,j en Q_del,dh'!$D204,0)","v":0},{"$f":"IF(R255=\"Ja\",'Q_del,j en Q_del,dh'!$D204,0)","v":0},{"$f":"IF(S255=\"Ja\",'Q_del,j en Q_del,dh'!$D204,0)","v":0},{"$f":"IF(T255=\"Ja\",'Q_del,j en Q_del,dh'!$D204,0)","v":0},{"$f":"IF(U255=\"Ja\",'Q_del,j en Q_del,dh'!$D204,0)","v":0},{"$f":"IF(V255=\"Ja\",'Q_del,j en Q_del,dh'!$D204,0)","v":0},{"$f":"IF(W255=\"Ja\",'Q_del,j en Q_del,dh'!$D204,0)","v":0},{"$f":"IF(X255=\"Ja\",'Q_del,j en Q_del,dh'!$D204,0)","v":0},{"$f":"IF(Y255=\"Ja\",'Q_del,j en Q_del,dh'!$D204,0)","v":0},{"$f":"IF(Z255=\"Ja\",'Q_del,j en Q_del,dh'!$D204,0)","v":0},{"$f":"IF(AA255=\"Ja\",'Q_del,j en Q_del,dh'!$D204,0)","v":0},{"$f":"IF(AB255=\"Ja\",'Q_del,j en Q_del,dh'!$D204,0)","v":0},{"$f":"IF(AC255=\"Ja\",'Q_del,j en Q_del,dh'!$D204,0)","v":0},{"$f":"IF(AD255=\"Ja\",'Q_del,j en Q_del,dh'!$D204,0)","v":0},{"$f":"IF(AE255=\"Ja\",'Q_del,j en Q_del,dh'!$D204,0)","v":0},{"$f":"IF(AF255=\"Ja\",'Q_del,j en Q_del,dh'!$D204,0)","v":0},{"$f":"IF(AG255=\"Ja\",'Q_del,j en Q_del,dh'!$D204,0)","v":0},{"$f":"IF(AH255=\"Ja\",'Q_del,j en Q_del,dh'!$D204,0)","v":0},{"$f":"IF(AI255=\"Ja\",'Q_del,j en Q_del,dh'!$D204,0)","v":0},{"$f":"IF(AJ255=\"Ja\",'Q_del,j en Q_del,dh'!$D204,0)","v":0},{"$f":"IF(AK255=\"Ja\",'Q_del,j en Q_del,dh'!$D204,0)","v":0},{"$f":"IF(AL255=\"Ja\",'Q_del,j en Q_del,dh'!$D204,0)","v":0},{"$f":"IF(AM255=\"Ja\",'Q_del,j en Q_del,dh'!$D204,0)","v":0},{"$f":"IF(AN255=\"Ja\",'Q_del,j en Q_del,dh'!$D204,0)","v":0},{"$f":"IF(AO255=\"Ja\",'Q_del,j en Q_del,dh'!$D204,0)","v":0},{"$f":"IF(AP255=\"Ja\",'Q_del,j en Q_del,dh'!$D204,0)","v":0},{"$f":"IF(AQ255=\"Ja\",'Q_del,j en Q_del,dh'!$D204,0)","v":0},{"$f":"IF(AR255=\"Ja\",'Q_del,j en Q_del,dh'!$D204,0)","v":0},{"$f":"IF(AS255=\"Ja\",'Q_del,j en Q_del,dh'!$D204,0)","v":0},{"$f":"IF(AT255=\"Ja\",'Q_del,j en Q_del,dh'!$D204,0)","v":0},{"$f":"IF(AU255=\"Ja\",'Q_del,j en Q_del,dh'!$D204,0)","v":0},{"$f":"IF(AV255=\"Ja\",'Q_del,j en Q_del,dh'!$D204,0)","v":0},{"$f":"IF(AW255=\"Ja\",'Q_del,j en Q_del,dh'!$D204,0)","v":0},{"$f":"IF(AX255=\"Ja\",'Q_del,j en Q_del,dh'!$D204,0)","v":0},{"$f":"IF(AY255=\"Ja\",'Q_del,j en Q_del,dh'!$D204,0)","v":0},{"$f":"IF(AZ255=\"Ja\",'Q_del,j en Q_del,dh'!$D204,0)","v":0},{"$f":"IF(BA255=\"Ja\",'Q_del,j en Q_del,dh'!$D204,0)","v":0}]
["Qdel,l,j [MJ]","warmtevrager 198",198,{"$f":"IF(D256=\"Ja\",'Q_del,j en Q_del,dh'!$D205,0)","v":0},{"$f":"IF(E256=\"Ja\",'Q_del,j en Q_del,dh'!$D205,0)","v":0},{"$f":"IF(F256=\"Ja\",'Q_del,j en Q_del,dh'!$D205,0)","v":0},{"$f":"IF(G256=\"Ja\",'Q_del,j en Q_del,dh'!$D205,0)","v":0},{"$f":"IF(H256=\"Ja\",'Q_del,j en Q_del,dh'!$D205,0)","v":0},{"$f":"IF(I256=\"Ja\",'Q_del,j en Q_del,dh'!$D205,0)","v":0},{"$f":"IF(J256=\"Ja\",'Q_del,j en Q_del,dh'!$D205,0)","v":0},{"$f":"IF(K256=\"Ja\",'Q_del,j en Q_del,dh'!$D205,0)","v":0},{"$f":"IF(L256=\"Ja\",'Q_del,j en Q_del,dh'!$D205,0)","v":0},{"$f":"IF(M256=\"Ja\",'Q_del,j en Q_del,dh'!$D205,0)","v":0},{"$f":"IF(N256=\"Ja\",'Q_del,j en Q_del,dh'!$D205,0)","v":0},{"$f":"IF(O256=\"Ja\",'Q_del,j en Q_del,dh'!$D205,0)","v":0},{"$f":"IF(P256=\"Ja\",'Q_del,j en Q_del,dh'!$D205,0)","v":0},{"$f":"IF(Q256=\"Ja\",'Q_del,j en Q_del,dh'!$D205,0)","v":0},{"$f":"IF(R256=\"Ja\",'Q_del,j en Q_del,dh'!$D205,0)","v":0},{"$f":"IF(S256=\"Ja\",'Q_del,j en Q_del,dh'!$D205,0)","v":0},{"$f":"IF(T256=\"Ja\",'Q_del,j en Q_del,dh'!$D205,0)","v":0},{"$f":"IF(U256=\"Ja\",'Q_del,j en Q_del,dh'!$D205,0)","v":0},{"$f":"IF(V256=\"Ja\",'Q_del,j en Q_del,dh'!$D205,0)","v":0},{"$f":"IF(W256=\"Ja\",'Q_del,j en Q_del,dh'!$D205,0)","v":0},{"$f":"IF(X256=\"Ja\",'Q_del,j en Q_del,dh'!$D205,0)","v":0},{"$f":"IF(Y256=\"Ja\",'Q_del,j en Q_del,dh'!$D205,0)","v":0},{"$f":"IF(Z256=\"Ja\",'Q_del,j en Q_del,dh'!$D205,0)","v":0},{"$f":"IF(AA256=\"Ja\",'Q_del,j en Q_del,dh'!$D205,0)","v":0},{"$f":"IF(AB256=\"Ja\",'Q_del,j en Q_del,dh'!$D205,0)","v":0},{"$f":"IF(AC256=\"Ja\",'Q_del,j en Q_del,dh'!$D205,0)","v":0},{"$f":"IF(AD256=\"Ja\",'Q_del,j en Q_del,dh'!$D205,0)","v":0},{"$f":"IF(AE256=\"Ja\",'Q_del,j en Q_del,dh'!$D205,0)","v":0},{"$f":"IF(AF256=\"Ja\",'Q_del,j en Q_del,dh'!$D205,0)","v":0},{"$f":"IF(AG256=\"Ja\",'Q_del,j en Q_del,dh'!$D205,0)","v":0},{"$f":"IF(AH256=\"Ja\",'Q_del,j en Q_del,dh'!$D205,0)","v":0},{"$f":"IF(AI256=\"Ja\",'Q_del,j en Q_del,dh'!$D205,0)","v":0},{"$f":"IF(AJ256=\"Ja\",'Q_del,j en Q_del,dh'!$D205,0)","v":0},{"$f":"IF(AK256=\"Ja\",'Q_del,j en Q_del,dh'!$D205,0)","v":0},{"$f":"IF(AL256=\"Ja\",'Q_del,j en Q_del,dh'!$D205,0)","v":0},{"$f":"IF(AM256=\"Ja\",'Q_del,j en Q_del,dh'!$D205,0)","v":0},{"$f":"IF(AN256=\"Ja\",'Q_del,j en Q_del,dh'!$D205,0)","v":0},{"$f":"IF(AO256=\"Ja\",'Q_del,j en Q_del,dh'!$D205,0)","v":0},{"$f":"IF(AP256=\"Ja\",'Q_del,j en Q_del,dh'!$D205,0)","v":0},{"$f":"IF(AQ256=\"Ja\",'Q_del,j en Q_del,dh'!$D205,0)","v":0},{"$f":"IF(AR256=\"Ja\",'Q_del,j en Q_del,dh'!$D205,0)","v":0},{"$f":"IF(AS256=\"Ja\",'Q_del,j en Q_del,dh'!$D205,0)","v":0},{"$f":"IF(AT256=\"Ja\",'Q_del,j en Q_del,dh'!$D205,0)","v":0},{"$f":"IF(AU256=\"Ja\",'Q_del,j en Q_del,dh'!$D205,0)","v":0},{"$f":"IF(AV256=\"Ja\",'Q_del,j en Q_del,dh'!$D205,0)","v":0},{"$f":"IF(AW256=\"Ja\",'Q_del,j en Q_del,dh'!$D205,0)","v":0},{"$f":"IF(AX256=\"Ja\",'Q_del,j en Q_del,dh'!$D205,0)","v":0},{"$f":"IF(AY256=\"Ja\",'Q_del,j en Q_del,dh'!$D205,0)","v":0},{"$f":"IF(AZ256=\"Ja\",'Q_del,j en Q_del,dh'!$D205,0)","v":0},{"$f":"IF(BA256=\"Ja\",'Q_del,j en Q_del,dh'!$D205,0)","v":0}]
["Qdel,l,j [MJ]","warmtevrager 199",199,{"$f":"IF(D257=\"Ja\",'Q_del,j en Q_del,dh'!$D206,0)","v":0},{"$f":"IF(E257=\"Ja\",'Q_del,j en Q_del,dh'!$D206,0)","v":0},{"$f":"IF(F257=\"Ja\",'Q_del,j en Q_del,dh'!$D206,0)","v":0},{"$f":"IF(G257=\"Ja\",'Q_del,j en Q_del,dh'!$D206,0)","v":0},{"$f":"IF(H257=\"Ja\",'Q_del,j en Q_del,dh'!$D206,0)","v":0},{"$f":"IF(I257=\"Ja\",'Q_del,j en Q_del,dh'!$D206,0)","v":0},{"$f":"IF(J257=\"Ja\",'Q_del,j en Q_del,dh'!$D206,0)","v":0},{"$f":"IF(K257=\"Ja\",'Q_del,j en Q_del,dh'!$D206,0)","v":0},{"$f":"IF(L257=\"Ja\",'Q_del,j en Q_del,dh'!$D206,0)","v":0},{"$f":"IF(M257=\"Ja\",'Q_del,j en Q_del,dh'!$D206,0)","v":0},{"$f":"IF(N257=\"Ja\",'Q_del,j en Q_del,dh'!$D206,0)","v":0},{"$f":"IF(O257=\"Ja\",'Q_del,j en Q_del,dh'!$D206,0)","v":0},{"$f":"IF(P257=\"Ja\",'Q_del,j en Q_del,dh'!$D206,0)","v":0},{"$f":"IF(Q257=\"Ja\",'Q_del,j en Q_del,dh'!$D206,0)","v":0},{"$f":"IF(R257=\"Ja\",'Q_del,j en Q_del,dh'!$D206,0)","v":0},{"$f":"IF(S257=\"Ja\",'Q_del,j en Q_del,dh'!$D206,0)","v":0},{"$f":"IF(T257=\"Ja\",'Q_del,j en Q_del,dh'!$D206,0)","v":0},{"$f":"IF(U257=\"Ja\",'Q_del,j en Q_del,dh'!$D206,0)","v":0},{"$f":"IF(V257=\"Ja\",'Q_del,j en Q_del,dh'!$D206,0)","v":0},{"$f":"IF(W257=\"Ja\",'Q_del,j en Q_del,dh'!$D206,0)","v":0},{"$f":"IF(X257=\"Ja\",'Q_del,j en Q_del,dh'!$D206,0)","v":0},{"$f":"IF(Y257=\"Ja\",'Q_del,j en Q_del,dh'!$D206,0)","v":0},{"$f":"IF(Z257=\"Ja\",'Q_del,j en Q_del,dh'!$D206,0)","v":0},{"$f":"IF(AA257=\"Ja\",'Q_del,j en Q_del,dh'!$D206,0)","v":0},{"$f":"IF(AB257=\"Ja\",'Q_del,j en Q_del,dh'!$D206,0)","v":0},{"$f":"IF(AC257=\"Ja\",'Q_del,j en Q_del,dh'!$D206,0)","v":0},{"$f":"IF(AD257=\"Ja\",'Q_del,j en Q_del,dh'!$D206,0)","v":0},{"$f":"IF(AE257=\"Ja\",'Q_del,j en Q_del,dh'!$D206,0)","v":0},{"$f":"IF(AF257=\"Ja\",'Q_del,j en Q_del,dh'!$D206,0)","v":0},{"$f":"IF(AG257=\"Ja\",'Q_del,j en Q_del,dh'!$D206,0)","v":0},{"$f":"IF(AH257=\"Ja\",'Q_del,j en Q_del,dh'!$D206,0)","v":0},{"$f":"IF(AI257=\"Ja\",'Q_del,j en Q_del,dh'!$D206,0)","v":0},{"$f":"IF(AJ257=\"Ja\",'Q_del,j en Q_del,dh'!$D206,0)","v":0},{"$f":"IF(AK257=\"Ja\",'Q_del,j en Q_del,dh'!$D206,0)","v":0},{"$f":"IF(AL257=\"Ja\",'Q_del,j en Q_del,dh'!$D206,0)","v":0},{"$f":"IF(AM257=\"Ja\",'Q_del,j en Q_del,dh'!$D206,0)","v":0},{"$f":"IF(AN257=\"Ja\",'Q_del,j en Q_del,dh'!$D206,0)","v":0},{"$f":"IF(AO257=\"Ja\",'Q_del,j en Q_del,dh'!$D206,0)","v":0},{"$f":"IF(AP257=\"Ja\",'Q_del,j en Q_del,dh'!$D206,0)","v":0},{"$f":"IF(AQ257=\"Ja\",'Q_del,j en Q_del,dh'!$D206,0)","v":0},{"$f":"IF(AR257=\"Ja\",'Q_del,j en Q_del,dh'!$D206,0)","v":0},{"$f":"IF(AS257=\"Ja\",'Q_del,j en Q_del,dh'!$D206,0)","v":0},{"$f":"IF(AT257=\"Ja\",'Q_del,j en Q_del,dh'!$D206,0)","v":0},{"$f":"IF(AU257=\"Ja\",'Q_del,j en Q_del,dh'!$D206,0)","v":0},{"$f":"IF(AV257=\"Ja\",'Q_del,j en Q_del,dh'!$D206,0)","v":0},{"$f":"IF(AW257=\"Ja\",'Q_del,j en Q_del,dh'!$D206,0)","v":0},{"$f":"IF(AX257=\"Ja\",'Q_del,j en Q_del,dh'!$D206,0)","v":0},{"$f":"IF(AY257=\"Ja\",'Q_del,j en Q_del,dh'!$D206,0)","v":0},{"$f":"IF(AZ257=\"Ja\",'Q_del,j en Q_del,dh'!$D206,0)","v":0},{"$f":"IF(BA257=\"Ja\",'Q_del,j en Q_del,dh'!$D206,0)","v":0}]
["Qdel,l,j [MJ]","warmtevrager 200",200,{"$f":"IF(D258=\"Ja\",'Q_del,j en Q_del,dh'!$D207,0)","v":0},{"$f":"IF(E258=\"Ja\",'Q_del,j en Q_del,dh'!$D207,0)","v":0},{"$f":"IF(F258=\"Ja\",'Q_del,j en Q_del,dh'!$D207,0)","v":0},{"$f":"IF(G258=\"Ja\",'Q_del,j en Q_del,dh'!$D207,0)","v":0},{"$f":"IF(H258=\"Ja\",'Q_del,j en Q_del,dh'!$D207,0)","v":0},{"$f":"IF(I258=\"Ja\",'Q_del,j en Q_del,dh'!$D207,0)","v":0},{"$f":"IF(J258=\"Ja\",'Q_del,j en Q_del,dh'!$D207,0)","v":0},{"$f":"IF(K258=\"Ja\",'Q_del,j en Q_del,dh'!$D207,0)","v":0},{"$f":"IF(L258=\"Ja\",'Q_del,j en Q_del,dh'!$D207,0)","v":0},{"$f":"IF(M258=\"Ja\",'Q_del,j en Q_del,dh'!$D207,0)","v":0},{"$f":"IF(N258=\"Ja\",'Q_del,j en Q_del,dh'!$D207,0)","v":0},{"$f":"IF(O258=\"Ja\",'Q_del,j en Q_del,dh'!$D207,0)","v":0},{"$f":"IF(P258=\"Ja\",'Q_del,j en Q_del,dh'!$D207,0)","v":0},{"$f":"IF(Q258=\"Ja\",'Q_del,j en Q_del,dh'!$D207,0)","v":0},{"$f":"IF(R258=\"Ja\",'Q_del,j en Q_del,dh'!$D207,0)","v":0},{"$f":"IF(S258=\"Ja\",'Q_del,j en Q_del,dh'!$D207,0)","v":0},{"$f":"IF(T258=\"Ja\",'Q_del,j en Q_del,dh'!$D207,0)","v":0},{"$f":"IF(U258=\"Ja\",'Q_del,j en Q_del,dh'!$D207,0)","v":0},{"$f":"IF(V258=\"Ja\",'Q_del,j en Q_del,dh'!$D207,0)","v":0},{"$f":"IF(W258=\"Ja\",'Q_del,j en Q_del,dh'!$D207,0)","v":0},{"$f":"IF(X258=\"Ja\",'Q_del,j en Q_del,dh'!$D207,0)","v":0},{"$f":"IF(Y258=\"Ja\",'Q_del,j en Q_del,dh'!$D207,0)","v":0},{"$f":"IF(Z258=\"Ja\",'Q_del,j en Q_del,dh'!$D207,0)","v":0},{"$f":"IF(AA258=\"Ja\",'Q_del,j en Q_del,dh'!$D207,0)","v":0},{"$f":"IF(AB258=\"Ja\",'Q_del,j en Q_del,dh'!$D207,0)","v":0},{"$f":"IF(AC258=\"Ja\",'Q_del,j en Q_del,dh'!$D207,0)","v":0},{"$f":"IF(AD258=\"Ja\",'Q_del,j en Q_del,dh'!$D207,0)","v":0},{"$f":"IF(AE258=\"Ja\",'Q_del,j en Q_del,dh'!$D207,0)","v":0},{"$f":"IF(AF258=\"Ja\",'Q_del,j en Q_del,dh'!$D207,0)","v":0},{"$f":"IF(AG258=\"Ja\",'Q_del,j en Q_del,dh'!$D207,0)","v":0},{"$f":"IF(AH258=\"Ja\",'Q_del,j en Q_del,dh'!$D207,0)","v":0},{"$f":"IF(AI258=\"Ja\",'Q_del,j en Q_del,dh'!$D207,0)","v":0},{"$f":"IF(AJ258=\"Ja\",'Q_del,j en Q_del,dh'!$D207,0)","v":0},{"$f":"IF(AK258=\"Ja\",'Q_del,j en Q_del,dh'!$D207,0)","v":0},{"$f":"IF(AL258=\"Ja\",'Q_del,j en Q_del,dh'!$D207,0)","v":0},{"$f":"IF(AM258=\"Ja\",'Q_del,j en Q_del,dh'!$D207,0)","v":0},{"$f":"IF(AN258=\"Ja\",'Q_del,j en Q_del,dh'!$D207,0)","v":0},{"$f":"IF(AO258=\"Ja\",'Q_del,j en Q_del,dh'!$D207,0)","v":0},{"$f":"IF(AP258=\"Ja\",'Q_del,j en Q_del,dh'!$D207,0)","v":0},{"$f":"IF(AQ258=\"Ja\",'Q_del,j en Q_del,dh'!$D207,0)","v":0},{"$f":"IF(AR258=\"Ja\",'Q_del,j en Q_del,dh'!$D207,0)","v":0},{"$f":"IF(AS258=\"Ja\",'Q_del,j en Q_del,dh'!$D207,0)","v":0},{"$f":"IF(AT258=\"Ja\",'Q_del,j en Q_del,dh'!$D207,0)","v":0},{"$f":"IF(AU258=\"Ja\",'Q_del,j en Q_del,dh'!$D207,0)","v":0},{"$f":"IF(AV258=\"Ja\",'Q_del,j en Q_del,dh'!$D207,0)","v":0},{"$f":"IF(AW258=\"Ja\",'Q_del,j en Q_del,dh'!$D207,0)","v":0},{"$f":"IF(AX258=\"Ja\",'Q_del,j en Q_del,dh'!$D207,0)","v":0},{"$f":"IF(AY258=\"Ja\",'Q_del,j en Q_del,dh'!$D207,0)","v":0},{"$f":"IF(AZ258=\"Ja\",'Q_del,j en Q_del,dh'!$D207,0)","v":0},{"$f":"IF(BA258=\"Ja\",'Q_del,j en Q_del,dh'!$D207,0)","v":0}]
[]
["nummering buffervat of warmtewisselaar",null,null,1,{"$f":"D515+1","v":2},{"$f":"E515+1","v":3},{"$f":"F515+1","v":4},5,6,7,8,9,10,11,12,13,14,15,16,17,18,19,20,21,22,23,24,25,26,27,28,29,30,31,32,33,34,35,36,37,38,39,40,41,42,43,44,45,46,47,48,49,{"$f":"AZ515+1","v":50}]

{"sheet":"Hulpenergie circulatiepomp","index":8,"n_rows":17,"n_cols":12,"rows_kept":17,"cut":false,"hidden":true,"merged":[[32,0,32,1],[33,0,33,1],[26,0,26,1],[27,0,27,1],[28,0,28,1],[29,0,29,1],[30,0,30,1],[31,0,31,1],[25,0,25,1],[14,0,14,1],[15,0,15,1],[16,0,16,1],[17,0,17,1],[18,0,18,1],[19,0,19,1],[20,0,20,1],[21,0,21,1],[22,0,22,1],[23,0,23,1],[24,0,24,1],[13,0,13,1],[0,0,0,1],[1,0,1,1],[2,0,2,1],[4,0,4,1],[6,0,6,1],[7,0,7,1],[8,0,8,1],[9,0,9,1],[10,0,10,1],[12,0,12,1],[5,0,5,1],[11,0,11,1]]}
["Hulpenergie circulatiepompen"]
[]
["1. Het jaarlijks eindenergieverbruik van elektriciteit als hulpenergie door alle circulatiepompen"]
["Eauxdist,el [MJ]",{"$f":"SUM(C12:L12 )","v":0}]
[]
["2. Het jaarlijks eindenergieverbruik van elektriciteit als hulpenergie door circulatiepomp j"]
["Eigenschappen ",null,{"$f":"\"Circulatiepomp \"&C$17","v":"Circulatiepomp 1"},{"$f":"\"Circulatiepomp \"&D$17","v":"Circulatiepomp 2"},{"$f":"\"Circulatiepomp \"&E$17","v":"Circulatiepomp 3"},"Circulatiepomp 4","Circulatiepomp 5","Circulatiepomp 6","Circulatiepomp 7","Circulatiepomp 8","Circulatiepomp 9","Circulatiepomp 10"]
["Vastlegging hulpenergieverbruik op basis van:"]
["Hulpenergie circulatiepomp op basis van meetwaarden [MJ]"]
["Hulpenergie circulatiepomp op basis van factuurwaarden [MJ]"]
["Het elektrisch vermogen van de circulatiepomp [W]"]
["Resultaat Eauxdist,el,j",null,{"$f":"C$16","v":0},{"$f":"D$16","v":0},{"$f":"E$16","v":0},0,0,0,0,0,0,0]
[]
["3. Berekening - verbergen",null,{"$f":"\"Circulatiepomp \"&C$17","v":"Circulatiepomp 1"},{"$f":"\"Circulatiepomp \"&D$17","v":"Circulatiepomp 2"},{"$f":"\"Circulatiepomp \"&E$17","v":"Circulatiepomp 3"},"Circulatiepomp 4","Circulatiepomp 5","Circulatiepomp 6","Circulatiepomp 7","Circulatiepomp 8","Circulatiepomp 9","Circulatiepomp 10"]
["Index Hulpenergieverbruik",null,{"$f":"IF(C8=\"\",0,VLOOKUP(C$8,T_Hulpenergie,2,FALSE))","v":0},0,0,0,0,0,0,0,0,0]
["Hulpenergieverbruik circulatiepomp [MJ]",null,{"$f":"IF(C$15=1,C$9,IF(C$15=2,C$10,IF(C$15=3,C$11*1.5*4.4,0)))","v":0},{"$f":"IF(D$15=1,D$9,IF(D$15=2,D$10,IF(D$15=3,D$11*1.5*4.4,0)))","v":0},{"$f":"IF(E$15=1,E$9,IF(E$15=2,E$10,IF(E$15=3,E$11*1.5*4.4,0)))","v":0},0,0,0,0,0,0,0]
["nummering circulatiepomp",null,1,{"$f":"C17+1","v":2},{"$f":"D17+1","v":3},4,5,6,7,8,9,10]

{"sheet":"Hulpenergie opwekkers","index":9,"n_rows":22,"n_cols":12,"rows_kept":22,"cut":false,"hidden":true,"merged":[[34,0,34,1],[35,0,35,1],[28,0,28,1],[29,0,29,1],[30,0,30,1],[31,0,31,1],[32,0,32,1],[33,0,33,1],[27,0,27,1],[16,0,16,1],[17,0,17,1],[19,0,19,1],[20,0,20,1],[21,0,21,1],[22,0,22,1],[23,0,23,1],[24,0,24,1],[25,0,25,1],[26,0,26,1],[15,0,15,1],[0,0,0,1],[1,0,1,1],[4,0,4,1],[6,0,6,1],[7,0,7,1],[8,0,8,1],[9,0,9,1],[10,0,10,1],[11,0,11,1],[12,0,12,1],[14,0,14,1],[2,0,2,1],[5,0,5,1],[13,0,13,1]]}
["Hulpenergie opwekkers"]
[]
["1. Het jaarlijks eindenergieverbruik van elektriciteit als hulpenergie door alle warmteopwekkers"]
["Eauxprod,el [MJ]",{"$f":"SUM(C14:L14 )","v":0}]
[]
["2. Het jaarlijks eindenergieverbruik van elektriciteit als hulpenergie door warmteopwekker k"]
["Eigenschappen",null,{"$f":"\"Opwekker \"&C$22","v":"Opwekker 1"},{"$f":"\"Opwekker \"&D$22","v":"Opwekker 2"},{"$f":"\"Opwekker \"&E$22","v":"Opwekker 3"},{"$f":"\"Opwekker \"&F$22","v":"Opwekker 4"},"Opwekker 5","Opwekker 6","Opwekker 7","Opwekker 8","Opwekker 9","Opwekker 10"]
["Vastlegging hulpenergieverbruik op basis van:"]
["Hulpenergie opwekker op basis van meetwaarden [MJ]"]
["Hulpenergie opwekker op basis van factuurwaarden [MJ]"]
["Het totale elektrische vermogen van de pompen, motoren en hulpfuncties van de warmteopwekker [W]"]
["Bepaling van de equivalente jaarlijkse werkingstijd "]
["De equivalente jaarlijkse werkingstijd op basis van meetwaarden [Ms]"]
["Resultaat Eauxprod,el,k [MJ]",null,{"$f":"C18","v":0},{"$f":"D18","v":0},{"$f":"E18","v":0},{"$f":"F18","v":0},0,0,0,0,0,0]
[]
["3. Berekening - verbergen",null,{"$f":"\"Opwekker \"&C$22","v":"Opwekker 1"},{"$f":"\"Opwekker \"&D$22","v":"Opwekker 2"},{"$f":"\"Opwekker \"&E$22","v":"Opwekker 3"},{"$f":"\"Opwekker \"&F$22","v":"Opwekker 4"},"Opwekker 5","Opwekker 6","Opwekker 7","Opwekker 8","Opwekker 9","Opwekker 10"]
["Index Hulpenergieverbruik",null,{"$f":"VLOOKUP(C$8,T_Hulpenergie,2,FALSE)","v":{"$error":"#N/A"}},{"$error":"#N/A"},{"$error":"#N/A"},{"$error":"#N/A"},{"$error":"#N/A"},{"$error":"#N/A"},{"$error":"#N/A"},{"$error":"#N/A"},{"$error":"#N/A"},{"$error":"#N/A"}]
["Hulpenergieverbruik opwekker [MJ]",null,{"$f":"IF(C8=\"\",0,IF(Warmteopwekkers!C$7=Keuzelijsten!$A$24,0,IF(C$17=1,C$9,IF(C$17=2,C$10,IF(C$17=3,C$11*C$20,0)))))","v":0},{"$f":"IF(D8=\"\",0,IF(Warmteopwekkers!D$7=Keuzelijsten!$A$24,0,IF(D$17=1,D$9,IF(D$17=2,D$10,IF(D$17=3,D$11*D$20,0)))))","v":0},{"$f":"IF(E8=\"\",0,IF(Warmteopwekkers!E$7=Keuzelijsten!$A$24,0,IF(E$17=1,E$9,IF(E$17=2,E$10,IF(E$17=3,E$11*E$20,0)))))","v":0},{"$f":"IF(F8=\"\",0,IF(Warmteopwekkers!F$7=Keuzelijsten!$A$24,0,IF(F$17=1,F$9,IF(F$17=2,F$10,IF(F$17=3,F$11*F$20,0)))))","v":0},{"$f":"IF(G8=\"\",0,IF(Warmteopwekkers!G$7=Keuzelijsten!$A$24,0,IF(G$17=1,G$9,IF(G$17=2,G$10,IF(G$17=3,G$11*G$20,0)))))","v":0},{"$f":"IF(H8=\"\",0,IF(Warmteopwekkers!H$7=Keuzelijsten!$A$24,0,IF(H$17=1,H$9,IF(H$17=2,H$10,IF(H$17=3,H$11*H$20,0)))))","v":0},{"$f":"IF(I8=\"\",0,IF(Warmteopwekkers!I$7=Keuzelijsten!$A$24,0,IF(I$17=1,I$9,IF(I$17=2,I$10,IF(I$17=3,I$11*I$20,0)))))","v":0},{"$f":"IF(J8=\"\",0,IF(Warmteopwekkers!J$7=Keuzelijsten!$A$24,0,IF(J$17=1,J$9,IF(J$17=2,J$10,IF(J$17=3,J$11*J$20,0)))))","v":0},{"$f":"IF(K8=\"\",0,IF(Warmteopwekkers!K$7=Keuzelijsten!$A$24,0,IF(K$17=1,K$9,IF(K$17=2,K$10,IF(K$17=3,K$11*K$20,0)))))","v":0},{"$f":"IF(L8=\"\",0,IF(Warmteopwekkers!L$7=Keuzelijsten!$A$24,0,IF(L$17=1,L$9,IF(L$17=2,L$10,IF(L$17=3,L$11*L$20,0)))))","v":0}]
["Index tonk",null,{"$f":"IF(OR(C8=Keuzelijsten!$A$145,C8=Keuzelijsten!$A$146),\"nvt\",VLOOKUP(C$12,T_tonk,2,FALSE))","v":{"$error":"#N/A"}},{"$f":"IF(OR(D8=Keuzelijsten!$A$145,D8=Keuzelijsten!$A$146),\"nvt\",VLOOKUP(D$12,T_tonk,2,FALSE))","v":{"$error":"#N/A"}},{"$f":"IF(OR(E8=Keuzelijsten!$A$145,E8=Keuzelijsten!$A$146),\"nvt\",VLOOKUP(E$12,T_tonk,2,FALSE))","v":{"$error":"#N/A"}},{"$f":"IF(OR(F8=Keuzelijsten!$A$145,F8=Keuzelijsten!$A$146),\"nvt\",VLOOKUP(F$12,T_tonk,2,FALSE))","v":{"$error":"#N/A"}},{"$f":"IF(OR(G8=Keuzelijsten!$A$145,G8=Keuzelijsten!$A$146),\"nvt\",VLOOKUP(G$12,T_tonk,2,FALSE))","v":{"$error":"#N/A"}},{"$f":"IF(OR(H8=Keuzelijsten!$A$145,H8=Keuzelijsten!$A$146),\"nvt\",VLOOKUP(H$12,T_tonk,2,FALSE))","v":{"$error":"#N/A"}},{"$f":"IF(OR(I8=Keuzelijsten!$A$145,I8=Keuzelijsten!$A$146),\"nvt\",VLOOKUP(I$12,T_tonk,2,FALSE))","v":{"$error":"#N/A"}},{"$f":"IF(OR(J8=Keuzelijsten!$A$145,J8=Keuzelijsten!$A$146),\"nvt\",VLOOKUP(J$12,T_tonk,2,FALSE))","v":{"$error":"#N/A"}},{"$f":"IF(OR(K8=Keuzelijsten!$A$145,K8=Keuzelijsten!$A$146),\"nvt\",VLOOKUP(K$12,T_tonk,2,FALSE))","v":{"$error":"#N/A"}},{"$f":"IF(OR(L8=Keuzelijsten!$A$145,L8=Keuzelijsten!$A$146),\"nvt\",VLOOKUP(L$12,T_tonk,2,FALSE))","v":{"$error":"#N/A"}}]
["ton,k [Ms]",null,{"$f":"IF(OR(C8=Keuzelijsten!$A$145,C8=Keuzelijsten!$A$146),\"nvt\",IF(C$19=1,C$13,C$21))","v":{"$error":"#N/A"}},{"$f":"IF(OR(D8=Keuzelijsten!$A$145,D8=Keuzelijsten!$A$146),\"nvt\",IF(D$19=1,D$13,D$21))","v":{"$error":"#N/A"}},{"$f":"IF(OR(E8=Keuzelijsten!$A$145,E8=Keuzelijsten!$A$146),\"nvt\",IF(E$19=1,E$13,E$21))","v":{"$error":"#N/A"}},{"$f":"IF(OR(F8=Keuzelijsten!$A$145,F8=Keuzelijsten!$A$146),\"nvt\",IF(F$19=1,F$13,F$21))","v":{"$error":"#N/A"}},{"$f":"IF(OR(G8=Keuzelijsten!$A$145,G8=Keuzelijsten!$A$146),\"nvt\",IF(G$19=1,G$13,G$21))","v":{"$error":"#N/A"}},{"$f":"IF(OR(H8=Keuzelijsten!$A$145,H8=Keuzelijsten!$A$146),\"nvt\",IF(H$19=1,H$13,H$21))","v":{"$error":"#N/A"}},{"$f":"IF(OR(I8=Keuzelijsten!$A$145,I8=Keuzelijsten!$A$146),\"nvt\",IF(I$19=1,I$13,I$21))","v":{"$error":"#N/A"}},{"$f":"IF(OR(J8=Keuzelijsten!$A$145,J8=Keuzelijsten!$A$146),\"nvt\",IF(J$19=1,J$13,J$21))","v":{"$error":"#N/A"}},{"$f":"IF(OR(K8=Keuzelijsten!$A$145,K8=Keuzelijsten!$A$146),\"nvt\",IF(K$19=1,K$13,K$21))","v":{"$error":"#N/A"}},{"$f":"IF(OR(L8=Keuzelijsten!$A$145,L8=Keuzelijsten!$A$146),\"nvt\",IF(L$19=1,L$13,L$21))","v":{"$error":"#N/A"}}]
["Rekenwaarde ton,k",null,{"$f":"IF(C12=Keuzelijsten!$A$152,\"nvt\",IF(OR(C8=Keuzelijsten!$A$145,C8=Keuzelijsten!$A$146),\"nvt\",1.5*1.1*Warmteopwekkers!C$42*'fp,dh en energiebalans'!$B$6/(1000*Warmteopwekkers!C$41)))","v":{"$error":"#DIV/0!"}},{"$f":"IF(D12=Keuzelijsten!$A$152,\"nvt\",IF(OR(D8=Keuzelijsten!$A$145,D8=Keuzelijsten!$A$146),\"nvt\",1.5*1.1*Warmteopwekkers!D$42*'fp,dh en energiebalans'!$B$6/(1000*Warmteopwekkers!D$41)))","v":{"$error":"#DIV/0!"}},{"$f":"IF(E12=Keuzelijsten!$A$152,\"nvt\",IF(OR(E8=Keuzelijsten!$A$145,E8=Keuzelijsten!$A$146),\"nvt\",1.5*1.1*Warmteopwekkers!E$42*'fp,dh en energiebalans'!$B$6/(1000*Warmteopwekkers!E$41)))","v":{"$error":"#DIV/0!"}},{"$f":"IF(F12=Keuzelijsten!$A$152,\"nvt\",IF(OR(F8=Keuzelijsten!$A$145,F8=Keuzelijsten!$A$146),\"nvt\",1.5*1.1*Warmteopwekkers!F$42*'fp,dh en energiebalans'!$B$6/(1000*Warmteopwekkers!F$41)))","v":{"$error":"#DIV/0!"}},{"$f":"IF(G12=Keuzelijsten!$A$152,\"nvt\",IF(OR(G8=Keuzelijsten!$A$145,G8=Keuzelijsten!$A$146),\"nvt\",1.5*1.1*Warmteopwekkers!G$42*'fp,dh en energiebalans'!$B$6/(1000*Warmteopwekkers!G$41)))","v":{"$error":"#DIV/0!"}},{"$f":"IF(H12=Keuzelijsten!$A$152,\"nvt\",IF(OR(H8=Keuzelijsten!$A$145,H8=Keuzelijsten!$A$146),\"nvt\",1.5*1.1*Warmteopwekkers!H$42*'fp,dh en energiebalans'!$B$6/(1000*Warmteopwekkers!H$41)))","v":{"$error":"#DIV/0!"}},{"$f":"IF(I12=Keuzelijsten!$A$152,\"nvt\",IF(OR(I8=Keuzelijsten!$A$145,I8=Keuzelijsten!$A$146),\"nvt\",1.5*1.1*Warmteopwekkers!I$42*'fp,dh en energiebalans'!$B$6/(1000*Warmteopwekkers!I$41)))","v":{"$error":"#DIV/0!"}},{"$f":"IF(J12=Keuzelijsten!$A$152,\"nvt\",IF(OR(J8=Keuzelijsten!$A$145,J8=Keuzelijsten!$A$146),\"nvt\",1.5*1.1*Warmteopwekkers!J$42*'fp,dh en energiebalans'!$B$6/(1000*Warmteopwekkers!J$41)))","v":{"$error":"#DIV/0!"}},{"$f":"IF(K12=Keuzelijsten!$A$152,\"nvt\",IF(OR(K8=Keuzelijsten!$A$145,K8=Keuzelijsten!$A$146),\"nvt\",1.5*1.1*Warmteopwekkers!K$42*'fp,dh en energiebalans'!$B$6/(1000*Warmteopwekkers!K$41)))","v":{"$error":"#DIV/0!"}},{"$f":"IF(L12=Keuzelijsten!$A$152,\"nvt\",IF(OR(L8=Keuzelijsten!$A$145,L8=Keuzelijsten!$A$146),\"nvt\",1.5*1.1*Warmteopwekkers!L$42*'fp,dh en energiebalans'!$B$6/(1000*Warmteopwekkers!L$41)))","v":{"$error":"#DIV/0!"}}]
["nummering opwekker",null,1,{"$f":"C22+1","v":2},{"$f":"D22+1","v":3},{"$f":"E22+1","v":4},5,6,7,8,9,10]

{"sheet":"Keuzelijsten","index":10,"n_rows":208,"n_cols":17,"rows_kept":208,"cut":false,"hidden":true,"merged":[[32,2,32,4],[32,5,32,7],[32,8,32,10],[32,11,32,13]]}
["Dit tabblad bevat gegevens ter ondersteuning van de programmatie die niet gewijzigd mogen worden!!"]
[]
["Tabel 1: Energiedragers"]
["Energiedrager ","index","fp","fl/h","fCO2"]
["Aardgas",1,1,0.9,5.6000000000000001E-2]
["Propaan",2,1,0.92,6.3E-2]
["Butaan",3,1,0.92,6.3E-2]
["LPG",4,1,0.92,6.3E-2]
["Gasolie",5,1,0.94,7.3999999999999996E-2]
["Kolen ",6,1,0.96,9.5000000000000001E-2]
["Biomassa",7,1,0.93,0.1]
["Elektriciteit",8,2.5,1,0.11]
["Elektriciteit (productie WKK)",9,2.5,1,0.11]
[]
[]
["Tabel 2: Ja/nee"]
["Ja",1]
["Nee",2]
[]
[]
["Tabel 3: Type opwekker"]
["Type opwekker","Index"]
["Bovenliggend warmtenet",1]
["Opwekker van restwarmte",2]
["Condenserende ketel",3]
["Niet-condenserende ketel",4]
["warmtekrachtkoppeling (WKK)",5]
["Elektrische weerstandsverwarming",6]
["Diepe geothermie",8]
["Elektrische warmtepomp",7]
[]
[]
["Tabel 4: Types WKK",null,"a elec",null,null,"b elec",null,null,"a th",null,null,"b th"]
["Type WKK","Index","x < 5 kW","5 kW < x < 5 MW","5000 MW < x","x < 5 kW","5 kW < x < 5 MW","5000 MW < x","x < 5 kW","5 kW < x < 5 MW","5000 MW < x","x < 5 kW","5 kW < x < 5 MW","5000 MW < x","a","b","fp"]
["Interne verbrandingsmotor op aardgas",1,0.251,0.22800000000000001,0.38400000000000001,0,6.0999999999999999E-2,0,0.57299999999999995,0.623,0.39600000000000002,0,-5.2999999999999999E-2,0,0.33229999999999998,1.123,1]
["Interne verbrandingsmotor op gas afkomstig van biomassa",2,0.248,0.222,0.4,0,6.9000000000000006E-2,0,0.54200000000000004,0.60099999999999998,0.34499999999999997,0,-6.5000000000000002E-2,0,0.33050000000000002,1.147,1]
["Interne verbrandingsmotor op gasolie",3,0.27900000000000003,0.253,0.433,0,6.3E-2,0,0.53600000000000003,0.58699999999999997,0.36099999999999999,0,-5.7000000000000002E-2,0,0.3947,1.131,1]
["Interne verbrandingsmotor op plantaardige olie",4,0.26800000000000002,0.24,0.436,0,7.0000000000000007E-2,0,0.57299999999999995,0.63700000000000001,0.36299999999999999,0,-6.6000000000000003E-2,0,0.3306,1.1519999999999999,1]
["Ander",5]
[]
[]
["Tabel 5: Keuzelijst berekening warmtevraag"]
["Berekening afgeleverde warmte op basis van:","Index"]
["Meetwaarden ",1]
["Factuurwaarden ",2]
["EPB-waarden",3]
["Bruikbare vloeroppervlakte",4]
["Waarde bij ontstentenis",5]
[]
[]
["Tabel 6: Keuzelijst type warmtevrager"]
["Type warmtevrager","Index","Q_del,j,f_RVW","Qdel,j,f_SWW","RVW + SWW","RVW","bevochtiging","koeling","RVW+BV","RVW + K","BV + K","RVW + BV + K","A_usable,j,f"]
[null,"Index",1,2,3,1,2,3,4,5,6,7]
["Appartement",1,177,34,{"$f":"C54+D54","v":211},0,0,0,0,0,0,0,98]
["Rijwoning",2,177,32,{"$f":"C55+D55","v":209},0,0,0,0,0,0,0,181]
["Halfopen bebouwing residentieel",3,195,32,{"$f":"C56+D56","v":227},0,0,0,0,0,0,0,189]
["Open bebouwing residentieel",4,198,31,{"$f":"C57+D57","v":229},0,0,0,0,0,0,0,227]
["Overige eenheden",5,145,20,{"$f":"C58+D58","v":165},0,{"$f":"F58","v":0},{"$f":"F58","v":0},{"$f":"F58","v":0},{"$f":"F58","v":0},{"$f":"F58","v":0},{"$f":"F58","v":0}]
[]
[]
[]
[]
["Tabel 8: Type EPB-eenheid"]
["Type EPB-eenheid","Index"]
["EPW-eenheid",1]
["EPN-eenheid",3]
[]
[]
["Tabel 9: uitvoeringswijze ondergrondse leidingen "]
["Uitvoeringswijze ondergrondse leidingen","Index","fx,j"]
["2 of meer parallelle leidingen in volle grond",1,1.05]
["Eén enkele leiding, geplaatst in volle grond",2,1]
["2 leidingen, parallel geplaatst in  een gemeenschappelijke ondergrondse buisbehuizing",3,0.8]
["Andere uitvoeringswijze",4,0.6]
[]
[]
["Tabel 10: de conventionele maandelijkse werkingstijd van het warmteverdelingsnet n, als waarde bij ontstentenis geldt de duur van de betrokken maand volgens Tabel 1 van bijlage EPR"]
["Maand","Index","theat,netw n,m [Ms]","θe,m [°C]","11+0,4*θe,m [°C]","18 [°C]"]
["Jan",1,2.6783999999999999,3.2,{"$f":"11+0.4*D79","v":12.280000000000001},18]
["Feb",2,2.4192,3.9,{"$f":"11+0.4*D80","v":12.56},18]
["Maa",3,2.6783999999999999,5.9,{"$f":"11+0.4*D81","v":13.36},18]
["Apr",4,2.5920000000000001,9.1999999999999993,14.68,18]
["Mei",5,2.6783999999999999,13.3,16.32,18]
["Jun",6,2.5920000000000001,16.2,17.48,18]
["Jul",7,2.6783999999999999,17.600000000000001,18.04,18]
["Aug",8,2.6783999999999999,17.600000000000001,18.04,18]
["Sep",9,2.5920000000000001,15.2,17.079999999999998,18]
["Okt",10,2.6783999999999999,11.2,15.48,18]
["Nov",11,2.5920000000000001,6.3,13.52,18]
["Dec",12,2.6783999999999999,3.5,{"$f":"11+0.4*D90","v":12.4},18]
[]
[]
["Tabel 11: θamb,m,n [°C] / ligging segment"]
["ligging segment n","Index","hse,j [W/m²K]"]
["Binnen het beschermd volume",1,8]
["In een AOR van de warmtevrager",2,10]
["Buiten",3,25]
[]
[]
["Tabel 12: Keuzelijst berekening verliezen"]
["Berekening warmteverliezen op basis van:","Index "]
["Waarde bij ontstentenis",1]
["Detailberekening",2]
[]
[]
["Tabel 13: begrenzing warmtenet"]
["Situatie","Index","Begrenzing warmtenet"]
["Er is één warmtemeter",1,"aan de warmtemeter"]
["Er zijn meerdere warmtemeters",2]
["Er is geen warmtemeter, er is wel een onderstation bij de warmtevrager",3,"aan het onderstation"]
["Er is geen warmtemeter, er is geen onderstation bij de warmtevrager",4,"aan de doorgang tot het gebouw"]
[]
[]
["Tabel 14: toepassing geleverde warmte in EPW-eenheid"]
["Mogelijkheden","Index"]
["Voor verwarming",1]
["Voor warm water",2]
["Voor verwarming en warm water",3]
[]
[]
["Tabel 14: toepassing geleverde warmte in EPU-eenheid"]
["Mogelijkheden","Index"]
["Voor verwarming",1]
["Voor bevochtiging",2]
["Voor koeling",3]
["Voor verwarming en bevochtiging",4]
["Voor verwarming en koeling",5]
["Voor koeling en bevochtiging",6]
["Voor verwarming, koeling en bevochtiging.",7]
[]
[]
["Tabel 15: warmtebron WP"]
["warmtebron","Index"]
["Bodem",1]
["Bodem (directe verdamping)",2]
["Grondwater",3]
["Oppervlaktewater",4]
["Enkel buitenlucht",5]
["Enkel afgevoerde ventilatielucht",6]
["Afgevoerde ventilatielucht vermengd met buitenlucht",7]
[]
[]
["Tabel 16: berekening hulpenergie "]
["Bepaling hulpenergieverbruik","Index"]
["Meetwaarden ",1]
["Factuurwaarden ",2]
["Rekenwaarden",3]
[]
[]
["Tabel 17: berekening t_on,k"]
["Bepaling t_on,k","Index"]
["Meetwaarden ",1]
["Rekenwaarden",2]
[]
[]
["Tabel 18: Dimensieloze hulpvariabele bij het bepalen van de energiefractie voor omgevingsonafhankelijke warmteopwekkers"]
["βgen,k","f'heat,k"]
[0,0]
[0.1,0.45]
[0.2,0.7]
[0.3,0.84]
[0.4,0.92]
[0.5,0.96]
[0.6,0.98]
[0.7,1]
[0.8,1]
[0.9,1]
[1,1]
[]
[]
["Tabel 19: Meet- of factuurwaarden vs. berekening energieverbruik warmteopwekkers"]
["Bepaling Egen,i","Index"]
["Meet- of factuurwaarden ",1]
["Rekenwaarden",2]
[]
[]
["Tabel 20: relatie van aanvrager tot systeem van externe warmtelevering"]
["relatie aanvrager ","Index"]
["Aangifteplichtige",1]
["Warmtenetbeheerder",2]
["Projectontwikkelaar",3]
["Ander",4]
[]
[]
["Tabel 21: bestaand of nieuw"]
[null,"Index"]
["Bestaand",1]
["Nieuw te realiseren",2]
[]
[]
["Tabel 22: systemen van EW"]
[null,"Index"]
["Een systeem gelegen binnen de eigen site dat meerdere gebouwen bedient",1]
["Een systeem dat de eigen site overschrijdt en dat meerdere gebouwen bedient",2]
["Een systeem waarbij één gebouw de eigen site overschrijdt",3]
[]
[]
["Tabel 23: correctiefactor om rekening te houden met de impact van koudebruggen"]
[null,"Index","finsul, netw n"]
["geval 1",1,1.1000000000000001]
["geval 2",2,1.3]
["geval 3",3,2]
[]
[]
["Tabel 24: vorm leiding"]
[null,"Index"]
["Ronde leidingen en kanalen",1]
["Rechthoekige kanalen",2]

{"sheet":"fp,dh en energiebalans","index":11,"n_rows":22,"n_cols":4,"rows_kept":22,"cut":false,"hidden":true,"merged":[]}
["Tussenresultaten niveau dh"]
[]
["Qdel,dh",{"$f":"'Q_del,j en Q_del,dh'!C4","v":0}]
["Qlossdist,dh",{"$f":"IF(START!$C$6=Keuzelijsten!$A$152,\"nvt\",IF(START!$C$7=Keuzelijsten!$A$103,'Warmteverliezen lineair'!$B$4,\"nvt\"))","v":0}]
["Qlossloc,dh",{"$f":"IF(START!$C$6=Keuzelijsten!$A$152,\"nvt\",IF(START!$C$7=Keuzelijsten!$A$103,'Warmteverliezen lokaal'!$B$4,\"nvt\"))","v":0}]
["Qgen,dh",{"$f":"IF(START!$C$6=Keuzelijsten!$A$152,Warmteopwekkers!$B$106,IF(START!$C$7=Keuzelijsten!$A$102,'fp,dh en energiebalans'!$B$3*1.4,'fp,dh en energiebalans'!$B$3+'fp,dh en energiebalans'!$B$4+'fp,dh en energiebalans'!$B$5))","v":0}]
["Pgen,dh",{"$f":"$B$6/4000","v":0}]
["Ep,dh",{"$f":"SUM($D$15:$D$19)-$B$22","v":0}]
["fp,dh",{"$f":"MAX($B$8/$B$3,0.7)","v":{"$error":"#DIV/0!"}}]
["fp,dh*",{"$f":"$B$8/$B$3","v":{"$error":"#DIV/0!"}}]
["fRE,dh",{"$f":"Warmteopwekkers!$B$101","v":0}]
[]
["Tussenresultaten niveau i"]
["i","Egen,i [MJ]*fp,i","Eaux,i [MJ]*fp,i","Ein,i [MJ]*fp,i"]
["fossiel",{"$f":"Warmteopwekkers!B89","v":0},0,{"$f":"B15+C15","v":0}]
["elek",{"$f":"Warmteopwekkers!B90","v":0},{"$f":" IF(START!$C$8=Keuzelijsten!$A$102,0.02*'fp,dh en energiebalans'!$B$6,'Hulpenergie circulatiepomp'!$B$4+'Hulpenergie opwekkers'!$B$4)*2.5","v":0},{"$f":"B16+C16","v":0}]
["biomassa",{"$f":"Warmteopwekkers!B91","v":0},0,{"$f":"B17+C17","v":0}]
["restwarmte",{"$f":"Warmteopwekkers!B92","v":0},0,{"$f":"B18+C18","v":0}]
["bovenliggend warmtenet",{"$f":"Warmteopwekkers!B93","v":0},0,0]
[]
["i","Eout,i [MJ]*fp,i"]
["elek door WKK",{"$f":"Warmteopwekkers!B97*2.5","v":0}]

{"sheet":"Q_del,j en Q_del,dh","index":12,"n_rows":207,"n_cols":12,"rows_kept":207,"cut":false,"hidden":true,"merged":[]}
[null,"Afgeleverde warmte aan de warmtevragers van het systeem van externe warmtelevering"]
[]
[null,"1. De hoeveelheid warmte die jaarlijks wordt afgeleverd aan de warmtevragers in het systeem van externe warmtelevering"]
[null,"Qdel,dh [MJ]",{"$f":"Warmtevragers!B4","v":0}]
[]
["verbergen","2. De hoeveelheid warmte die jaarlijks wordt afgeleverd aan warmtevrager j"]
[null,"Warmtevrager","Naam","Qdel,j [MJ]","EPB-plichtig?","Type EPB-eenheid","Toepassing van de warmte voor verwarming","Toepassing van de warmte voor sanitair warm water","Toepassing van de warmte voor koeling","Toepassing van de warmte voor bevochtiging","rend [-]","Begrenzing warmtenet"]
[0,{"$f":"\"Warmtevrager \"&A8+1","v":"Warmtevrager 1"},{"$f":"IF(A8=\"\",\"\",OFFSET(Warmtevragers!$C$7,2,A8,1,1))","v":0},{"$f":"IF(A8=\"\",\"\",OFFSET(Warmtevragers!$C$7,30,A8,1,1))","v":0},{"$f":"IF(A8=\"\",\"\",OFFSET(Warmtevragers!$C$7,5,A8,1,1))","v":0},{"$f":"IF(A8=\"\",\"\",OFFSET(Warmtevragers!$C$7,6,A8,1,1))","v":0},{"$f":"IF(OR(F8=Keuzelijsten!$A$65,F8=Keuzelijsten!$A$66),(IF(A8=\"\",\"\",OFFSET(Warmtevragers!$C$7,8,A8,1,1))),\"Nee\")","v":"Nee"},{"$f":"IF(OR(F8=Keuzelijsten!$A$65,F8=Keuzelijsten!$A$66),(IF(A8=\"\",\"\",OFFSET(Warmtevragers!$C$7,9,A8,1,1))),\"Nee\")","v":"Nee"},{"$f":"IF(OR(F8=Keuzelijsten!$A$66),(IF(A8=\"\",\"\",OFFSET(Warmtevragers!$C$7,10,A8,1,1))),\"Nee\")","v":"Nee"},{"$f":"IF(OR(F8=Keuzelijsten!$A$66),(IF(A8=\"\",\"\",OFFSET(Warmtevragers!$C$7,11,A8,1,1))),\"Nee\")","v":"Nee"},{"$f":"IF(A8=\"\",\"\",IF(OFFSET(Warmtevragers!$C$7,7,A8,1,1)=\"Ja\",0.97,1))","v":1},{"$f":"IF(A8=\"\",\"\",IF(OFFSET(Warmtevragers!$C$7,12,A8,1,1)=\"Er zijn meerdere warmtemeters\",CONCATENATE(OFFSET(Warmtevragers!$C$7,12,A8,1,1),\": \",OFFSET(Warmtevragers!$C$7,13,A8,1,1)),OFFSET(Warmtevragers!$C$7,12,A8,1,1)))","v":0}]
[{"$f":"A8+1","v":1},"Warmtevrager 2",{"$f":"IF(A9=\"\",\"\",OFFSET(Warmtevragers!$C$7,2,A9,1,1))","v":0},{"$f":"IF(A9=\"\",\"\",OFFSET(Warmtevragers!$C$7,30,A9,1,1))","v":0},{"$f":"IF(A9=\"\",\"\",OFFSET(Warmtevragers!$C$7,5,A9,1,1))","v":0},{"$f":"IF(A9=\"\",\"\",OFFSET(Warmtevragers!$C$7,6,A9,1,1))","v":0},{"$f":"IF(OR(F9=Keuzelijsten!$A$65,F9=Keuzelijsten!$A$66),(IF(A9=\"\",\"\",OFFSET(Warmtevragers!$C$7,8,A9,1,1))),\"Nee\")","v":"Nee"},{"$f":"IF(OR(F9=Keuzelijsten!$A$65,F9=Keuzelijsten!$A$66),(IF(A9=\"\",\"\",OFFSET(Warmtevragers!$C$7,9,A9,1,1))),\"Nee\")","v":"Nee"},{"$f":"IF(OR(F9=Keuzelijsten!$A$66),(IF(A9=\"\",\"\",OFFSET(Warmtevragers!$C$7,10,A9,1,1))),\"Nee\")","v":"Nee"},{"$f":"IF(OR(F9=Keuzelijsten!$A$66),(IF(A9=\"\",\"\",OFFSET(Warmtevragers!$C$7,11,A9,1,1))),\"Nee\")","v":"Nee"},{"$f":"IF(A9=\"\",\"\",IF(OFFSET(Warmtevragers!$C$7,7,A9,1,1)=\"Ja\",0.97,1))","v":1},{"$f":"IF(A9=\"\",\"\",IF(OFFSET(Warmtevragers!$C$7,12,A9,1,1)=\"Er zijn meerdere warmtemeters\",CONCATENATE(OFFSET(Warmtevragers!$C$7,12,A9,1,1),\": \",OFFSET(Warmtevragers!$C$7,13,A9,1,1)),OFFSET(Warmtevragers!$C$7,12,A9,1,1)))","v":0}]
[{"$f":"A9+1","v":2},"Warmtevrager 3",{"$f":"IF(A10=\"\",\"\",OFFSET(Warmtevragers!$C$7,2,A10,1,1))","v":0},{"$f":"IF(A10=\"\",\"\",OFFSET(Warmtevragers!$C$7,30,A10,1,1))","v":0},{"$f":"IF(A10=\"\",\"\",OFFSET(Warmtevragers!$C$7,5,A10,1,1))","v":0},{"$f":"IF(A10=\"\",\"\",OFFSET(Warmtevragers!$C$7,6,A10,1,1))","v":0},{"$f":"IF(OR(F10=Keuzelijsten!$A$65,F10=Keuzelijsten!$A$66),(IF(A10=\"\",\"\",OFFSET(Warmtevragers!$C$7,8,A10,1,1))),\"Nee\")","v":"Nee"},{"$f":"IF(OR(F10=Keuzelijsten!$A$65,F10=Keuzelijsten!$A$66),(IF(A10=\"\",\"\",OFFSET(Warmtevragers!$C$7,9,A10,1,1))),\"Nee\")","v":"Nee"},{"$f":"IF(OR(F10=Keuzelijsten!$A$66),(IF(A10=\"\",\"\",OFFSET(Warmtevragers!$C$7,10,A10,1,1))),\"Nee\")","v":"Nee"},{"$f":"IF(OR(F10=Keuzelijsten!$A$66),(IF(A10=\"\",\"\",OFFSET(Warmtevragers!$C$7,11,A10,1,1))),\"Nee\")","v":"Nee"},{"$f":"IF(A10=\"\",\"\",IF(OFFSET(Warmtevragers!$C$7,7,A10,1,1)=\"Ja\",0.97,1))","v":1},{"$f":"IF(A10=\"\",\"\",IF(OFFSET(Warmtevragers!$C$7,12,A10,1,1)=\"Er zijn meerdere warmtemeters\",CONCATENATE(OFFSET(Warmtevragers!$C$7,12,A10,1,1),\": \",OFFSET(Warmtevragers!$C$7,13,A10,1,1)),OFFSET(Warmtevragers!$C$7,12,A10,1,1)))","v":0}]
[{"$f":"A10+1","v":3},"Warmtevrager 4",{"$f":"IF(A11=\"\",\"\",OFFSET(Warmtevragers!$C$7,2,A11,1,1))","v":0},{"$f":"IF(A11=\"\",\"\",OFFSET(Warmtevragers!$C$7,30,A11,1,1))","v":0},{"$f":"IF(A11=\"\",\"\",OFFSET(Warmtevragers!$C$7,5,A11,1,1))","v":0},{"$f":"IF(A11=\"\",\"\",OFFSET(Warmtevragers!$C$7,6,A11,1,1))","v":0},{"$f":"IF(OR(F11=Keuzelijsten!$A$65,F11=Keuzelijsten!$A$66),(IF(A11=\"\",\"\",OFFSET(Warmtevragers!$C$7,8,A11,1,1))),\"Nee\")","v":"Nee"},{"$f":"IF(OR(F11=Keuzelijsten!$A$65,F11=Keuzelijsten!$A$66),(IF(A11=\"\",\"\",OFFSET(Warmtevragers!$C$7,9,A11,1,1))),\"Nee\")","v":"Nee"},{"$f":"IF(OR(F11=Keuzelijsten!$A$66),(IF(A11=\"\",\"\",OFFSET(Warmtevragers!$C$7,10,A11,1,1))),\"Nee\")","v":"Nee"},{"$f":"IF(OR(F11=Keuzelijsten!$A$66),(IF(A11=\"\",\"\",OFFSET(Warmtevragers!$C$7,11,A11,1,1))),\"Nee\")","v":"Nee"},{"$f":"IF(A11=\"\",\"\",IF(OFFSET(Warmtevragers!$C$7,7,A11,1,1)=\"Ja\",0.97,1))","v":1},{"$f":"IF(A11=\"\",\"\",IF(OFFSET(Warmtevragers!$C$7,12,A11,1,1)=\"Er zijn meerdere warmtemeters\",CONCATENATE(OFFSET(Warmtevragers!$C$7,12,A11,1,1),\": \",OFFSET(Warmtevragers!$C$7,13,A11,1,1)),OFFSET(Warmtevragers!$C$7,12,A11,1,1)))","v":0}]
[4,"Warmtevrager 5",{"$f":"IF(A12=\"\",\"\",OFFSET(Warmtevragers!$C$7,2,A12,1,1))","v":0},{"$f":"IF(A12=\"\",\"\",OFFSET(Warmtevragers!$C$7,30,A12,1,1))","v":0},{"$f":"IF(A12=\"\",\"\",OFFSET(Warmtevragers!$C$7,5,A12,1,1))","v":0},{"$f":"IF(A12=\"\",\"\",OFFSET(Warmtevragers!$C$7,6,A12,1,1))","v":0},{"$f":"IF(OR(F12=Keuzelijsten!$A$65,F12=Keuzelijsten!$A$66),(IF(A12=\"\",\"\",OFFSET(Warmtevragers!$C$7,8,A12,1,1))),\"Nee\")","v":"Nee"},{"$f":"IF(OR(F12=Keuzelijsten!$A$65,F12=Keuzelijsten!$A$66),(IF(A12=\"\",\"\",OFFSET(Warmtevragers!$C$7,9,A12,1,1))),\"Nee\")","v":"Nee"},{"$f":"IF(OR(F12=Keuzelijsten!$A$66),(IF(A12=\"\",\"\",OFFSET(Warmtevragers!$C$7,10,A12,1,1))),\"Nee\")","v":"Nee"},{"$f":"IF(OR(F12=Keuzelijsten!$A$66),(IF(A12=\"\",\"\",OFFSET(Warmtevragers!$C$7,11,A12,1,1))),\"Nee\")","v":"Nee"},{"$f":"IF(A12=\"\",\"\",IF(OFFSET(Warmtevragers!$C$7,7,A12,1,1)=\"Ja\",0.97,1))","v":1},{"$f":"IF(A12=\"\",\"\",IF(OFFSET(Warmtevragers!$C$7,10,A12,1,1)=\"Er zijn meerdere warmtemeters\",CONCATENATE(OFFSET(Warmtevragers!$C$7,10,A12,1,1),\": \",OFFSET(Warmtevragers!$C$7,11,A12,1,1)),OFFSET(Warmtevragers!$C$7,10,A12,1,1)))","v":0}]
[5,"Warmtevrager 6",{"$f":"IF(A13=\"\",\"\",OFFSET(Warmtevragers!$C$7,2,A13,1,1))","v":0},{"$f":"IF(A13=\"\",\"\",OFFSET(Warmtevragers!$C$7,30,A13,1,1))","v":0},{"$f":"IF(A13=\"\",\"\",OFFSET(Warmtevragers!$C$7,5,A13,1,1))","v":0},{"$f":"IF(A13=\"\",\"\",OFFSET(Warmtevragers!$C$7,6,A13,1,1))","v":0},{"$f":"IF(OR(F13=Keuzelijsten!$A$65,F13=Keuzelijsten!$A$66),(IF(A13=\"\",\"\",OFFSET(Warmtevragers!$C$7,8,A13,1,1))),\"Nee\")","v":"Nee"},{"$f":"IF(OR(F13=Keuzelijsten!$A$65,F13=Keuzelijsten!$A$66),(IF(A13=\"\",\"\",OFFSET(Warmtevragers!$C$7,9,A13,1,1))),\"Nee\")","v":"Nee"},{"$f":"IF(OR(F13=Keuzelijsten!$A$66),(IF(A13=\"\",\"\",OFFSET(Warmtevragers!$C$7,10,A13,1,1))),\"Nee\")","v":"Nee"},{"$f":"IF(OR(F13=Keuzelijsten!$A$66),(IF(A13=\"\",\"\",OFFSET(Warmtevragers!$C$7,11,A13,1,1))),\"Nee\")","v":"Nee"},{"$f":"IF(A13=\"\",\"\",IF(OFFSET(Warmtevragers!$C$7,7,A13,1,1)=\"Ja\",0.97,1))","v":1},{"$f":"IF(A13=\"\",\"\",IF(OFFSET(Warmtevragers!$C$7,10,A13,1,1)=\"Er zijn meerdere warmtemeters\",CONCATENATE(OFFSET(Warmtevragers!$C$7,10,A13,1,1),\": \",OFFSET(Warmtevragers!$C$7,11,A13,1,1)),OFFSET(Warmtevragers!$C$7,10,A13,1,1)))","v":0}]
[6,"Warmtevrager 7",{"$f":"IF(A14=\"\",\"\",OFFSET(Warmtevragers!$C$7,2,A14,1,1))","v":0},{"$f":"IF(A14=\"\",\"\",OFFSET(Warmtevragers!$C$7,30,A14,1,1))","v":0},{"$f":"IF(A14=\"\",\"\",OFFSET(Warmtevragers!$C$7,5,A14,1,1))","v":0},{"$f":"IF(A14=\"\",\"\",OFFSET(Warmtevragers!$C$7,6,A14,1,1))","v":0},{"$f":"IF(OR(F14=Keuzelijsten!$A$65,F14=Keuzelijsten!$A$66),(IF(A14=\"\",\"\",OFFSET(Warmtevragers!$C$7,8,A14,1,1))),\"Nee\")","v":"Nee"},{"$f":"IF(OR(F14=Keuzelijsten!$A$65,F14=Keuzelijsten!$A$66),(IF(A14=\"\",\"\",OFFSET(Warmtevragers!$C$7,9,A14,1,1))),\"Nee\")","v":"Nee"},{"$f":"IF(OR(F14=Keuzelijsten!$A$66),(IF(A14=\"\",\"\",OFFSET(Warmtevragers!$C$7,10,A14,1,1))),\"Nee\")","v":"Nee"},{"$f":"IF(OR(F14=Keuzelijsten!$A$66),(IF(A14=\"\",\"\",OFFSET(Warmtevragers!$C$7,11,A14,1,1))),\"Nee\")","v":"Nee"},{"$f":"IF(A14=\"\",\"\",IF(OFFSET(Warmtevragers!$C$7,7,A14,1,1)=\"Ja\",0.97,1))","v":1},{"$f":"IF(A14=\"\",\"\",OFFSET(Warmtevragers!$C$7,10,A14,1,1))","v":0}]
[7,"Warmtevrager 8",{"$f":"IF(A15=\"\",\"\",OFFSET(Warmtevragers!$C$7,2,A15,1,1))","v":0},{"$f":"IF(A15=\"\",\"\",OFFSET(Warmtevragers!$C$7,30,A15,1,1))","v":0},{"$f":"IF(A15=\"\",\"\",OFFSET(Warmtevragers!$C$7,5,A15,1,1))","v":0},{"$f":"IF(A15=\"\",\"\",OFFSET(Warmtevragers!$C$7,6,A15,1,1))","v":0},{"$f":"IF(OR(F15=Keuzelijsten!$A$65,F15=Keuzelijsten!$A$66),(IF(A15=\"\",\"\",OFFSET(Warmtevragers!$C$7,8,A15,1,1))),\"Nee\")","v":"Nee"},{"$f":"IF(OR(F15=Keuzelijsten!$A$65,F15=Keuzelijsten!$A$66),(IF(A15=\"\",\"\",OFFSET(Warmtevragers!$C$7,9,A15,1,1))),\"Nee\")","v":"Nee"},{"$f":"IF(OR(F15=Keuzelijsten!$A$66),(IF(A15=\"\",\"\",OFFSET(Warmtevragers!$C$7,10,A15,1,1))),\"Nee\")","v":"Nee"},{"$f":"IF(OR(F15=Keuzelijsten!$A$66),(IF(A15=\"\",\"\",OFFSET(Warmtevragers!$C$7,11,A15,1,1))),\"Nee\")","v":"Nee"},{"$f":"IF(A15=\"\",\"\",IF(OFFSET(Warmtevragers!$C$7,7,A15,1,1)=\"Ja\",0.97,1))","v":1},{"$f":"IF(A15=\"\",\"\",OFFSET(Warmtevragers!$C$7,10,A15,1,1))","v":0}]
[8,"Warmtevrager 9",{"$f":"IF(A16=\"\",\"\",OFFSET(Warmtevragers!$C$7,2,A16,1,1))","v":0},{"$f":"IF(A16=\"\",\"\",OFFSET(Warmtevragers!$C$7,30,A16,1,1))","v":0},{"$f":"IF(A16=\"\",\"\",OFFSET(Warmtevragers!$C$7,5,A16,1,1))","v":0},{"$f":"IF(A16=\"\",\"\",OFFSET(Warmtevragers!$C$7,6,A16,1,1))","v":0},{"$f":"IF(OR(F16=Keuzelijsten!$A$65,F16=Keuzelijsten!$A$66),(IF(A16=\"\",\"\",OFFSET(Warmtevragers!$C$7,8,A16,1,1))),\"Nee\")","v":"Nee"},{"$f":"IF(OR(F16=Keuzelijsten!$A$65,F16=Keuzelijsten!$A$66),(IF(A16=\"\",\"\",OFFSET(Warmtevragers!$C$7,9,A16,1,1))),\"Nee\")","v":"Nee"},{"$f":"IF(OR(F16=Keuzelijsten!$A$66),(IF(A16=\"\",\"\",OFFSET(Warmtevragers!$C$7,10,A16,1,1))),\"Nee\")","v":"Nee"},{"$f":"IF(OR(F16=Keuzelijsten!$A$66),(IF(A16=\"\",\"\",OFFSET(Warmtevragers!$C$7,11,A16,1,1))),\"Nee\")","v":"Nee"},{"$f":"IF(A16=\"\",\"\",IF(OFFSET(Warmtevragers!$C$7,7,A16,1,1)=\"Ja\",0.97,1))","v":1},{"$f":"IF(A16=\"\",\"\",OFFSET(Warmtevragers!$C$7,10,A16,1,1))","v":0}]
[9,"Warmtevrager 10",{"$f":"IF(A17=\"\",\"\",OFFSET(Warmtevragers!$C$7,2,A17,1,1))","v":0},{"$f":"IF(A17=\"\",\"\",OFFSET(Warmtevragers!$C$7,30,A17,1,1))","v":0},{"$f":"IF(A17=\"\",\"\",OFFSET(Warmtevragers!$C$7,5,A17,1,1))","v":0},{"$f":"IF(A17=\"\",\"\",OFFSET(Warmtevragers!$C$7,6,A17,1,1))","v":0},{"$f":"IF(OR(F17=Keuzelijsten!$A$65,F17=Keuzelijsten!$A$66),(IF(A17=\"\",\"\",OFFSET(Warmtevragers!$C$7,8,A17,1,1))),\"Nee\")","v":"Nee"},{"$f":"IF(OR(F17=Keuzelijsten!$A$65,F17=Keuzelijsten!$A$66),(IF(A17=\"\",\"\",OFFSET(Warmtevragers!$C$7,9,A17,1,1))),\"Nee\")","v":"Nee"},{"$f":"IF(OR(F17=Keuzelijsten!$A$66),(IF(A17=\"\",\"\",OFFSET(Warmtevragers!$C$7,10,A17,1,1))),\"Nee\")","v":"Nee"},{"$f":"IF(OR(F17=Keuzelijsten!$A$66),(IF(A17=\"\",\"\",OFFSET(Warmtevragers!$C$7,11,A17,1,1))),\"Nee\")","v":"Nee"},{"$f":"IF(A17=\"\",\"\",IF(OFFSET(Warmtevragers!$C$7,7,A17,1,1)=\"Ja\",0.97,1))","v":1},{"$f":"IF(A17=\"\",\"\",OFFSET(Warmtevragers!$C$7,10,A17,1,1))","v":0}]
[10,"Warmtevrager 11",{"$f":"IF(A18=\"\",\"\",OFFSET(Warmtevragers!$C$7,2,A18,1,1))","v":0},{"$f":"IF(A18=\"\",\"\",OFFSET(Warmtevragers!$C$7,30,A18,1,1))","v":0},{"$f":"IF(A18=\"\",\"\",OFFSET(Warmtevragers!$C$7,5,A18,1,1))","v":0},{"$f":"IF(A18=\"\",\"\",OFFSET(Warmtevragers!$C$7,6,A18,1,1))","v":0},{"$f":"IF(OR(F18=Keuzelijsten!$A$65,F18=Keuzelijsten!$A$66),(IF(A18=\"\",\"\",OFFSET(Warmtevragers!$C$7,8,A18,1,1))),\"Nee\")","v":"Nee"},{"$f":"IF(OR(F18=Keuzelijsten!$A$65,F18=Keuzelijsten!$A$66),(IF(A18=\"\",\"\",OFFSET(Warmtevragers!$C$7,9,A18,1,1))),\"Nee\")","v":"Nee"},{"$f":"IF(OR(F18=Keuzelijsten!$A$66),(IF(A18=\"\",\"\",OFFSET(Warmtevragers!$C$7,10,A18,1,1))),\"Nee\")","v":"Nee"},{"$f":"IF(OR(F18=Keuzelijsten!$A$66),(IF(A18=\"\",\"\",OFFSET(Warmtevragers!$C$7,11,A18,1,1))),\"Nee\")","v":"Nee"},{"$f":"IF(A18=\"\",\"\",IF(OFFSET(Warmtevragers!$C$7,7,A18,1,1)=\"Ja\",0.97,1))","v":1},{"$f":"IF(A18=\"\",\"\",OFFSET(Warmtevragers!$C$7,10,A18,1,1))","v":0}]
[11,"Warmtevrager 12",{"$f":"IF(A19=\"\",\"\",OFFSET(Warmtevragers!$C$7,2,A19,1,1))","v":0},{"$f":"IF(A19=\"\",\"\",OFFSET(Warmtevragers!$C$7,30,A19,1,1))","v":0},{"$f":"IF(A19=\"\",\"\",OFFSET(Warmtevragers!$C$7,5,A19,1,1))","v":0},{"$f":"IF(A19=\"\",\"\",OFFSET(Warmtevragers!$C$7,6,A19,1,1))","v":0},{"$f":"IF(OR(F19=Keuzelijsten!$A$65,F19=Keuzelijsten!$A$66),(IF(A19=\"\",\"\",OFFSET(Warmtevragers!$C$7,8,A19,1,1))),\"Nee\")","v":"Nee"},{"$f":"IF(OR(F19=Keuzelijsten!$A$65,F19=Keuzelijsten!$A$66),(IF(A19=\"\",\"\",OFFSET(Warmtevragers!$C$7,9,A19,1,1))),\"Nee\")","v":"Nee"},{"$f":"IF(OR(F19=Keuzelijsten!$A$66),(IF(A19=\"\",\"\",OFFSET(Warmtevragers!$C$7,10,A19,1,1))),\"Nee\")","v":"Nee"},{"$f":"IF(OR(F19=Keuzelijsten!$A$66),(IF(A19=\"\",\"\",OFFSET(Warmtevragers!$C$7,11,A19,1,1))),\"Nee\")","v":"Nee"},{"$f":"IF(A19=\"\",\"\",IF(OFFSET(Warmtevragers!$C$7,7,A19,1,1)=\"Ja\",0.97,1))","v":1},{"$f":"IF(A19=\"\",\"\",OFFSET(Warmtevragers!$C$7,10,A19,1,1))","v":0}]
[12,"Warmtevrager 13",{"$f":"IF(A20=\"\",\"\",OFFSET(Warmtevragers!$C$7,2,A20,1,1))","v":0},{"$f":"IF(A20=\"\",\"\",OFFSET(Warmtevragers!$C$7,30,A20,1,1))","v":0},{"$f":"IF(A20=\"\",\"\",OFFSET(Warmtevragers!$C$7,5,A20,1,1))","v":0},{"$f":"IF(A20=\"\",\"\",OFFSET(Warmtevragers!$C$7,6,A20,1,1))","v":0},{"$f":"IF(OR(F20=Keuzelijsten!$A$65,F20=Keuzelijsten!$A$66),(IF(A20=\"\",\"\",OFFSET(Warmtevragers!$C$7,8,A20,1,1))),\"Nee\")","v":"Nee"},{"$f":"IF(OR(F20=Keuzelijsten!$A$65,F20=Keuzelijsten!$A$66),(IF(A20=\"\",\"\",OFFSET(Warmtevragers!$C$7,9,A20,1,1))),\"Nee\")","v":"Nee"},{"$f":"IF(OR(F20=Keuzelijsten!$A$66),(IF(A20=\"\",\"\",OFFSET(Warmtevragers!$C$7,10,A20,1,1))),\"Nee\")","v":"Nee"},{"$f":"IF(OR(F20=Keuzelijsten!$A$66),(IF(A20=\"\",\"\",OFFSET(Warmtevragers!$C$7,11,A20,1,1))),\"Nee\")","v":"Nee"},{"$f":"IF(A20=\"\",\"\",IF(OFFSET(Warmtevragers!$C$7,7,A20,1,1)=\"Ja\",0.97,1))","v":1},{"$f":"IF(A20=\"\",\"\",OFFSET(Warmtevragers!$C$7,10,A20,1,1))","v":0}]
[13,"Warmtevrager 14",{"$f":"IF(A21=\"\",\"\",OFFSET(Warmtevragers!$C$7,2,A21,1,1))","v":0},{"$f":"IF(A21=\"\",\"\",OFFSET(Warmtevragers!$C$7,30,A21,1,1))","v":0},{"$f":"IF(A21=\"\",\"\",OFFSET(Warmtevragers!$C$7,5,A21,1,1))","v":0},{"$f":"IF(A21=\"\",\"\",OFFSET(Warmtevragers!$C$7,6,A21,1,1))","v":0},{"$f":"IF(OR(F21=Keuzelijsten!$A$65,F21=Keuzelijsten!$A$66),(IF(A21=\"\",\"\",OFFSET(Warmtevragers!$C$7,8,A21,1,1))),\"Nee\")","v":"Nee"},{"$f":"IF(OR(F21=Keuzelijsten!$A$65,F21=Keuzelijsten!$A$66),(IF(A21=\"\",\"\",OFFSET(Warmtevragers!$C$7,9,A21,1,1))),\"Nee\")","v":"Nee"},{"$f":"IF(OR(F21=Keuzelijsten!$A$66),(IF(A21=\"\",\"\",OFFSET(Warmtevragers!$C$7,10,A21,1,1))),\"Nee\")","v":"Nee"},{"$f":"IF(OR(F21=Keuzelijsten!$A$66),(IF(A21=\"\",\"\",OFFSET(Warmtevragers!$C$7,11,A21,1,1))),\"Nee\")","v":"Nee"},{"$f":"IF(A21=\"\",\"\",IF(OFFSET(Warmtevragers!$C$7,7,A21,1,1)=\"Ja\",0.97,1))","v":1},{"$f":"IF(A21=\"\",\"\",OFFSET(Warmtevragers!$C$7,10,A21,1,1))","v":0}]
[14,"Warmtevrager 15",{"$f":"IF(A22=\"\",\"\",OFFSET(Warmtevragers!$C$7,2,A22,1,1))","v":0},{"$f":"IF(A22=\"\",\"\",OFFSET(Warmtevragers!$C$7,30,A22,1,1))","v":0},{"$f":"IF(A22=\"\",\"\",OFFSET(Warmtevragers!$C$7,5,A22,1,1))","v":0},{"$f":"IF(A22=\"\",\"\",OFFSET(Warmtevragers!$C$7,6,A22,1,1))","v":0},{"$f":"IF(OR(F22=Keuzelijsten!$A$65,F22=Keuzelijsten!$A$66),(IF(A22=\"\",\"\",OFFSET(Warmtevragers!$C$7,8,A22,1,1))),\"Nee\")","v":"Nee"},{"$f":"IF(OR(F22=Keuzelijsten!$A$65,F22=Keuzelijsten!$A$66),(IF(A22=\"\",\"\",OFFSET(Warmtevragers!$C$7,9,A22,1,1))),\"Nee\")","v":"Nee"},{"$f":"IF(OR(F22=Keuzelijsten!$A$66),(IF(A22=\"\",\"\",OFFSET(Warmtevragers!$C$7,10,A22,1,1))),\"Nee\")","v":"Nee"},{"$f":"IF(OR(F22=Keuzelijsten!$A$66),(IF(A22=\"\",\"\",OFFSET(Warmtevragers!$C$7,11,A22,1,1))),\"Nee\")","v":"Nee"},{"$f":"IF(A22=\"\",\"\",IF(OFFSET(Warmtevragers!$C$7,7,A22,1,1)=\"Ja\",0.97,1))","v":1},{"$f":"IF(A22=\"\",\"\",OFFSET(Warmtevragers!$C$7,10,A22,1,1))","v":0}]
[15,"Warmtevrager 16",{"$f":"IF(A23=\"\",\"\",OFFSET(Warmtevragers!$C$7,2,A23,1,1))","v":0},{"$f":"IF(A23=\"\",\"\",OFFSET(Warmtevragers!$C$7,30,A23,1,1))","v":0},{"$f":"IF(A23=\"\",\"\",OFFSET(Warmtevragers!$C$7,5,A23,1,1))","v":0},{"$f":"IF(A23=\"\",\"\",OFFSET(Warmtevragers!$C$7,6,A23,1,1))","v":0},{"$f":"IF(OR(F23=Keuzelijsten!$A$65,F23=Keuzelijsten!$A$66),(IF(A23=\"\",\"\",OFFSET(Warmtevragers!$C$7,8,A23,1,1))),\"Nee\")","v":"Nee"},{"$f":"IF(OR(F23=Keuzelijsten!$A$65,F23=Keuzelijsten!$A$66),(IF(A23=\"\",\"\",OFFSET(Warmtevragers!$C$7,9,A23,1,1))),\"Nee\")","v":"Nee"},{"$f":"IF(OR(F23=Keuzelijsten!$A$66),(IF(A23=\"\",\"\",OFFSET(Warmtevragers!$C$7,10,A23,1,1))),\"Nee\")","v":"Nee"},{"$f":"IF(OR(F23=Keuzelijsten!$A$66),(IF(A23=\"\",\"\",OFFSET(Warmtevragers!$C$7,11,A23,1,1))),\"Nee\")","v":"Nee"},{"$f":"IF(A23=\"\",\"\",IF(OFFSET(Warmtevragers!$C$7,7,A23,1,1)=\"Ja\",0.97,1))","v":1},{"$f":"IF(A23=\"\",\"\",OFFSET(Warmtevragers!$C$7,10,A23,1,1))","v":0}]
[16,"Warmtevrager 17",{"$f":"IF(A24=\"\",\"\",OFFSET(Warmtevragers!$C$7,2,A24,1,1))","v":0},{"$f":"IF(A24=\"\",\"\",OFFSET(Warmtevragers!$C$7,30,A24,1,1))","v":0},{"$f":"IF(A24=\"\",\"\",OFFSET(Warmtevragers!$C$7,5,A24,1,1))","v":0},{"$f":"IF(A24=\"\",\"\",OFFSET(Warmtevragers!$C$7,6,A24,1,1))","v":0},{"$f":"IF(OR(F24=Keuzelijsten!$A$65,F24=Keuzelijsten!$A$66),(IF(A24=\"\",\"\",OFFSET(Warmtevragers!$C$7,8,A24,1,1))),\"Nee\")","v":"Nee"},{"$f":"IF(OR(F24=Keuzelijsten!$A$65,F24=Keuzelijsten!$A$66),(IF(A24=\"\",\"\",OFFSET(Warmtevragers!$C$7,9,A24,1,1))),\"Nee\")","v":"Nee"},{"$f":"IF(OR(F24=Keuzelijsten!$A$66),(IF(A24=\"\",\"\",OFFSET(Warmtevragers!$C$7,10,A24,1,1))),\"Nee\")","v":"Nee"},{"$f":"IF(OR(F24=Keuzelijsten!$A$66),(IF(A24=\"\",\"\",OFFSET(Warmtevragers!$C$7,11,A24,1,1))),\"Nee\")","v":"Nee"},{"$f":"IF(A24=\"\",\"\",IF(OFFSET(Warmtevragers!$C$7,7,A24,1,1)=\"Ja\",0.97,1))","v":1},{"$f":"IF(A24=\"\",\"\",OFFSET(Warmtevragers!$C$7,10,A24,1,1))","v":0}]
[17,"Warmtevrager 18",{"$f":"IF(A25=\"\",\"\",OFFSET(Warmtevragers!$C$7,2,A25,1,1))","v":0},{"$f":"IF(A25=\"\",\"\",OFFSET(Warmtevragers!$C$7,30,A25,1,1))","v":0},{"$f":"IF(A25=\"\",\"\",OFFSET(Warmtevragers!$C$7,5,A25,1,1))","v":0},{"$f":"IF(A25=\"\",\"\",OFFSET(Warmtevragers!$C$7,6,A25,1,1))","v":0},{"$f":"IF(OR(F25=Keuzelijsten!$A$65,F25=Keuzelijsten!$A$66),(IF(A25=\"\",\"\",OFFSET(Warmtevragers!$C$7,8,A25,1,1))),\"Nee\")","v":"Nee"},{"$f":"IF(OR(F25=Keuzelijsten!$A$65,F25=Keuzelijsten!$A$66),(IF(A25=\"\",\"\",OFFSET(Warmtevragers!$C$7,9,A25,1,1))),\"Nee\")","v":"Nee"},{"$f":"IF(OR(F25=Keuzelijsten!$A$66),(IF(A25=\"\",\"\",OFFSET(Warmtevragers!$C$7,10,A25,1,1))),\"Nee\")","v":"Nee"},{"$f":"IF(OR(F25=Keuzelijsten!$A$66),(IF(A25=\"\",\"\",OFFSET(Warmtevragers!$C$7,11,A25,1,1))),\"Nee\")","v":"Nee"},{"$f":"IF(A25=\"\",\"\",IF(OFFSET(Warmtevragers!$C$7,7,A25,1,1)=\"Ja\",0.97,1))","v":1},{"$f":"IF(A25=\"\",\"\",OFFSET(Warmtevragers!$C$7,10,A25,1,1))","v":0}]
[18,"Warmtevrager 19",{"$f":"IF(A26=\"\",\"\",OFFSET(Warmtevragers!$C$7,2,A26,1,1))","v":0},{"$f":"IF(A26=\"\",\"\",OFFSET(Warmtevragers!$C$7,30,A26,1,1))","v":0},{"$f":"IF(A26=\"\",\"\",OFFSET(Warmtevragers!$C$7,5,A26,1,1))","v":0},{"$f":"IF(A26=\"\",\"\",OFFSET(Warmtevragers!$C$7,6,A26,1,1))","v":0},{"$f":"IF(OR(F26=Keuzelijsten!$A$65,F26=Keuzelijsten!$A$66),(IF(A26=\"\",\"\",OFFSET(Warmtevragers!$C$7,8,A26,1,1))),\"Nee\")","v":"Nee"},{"$f":"IF(OR(F26=Keuzelijsten!$A$65,F26=Keuzelijsten!$A$66),(IF(A26=\"\",\"\",OFFSET(Warmtevragers!$C$7,9,A26,1,1))),\"Nee\")","v":"Nee"},{"$f":"IF(OR(F26=Keuzelijsten!$A$66),(IF(A26=\"\",\"\",OFFSET(Warmtevragers!$C$7,10,A26,1,1))),\"Nee\")","v":"Nee"},{"$f":"IF(OR(F26=Keuzelijsten!$A$66),(IF(A26=\"\",\"\",OFFSET(Warmtevragers!$C$7,11,A26,1,1))),\"Nee\")","v":"Nee"},{"$f":"IF(A26=\"\",\"\",IF(OFFSET(Warmtevragers!$C$7,7,A26,1,1)=\"Ja\",0.97,1))","v":1},{"$f":"IF(A26=\"\",\"\",OFFSET(Warmtevragers!$C$7,10,A26,1,1))","v":0}]
[19,"Warmtevrager 20",{"$f":"IF(A27=\"\",\"\",OFFSET(Warmtevragers!$C$7,2,A27,1,1))","v":0},{"$f":"IF(A27=\"\",\"\",OFFSET(Warmtevragers!$C$7,30,A27,1,1))","v":0},{"$f":"IF(A27=\"\",\"\",OFFSET(Warmtevragers!$C$7,5,A27,1,1))","v":0},{"$f":"IF(A27=\"\",\"\",OFFSET(Warmtevragers!$C$7,6,A27,1,1))","v":0},{"$f":"IF(OR(F27=Keuzelijsten!$A$65,F27=Keuzelijsten!$A$66),(IF(A27=\"\",\"\",OFFSET(Warmtevragers!$C$7,8,A27,1,1))),\"Nee\")","v":"Nee"},{"$f":"IF(OR(F27=Keuzelijsten!$A$65,F27=Keuzelijsten!$A$66),(IF(A27=\"\",\"\",OFFSET(Warmtevragers!$C$7,9,A27,1,1))),\"Nee\")","v":"Nee"},{"$f":"IF(OR(F27=Keuzelijsten!$A$66),(IF(A27=\"\",\"\",OFFSET(Warmtevragers!$C$7,10,A27,1,1))),\"Nee\")","v":"Nee"},{"$f":"IF(OR(F27=Keuzelijsten!$A$66),(IF(A27=\"\",\"\",OFFSET(Warmtevragers!$C$7,11,A27,1,1))),\"Nee\")","v":"Nee"},{"$f":"IF(A27=\"\",\"\",IF(OFFSET(Warmtevragers!$C$7,7,A27,1,1)=\"Ja\",0.97,1))","v":1},{"$f":"IF(A27=\"\",\"\",OFFSET(Warmtevragers!$C$7,10,A27,1,1))","v":0}]
[20,"Warmtevrager 21",{"$f":"IF(A28=\"\",\"\",OFFSET(Warmtevragers!$C$7,2,A28,1,1))","v":0},{"$f":"IF(A28=\"\",\"\",OFFSET(Warmtevragers!$C$7,30,A28,1,1))","v":0},{"$f":"IF(A28=\"\",\"\",OFFSET(Warmtevragers!$C$7,5,A28,1,1))","v":0},{"$f":"IF(A28=\"\",\"\",OFFSET(Warmtevragers!$C$7,6,A28,1,1))","v":0},{"$f":"IF(OR(F28=Keuzelijsten!$A$65,F28=Keuzelijsten!$A$66),(IF(A28=\"\",\"\",OFFSET(Warmtevragers!$C$7,8,A28,1,1))),\"Nee\")","v":"Nee"},{"$f":"IF(OR(F28=Keuzelijsten!$A$65,F28=Keuzelijsten!$A$66),(IF(A28=\"\",\"\",OFFSET(Warmtevragers!$C$7,9,A28,1,1))),\"Nee\")","v":"Nee"},{"$f":"IF(OR(F28=Keuzelijsten!$A$66),(IF(A28=\"\",\"\",OFFSET(Warmtevragers!$C$7,10,A28,1,1))),\"Nee\")","v":"Nee"},{"$f":"IF(OR(F28=Keuzelijsten!$A$66),(IF(A28=\"\",\"\",OFFSET(Warmtevragers!$C$7,11,A28,1,1))),\"Nee\")","v":"Nee"},{"$f":"IF(A28=\"\",\"\",IF(OFFSET(Warmtevragers!$C$7,7,A28,1,1)=\"Ja\",0.97,1))","v":1},{"$f":"IF(A28=\"\",\"\",OFFSET(Warmtevragers!$C$7,10,A28,1,1))","v":0}]
[21,"Warmtevrager 22",{"$f":"IF(A29=\"\",\"\",OFFSET(Warmtevragers!$C$7,2,A29,1,1))","v":0},{"$f":"IF(A29=\"\",\"\",OFFSET(Warmtevragers!$C$7,30,A29,1,1))","v":0},{"$f":"IF(A29=\"\",\"\",OFFSET(Warmtevragers!$C$7,5,A29,1,1))","v":0},{"$f":"IF(A29=\"\",\"\",OFFSET(Warmtevragers!$C$7,6,A29,1,1))","v":0},{"$f":"IF(OR(F29=Keuzelijsten!$A$65,F29=Keuzelijsten!$A$66),(IF(A29=\"\",\"\",OFFSET(Warmtevragers!$C$7,8,A29,1,1))),\"Nee\")","v":"Nee"},{"$f":"IF(OR(F29=Keuzelijsten!$A$65,F29=Keuzelijsten!$A$66),(IF(A29=\"\",\"\",OFFSET(Warmtevragers!$C$7,9,A29,1,1))),\"Nee\")","v":"Nee"},{"$f":"IF(OR(F29=Keuzelijsten!$A$66),(IF(A29=\"\",\"\",OFFSET(Warmtevragers!$C$7,10,A29,1,1))),\"Nee\")","v":"Nee"},{"$f":"IF(OR(F29=Keuzelijsten!$A$66),(IF(A29=\"\",\"\",OFFSET(Warmtevragers!$C$7,11,A29,1,1))),\"Nee\")","v":"Nee"},{"$f":"IF(A29=\"\",\"\",IF(OFFSET(Warmtevragers!$C$7,7,A29,1,1)=\"Ja\",0.97,1))","v":1},{"$f":"IF(A29=\"\",\"\",OFFSET(Warmtevragers!$C$7,10,A29,1,1))","v":0}]
[22,"Warmtevrager 23",{"$f":"IF(A30=\"\",\"\",OFFSET(Warmtevragers!$C$7,2,A30,1,1))","v":0},{"$f":"IF(A30=\"\",\"\",OFFSET(Warmtevragers!$C$7,30,A30,1,1))","v":0},{"$f":"IF(A30=\"\",\"\",OFFSET(Warmtevragers!$C$7,5,A30,1,1))","v":0},{"$f":"IF(A30=\"\",\"\",OFFSET(Warmtevragers!$C$7,6,A30,1,1))","v":0},{"$f":"IF(OR(F30=Keuzelijsten!$A$65,F30=Keuzelijsten!$A$66),(IF(A30=\"\",\"\",OFFSET(Warmtevragers!$C$7,8,A30,1,1))),\"Nee\")","v":"Nee"},{"$f":"IF(OR(F30=Keuzelijsten!$A$65,F30=Keuzelijsten!$A$66),(IF(A30=\"\",\"\",OFFSET(Warmtevragers!$C$7,9,A30,1,1))),\"Nee\")","v":"Nee"},{"$f":"IF(OR(F30=Keuzelijsten!$A$66),(IF(A30=\"\",\"\",OFFSET(Warmtevragers!$C$7,10,A30,1,1))),\"Nee\")","v":"Nee"},{"$f":"IF(OR(F30=Keuzelijsten!$A$66),(IF(A30=\"\",\"\",OFFSET(Warmtevragers!$C$7,11,A30,1,1))),\"Nee\")","v":"Nee"},{"$f":"IF(A30=\"\",\"\",IF(OFFSET(Warmtevragers!$C$7,7,A30,1,1)=\"Ja\",0.97,1))","v":1},{"$f":"IF(A30=\"\",\"\",OFFSET(Warmtevragers!$C$7,10,A30,1,1))","v":0}]
[23,"Warmtevrager 24",{"$f":"IF(A31=\"\",\"\",OFFSET(Warmtevragers!$C$7,2,A31,1,1))","v":0},{"$f":"IF(A31=\"\",\"\",OFFSET(Warmtevragers!$C$7,30,A31,1,1))","v":0},{"$f":"IF(A31=\"\",\"\",OFFSET(Warmtevragers!$C$7,5,A31,1,1))","v":0},{"$f":"IF(A31=\"\",\"\",OFFSET(Warmtevragers!$C$7,6,A31,1,1))","v":0},{"$f":"IF(OR(F31=Keuzelijsten!$A$65,F31=Keuzelijsten!$A$66),(IF(A31=\"\",\"\",OFFSET(Warmtevragers!$C$7,8,A31,1,1))),\"Nee\")","v":"Nee"},{"$f":"IF(OR(F31=Keuzelijsten!$A$65,F31=Keuzelijsten!$A$66),(IF(A31=\"\",\"\",OFFSET(Warmtevragers!$C$7,9,A31,1,1))),\"Nee\")","v":"Nee"},{"$f":"IF(OR(F31=Keuzelijsten!$A$66),(IF(A31=\"\",\"\",OFFSET(Warmtevragers!$C$7,10,A31,1,1))),\"Nee\")","v":"Nee"},{"$f":"IF(OR(F31=Keuzelijsten!$A$66),(IF(A31=\"\",\"\",OFFSET(Warmtevragers!$C$7,11,A31,1,1))),\"Nee\")","v":"Nee"},{"$f":"IF(A31=\"\",\"\",IF(OFFSET(Warmtevragers!$C$7,7,A31,1,1)=\"Ja\",0.97,1))","v":1},{"$f":"IF(A31=\"\",\"\",OFFSET(Warmtevragers!$C$7,10,A31,1,1))","v":0}]
[24,"Warmtevrager 25",{"$f":"IF(A32=\"\",\"\",OFFSET(Warmtevragers!$C$7,2,A32,1,1))","v":0},{"$f":"IF(A32=\"\",\"\",OFFSET(Warmtevragers!$C$7,30,A32,1,1))","v":0},{"$f":"IF(A32=\"\",\"\",OFFSET(Warmtevragers!$C$7,5,A32,1,1))","v":0},{"$f":"IF(A32=\"\",\"\",OFFSET(Warmtevragers!$C$7,6,A32,1,1))","v":0},{"$f":"IF(OR(F32=Keuzelijsten!$A$65,F32=Keuzelijsten!$A$66),(IF(A32=\"\",\"\",OFFSET(Warmtevragers!$C$7,8,A32,1,1))),\"Nee\")","v":"Nee"},{"$f":"IF(OR(F32=Keuzelijsten!$A$65,F32=Keuzelijsten!$A$66),(IF(A32=\"\",\"\",OFFSET(Warmtevragers!$C$7,9,A32,1,1))),\"Nee\")","v":"Nee"},{"$f":"IF(OR(F32=Keuzelijsten!$A$66),(IF(A32=\"\",\"\",OFFSET(Warmtevragers!$C$7,10,A32,1,1))),\"Nee\")","v":"Nee"},{"$f":"IF(OR(F32=Keuzelijsten!$A$66),(IF(A32=\"\",\"\",OFFSET(Warmtevragers!$C$7,11,A32,1,1))),\"Nee\")","v":"Nee"},{"$f":"IF(A32=\"\",\"\",IF(OFFSET(Warmtevragers!$C$7,7,A32,1,1)=\"Ja\",0.97,1))","v":1},{"$f":"IF(A32=\"\",\"\",OFFSET(Warmtevragers!$C$7,10,A32,1,1))","v":0}]
[25,"Warmtevrager 26",{"$f":"IF(A33=\"\",\"\",OFFSET(Warmtevragers!$C$7,2,A33,1,1))","v":0},{"$f":"IF(A33=\"\",\"\",OFFSET(Warmtevragers!$C$7,30,A33,1,1))","v":0},{"$f":"IF(A33=\"\",\"\",OFFSET(Warmtevragers!$C$7,5,A33,1,1))","v":0},{"$f":"IF(A33=\"\",\"\",OFFSET(Warmtevragers!$C$7,6,A33,1,1))","v":0},{"$f":"IF(OR(F33=Keuzelijsten!$A$65,F33=Keuzelijsten!$A$66),(IF(A33=\"\",\"\",OFFSET(Warmtevragers!$C$7,8,A33,1,1))),\"Nee\")","v":"Nee"},{"$f":"IF(OR(F33=Keuzelijsten!$A$65,F33=Keuzelijsten!$A$66),(IF(A33=\"\",\"\",OFFSET(Warmtevragers!$C$7,9,A33,1,1))),\"Nee\")","v":"Nee"},{"$f":"IF(OR(F33=Keuzelijsten!$A$66),(IF(A33=\"\",\"\",OFFSET(Warmtevragers!$C$7,10,A33,1,1))),\"Nee\")","v":"Nee"},{"$f":"IF(OR(F33=Keuzelijsten!$A$66),(IF(A33=\"\",\"\",OFFSET(Warmtevragers!$C$7,11,A33,1,1))),\"Nee\")","v":"Nee"},{"$f":"IF(A33=\"\",\"\",IF(OFFSET(Warmtevragers!$C$7,7,A33,1,1)=\"Ja\",0.97,1))","v":1},{"$f":"IF(A33=\"\",\"\",OFFSET(Warmtevragers!$C$7,10,A33,1,1))","v":0}]
[26,"Warmtevrager 27",{"$f":"IF(A34=\"\",\"\",OFFSET(Warmtevragers!$C$7,2,A34,1,1))","v":0},{"$f":"IF(A34=\"\",\"\",OFFSET(Warmtevragers!$C$7,30,A34,1,1))","v":0},{"$f":"IF(A34=\"\",\"\",OFFSET(Warmtevragers!$C$7,5,A34,1,1))","v":0},{"$f":"IF(A34=\"\",\"\",OFFSET(Warmtevragers!$C$7,6,A34,1,1))","v":0},{"$f":"IF(OR(F34=Keuzelijsten!$A$65,F34=Keuzelijsten!$A$66),(IF(A34=\"\",\"\",OFFSET(Warmtevragers!$C$7,8,A34,1,1))),\"Nee\")","v":"Nee"},{"$f":"IF(OR(F34=Keuzelijsten!$A$65,F34=Keuzelijsten!$A$66),(IF(A34=\"\",\"\",OFFSET(Warmtevragers!$C$7,9,A34,1,1))),\"Nee\")","v":"Nee"},{"$f":"IF(OR(F34=Keuzelijsten!$A$66),(IF(A34=\"\",\"\",OFFSET(Warmtevragers!$C$7,10,A34,1,1))),\"Nee\")","v":"Nee"},{"$f":"IF(OR(F34=Keuzelijsten!$A$66),(IF(A34=\"\",\"\",OFFSET(Warmtevragers!$C$7,11,A34,1,1))),\"Nee\")","v":"Nee"},{"$f":"IF(A34=\"\",\"\",IF(OFFSET(Warmtevragers!$C$7,7,A34,1,1)=\"Ja\",0.97,1))","v":1},{"$f":"IF(A34=\"\",\"\",OFFSET(Warmtevragers!$C$7,10,A34,1,1))","v":0}]
[27,"Warmtevrager 28",{"$f":"IF(A35=\"\",\"\",OFFSET(Warmtevragers!$C$7,2,A35,1,1))","v":0},{"$f":"IF(A35=\"\",\"\",OFFSET(Warmtevragers!$C$7,30,A35,1,1))","v":0},{"$f":"IF(A35=\"\",\"\",OFFSET(Warmtevragers!$C$7,5,A35,1,1))","v":0},{"$f":"IF(A35=\"\",\"\",OFFSET(Warmtevragers!$C$7,6,A35,1,1))","v":0},{"$f":"IF(OR(F35=Keuzelijsten!$A$65,F35=Keuzelijsten!$A$66),(IF(A35=\"\",\"\",OFFSET(Warmtevragers!$C$7,8,A35,1,1))),\"Nee\")","v":"Nee"},{"$f":"IF(OR(F35=Keuzelijsten!$A$65,F35=Keuzelijsten!$A$66),(IF(A35=\"\",\"\",OFFSET(Warmtevragers!$C$7,9,A35,1,1))),\"Nee\")","v":"Nee"},{"$f":"IF(OR(F35=Keuzelijsten!$A$66),(IF(A35=\"\",\"\",OFFSET(Warmtevragers!$C$7,10,A35,1,1))),\"Nee\")","v":"Nee"},{"$f":"IF(OR(F35=Keuzelijsten!$A$66),(IF(A35=\"\",\"\",OFFSET(Warmtevragers!$C$7,11,A35,1,1))),\"Nee\")","v":"Nee"},{"$f":"IF(A35=\"\",\"\",IF(OFFSET(Warmtevragers!$C$7,7,A35,1,1)=\"Ja\",0.97,1))","v":1},{"$f":"IF(A35=\"\",\"\",OFFSET(Warmtevragers!$C$7,10,A35,1,1))","v":0}]
[28,"Warmtevrager 29",{"$f":"IF(A36=\"\",\"\",OFFSET(Warmtevragers!$C$7,2,A36,1,1))","v":0},{"$f":"IF(A36=\"\",\"\",OFFSET(Warmtevragers!$C$7,30,A36,1,1))","v":0},{"$f":"IF(A36=\"\",\"\",OFFSET(Warmtevragers!$C$7,5,A36,1,1))","v":0},{"$f":"IF(A36=\"\",\"\",OFFSET(Warmtevragers!$C$7,6,A36,1,1))","v":0},{"$f":"IF(OR(F36=Keuzelijsten!$A$65,F36=Keuzelijsten!$A$66),(IF(A36=\"\",\"\",OFFSET(Warmtevragers!$C$7,8,A36,1,1))),\"Nee\")","v":"Nee"},{"$f":"IF(OR(F36=Keuzelijsten!$A$65,F36=Keuzelijsten!$A$66),(IF(A36=\"\",\"\",OFFSET(Warmtevragers!$C$7,9,A36,1,1))),\"Nee\")","v":"Nee"},{"$f":"IF(OR(F36=Keuzelijsten!$A$66),(IF(A36=\"\",\"\",OFFSET(Warmtevragers!$C$7,10,A36,1,1))),\"Nee\")","v":"Nee"},{"$f":"IF(OR(F36=Keuzelijsten!$A$66),(IF(A36=\"\",\"\",OFFSET(Warmtevragers!$C$7,11,A36,1,1))),\"Nee\")","v":"Nee"},{"$f":"IF(A36=\"\",\"\",IF(OFFSET(Warmtevragers!$C$7,7,A36,1,1)=\"Ja\",0.97,1))","v":1},{"$f":"IF(A36=\"\",\"\",OFFSET(Warmtevragers!$C$7,10,A36,1,1))","v":0}]
[29,"Warmtevrager 30",{"$f":"IF(A37=\"\",\"\",OFFSET(Warmtevragers!$C$7,2,A37,1,1))","v":0},{"$f":"IF(A37=\"\",\"\",OFFSET(Warmtevragers!$C$7,30,A37,1,1))","v":0},{"$f":"IF(A37=\"\",\"\",OFFSET(Warmtevragers!$C$7,5,A37,1,1))","v":0},{"$f":"IF(A37=\"\",\"\",OFFSET(Warmtevragers!$C$7,6,A37,1,1))","v":0},{"$f":"IF(OR(F37=Keuzelijsten!$A$65,F37=Keuzelijsten!$A$66),(IF(A37=\"\",\"\",OFFSET(Warmtevragers!$C$7,8,A37,1,1))),\"Nee\")","v":"Nee"},{"$f":"IF(OR(F37=Keuzelijsten!$A$65,F37=Keuzelijsten!$A$66),(IF(A37=\"\",\"\",OFFSET(Warmtevragers!$C$7,9,A37,1,1))),\"Nee\")","v":"Nee"},{"$f":"IF(OR(F37=Keuzelijsten!$A$66),(IF(A37=\"\",\"\",OFFSET(Warmtevragers!$C$7,10,A37,1,1))),\"Nee\")","v":"Nee"},{"$f":"IF(OR(F37=Keuzelijsten!$A$66),(IF(A37=\"\",\"\",OFFSET(Warmtevragers!$C$7,11,A37,1,1))),\"Nee\")","v":"Nee"},{"$f":"IF(A37=\"\",\"\",IF(OFFSET(Warmtevragers!$C$7,7,A37,1,1)=\"Ja\",0.97,1))","v":1},{"$f":"IF(A37=\"\",\"\",OFFSET(Warmtevragers!$C$7,10,A37,1,1))","v":0}]
[30,"Warmtevrager 31",{"$f":"IF(A38=\"\",\"\",OFFSET(Warmtevragers!$C$7,2,A38,1,1))","v":0},{"$f":"IF(A38=\"\",\"\",OFFSET(Warmtevragers!$C$7,30,A38,1,1))","v":0},{"$f":"IF(A38=\"\",\"\",OFFSET(Warmtevragers!$C$7,5,A38,1,1))","v":0},{"$f":"IF(A38=\"\",\"\",OFFSET(Warmtevragers!$C$7,6,A38,1,1))","v":0},{"$f":"IF(OR(F38=Keuzelijsten!$A$65,F38=Keuzelijsten!$A$66),(IF(A38=\"\",\"\",OFFSET(Warmtevragers!$C$7,8,A38,1,1))),\"Nee\")","v":"Nee"},{"$f":"IF(OR(F38=Keuzelijsten!$A$65,F38=Keuzelijsten!$A$66),(IF(A38=\"\",\"\",OFFSET(Warmtevragers!$C$7,9,A38,1,1))),\"Nee\")","v":"Nee"},{"$f":"IF(OR(F38=Keuzelijsten!$A$66),(IF(A38=\"\",\"\",OFFSET(Warmtevragers!$C$7,10,A38,1,1))),\"Nee\")","v":"Nee"},{"$f":"IF(OR(F38=Keuzelijsten!$A$66),(IF(A38=\"\",\"\",OFFSET(Warmtevragers!$C$7,11,A38,1,1))),\"Nee\")","v":"Nee"},{"$f":"IF(A38=\"\",\"\",IF(OFFSET(Warmtevragers!$C$7,7,A38,1,1)=\"Ja\",0.97,1))","v":1},{"$f":"IF(A38=\"\",\"\",OFFSET(Warmtevragers!$C$7,10,A38,1,1))","v":0}]
[31,"Warmtevrager 32",{"$f":"IF(A39=\"\",\"\",OFFSET(Warmtevragers!$C$7,2,A39,1,1))","v":0},{"$f":"IF(A39=\"\",\"\",OFFSET(Warmtevragers!$C$7,30,A39,1,1))","v":0},{"$f":"IF(A39=\"\",\"\",OFFSET(Warmtevragers!$C$7,5,A39,1,1))","v":0},{"$f":"IF(A39=\"\",\"\",OFFSET(Warmtevragers!$C$7,6,A39,1,1))","v":0},{"$f":"IF(OR(F39=Keuzelijsten!$A$65,F39=Keuzelijsten!$A$66),(IF(A39=\"\",\"\",OFFSET(Warmtevragers!$C$7,8,A39,1,1))),\"Nee\")","v":"Nee"},{"$f":"IF(OR(F39=Keuzelijsten!$A$65,F39=Keuzelijsten!$A$66),(IF(A39=\"\",\"\",OFFSET(Warmtevragers!$C$7,9,A39,1,1))),\"Nee\")","v":"Nee"},{"$f":"IF(OR(F39=Keuzelijsten!$A$66),(IF(A39=\"\",\"\",OFFSET(Warmtevragers!$C$7,10,A39,1,1))),\"Nee\")","v":"Nee"},{"$f":"IF(OR(F39=Keuzelijsten!$A$66),(IF(A39=\"\",\"\",OFFSET(Warmtevragers!$C$7,11,A39,1,1))),\"Nee\")","v":"Nee"},{"$f":"IF(A39=\"\",\"\",IF(OFFSET(Warmtevragers!$C$7,7,A39,1,1)=\"Ja\",0.97,1))","v":1},{"$f":"IF(A39=\"\",\"\",OFFSET(Warmtevragers!$C$7,10,A39,1,1))","v":0}]
[32,"Warmtevrager 33",{"$f":"IF(A40=\"\",\"\",OFFSET(Warmtevragers!$C$7,2,A40,1,1))","v":0},{"$f":"IF(A40=\"\",\"\",OFFSET(Warmtevragers!$C$7,30,A40,1,1))","v":0},{"$f":"IF(A40=\"\",\"\",OFFSET(Warmtevragers!$C$7,5,A40,1,1))","v":0},{"$f":"IF(A40=\"\",\"\",OFFSET(Warmtevragers!$C$7,6,A40,1,1))","v":0},{"$f":"IF(OR(F40=Keuzelijsten!$A$65,F40=Keuzelijsten!$A$66),(IF(A40=\"\",\"\",OFFSET(Warmtevragers!$C$7,8,A40,1,1))),\"Nee\")","v":"Nee"},{"$f":"IF(OR(F40=Keuzelijsten!$A$65,F40=Keuzelijsten!$A$66),(IF(A40=\"\",\"\",OFFSET(Warmtevragers!$C$7,9,A40,1,1))),\"Nee\")","v":"Nee"},{"$f":"IF(OR(F40=Keuzelijsten!$A$66),(IF(A40=\"\",\"\",OFFSET(Warmtevragers!$C$7,10,A40,1,1))),\"Nee\")","v":"Nee"},{"$f":"IF(OR(F40=Keuzelijsten!$A$66),(IF(A40=\"\",\"\",OFFSET(Warmtevragers!$C$7,11,A40,1,1))),\"Nee\")","v":"Nee"},{"$f":"IF(A40=\"\",\"\",IF(OFFSET(Warmtevragers!$C$7,7,A40,1,1)=\"Ja\",0.97,1))","v":1},{"$f":"IF(A40=\"\",\"\",OFFSET(Warmtevragers!$C$7,10,A40,1,1))","v":0}]
[33,"Warmtevrager 34",{"$f":"IF(A41=\"\",\"\",OFFSET(Warmtevragers!$C$7,2,A41,1,1))","v":0},{"$f":"IF(A41=\"\",\"\",OFFSET(Warmtevragers!$C$7,30,A41,1,1))","v":0},{"$f":"IF(A41=\"\",\"\",OFFSET(Warmtevragers!$C$7,5,A41,1,1))","v":0},{"$f":"IF(A41=\"\",\"\",OFFSET(Warmtevragers!$C$7,6,A41,1,1))","v":0},{"$f":"IF(OR(F41=Keuzelijsten!$A$65,F41=Keuzelijsten!$A$66),(IF(A41=\"\",\"\",OFFSET(Warmtevragers!$C$7,8,A41,1,1))),\"Nee\")","v":"Nee"},{"$f":"IF(OR(F41=Keuzelijsten!$A$65,F41=Keuzelijsten!$A$66),(IF(A41=\"\",\"\",OFFSET(Warmtevragers!$C$7,9,A41,1,1))),\"Nee\")","v":"Nee"},{"$f":"IF(OR(F41=Keuzelijsten!$A$66),(IF(A41=\"\",\"\",OFFSET(Warmtevragers!$C$7,10,A41,1,1))),\"Nee\")","v":"Nee"},{"$f":"IF(OR(F41=Keuzelijsten!$A$66),(IF(A41=\"\",\"\",OFFSET(Warmtevragers!$C$7,11,A41,1,1))),\"Nee\")","v":"Nee"},{"$f":"IF(A41=\"\",\"\",IF(OFFSET(Warmtevragers!$C$7,7,A41,1,1)=\"Ja\",0.97,1))","v":1},{"$f":"IF(A41=\"\",\"\",OFFSET(Warmtevragers!$C$7,10,A41,1,1))","v":0}]
[34,"Warmtevrager 35",{"$f":"IF(A42=\"\",\"\",OFFSET(Warmtevragers!$C$7,2,A42,1,1))","v":0},{"$f":"IF(A42=\"\",\"\",OFFSET(Warmtevragers!$C$7,30,A42,1,1))","v":0},{"$f":"IF(A42=\"\",\"\",OFFSET(Warmtevragers!$C$7,5,A42,1,1))","v":0},{"$f":"IF(A42=\"\",\"\",OFFSET(Warmtevragers!$C$7,6,A42,1,1))","v":0},{"$f":"IF(OR(F42=Keuzelijsten!$A$65,F42=Keuzelijsten!$A$66),(IF(A42=\"\",\"\",OFFSET(Warmtevragers!$C$7,8,A42,1,1))),\"Nee\")","v":"Nee"},{"$f":"IF(OR(F42=Keuzelijsten!$A$65,F42=Keuzelijsten!$A$66),(IF(A42=\"\",\"\",OFFSET(Warmtevragers!$C$7,9,A42,1,1))),\"Nee\")","v":"Nee"},{"$f":"IF(OR(F42=Keuzelijsten!$A$66),(IF(A42=\"\",\"\",OFFSET(Warmtevragers!$C$7,10,A42,1,1))),\"Nee\")","v":"Nee"},{"$f":"IF(OR(F42=Keuzelijsten!$A$66),(IF(A42=\"\",\"\",OFFSET(Warmtevragers!$C$7,11,A42,1,1))),\"Nee\")","v":"Nee"},{"$f":"IF(A42=\"\",\"\",IF(OFFSET(Warmtevragers!$C$7,7,A42,1,1)=\"Ja\",0.97,1))","v":1},{"$f":"IF(A42=\"\",\"\",OFFSET(Warmtevragers!$C$7,10,A42,1,1))","v":0}]
[35,"Warmtevrager 36",{"$f":"IF(A43=\"\",\"\",OFFSET(Warmtevragers!$C$7,2,A43,1,1))","v":0},{"$f":"IF(A43=\"\",\"\",OFFSET(Warmtevragers!$C$7,30,A43,1,1))","v":0},{"$f":"IF(A43=\"\",\"\",OFFSET(Warmtevragers!$C$7,5,A43,1,1))","v":0},{"$f":"IF(A43=\"\",\"\",OFFSET(Warmtevragers!$C$7,6,A43,1,1))","v":0},{"$f":"IF(OR(F43=Keuzelijsten!$A$65,F43=Keuzelijsten!$A$66),(IF(A43=\"\",\"\",OFFSET(Warmtevragers!$C$7,8,A43,1,1))),\"Nee\")","v":"Nee"},{"$f":"IF(OR(F43=Keuzelijsten!$A$65,F43=Keuzelijsten!$A$66),(IF(A43=\"\",\"\",OFFSET(Warmtevragers!$C$7,9,A43,1,1))),\"Nee\")","v":"Nee"},{"$f":"IF(OR(F43=Keuzelijsten!$A$66),(IF(A43=\"\",\"\",OFFSET(Warmtevragers!$C$7,10,A43,1,1))),\"Nee\")","v":"Nee"},{"$f":"IF(OR(F43=Keuzelijsten!$A$66),(IF(A43=\"\",\"\",OFFSET(Warmtevragers!$C$7,11,A43,1,1))),\"Nee\")","v":"Nee"},{"$f":"IF(A43=\"\",\"\",IF(OFFSET(Warmtevragers!$C$7,7,A43,1,1)=\"Ja\",0.97,1))","v":1},{"$f":"IF(A43=\"\",\"\",OFFSET(Warmtevragers!$C$7,10,A43,1,1))","v":0}]
[36,"Warmtevrager 37",{"$f":"IF(A44=\"\",\"\",OFFSET(Warmtevragers!$C$7,2,A44,1,1))","v":0},{"$f":"IF(A44=\"\",\"\",OFFSET(Warmtevragers!$C$7,30,A44,1,1))","v":0},{"$f":"IF(A44=\"\",\"\",OFFSET(Warmtevragers!$C$7,5,A44,1,1))","v":0},{"$f":"IF(A44=\"\",\"\",OFFSET(Warmtevragers!$C$7,6,A44,1,1))","v":0},{"$f":"IF(OR(F44=Keuzelijsten!$A$65,F44=Keuzelijsten!$A$66),(IF(A44=\"\",\"\",OFFSET(Warmtevragers!$C$7,8,A44,1,1))),\"Nee\")","v":"Nee"},{"$f":"IF(OR(F44=Keuzelijsten!$A$65,F44=Keuzelijsten!$A$66),(IF(A44=\"\",\"\",OFFSET(Warmtevragers!$C$7,9,A44,1,1))),\"Nee\")","v":"Nee"},{"$f":"IF(OR(F44=Keuzelijsten!$A$66),(IF(A44=\"\",\"\",OFFSET(Warmtevragers!$C$7,10,A44,1,1))),\"Nee\")","v":"Nee"},{"$f":"IF(OR(F44=Keuzelijsten!$A$66),(IF(A44=\"\",\"\",OFFSET(Warmtevragers!$C$7,11,A44,1,1))),\"Nee\")","v":"Nee"},{"$f":"IF(A44=\"\",\"\",IF(OFFSET(Warmtevragers!$C$7,7,A44,1,1)=\"Ja\",0.97,1))","v":1},{"$f":"IF(A44=\"\",\"\",OFFSET(Warmtevragers!$C$7,10,A44,1,1))","v":0}]
[37,"Warmtevrager 38",{"$f":"IF(A45=\"\",\"\",OFFSET(Warmtevragers!$C$7,2,A45,1,1))","v":0},{"$f":"IF(A45=\"\",\"\",OFFSET(Warmtevragers!$C$7,30,A45,1,1))","v":0},{"$f":"IF(A45=\"\",\"\",OFFSET(Warmtevragers!$C$7,5,A45,1,1))","v":0},{"$f":"IF(A45=\"\",\"\",OFFSET(Warmtevragers!$C$7,6,A45,1,1))","v":0},{"$f":"IF(OR(F45=Keuzelijsten!$A$65,F45=Keuzelijsten!$A$66),(IF(A45=\"\",\"\",OFFSET(Warmtevragers!$C$7,8,A45,1,1))),\"Nee\")","v":"Nee"},{"$f":"IF(OR(F45=Keuzelijsten!$A$65,F45=Keuzelijsten!$A$66),(IF(A45=\"\",\"\",OFFSET(Warmtevragers!$C$7,9,A45,1,1))),\"Nee\")","v":"Nee"},{"$f":"IF(OR(F45=Keuzelijsten!$A$66),(IF(A45=\"\",\"\",OFFSET(Warmtevragers!$C$7,10,A45,1,1))),\"Nee\")","v":"Nee"},{"$f":"IF(OR(F45=Keuzelijsten!$A$66),(IF(A45=\"\",\"\",OFFSET(Warmtevragers!$C$7,11,A45,1,1))),\"Nee\")","v":"Nee"},{"$f":"IF(A45=\"\",\"\",IF(OFFSET(Warmtevragers!$C$7,7,A45,1,1)=\"Ja\",0.97,1))","v":1},{"$f":"IF(A45=\"\",\"\",OFFSET(Warmtevragers!$C$7,10,A45,1,1))","v":0}]
[38,"Warmtevrager 39",{"$f":"IF(A46=\"\",\"\",OFFSET(Warmtevragers!$C$7,2,A46,1,1))","v":0},{"$f":"IF(A46=\"\",\"\",OFFSET(Warmtevragers!$C$7,30,A46,1,1))","v":0},{"$f":"IF(A46=\"\",\"\",OFFSET(Warmtevragers!$C$7,5,A46,1,1))","v":0},{"$f":"IF(A46=\"\",\"\",OFFSET(Warmtevragers!$C$7,6,A46,1,1))","v":0},{"$f":"IF(OR(F46=Keuzelijsten!$A$65,F46=Keuzelijsten!$A$66),(IF(A46=\"\",\"\",OFFSET(Warmtevragers!$C$7,8,A46,1,1))),\"Nee\")","v":"Nee"},{"$f":"IF(OR(F46=Keuzelijsten!$A$65,F46=Keuzelijsten!$A$66),(IF(A46=\"\",\"\",OFFSET(Warmtevragers!$C$7,9,A46,1,1))),\"Nee\")","v":"Nee"},{"$f":"IF(OR(F46=Keuzelijsten!$A$66),(IF(A46=\"\",\"\",OFFSET(Warmtevragers!$C$7,10,A46,1,1))),\"Nee\")","v":"Nee"},{"$f":"IF(OR(F46=Keuzelijsten!$A$66),(IF(A46=\"\",\"\",OFFSET(Warmtevragers!$C$7,11,A46,1,1))),\"Nee\")","v":"Nee"},{"$f":"IF(A46=\"\",\"\",IF(OFFSET(Warmtevragers!$C$7,7,A46,1,1)=\"Ja\",0.97,1))","v":1},{"$f":"IF(A46=\"\",\"\",OFFSET(Warmtevragers!$C$7,10,A46,1,1))","v":0}]
[39,"Warmtevrager 40",{"$f":"IF(A47=\"\",\"\",OFFSET(Warmtevragers!$C$7,2,A47,1,1))","v":0},{"$f":"IF(A47=\"\",\"\",OFFSET(Warmtevragers!$C$7,30,A47,1,1))","v":0},{"$f":"IF(A47=\"\",\"\",OFFSET(Warmtevragers!$C$7,5,A47,1,1))","v":0},{"$f":"IF(A47=\"\",\"\",OFFSET(Warmtevragers!$C$7,6,A47,1,1))","v":0},{"$f":"IF(OR(F47=Keuzelijsten!$A$65,F47=Keuzelijsten!$A$66),(IF(A47=\"\",\"\",OFFSET(Warmtevragers!$C$7,8,A47,1,1))),\"Nee\")","v":"Nee"},{"$f":"IF(OR(F47=Keuzelijsten!$A$65,F47=Keuzelijsten!$A$66),(IF(A47=\"\",\"\",OFFSET(Warmtevragers!$C$7,9,A47,1,1))),\"Nee\")","v":"Nee"},{"$f":"IF(OR(F47=Keuzelijsten!$A$66),(IF(A47=\"\",\"\",OFFSET(Warmtevragers!$C$7,10,A47,1,1))),\"Nee\")","v":"Nee"},{"$f":"IF(OR(F47=Keuzelijsten!$A$66),(IF(A47=\"\",\"\",OFFSET(Warmtevragers!$C$7,11,A47,1,1))),\"Nee\")","v":"Nee"},{"$f":"IF(A47=\"\",\"\",IF(OFFSET(Warmtevragers!$C$7,7,A47,1,1)=\"Ja\",0.97,1))","v":1},{"$f":"IF(A47=\"\",\"\",OFFSET(Warmtevragers!$C$7,10,A47,1,1))","v":0}]
[40,"Warmtevrager 41",{"$f":"IF(A48=\"\",\"\",OFFSET(Warmtevragers!$C$7,2,A48,1,1))","v":0},{"$f":"IF(A48=\"\",\"\",OFFSET(Warmtevragers!$C$7,30,A48,1,1))","v":0},{"$f":"IF(A48=\"\",\"\",OFFSET(Warmtevragers!$C$7,5,A48,1,1))","v":0},{"$f":"IF(A48=\"\",\"\",OFFSET(Warmtevragers!$C$7,6,A48,1,1))","v":0},{"$f":"IF(OR(F48=Keuzelijsten!$A$65,F48=Keuzelijsten!$A$66),(IF(A48=\"\",\"\",OFFSET(Warmtevragers!$C$7,8,A48,1,1))),\"Nee\")","v":"Nee"},{"$f":"IF(OR(F48=Keuzelijsten!$A$65,F48=Keuzelijsten!$A$66),(IF(A48=\"\",\"\",OFFSET(Warmtevragers!$C$7,9,A48,1,1))),\"Nee\")","v":"Nee"},{"$f":"IF(OR(F48=Keuzelijsten!$A$66),(IF(A48=\"\",\"\",OFFSET(Warmtevragers!$C$7,10,A48,1,1))),\"Nee\")","v":"Nee"},{"$f":"IF(OR(F48=Keuzelijsten!$A$66),(IF(A48=\"\",\"\",OFFSET(Warmtevragers!$C$7,11,A48,1,1))),\"Nee\")","v":"Nee"},{"$f":"IF(A48=\"\",\"\",IF(OFFSET(Warmtevragers!$C$7,7,A48,1,1)=\"Ja\",0.97,1))","v":1},{"$f":"IF(A48=\"\",\"\",OFFSET(Warmtevragers!$C$7,10,A48,1,1))","v":0}]
[41,"Warmtevrager 42",{"$f":"IF(A49=\"\",\"\",OFFSET(Warmtevragers!$C$7,2,A49,1,1))","v":0},{"$f":"IF(A49=\"\",\"\",OFFSET(Warmtevragers!$C$7,30,A49,1,1))","v":0},{"$f":"IF(A49=\"\",\"\",OFFSET(Warmtevragers!$C$7,5,A49,1,1))","v":0},{"$f":"IF(A49=\"\",\"\",OFFSET(Warmtevragers!$C$7,6,A49,1,1))","v":0},{"$f":"IF(OR(F49=Keuzelijsten!$A$65,F49=Keuzelijsten!$A$66),(IF(A49=\"\",\"\",OFFSET(Warmtevragers!$C$7,8,A49,1,1))),\"Nee\")","v":"Nee"},{"$f":"IF(OR(F49=Keuzelijsten!$A$65,F49=Keuzelijsten!$A$66),(IF(A49=\"\",\"\",OFFSET(Warmtevragers!$C$7,9,A49,1,1))),\"Nee\")","v":"Nee"},{"$f":"IF(OR(F49=Keuzelijsten!$A$66),(IF(A49=\"\",\"\",OFFSET(Warmtevragers!$C$7,10,A49,1,1))),\"Nee\")","v":"Nee"},{"$f":"IF(OR(F49=Keuzelijsten!$A$66),(IF(A49=\"\",\"\",OFFSET(Warmtevragers!$C$7,11,A49,1,1))),\"Nee\")","v":"Nee"},{"$f":"IF(A49=\"\",\"\",IF(OFFSET(Warmtevragers!$C$7,7,A49,1,1)=\"Ja\",0.97,1))","v":1},{"$f":"IF(A49=\"\",\"\",OFFSET(Warmtevragers!$C$7,10,A49,1,1))","v":0}]
[42,"Warmtevrager 43",{"$f":"IF(A50=\"\",\"\",OFFSET(Warmtevragers!$C$7,2,A50,1,1))","v":0},{"$f":"IF(A50=\"\",\"\",OFFSET(Warmtevragers!$C$7,30,A50,1,1))","v":0},{"$f":"IF(A50=\"\",\"\",OFFSET(Warmtevragers!$C$7,5,A50,1,1))","v":0},{"$f":"IF(A50=\"\",\"\",OFFSET(Warmtevragers!$C$7,6,A50,1,1))","v":0},{"$f":"IF(OR(F50=Keuzelijsten!$A$65,F50=Keuzelijsten!$A$66),(IF(A50=\"\",\"\",OFFSET(Warmtevragers!$C$7,8,A50,1,1))),\"Nee\")","v":"Nee"},{"$f":"IF(OR(F50=Keuzelijsten!$A$65,F50=Keuzelijsten!$A$66),(IF(A50=\"\",\"\",OFFSET(Warmtevragers!$C$7,9,A50,1,1))),\"Nee\")","v":"Nee"},{"$f":"IF(OR(F50=Keuzelijsten!$A$66),(IF(A50=\"\",\"\",OFFSET(Warmtevragers!$C$7,10,A50,1,1))),\"Nee\")","v":"Nee"},{"$f":"IF(OR(F50=Keuzelijsten!$A$66),(IF(A50=\"\",\"\",OFFSET(Warmtevragers!$C$7,11,A50,1,1))),\"Nee\")","v":"Nee"},{"$f":"IF(A50=\"\",\"\",IF(OFFSET(Warmtevragers!$C$7,7,A50,1,1)=\"Ja\",0.97,1))","v":1},{"$f":"IF(A50=\"\",\"\",OFFSET(Warmtevragers!$C$7,10,A50,1,1))","v":0}]
[43,"Warmtevrager 44",{"$f":"IF(A51=\"\",\"\",OFFSET(Warmtevragers!$C$7,2,A51,1,1))","v":0},{"$f":"IF(A51=\"\",\"\",OFFSET(Warmtevragers!$C$7,30,A51,1,1))","v":0},{"$f":"IF(A51=\"\",\"\",OFFSET(Warmtevragers!$C$7,5,A51,1,1))","v":0},{"$f":"IF(A51=\"\",\"\",OFFSET(Warmtevragers!$C$7,6,A51,1,1))","v":0},{"$f":"IF(OR(F51=Keuzelijsten!$A$65,F51=Keuzelijsten!$A$66),(IF(A51=\"\",\"\",OFFSET(Warmtevragers!$C$7,8,A51,1,1))),\"Nee\")","v":"Nee"},{"$f":"IF(OR(F51=Keuzelijsten!$A$65,F51=Keuzelijsten!$A$66),(IF(A51=\"\",\"\",OFFSET(Warmtevragers!$C$7,9,A51,1,1))),\"Nee\")","v":"Nee"},{"$f":"IF(OR(F51=Keuzelijsten!$A$66),(IF(A51=\"\",\"\",OFFSET(Warmtevragers!$C$7,10,A51,1,1))),\"Nee\")","v":"Nee"},{"$f":"IF(OR(F51=Keuzelijsten!$A$66),(IF(A51=\"\",\"\",OFFSET(Warmtevragers!$C$7,11,A51,1,1))),\"Nee\")","v":"Nee"},{"$f":"IF(A51=\"\",\"\",IF(OFFSET(Warmtevragers!$C$7,7,A51,1,1)=\"Ja\",0.97,1))","v":1},{"$f":"IF(A51=\"\",\"\",OFFSET(Warmtevragers!$C$7,10,A51,1,1))","v":0}]
[44,"Warmtevrager 45",{"$f":"IF(A52=\"\",\"\",OFFSET(Warmtevragers!$C$7,2,A52,1,1))","v":0},{"$f":"IF(A52=\"\",\"\",OFFSET(Warmtevragers!$C$7,30,A52,1,1))","v":0},{"$f":"IF(A52=\"\",\"\",OFFSET(Warmtevragers!$C$7,5,A52,1,1))","v":0},{"$f":"IF(A52=\"\",\"\",OFFSET(Warmtevragers!$C$7,6,A52,1,1))","v":0},{"$f":"IF(OR(F52=Keuzelijsten!$A$65,F52=Keuzelijsten!$A$66),(IF(A52=\"\",\"\",OFFSET(Warmtevragers!$C$7,8,A52,1,1))),\"Nee\")","v":"Nee"},{"$f":"IF(OR(F52=Keuzelijsten!$A$65,F52=Keuzelijsten!$A$66),(IF(A52=\"\",\"\",OFFSET(Warmtevragers!$C$7,9,A52,1,1))),\"Nee\")","v":"Nee"},{"$f":"IF(OR(F52=Keuzelijsten!$A$66),(IF(A52=\"\",\"\",OFFSET(Warmtevragers!$C$7,10,A52,1,1))),\"Nee\")","v":"Nee"},{"$f":"IF(OR(F52=Keuzelijsten!$A$66),(IF(A52=\"\",\"\",OFFSET(Warmtevragers!$C$7,11,A52,1,1))),\"Nee\")","v":"Nee"},{"$f":"IF(A52=\"\",\"\",IF(OFFSET(Warmtevragers!$C$7,7,A52,1,1)=\"Ja\",0.97,1))","v":1},{"$f":"IF(A52=\"\",\"\",OFFSET(Warmtevragers!$C$7,10,A52,1,1))","v":0}]
[45,"Warmtevrager 46",{"$f":"IF(A53=\"\",\"\",OFFSET(Warmtevragers!$C$7,2,A53,1,1))","v":0},{"$f":"IF(A53=\"\",\"\",OFFSET(Warmtevragers!$C$7,30,A53,1,1))","v":0},{"$f":"IF(A53=\"\",\"\",OFFSET(Warmtevragers!$C$7,5,A53,1,1))","v":0},{"$f":"IF(A53=\"\",\"\",OFFSET(Warmtevragers!$C$7,6,A53,1,1))","v":0},{"$f":"IF(OR(F53=Keuzelijsten!$A$65,F53=Keuzelijsten!$A$66),(IF(A53=\"\",\"\",OFFSET(Warmtevragers!$C$7,8,A53,1,1))),\"Nee\")","v":"Nee"},{"$f":"IF(OR(F53=Keuzelijsten!$A$65,F53=Keuzelijsten!$A$66),(IF(A53=\"\",\"\",OFFSET(Warmtevragers!$C$7,9,A53,1,1))),\"Nee\")","v":"Nee"},{"$f":"IF(OR(F53=Keuzelijsten!$A$66),(IF(A53=\"\",\"\",OFFSET(Warmtevragers!$C$7,10,A53,1,1))),\"Nee\")","v":"Nee"},{"$f":"IF(OR(F53=Keuzelijsten!$A$66),(IF(A53=\"\",\"\",OFFSET(Warmtevragers!$C$7,11,A53,1,1))),\"Nee\")","v":"Nee"},{"$f":"IF(A53=\"\",\"\",IF(OFFSET(Warmtevragers!$C$7,7,A53,1,1)=\"Ja\",0.97,1))","v":1},{"$f":"IF(A53=\"\",\"\",OFFSET(Warmtevragers!$C$7,10,A53,1,1))","v":0}]
[46,"Warmtevrager 47",{"$f":"IF(A54=\"\",\"\",OFFSET(Warmtevragers!$C$7,2,A54,1,1))","v":0},{"$f":"IF(A54=\"\",\"\",OFFSET(Warmtevragers!$C$7,30,A54,1,1))","v":0},{"$f":"IF(A54=\"\",\"\",OFFSET(Warmtevragers!$C$7,5,A54,1,1))","v":0},{"$f":"IF(A54=\"\",\"\",OFFSET(Warmtevragers!$C$7,6,A54,1,1))","v":0},{"$f":"IF(OR(F54=Keuzelijsten!$A$65,F54=Keuzelijsten!$A$66),(IF(A54=\"\",\"\",OFFSET(Warmtevragers!$C$7,8,A54,1,1))),\"Nee\")","v":"Nee"},{"$f":"IF(OR(F54=Keuzelijsten!$A$65,F54=Keuzelijsten!$A$66),(IF(A54=\"\",\"\",OFFSET(Warmtevragers!$C$7,9,A54,1,1))),\"Nee\")","v":"Nee"},{"$f":"IF(OR(F54=Keuzelijsten!$A$66),(IF(A54=\"\",\"\",OFFSET(Warmtevragers!$C$7,10,A54,1,1))),\"Nee\")","v":"Nee"},{"$f":"IF(OR(F54=Keuzelijsten!$A$66),(IF(A54=\"\",\"\",OFFSET(Warmtevragers!$C$7,11,A54,1,1))),\"Nee\")","v":"Nee"},{"$f":"IF(A54=\"\",\"\",IF(OFFSET(Warmtevragers!$C$7,7,A54,1,1)=\"Ja\",0.97,1))","v":1},{"$f":"IF(A54=\"\",\"\",OFFSET(Warmtevragers!$C$7,10,A54,1,1))","v":0}]
[47,"Warmtevrager 48",{"$f":"IF(A55=\"\",\"\",OFFSET(Warmtevragers!$C$7,2,A55,1,1))","v":0},{"$f":"IF(A55=\"\",\"\",OFFSET(Warmtevragers!$C$7,30,A55,1,1))","v":0},{"$f":"IF(A55=\"\",\"\",OFFSET(Warmtevragers!$C$7,5,A55,1,1))","v":0},{"$f":"IF(A55=\"\",\"\",OFFSET(Warmtevragers!$C$7,6,A55,1,1))","v":0},{"$f":"IF(OR(F55=Keuzelijsten!$A$65,F55=Keuzelijsten!$A$66),(IF(A55=\"\",\"\",OFFSET(Warmtevragers!$C$7,8,A55,1,1))),\"Nee\")","v":"Nee"},{"$f":"IF(OR(F55=Keuzelijsten!$A$65,F55=Keuzelijsten!$A$66),(IF(A55=\"\",\"\",OFFSET(Warmtevragers!$C$7,9,A55,1,1))),\"Nee\")","v":"Nee"},{"$f":"IF(OR(F55=Keuzelijsten!$A$66),(IF(A55=\"\",\"\",OFFSET(Warmtevragers!$C$7,10,A55,1,1))),\"Nee\")","v":"Nee"},{"$f":"IF(OR(F55=Keuzelijsten!$A$66),(IF(A55=\"\",\"\",OFFSET(Warmtevragers!$C$7,11,A55,1,1))),\"Nee\")","v":"Nee"},{"$f":"IF(A55=\"\",\"\",IF(OFFSET(Warmtevragers!$C$7,7,A55,1,1)=\"Ja\",0.97,1))","v":1},{"$f":"IF(A55=\"\",\"\",OFFSET(Warmtevragers!$C$7,10,A55,1,1))","v":0}]
[48,"Warmtevrager 49",{"$f":"IF(A56=\"\",\"\",OFFSET(Warmtevragers!$C$7,2,A56,1,1))","v":0},{"$f":"IF(A56=\"\",\"\",OFFSET(Warmtevragers!$C$7,30,A56,1,1))","v":0},{"$f":"IF(A56=\"\",\"\",OFFSET(Warmtevragers!$C$7,5,A56,1,1))","v":0},{"$f":"IF(A56=\"\",\"\",OFFSET(Warmtevragers!$C$7,6,A56,1,1))","v":0},{"$f":"IF(OR(F56=Keuzelijsten!$A$65,F56=Keuzelijsten!$A$66),(IF(A56=\"\",\"\",OFFSET(Warmtevragers!$C$7,8,A56,1,1))),\"Nee\")","v":"Nee"},{"$f":"IF(OR(F56=Keuzelijsten!$A$65,F56=Keuzelijsten!$A$66),(IF(A56=\"\",\"\",OFFSET(Warmtevragers!$C$7,9,A56,1,1))),\"Nee\")","v":"Nee"},{"$f":"IF(OR(F56=Keuzelijsten!$A$66),(IF(A56=\"\",\"\",OFFSET(Warmtevragers!$C$7,10,A56,1,1))),\"Nee\")","v":"Nee"},{"$f":"IF(OR(F56=Keuzelijsten!$A$66),(IF(A56=\"\",\"\",OFFSET(Warmtevragers!$C$7,11,A56,1,1))),\"Nee\")","v":"Nee"},{"$f":"IF(A56=\"\",\"\",IF(OFFSET(Warmtevragers!$C$7,7,A56,1,1)=\"Ja\",0.97,1))","v":1},{"$f":"IF(A56=\"\",\"\",OFFSET(Warmtevragers!$C$7,10,A56,1,1))","v":0}]
[49,"Warmtevrager 50",{"$f":"IF(A57=\"\",\"\",OFFSET(Warmtevragers!$C$7,2,A57,1,1))","v":0},{"$f":"IF(A57=\"\",\"\",OFFSET(Warmtevragers!$C$7,30,A57,1,1))","v":0},{"$f":"IF(A57=\"\",\"\",OFFSET(Warmtevragers!$C$7,5,A57,1,1))","v":0},{"$f":"IF(A57=\"\",\"\",OFFSET(Warmtevragers!$C$7,6,A57,1,1))","v":0},{"$f":"IF(OR(F57=Keuzelijsten!$A$65,F57=Keuzelijsten!$A$66),(IF(A57=\"\",\"\",OFFSET(Warmtevragers!$C$7,8,A57,1,1))),\"Nee\")","v":"Nee"},{"$f":"IF(OR(F57=Keuzelijsten!$A$65,F57=Keuzelijsten!$A$66),(IF(A57=\"\",\"\",OFFSET(Warmtevragers!$C$7,9,A57,1,1))),\"Nee\")","v":"Nee"},{"$f":"IF(OR(F57=Keuzelijsten!$A$66),(IF(A57=\"\",\"\",OFFSET(Warmtevragers!$C$7,10,A57,1,1))),\"Nee\")","v":"Nee"},{"$f":"IF(OR(F57=Keuzelijsten!$A$66),(IF(A57=\"\",\"\",OFFSET(Warmtevragers!$C$7,11,A57,1,1))),\"Nee\")","v":"Nee"},{"$f":"IF(A57=\"\",\"\",IF(OFFSET(Warmtevragers!$C$7,7,A57,1,1)=\"Ja\",0.97,1))","v":1},{"$f":"IF(A57=\"\",\"\",OFFSET(Warmtevragers!$C$7,10,A57,1,1))","v":0}]
[50,"Warmtevrager 51",{"$f":"IF(A58=\"\",\"\",OFFSET(Warmtevragers!$C$7,2,A58,1,1))","v":0},{"$f":"IF(A58=\"\",\"\",OFFSET(Warmtevragers!$C$7,30,A58,1,1))","v":0},{"$f":"IF(A58=\"\",\"\",OFFSET(Warmtevragers!$C$7,5,A58,1,1))","v":0},{"$f":"IF(A58=\"\",\"\",OFFSET(Warmtevragers!$C$7,6,A58,1,1))","v":0},{"$f":"IF(OR(F58=Keuzelijsten!$A$65,F58=Keuzelijsten!$A$66),(IF(A58=\"\",\"\",OFFSET(Warmtevragers!$C$7,8,A58,1,1))),\"Nee\")","v":"Nee"},{"$f":"IF(OR(F58=Keuzelijsten!$A$65,F58=Keuzelijsten!$A$66),(IF(A58=\"\",\"\",OFFSET(Warmtevragers!$C$7,9,A58,1,1))),\"Nee\")","v":"Nee"},{"$f":"IF(OR(F58=Keuzelijsten!$A$66),(IF(A58=\"\",\"\",OFFSET(Warmtevragers!$C$7,10,A58,1,1))),\"Nee\")","v":"Nee"},{"$f":"IF(OR(F58=Keuzelijsten!$A$66),(IF(A58=\"\",\"\",OFFSET(Warmtevragers!$C$7,11,A58,1,1))),\"Nee\")","v":"Nee"},{"$f":"IF(A58=\"\",\"\",IF(OFFSET(Warmtevragers!$C$7,7,A58,1,1)=\"Ja\",0.97,1))","v":1},{"$f":"IF(A58=\"\",\"\",OFFSET(Warmtevragers!$C$7,10,A58,1,1))","v":0}]
[51,"Warmtevrager 52",{"$f":"IF(A59=\"\",\"\",OFFSET(Warmtevragers!$C$7,2,A59,1,1))","v":0},{"$f":"IF(A59=\"\",\"\",OFFSET(Warmtevragers!$C$7,30,A59,1,1))","v":0},{"$f":"IF(A59=\"\",\"\",OFFSET(Warmtevragers!$C$7,5,A59,1,1))","v":0},{"$f":"IF(A59=\"\",\"\",OFFSET(Warmtevragers!$C$7,6,A59,1,1))","v":0},{"$f":"IF(OR(F59=Keuzelijsten!$A$65,F59=Keuzelijsten!$A$66),(IF(A59=\"\",\"\",OFFSET(Warmtevragers!$C$7,8,A59,1,1))),\"Nee\")","v":"Nee"},{"$f":"IF(OR(F59=Keuzelijsten!$A$65,F59=Keuzelijsten!$A$66),(IF(A59=\"\",\"\",OFFSET(Warmtevragers!$C$7,9,A59,1,1))),\"Nee\")","v":"Nee"},{"$f":"IF(OR(F59=Keuzelijsten!$A$66),(IF(A59=\"\",\"\",OFFSET(Warmtevragers!$C$7,10,A59,1,1))),\"Nee\")","v":"Nee"},{"$f":"IF(OR(F59=Keuzelijsten!$A$66),(IF(A59=\"\",\"\",OFFSET(Warmtevragers!$C$7,11,A59,1,1))),\"Nee\")","v":"Nee"},{"$f":"IF(A59=\"\",\"\",IF(OFFSET(Warmtevragers!$C$7,7,A59,1,1)=\"Ja\",0.97,1))","v":1},{"$f":"IF(A59=\"\",\"\",OFFSET(Warmtevragers!$C$7,10,A59,1,1))","v":0}]
[52,"Warmtevrager 53",{"$f":"IF(A60=\"\",\"\",OFFSET(Warmtevragers!$C$7,2,A60,1,1))","v":0},{"$f":"IF(A60=\"\",\"\",OFFSET(Warmtevragers!$C$7,30,A60,1,1))","v":0},{"$f":"IF(A60=\"\",\"\",OFFSET(Warmtevragers!$C$7,5,A60,1,1))","v":0},{"$f":"IF(A60=\"\",\"\",OFFSET(Warmtevragers!$C$7,6,A60,1,1))","v":0},{"$f":"IF(OR(F60=Keuzelijsten!$A$65,F60=Keuzelijsten!$A$66),(IF(A60=\"\",\"\",OFFSET(Warmtevragers!$C$7,8,A60,1,1))),\"Nee\")","v":"Nee"},{"$f":"IF(OR(F60=Keuzelijsten!$A$65,F60=Keuzelijsten!$A$66),(IF(A60=\"\",\"\",OFFSET(Warmtevragers!$C$7,9,A60,1,1))),\"Nee\")","v":"Nee"},{"$f":"IF(OR(F60=Keuzelijsten!$A$66),(IF(A60=\"\",\"\",OFFSET(Warmtevragers!$C$7,10,A60,1,1))),\"Nee\")","v":"Nee"},{"$f":"IF(OR(F60=Keuzelijsten!$A$66),(IF(A60=\"\",\"\",OFFSET(Warmtevragers!$C$7,11,A60,1,1))),\"Nee\")","v":"Nee"},{"$f":"IF(A60=\"\",\"\",IF(OFFSET(Warmtevragers!$C$7,7,A60,1,1)=\"Ja\",0.97,1))","v":1},{"$f":"IF(A60=\"\",\"\",OFFSET(Warmtevragers!$C$7,10,A60,1,1))","v":0}]
[53,"Warmtevrager 54",{"$f":"IF(A61=\"\",\"\",OFFSET(Warmtevragers!$C$7,2,A61,1,1))","v":0},{"$f":"IF(A61=\"\",\"\",OFFSET(Warmtevragers!$C$7,30,A61,1,1))","v":0},{"$f":"IF(A61=\"\",\"\",OFFSET(Warmtevragers!$C$7,5,A61,1,1))","v":0},{"$f":"IF(A61=\"\",\"\",OFFSET(Warmtevragers!$C$7,6,A61,1,1))","v":0},{"$f":"IF(OR(F61=Keuzelijsten!$A$65,F61=Keuzelijsten!$A$66),(IF(A61=\"\",\"\",OFFSET(Warmtevragers!$C$7,8,A61,1,1))),\"Nee\")","v":"Nee"},{"$f":"IF(OR(F61=Keuzelijsten!$A$65,F61=Keuzelijsten!$A$66),(IF(A61=\"\",\"\",OFFSET(Warmtevragers!$C$7,9,A61,1,1))),\"Nee\")","v":"Nee"},{"$f":"IF(OR(F61=Keuzelijsten!$A$66),(IF(A61=\"\",\"\",OFFSET(Warmtevragers!$C$7,10,A61,1,1))),\"Nee\")","v":"Nee"},{"$f":"IF(OR(F61=Keuzelijsten!$A$66),(IF(A61=\"\",\"\",OFFSET(Warmtevragers!$C$7,11,A61,1,1))),\"Nee\")","v":"Nee"},{"$f":"IF(A61=\"\",\"\",IF(OFFSET(Warmtevragers!$C$7,7,A61,1,1)=\"Ja\",0.97,1))","v":1},{"$f":"IF(A61=\"\",\"\",OFFSET(Warmtevragers!$C$7,10,A61,1,1))","v":0}]
[54,"Warmtevrager 55",{"$f":"IF(A62=\"\",\"\",OFFSET(Warmtevragers!$C$7,2,A62,1,1))","v":0},{"$f":"IF(A62=\"\",\"\",OFFSET(Warmtevragers!$C$7,30,A62,1,1))","v":0},{"$f":"IF(A62=\"\",\"\",OFFSET(Warmtevragers!$C$7,5,A62,1,1))","v":0},{"$f":"IF(A62=\"\",\"\",OFFSET(Warmtevragers!$C$7,6,A62,1,1))","v":0},{"$f":"IF(OR(F62=Keuzelijsten!$A$65,F62=Keuzelijsten!$A$66),(IF(A62=\"\",\"\",OFFSET(Warmtevragers!$C$7,8,A62,1,1))),\"Nee\")","v":"Nee"},{"$f":"IF(OR(F62=Keuzelijsten!$A$65,F62=Keuzelijsten!$A$66),(IF(A62=\"\",\"\",OFFSET(Warmtevragers!$C$7,9,A62,1,1))),\"Nee\")","v":"Nee"},{"$f":"IF(OR(F62=Keuzelijsten!$A$66),(IF(A62=\"\",\"\",OFFSET(Warmtevragers!$C$7,10,A62,1,1))),\"Nee\")","v":"Nee"},{"$f":"IF(OR(F62=Keuzelijsten!$A$66),(IF(A62=\"\",\"\",OFFSET(Warmtevragers!$C$7,11,A62,1,1))),\"Nee\")","v":"Nee"},{"$f":"IF(A62=\"\",\"\",IF(OFFSET(Warmtevragers!$C$7,7,A62,1,1)=\"Ja\",0.97,1))","v":1},{"$f":"IF(A62=\"\",\"\",OFFSET(Warmtevragers!$C$7,10,A62,1,1))","v":0}]
[55,"Warmtevrager 56",{"$f":"IF(A63=\"\",\"\",OFFSET(Warmtevragers!$C$7,2,A63,1,1))","v":0},{"$f":"IF(A63=\"\",\"\",OFFSET(Warmtevragers!$C$7,30,A63,1,1))","v":0},{"$f":"IF(A63=\"\",\"\",OFFSET(Warmtevragers!$C$7,5,A63,1,1))","v":0},{"$f":"IF(A63=\"\",\"\",OFFSET(Warmtevragers!$C$7,6,A63,1,1))","v":0},{"$f":"IF(OR(F63=Keuzelijsten!$A$65,F63=Keuzelijsten!$A$66),(IF(A63=\"\",\"\",OFFSET(Warmtevragers!$C$7,8,A63,1,1))),\"Nee\")","v":"Nee"},{"$f":"IF(OR(F63=Keuzelijsten!$A$65,F63=Keuzelijsten!$A$66),(IF(A63=\"\",\"\",OFFSET(Warmtevragers!$C$7,9,A63,1,1))),\"Nee\")","v":"Nee"},{"$f":"IF(OR(F63=Keuzelijsten!$A$66),(IF(A63=\"\",\"\",OFFSET(Warmtevragers!$C$7,10,A63,1,1))),\"Nee\")","v":"Nee"},{"$f":"IF(OR(F63=Keuzelijsten!$A$66),(IF(A63=\"\",\"\",OFFSET(Warmtevragers!$C$7,11,A63,1,1))),\"Nee\")","v":"Nee"},{"$f":"IF(A63=\"\",\"\",IF(OFFSET(Warmtevragers!$C$7,7,A63,1,1)=\"Ja\",0.97,1))","v":1},{"$f":"IF(A63=\"\",\"\",OFFSET(Warmtevragers!$C$7,10,A63,1,1))","v":0}]
[56,"Warmtevrager 57",{"$f":"IF(A64=\"\",\"\",OFFSET(Warmtevragers!$C$7,2,A64,1,1))","v":0},{"$f":"IF(A64=\"\",\"\",OFFSET(Warmtevragers!$C$7,30,A64,1,1))","v":0},{"$f":"IF(A64=\"\",\"\",OFFSET(Warmtevragers!$C$7,5,A64,1,1))","v":0},{"$f":"IF(A64=\"\",\"\",OFFSET(Warmtevragers!$C$7,6,A64,1,1))","v":0},{"$f":"IF(OR(F64=Keuzelijsten!$A$65,F64=Keuzelijsten!$A$66),(IF(A64=\"\",\"\",OFFSET(Warmtevragers!$C$7,8,A64,1,1))),\"Nee\")","v":"Nee"},{"$f":"IF(OR(F64=Keuzelijsten!$A$65,F64=Keuzelijsten!$A$66),(IF(A64=\"\",\"\",OFFSET(Warmtevragers!$C$7,9,A64,1,1))),\"Nee\")","v":"Nee"},{"$f":"IF(OR(F64=Keuzelijsten!$A$66),(IF(A64=\"\",\"\",OFFSET(Warmtevragers!$C$7,10,A64,1,1))),\"Nee\")","v":"Nee"},{"$f":"IF(OR(F64=Keuzelijsten!$A$66),(IF(A64=\"\",\"\",OFFSET(Warmtevragers!$C$7,11,A64,1,1))),\"Nee\")","v":"Nee"},{"$f":"IF(A64=\"\",\"\",IF(OFFSET(Warmtevragers!$C$7,7,A64,1,1)=\"Ja\",0.97,1))","v":1},{"$f":"IF(A64=\"\",\"\",OFFSET(Warmtevragers!$C$7,10,A64,1,1))","v":0}]
[57,"Warmtevrager 58",{"$f":"IF(A65=\"\",\"\",OFFSET(Warmtevragers!$C$7,2,A65,1,1))","v":0},{"$f":"IF(A65=\"\",\"\",OFFSET(Warmtevragers!$C$7,30,A65,1,1))","v":0},{"$f":"IF(A65=\"\",\"\",OFFSET(Warmtevragers!$C$7,5,A65,1,1))","v":0},{"$f":"IF(A65=\"\",\"\",OFFSET(Warmtevragers!$C$7,6,A65,1,1))","v":0},{"$f":"IF(OR(F65=Keuzelijsten!$A$65,F65=Keuzelijsten!$A$66),(IF(A65=\"\",\"\",OFFSET(Warmtevragers!$C$7,8,A65,1,1))),\"Nee\")","v":"Nee"},{"$f":"IF(OR(F65=Keuzelijsten!$A$65,F65=Keuzelijsten!$A$66),(IF(A65=\"\",\"\",OFFSET(Warmtevragers!$C$7,9,A65,1,1))),\"Nee\")","v":"Nee"},{"$f":"IF(OR(F65=Keuzelijsten!$A$66),(IF(A65=\"\",\"\",OFFSET(Warmtevragers!$C$7,10,A65,1,1))),\"Nee\")","v":"Nee"},{"$f":"IF(OR(F65=Keuzelijsten!$A$66),(IF(A65=\"\",\"\",OFFSET(Warmtevragers!$C$7,11,A65,1,1))),\"Nee\")","v":"Nee"},{"$f":"IF(A65=\"\",\"\",IF(OFFSET(Warmtevragers!$C$7,7,A65,1,1)=\"Ja\",0.97,1))","v":1},{"$f":"IF(A65=\"\",\"\",OFFSET(Warmtevragers!$C$7,10,A65,1,1))","v":0}]
[58,"Warmtevrager 59",{"$f":"IF(A66=\"\",\"\",OFFSET(Warmtevragers!$C$7,2,A66,1,1))","v":0},{"$f":"IF(A66=\"\",\"\",OFFSET(Warmtevragers!$C$7,30,A66,1,1))","v":0},{"$f":"IF(A66=\"\",\"\",OFFSET(Warmtevragers!$C$7,5,A66,1,1))","v":0},{"$f":"IF(A66=\"\",\"\",OFFSET(Warmtevragers!$C$7,6,A66,1,1))","v":0},{"$f":"IF(OR(F66=Keuzelijsten!$A$65,F66=Keuzelijsten!$A$66),(IF(A66=\"\",\"\",OFFSET(Warmtevragers!$C$7,8,A66,1,1))),\"Nee\")","v":"Nee"},{"$f":"IF(OR(F66=Keuzelijsten!$A$65,F66=Keuzelijsten!$A$66),(IF(A66=\"\",\"\",OFFSET(Warmtevragers!$C$7,9,A66,1,1))),\"Nee\")","v":"Nee"},{"$f":"IF(OR(F66=Keuzelijsten!$A$66),(IF(A66=\"\",\"\",OFFSET(Warmtevragers!$C$7,10,A66,1,1))),\"Nee\")","v":"Nee"},{"$f":"IF(OR(F66=Keuzelijsten!$A$66),(IF(A66=\"\",\"\",OFFSET(Warmtevragers!$C$7,11,A66,1,1))),\"Nee\")","v":"Nee"},{"$f":"IF(A66=\"\",\"\",IF(OFFSET(Warmtevragers!$C$7,7,A66,1,1)=\"Ja\",0.97,1))","v":1},{"$f":"IF(A66=\"\",\"\",OFFSET(Warmtevragers!$C$7,10,A66,1,1))","v":0}]
[59,"Warmtevrager 60",{"$f":"IF(A67=\"\",\"\",OFFSET(Warmtevragers!$C$7,2,A67,1,1))","v":0},{"$f":"IF(A67=\"\",\"\",OFFSET(Warmtevragers!$C$7,30,A67,1,1))","v":0},{"$f":"IF(A67=\"\",\"\",OFFSET(Warmtevragers!$C$7,5,A67,1,1))","v":0},{"$f":"IF(A67=\"\",\"\",OFFSET(Warmtevragers!$C$7,6,A67,1,1))","v":0},{"$f":"IF(OR(F67=Keuzelijsten!$A$65,F67=Keuzelijsten!$A$66),(IF(A67=\"\",\"\",OFFSET(Warmtevragers!$C$7,8,A67,1,1))),\"Nee\")","v":"Nee"},{"$f":"IF(OR(F67=Keuzelijsten!$A$65,F67=Keuzelijsten!$A$66),(IF(A67=\"\",\"\",OFFSET(Warmtevragers!$C$7,9,A67,1,1))),\"Nee\")","v":"Nee"},{"$f":"IF(OR(F67=Keuzelijsten!$A$66),(IF(A67=\"\",\"\",OFFSET(Warmtevragers!$C$7,10,A67,1,1))),\"Nee\")","v":"Nee"},{"$f":"IF(OR(F67=Keuzelijsten!$A$66),(IF(A67=\"\",\"\",OFFSET(Warmtevragers!$C$7,11,A67,1,1))),\"Nee\")","v":"Nee"},{"$f":"IF(A67=\"\",\"\",IF(OFFSET(Warmtevragers!$C$7,7,A67,1,1)=\"Ja\",0.97,1))","v":1},{"$f":"IF(A67=\"\",\"\",OFFSET(Warmtevragers!$C$7,10,A67,1,1))","v":0}]
[60,"Warmtevrager 61",{"$f":"IF(A68=\"\",\"\",OFFSET(Warmtevragers!$C$7,2,A68,1,1))","v":0},{"$f":"IF(A68=\"\",\"\",OFFSET(Warmtevragers!$C$7,30,A68,1,1))","v":0},{"$f":"IF(A68=\"\",\"\",OFFSET(Warmtevragers!$C$7,5,A68,1,1))","v":0},{"$f":"IF(A68=\"\",\"\",OFFSET(Warmtevragers!$C$7,6,A68,1,1))","v":0},{"$f":"IF(OR(F68=Keuzelijsten!$A$65,F68=Keuzelijsten!$A$66),(IF(A68=\"\",\"\",OFFSET(Warmtevragers!$C$7,8,A68,1,1))),\"Nee\")","v":"Nee"},{"$f":"IF(OR(F68=Keuzelijsten!$A$65,F68=Keuzelijsten!$A$66),(IF(A68=\"\",\"\",OFFSET(Warmtevragers!$C$7,9,A68,1,1))),\"Nee\")","v":"Nee"},{"$f":"IF(OR(F68=Keuzelijsten!$A$66),(IF(A68=\"\",\"\",OFFSET(Warmtevragers!$C$7,10,A68,1,1))),\"Nee\")","v":"Nee"},{"$f":"IF(OR(F68=Keuzelijsten!$A$66),(IF(A68=\"\",\"\",OFFSET(Warmtevragers!$C$7,11,A68,1,1))),\"Nee\")","v":"Nee"},{"$f":"IF(A68=\"\",\"\",IF(OFFSET(Warmtevragers!$C$7,7,A68,1,1)=\"Ja\",0.97,1))","v":1},{"$f":"IF(A68=\"\",\"\",OFFSET(Warmtevragers!$C$7,10,A68,1,1))","v":0}]
[61,"Warmtevrager 62",{"$f":"IF(A69=\"\",\"\",OFFSET(Warmtevragers!$C$7,2,A69,1,1))","v":0},{"$f":"IF(A69=\"\",\"\",OFFSET(Warmtevragers!$C$7,30,A69,1,1))","v":0},{"$f":"IF(A69=\"\",\"\",OFFSET(Warmtevragers!$C$7,5,A69,1,1))","v":0},{"$f":"IF(A69=\"\",\"\",OFFSET(Warmtevragers!$C$7,6,A69,1,1))","v":0},{"$f":"IF(OR(F69=Keuzelijsten!$A$65,F69=Keuzelijsten!$A$66),(IF(A69=\"\",\"\",OFFSET(Warmtevragers!$C$7,8,A69,1,1))),\"Nee\")","v":"Nee"},{"$f":"IF(OR(F69=Keuzelijsten!$A$65,F69=Keuzelijsten!$A$66),(IF(A69=\"\",\"\",OFFSET(Warmtevragers!$C$7,9,A69,1,1))),\"Nee\")","v":"Nee"},{"$f":"IF(OR(F69=Keuzelijsten!$A$66),(IF(A69=\"\",\"\",OFFSET(Warmtevragers!$C$7,10,A69,1,1))),\"Nee\")","v":"Nee"},{"$f":"IF(OR(F69=Keuzelijsten!$A$66),(IF(A69=\"\",\"\",OFFSET(Warmtevragers!$C$7,11,A69,1,1))),\"Nee\")","v":"Nee"},{"$f":"IF(A69=\"\",\"\",IF(OFFSET(Warmtevragers!$C$7,7,A69,1,1)=\"Ja\",0.97,1))","v":1},{"$f":"IF(A69=\"\",\"\",OFFSET(Warmtevragers!$C$7,10,A69,1,1))","v":0}]
[62,"Warmtevrager 63",{"$f":"IF(A70=\"\",\"\",OFFSET(Warmtevragers!$C$7,2,A70,1,1))","v":0},{"$f":"IF(A70=\"\",\"\",OFFSET(Warmtevragers!$C$7,30,A70,1,1))","v":0},{"$f":"IF(A70=\"\",\"\",OFFSET(Warmtevragers!$C$7,5,A70,1,1))","v":0},{"$f":"IF(A70=\"\",\"\",OFFSET(Warmtevragers!$C$7,6,A70,1,1))","v":0},{"$f":"IF(OR(F70=Keuzelijsten!$A$65,F70=Keuzelijsten!$A$66),(IF(A70=\"\",\"\",OFFSET(Warmtevragers!$C$7,8,A70,1,1))),\"Nee\")","v":"Nee"},{"$f":"IF(OR(F70=Keuzelijsten!$A$65,F70=Keuzelijsten!$A$66),(IF(A70=\"\",\"\",OFFSET(Warmtevragers!$C$7,9,A70,1,1))),\"Nee\")","v":"Nee"},{"$f":"IF(OR(F70=Keuzelijsten!$A$66),(IF(A70=\"\",\"\",OFFSET(Warmtevragers!$C$7,10,A70,1,1))),\"Nee\")","v":"Nee"},{"$f":"IF(OR(F70=Keuzelijsten!$A$66),(IF(A70=\"\",\"\",OFFSET(Warmtevragers!$C$7,11,A70,1,1))),\"Nee\")","v":"Nee"},{"$f":"IF(A70=\"\",\"\",IF(OFFSET(Warmtevragers!$C$7,7,A70,1,1)=\"Ja\",0.97,1))","v":1},{"$f":"IF(A70=\"\",\"\",OFFSET(Warmtevragers!$C$7,10,A70,1,1))","v":0}]
[63,"Warmtevrager 64",{"$f":"IF(A71=\"\",\"\",OFFSET(Warmtevragers!$C$7,2,A71,1,1))","v":0},{"$f":"IF(A71=\"\",\"\",OFFSET(Warmtevragers!$C$7,30,A71,1,1))","v":0},{"$f":"IF(A71=\"\",\"\",OFFSET(Warmtevragers!$C$7,5,A71,1,1))","v":0},{"$f":"IF(A71=\"\",\"\",OFFSET(Warmtevragers!$C$7,6,A71,1,1))","v":0},{"$f":"IF(OR(F71=Keuzelijsten!$A$65,F71=Keuzelijsten!$A$66),(IF(A71=\"\",\"\",OFFSET(Warmtevragers!$C$7,8,A71,1,1))),\"Nee\")","v":"Nee"},{"$f":"IF(OR(F71=Keuzelijsten!$A$65,F71=Keuzelijsten!$A$66),(IF(A71=\"\",\"\",OFFSET(Warmtevragers!$C$7,9,A71,1,1))),\"Nee\")","v":"Nee"},{"$f":"IF(OR(F71=Keuzelijsten!$A$66),(IF(A71=\"\",\"\",OFFSET(Warmtevragers!$C$7,10,A71,1,1))),\"Nee\")","v":"Nee"},{"$f":"IF(OR(F71=Keuzelijsten!$A$66),(IF(A71=\"\",\"\",OFFSET(Warmtevragers!$C$7,11,A71,1,1))),\"Nee\")","v":"Nee"},{"$f":"IF(A71=\"\",\"\",IF(OFFSET(Warmtevragers!$C$7,7,A71,1,1)=\"Ja\",0.97,1))","v":1},{"$f":"IF(A71=\"\",\"\",OFFSET(Warmtevragers!$C$7,10,A71,1,1))","v":0}]
[64,{"$f":"\"Warmtevrager \"&A72+1","v":"Warmtevrager 65"},{"$f":"IF(A72=\"\",\"\",OFFSET(Warmtevragers!$C$7,2,A72,1,1))","v":0},{"$f":"IF(A72=\"\",\"\",OFFSET(Warmtevragers!$C$7,30,A72,1,1))","v":0},{"$f":"IF(A72=\"\",\"\",OFFSET(Warmtevragers!$C$7,5,A72,1,1))","v":0},{"$f":"IF(A72=\"\",\"\",OFFSET(Warmtevragers!$C$7,6,A72,1,1))","v":0},{"$f":"IF(OR(F72=Keuzelijsten!$A$65,F72=Keuzelijsten!$A$66),(IF(A72=\"\",\"\",OFFSET(Warmtevragers!$C$7,8,A72,1,1))),\"Nee\")","v":"Nee"},{"$f":"IF(OR(F72=Keuzelijsten!$A$65,F72=Keuzelijsten!$A$66),(IF(A72=\"\",\"\",OFFSET(Warmtevragers!$C$7,9,A72,1,1))),\"Nee\")","v":"Nee"},{"$f":"IF(OR(F72=Keuzelijsten!$A$66),(IF(A72=\"\",\"\",OFFSET(Warmtevragers!$C$7,10,A72,1,1))),\"Nee\")","v":"Nee"},{"$f":"IF(OR(F72=Keuzelijsten!$A$66),(IF(A72=\"\",\"\",OFFSET(Warmtevragers!$C$7,11,A72,1,1))),\"Nee\")","v":"Nee"},{"$f":"IF(A72=\"\",\"\",IF(OFFSET(Warmtevragers!$C$7,7,A72,1,1)=\"Ja\",0.97,1))","v":1},{"$f":"IF(A72=\"\",\"\",OFFSET(Warmtevragers!$C$7,10,A72,1,1))","v":0}]
[65,"Warmtevrager 66",{"$f":"IF(A73=\"\",\"\",OFFSET(Warmtevragers!$C$7,2,A73,1,1))","v":0},{"$f":"IF(A73=\"\",\"\",OFFSET(Warmtevragers!$C$7,30,A73,1,1))","v":0},{"$f":"IF(A73=\"\",\"\",OFFSET(Warmtevragers!$C$7,5,A73,1,1))","v":0},{"$f":"IF(A73=\"\",\"\",OFFSET(Warmtevragers!$C$7,6,A73,1,1))","v":0},{"$f":"IF(OR(F73=Keuzelijsten!$A$65,F73=Keuzelijsten!$A$66),(IF(A73=\"\",\"\",OFFSET(Warmtevragers!$C$7,8,A73,1,1))),\"Nee\")","v":"Nee"},{"$f":"IF(OR(F73=Keuzelijsten!$A$65,F73=Keuzelijsten!$A$66),(IF(A73=\"\",\"\",OFFSET(Warmtevragers!$C$7,9,A73,1,1))),\"Nee\")","v":"Nee"},{"$f":"IF(OR(F73=Keuzelijsten!$A$66),(IF(A73=\"\",\"\",OFFSET(Warmtevragers!$C$7,10,A73,1,1))),\"Nee\")","v":"Nee"},{"$f":"IF(OR(F73=Keuzelijsten!$A$66),(IF(A73=\"\",\"\",OFFSET(Warmtevragers!$C$7,11,A73,1,1))),\"Nee\")","v":"Nee"},{"$f":"IF(A73=\"\",\"\",IF(OFFSET(Warmtevragers!$C$7,7,A73,1,1)=\"Ja\",0.97,1))","v":1},{"$f":"IF(A73=\"\",\"\",OFFSET(Warmtevragers!$C$7,10,A73,1,1))","v":0}]
[66,"Warmtevrager 67",{"$f":"IF(A74=\"\",\"\",OFFSET(Warmtevragers!$C$7,2,A74,1,1))","v":0},{"$f":"IF(A74=\"\",\"\",OFFSET(Warmtevragers!$C$7,30,A74,1,1))","v":0},{"$f":"IF(A74=\"\",\"\",OFFSET(Warmtevragers!$C$7,5,A74,1,1))","v":0},{"$f":"IF(A74=\"\",\"\",OFFSET(Warmtevragers!$C$7,6,A74,1,1))","v":0},{"$f":"IF(OR(F74=Keuzelijsten!$A$65,F74=Keuzelijsten!$A$66),(IF(A74=\"\",\"\",OFFSET(Warmtevragers!$C$7,8,A74,1,1))),\"Nee\")","v":"Nee"},{"$f":"IF(OR(F74=Keuzelijsten!$A$65,F74=Keuzelijsten!$A$66),(IF(A74=\"\",\"\",OFFSET(Warmtevragers!$C$7,9,A74,1,1))),\"Nee\")","v":"Nee"},{"$f":"IF(OR(F74=Keuzelijsten!$A$66),(IF(A74=\"\",\"\",OFFSET(Warmtevragers!$C$7,10,A74,1,1))),\"Nee\")","v":"Nee"},{"$f":"IF(OR(F74=Keuzelijsten!$A$66),(IF(A74=\"\",\"\",OFFSET(Warmtevragers!$C$7,11,A74,1,1))),\"Nee\")","v":"Nee"},{"$f":"IF(A74=\"\",\"\",IF(OFFSET(Warmtevragers!$C$7,7,A74,1,1)=\"Ja\",0.97,1))","v":1},{"$f":"IF(A74=\"\",\"\",OFFSET(Warmtevragers!$C$7,10,A74,1,1))","v":0}]
[{"$f":"A74+1","v":67},"Warmtevrager 68",{"$f":"IF(A75=\"\",\"\",OFFSET(Warmtevragers!$C$7,2,A75,1,1))","v":0},{"$f":"IF(A75=\"\",\"\",OFFSET(Warmtevragers!$C$7,30,A75,1,1))","v":0},{"$f":"IF(A75=\"\",\"\",OFFSET(Warmtevragers!$C$7,5,A75,1,1))","v":0},{"$f":"IF(A75=\"\",\"\",OFFSET(Warmtevragers!$C$7,6,A75,1,1))","v":0},{"$f":"IF(OR(F75=Keuzelijsten!$A$65,F75=Keuzelijsten!$A$66),(IF(A75=\"\",\"\",OFFSET(Warmtevragers!$C$7,8,A75,1,1))),\"Nee\")","v":"Nee"},{"$f":"IF(OR(F75=Keuzelijsten!$A$65,F75=Keuzelijsten!$A$66),(IF(A75=\"\",\"\",OFFSET(Warmtevragers!$C$7,9,A75,1,1))),\"Nee\")","v":"Nee"},{"$f":"IF(OR(F75=Keuzelijsten!$A$66),(IF(A75=\"\",\"\",OFFSET(Warmtevragers!$C$7,10,A75,1,1))),\"Nee\")","v":"Nee"},{"$f":"IF(OR(F75=Keuzelijsten!$A$66),(IF(A75=\"\",\"\",OFFSET(Warmtevragers!$C$7,11,A75,1,1))),\"Nee\")","v":"Nee"},{"$f":"IF(A75=\"\",\"\",IF(OFFSET(Warmtevragers!$C$7,7,A75,1,1)=\"Ja\",0.97,1))","v":1},{"$f":"IF(A75=\"\",\"\",OFFSET(Warmtevragers!$C$7,10,A75,1,1))","v":0}]
[68,"Warmtevrager 69",{"$f":"IF(A76=\"\",\"\",OFFSET(Warmtevragers!$C$7,2,A76,1,1))","v":0},{"$f":"IF(A76=\"\",\"\",OFFSET(Warmtevragers!$C$7,30,A76,1,1))","v":0},{"$f":"IF(A76=\"\",\"\",OFFSET(Warmtevragers!$C$7,5,A76,1,1))","v":0},{"$f":"IF(A76=\"\",\"\",OFFSET(Warmtevragers!$C$7,6,A76,1,1))","v":0},{"$f":"IF(OR(F76=Keuzelijsten!$A$65,F76=Keuzelijsten!$A$66),(IF(A76=\"\",\"\",OFFSET(Warmtevragers!$C$7,8,A76,1,1))),\"Nee\")","v":"Nee"},{"$f":"IF(OR(F76=Keuzelijsten!$A$65,F76=Keuzelijsten!$A$66),(IF(A76=\"\",\"\",OFFSET(Warmtevragers!$C$7,9,A76,1,1))),\"Nee\")","v":"Nee"},{"$f":"IF(OR(F76=Keuzelijsten!$A$66),(IF(A76=\"\",\"\",OFFSET(Warmtevragers!$C$7,10,A76,1,1))),\"Nee\")","v":"Nee"},{"$f":"IF(OR(F76=Keuzelijsten!$A$66),(IF(A76=\"\",\"\",OFFSET(Warmtevragers!$C$7,11,A76,1,1))),\"Nee\")","v":"Nee"},{"$f":"IF(A76=\"\",\"\",IF(OFFSET(Warmtevragers!$C$7,7,A76,1,1)=\"Ja\",0.97,1))","v":1},{"$f":"IF(A76=\"\",\"\",OFFSET(Warmtevragers!$C$7,10,A76,1,1))","v":0}]
[69,"Warmtevrager 70",{"$f":"IF(A77=\"\",\"\",OFFSET(Warmtevragers!$C$7,2,A77,1,1))","v":0},{"$f":"IF(A77=\"\",\"\",OFFSET(Warmtevragers!$C$7,30,A77,1,1))","v":0},{"$f":"IF(A77=\"\",\"\",OFFSET(Warmtevragers!$C$7,5,A77,1,1))","v":0},{"$f":"IF(A77=\"\",\"\",OFFSET(Warmtevragers!$C$7,6,A77,1,1))","v":0},{"$f":"IF(OR(F77=Keuzelijsten!$A$65,F77=Keuzelijsten!$A$66),(IF(A77=\"\",\"\",OFFSET(Warmtevragers!$C$7,8,A77,1,1))),\"Nee\")","v":"Nee"},{"$f":"IF(OR(F77=Keuzelijsten!$A$65,F77=Keuzelijsten!$A$66),(IF(A77=\"\",\"\",OFFSET(Warmtevragers!$C$7,9,A77,1,1))),\"Nee\")","v":"Nee"},{"$f":"IF(OR(F77=Keuzelijsten!$A$66),(IF(A77=\"\",\"\",OFFSET(Warmtevragers!$C$7,10,A77,1,1))),\"Nee\")","v":"Nee"},{"$f":"IF(OR(F77=Keuzelijsten!$A$66),(IF(A77=\"\",\"\",OFFSET(Warmtevragers!$C$7,11,A77,1,1))),\"Nee\")","v":"Nee"},{"$f":"IF(A77=\"\",\"\",IF(OFFSET(Warmtevragers!$C$7,7,A77,1,1)=\"Ja\",0.97,1))","v":1},{"$f":"IF(A77=\"\",\"\",OFFSET(Warmtevragers!$C$7,10,A77,1,1))","v":0}]
[70,"Warmtevrager 71",{"$f":"IF(A78=\"\",\"\",OFFSET(Warmtevragers!$C$7,2,A78,1,1))","v":0},{"$f":"IF(A78=\"\",\"\",OFFSET(Warmtevragers!$C$7,30,A78,1,1))","v":0},{"$f":"IF(A78=\"\",\"\",OFFSET(Warmtevragers!$C$7,5,A78,1,1))","v":0},{"$f":"IF(A78=\"\",\"\",OFFSET(Warmtevragers!$C$7,6,A78,1,1))","v":0},{"$f":"IF(OR(F78=Keuzelijsten!$A$65,F78=Keuzelijsten!$A$66),(IF(A78=\"\",\"\",OFFSET(Warmtevragers!$C$7,8,A78,1,1))),\"Nee\")","v":"Nee"},{"$f":"IF(OR(F78=Keuzelijsten!$A$65,F78=Keuzelijsten!$A$66),(IF(A78=\"\",\"\",OFFSET(Warmtevragers!$C$7,9,A78,1,1))),\"Nee\")","v":"Nee"},{"$f":"IF(OR(F78=Keuzelijsten!$A$66),(IF(A78=\"\",\"\",OFFSET(Warmtevragers!$C$7,10,A78,1,1))),\"Nee\")","v":"Nee"},{"$f":"IF(OR(F78=Keuzelijsten!$A$66),(IF(A78=\"\",\"\",OFFSET(Warmtevragers!$C$7,11,A78,1,1))),\"Nee\")","v":"Nee"},{"$f":"IF(A78=\"\",\"\",IF(OFFSET(Warmtevragers!$C$7,7,A78,1,1)=\"Ja\",0.97,1))","v":1},{"$f":"IF(A78=\"\",\"\",OFFSET(Warmtevragers!$C$7,10,A78,1,1))","v":0}]
[71,"Warmtevrager 72",{"$f":"IF(A79=\"\",\"\",OFFSET(Warmtevragers!$C$7,2,A79,1,1))","v":0},{"$f":"IF(A79=\"\",\"\",OFFSET(Warmtevragers!$C$7,30,A79,1,1))","v":0},{"$f":"IF(A79=\"\",\"\",OFFSET(Warmtevragers!$C$7,5,A79,1,1))","v":0},{"$f":"IF(A79=\"\",\"\",OFFSET(Warmtevragers!$C$7,6,A79,1,1))","v":0},{"$f":"IF(OR(F79=Keuzelijsten!$A$65,F79=Keuzelijsten!$A$66),(IF(A79=\"\",\"\",OFFSET(Warmtevragers!$C$7,8,A79,1,1))),\"Nee\")","v":"Nee"},{"$f":"IF(OR(F79=Keuzelijsten!$A$65,F79=Keuzelijsten!$A$66),(IF(A79=\"\",\"\",OFFSET(Warmtevragers!$C$7,9,A79,1,1))),\"Nee\")","v":"Nee"},{"$f":"IF(OR(F79=Keuzelijsten!$A$66),(IF(A79=\"\",\"\",OFFSET(Warmtevragers!$C$7,10,A79,1,1))),\"Nee\")","v":"Nee"},{"$f":"IF(OR(F79=Keuzelijsten!$A$66),(IF(A79=\"\",\"\",OFFSET(Warmtevragers!$C$7,11,A79,1,1))),\"Nee\")","v":"Nee"},{"$f":"IF(A79=\"\",\"\",IF(OFFSET(Warmtevragers!$C$7,7,A79,1,1)=\"Ja\",0.97,1))","v":1},{"$f":"IF(A79=\"\",\"\",OFFSET(Warmtevragers!$C$7,10,A79,1,1))","v":0}]
[72,"Warmtevrager 73",{"$f":"IF(A80=\"\",\"\",OFFSET(Warmtevragers!$C$7,2,A80,1,1))","v":0},{"$f":"IF(A80=\"\",\"\",OFFSET(Warmtevragers!$C$7,30,A80,1,1))","v":0},{"$f":"IF(A80=\"\",\"\",OFFSET(Warmtevragers!$C$7,5,A80,1,1))","v":0},{"$f":"IF(A80=\"\",\"\",OFFSET(Warmtevragers!$C$7,6,A80,1,1))","v":0},{"$f":"IF(OR(F80=Keuzelijsten!$A$65,F80=Keuzelijsten!$A$66),(IF(A80=\"\",\"\",OFFSET(Warmtevragers!$C$7,8,A80,1,1))),\"Nee\")","v":"Nee"},{"$f":"IF(OR(F80=Keuzelijsten!$A$65,F80=Keuzelijsten!$A$66),(IF(A80=\"\",\"\",OFFSET(Warmtevragers!$C$7,9,A80,1,1))),\"Nee\")","v":"Nee"},{"$f":"IF(OR(F80=Keuzelijsten!$A$66),(IF(A80=\"\",\"\",OFFSET(Warmtevragers!$C$7,10,A80,1,1))),\"Nee\")","v":"Nee"},{"$f":"IF(OR(F80=Keuzelijsten!$A$66),(IF(A80=\"\",\"\",OFFSET(Warmtevragers!$C$7,11,A80,1,1))),\"Nee\")","v":"Nee"},{"$f":"IF(A80=\"\",\"\",IF(OFFSET(Warmtevragers!$C$7,7,A80,1,1)=\"Ja\",0.97,1))","v":1},{"$f":"IF(A80=\"\",\"\",OFFSET(Warmtevragers!$C$7,10,A80,1,1))","v":0}]
[73,"Warmtevrager 74",{"$f":"IF(A81=\"\",\"\",OFFSET(Warmtevragers!$C$7,2,A81,1,1))","v":0},{"$f":"IF(A81=\"\",\"\",OFFSET(Warmtevragers!$C$7,30,A81,1,1))","v":0},{"$f":"IF(A81=\"\",\"\",OFFSET(Warmtevragers!$C$7,5,A81,1,1))","v":0},{"$f":"IF(A81=\"\",\"\",OFFSET(Warmtevragers!$C$7,6,A81,1,1))","v":0},{"$f":"IF(OR(F81=Keuzelijsten!$A$65,F81=Keuzelijsten!$A$66),(IF(A81=\"\",\"\",OFFSET(Warmtevragers!$C$7,8,A81,1,1))),\"Nee\")","v":"Nee"},{"$f":"IF(OR(F81=Keuzelijsten!$A$65,F81=Keuzelijsten!$A$66),(IF(A81=\"\",\"\",OFFSET(Warmtevragers!$C$7,9,A81,1,1))),\"Nee\")","v":"Nee"},{"$f":"IF(OR(F81=Keuzelijsten!$A$66),(IF(A81=\"\",\"\",OFFSET(Warmtevragers!$C$7,10,A81,1,1))),\"Nee\")","v":"Nee"},{"$f":"IF(OR(F81=Keuzelijsten!$A$66),(IF(A81=\"\",\"\",OFFSET(Warmtevragers!$C$7,11,A81,1,1))),\"Nee\")","v":"Nee"},{"$f":"IF(A81=\"\",\"\",IF(OFFSET(Warmtevragers!$C$7,7,A81,1,1)=\"Ja\",0.97,1))","v":1},{"$f":"IF(A81=\"\",\"\",OFFSET(Warmtevragers!$C$7,10,A81,1,1))","v":0}]
[74,"Warmtevrager 75",{"$f":"IF(A82=\"\",\"\",OFFSET(Warmtevragers!$C$7,2,A82,1,1))","v":0},{"$f":"IF(A82=\"\",\"\",OFFSET(Warmtevragers!$C$7,30,A82,1,1))","v":0},{"$f":"IF(A82=\"\",\"\",OFFSET(Warmtevragers!$C$7,5,A82,1,1))","v":0},{"$f":"IF(A82=\"\",\"\",OFFSET(Warmtevragers!$C$7,6,A82,1,1))","v":0},{"$f":"IF(OR(F82=Keuzelijsten!$A$65,F82=Keuzelijsten!$A$66),(IF(A82=\"\",\"\",OFFSET(Warmtevragers!$C$7,8,A82,1,1))),\"Nee\")","v":"Nee"},{"$f":"IF(OR(F82=Keuzelijsten!$A$65,F82=Keuzelijsten!$A$66),(IF(A82=\"\",\"\",OFFSET(Warmtevragers!$C$7,9,A82,1,1))),\"Nee\")","v":"Nee"},{"$f":"IF(OR(F82=Keuzelijsten!$A$66),(IF(A82=\"\",\"\",OFFSET(Warmtevragers!$C$7,10,A82,1,1))),\"Nee\")","v":"Nee"},{"$f":"IF(OR(F82=Keuzelijsten!$A$66),(IF(A82=\"\",\"\",OFFSET(Warmtevragers!$C$7,11,A82,1,1))),\"Nee\")","v":"Nee"},{"$f":"IF(A82=\"\",\"\",IF(OFFSET(Warmtevragers!$C$7,7,A82,1,1)=\"Ja\",0.97,1))","v":1},{"$f":"IF(A82=\"\",\"\",OFFSET(Warmtevragers!$C$7,10,A82,1,1))","v":0}]
[75,"Warmtevrager 76",{"$f":"IF(A83=\"\",\"\",OFFSET(Warmtevragers!$C$7,2,A83,1,1))","v":0},{"$f":"IF(A83=\"\",\"\",OFFSET(Warmtevragers!$C$7,30,A83,1,1))","v":0},{"$f":"IF(A83=\"\",\"\",OFFSET(Warmtevragers!$C$7,5,A83,1,1))","v":0},{"$f":"IF(A83=\"\",\"\",OFFSET(Warmtevragers!$C$7,6,A83,1,1))","v":0},{"$f":"IF(OR(F83=Keuzelijsten!$A$65,F83=Keuzelijsten!$A$66),(IF(A83=\"\",\"\",OFFSET(Warmtevragers!$C$7,8,A83,1,1))),\"Nee\")","v":"Nee"},{"$f":"IF(OR(F83=Keuzelijsten!$A$65,F83=Keuzelijsten!$A$66),(IF(A83=\"\",\"\",OFFSET(Warmtevragers!$C$7,9,A83,1,1))),\"Nee\")","v":"Nee"},{"$f":"IF(OR(F83=Keuzelijsten!$A$66),(IF(A83=\"\",\"\",OFFSET(Warmtevragers!$C$7,10,A83,1,1))),\"Nee\")","v":"Nee"},{"$f":"IF(OR(F83=Keuzelijsten!$A$66),(IF(A83=\"\",\"\",OFFSET(Warmtevragers!$C$7,11,A83,1,1))),\"Nee\")","v":"Nee"},{"$f":"IF(A83=\"\",\"\",IF(OFFSET(Warmtevragers!$C$7,7,A83,1,1)=\"Ja\",0.97,1))","v":1},{"$f":"IF(A83=\"\",\"\",OFFSET(Warmtevragers!$C$7,10,A83,1,1))","v":0}]
[76,"Warmtevrager 77",{"$f":"IF(A84=\"\",\"\",OFFSET(Warmtevragers!$C$7,2,A84,1,1))","v":0},{"$f":"IF(A84=\"\",\"\",OFFSET(Warmtevragers!$C$7,30,A84,1,1))","v":0},{"$f":"IF(A84=\"\",\"\",OFFSET(Warmtevragers!$C$7,5,A84,1,1))","v":0},{"$f":"IF(A84=\"\",\"\",OFFSET(Warmtevragers!$C$7,6,A84,1,1))","v":0},{"$f":"IF(OR(F84=Keuzelijsten!$A$65,F84=Keuzelijsten!$A$66),(IF(A84=\"\",\"\",OFFSET(Warmtevragers!$C$7,8,A84,1,1))),\"Nee\")","v":"Nee"},{"$f":"IF(OR(F84=Keuzelijsten!$A$65,F84=Keuzelijsten!$A$66),(IF(A84=\"\",\"\",OFFSET(Warmtevragers!$C$7,9,A84,1,1))),\"Nee\")","v":"Nee"},{"$f":"IF(OR(F84=Keuzelijsten!$A$66),(IF(A84=\"\",\"\",OFFSET(Warmtevragers!$C$7,10,A84,1,1))),\"Nee\")","v":"Nee"},{"$f":"IF(OR(F84=Keuzelijsten!$A$66),(IF(A84=\"\",\"\",OFFSET(Warmtevragers!$C$7,11,A84,1,1))),\"Nee\")","v":"Nee"},{"$f":"IF(A84=\"\",\"\",IF(OFFSET(Warmtevragers!$C$7,7,A84,1,1)=\"Ja\",0.97,1))","v":1},{"$f":"IF(A84=\"\",\"\",OFFSET(Warmtevragers!$C$7,10,A84,1,1))","v":0}]
[77,"Warmtevrager 78",{"$f":"IF(A85=\"\",\"\",OFFSET(Warmtevragers!$C$7,2,A85,1,1))","v":0},{"$f":"IF(A85=\"\",\"\",OFFSET(Warmtevragers!$C$7,30,A85,1,1))","v":0},{"$f":"IF(A85=\"\",\"\",OFFSET(Warmtevragers!$C$7,5,A85,1,1))","v":0},{"$f":"IF(A85=\"\",\"\",OFFSET(Warmtevragers!$C$7,6,A85,1,1))","v":0},{"$f":"IF(OR(F85=Keuzelijsten!$A$65,F85=Keuzelijsten!$A$66),(IF(A85=\"\",\"\",OFFSET(Warmtevragers!$C$7,8,A85,1,1))),\"Nee\")","v":"Nee"},{"$f":"IF(OR(F85=Keuzelijsten!$A$65,F85=Keuzelijsten!$A$66),(IF(A85=\"\",\"\",OFFSET(Warmtevragers!$C$7,9,A85,1,1))),\"Nee\")","v":"Nee"},{"$f":"IF(OR(F85=Keuzelijsten!$A$66),(IF(A85=\"\",\"\",OFFSET(Warmtevragers!$C$7,10,A85,1,1))),\"Nee\")","v":"Nee"},{"$f":"IF(OR(F85=Keuzelijsten!$A$66),(IF(A85=\"\",\"\",OFFSET(Warmtevragers!$C$7,11,A85,1,1))),\"Nee\")","v":"Nee"},{"$f":"IF(A85=\"\",\"\",IF(OFFSET(Warmtevragers!$C$7,7,A85,1,1)=\"Ja\",0.97,1))","v":1},{"$f":"IF(A85=\"\",\"\",OFFSET(Warmtevragers!$C$7,10,A85,1,1))","v":0}]
[78,"Warmtevrager 79",{"$f":"IF(A86=\"\",\"\",OFFSET(Warmtevragers!$C$7,2,A86,1,1))","v":0},{"$f":"IF(A86=\"\",\"\",OFFSET(Warmtevragers!$C$7,30,A86,1,1))","v":0},{"$f":"IF(A86=\"\",\"\",OFFSET(Warmtevragers!$C$7,5,A86,1,1))","v":0},{"$f":"IF(A86=\"\",\"\",OFFSET(Warmtevragers!$C$7,6,A86,1,1))","v":0},{"$f":"IF(OR(F86=Keuzelijsten!$A$65,F86=Keuzelijsten!$A$66),(IF(A86=\"\",\"\",OFFSET(Warmtevragers!$C$7,8,A86,1,1))),\"Nee\")","v":"Nee"},{"$f":"IF(OR(F86=Keuzelijsten!$A$65,F86=Keuzelijsten!$A$66),(IF(A86=\"\",\"\",OFFSET(Warmtevragers!$C$7,9,A86,1,1))),\"Nee\")","v":"Nee"},{"$f":"IF(OR(F86=Keuzelijsten!$A$66),(IF(A86=\"\",\"\",OFFSET(Warmtevragers!$C$7,10,A86,1,1))),\"Nee\")","v":"Nee"},{"$f":"IF(OR(F86=Keuzelijsten!$A$66),(IF(A86=\"\",\"\",OFFSET(Warmtevragers!$C$7,11,A86,1,1))),\"Nee\")","v":"Nee"},{"$f":"IF(A86=\"\",\"\",IF(OFFSET(Warmtevragers!$C$7,7,A86,1,1)=\"Ja\",0.97,1))","v":1},{"$f":"IF(A86=\"\",\"\",OFFSET(Warmtevragers!$C$7,10,A86,1,1))","v":0}]
[79,"Warmtevrager 80",{"$f":"IF(A87=\"\",\"\",OFFSET(Warmtevragers!$C$7,2,A87,1,1))","v":0},{"$f":"IF(A87=\"\",\"\",OFFSET(Warmtevragers!$C$7,30,A87,1,1))","v":0},{"$f":"IF(A87=\"\",\"\",OFFSET(Warmtevragers!$C$7,5,A87,1,1))","v":0},{"$f":"IF(A87=\"\",\"\",OFFSET(Warmtevragers!$C$7,6,A87,1,1))","v":0},{"$f":"IF(OR(F87=Keuzelijsten!$A$65,F87=Keuzelijsten!$A$66),(IF(A87=\"\",\"\",OFFSET(Warmtevragers!$C$7,8,A87,1,1))),\"Nee\")","v":"Nee"},{"$f":"IF(OR(F87=Keuzelijsten!$A$65,F87=Keuzelijsten!$A$66),(IF(A87=\"\",\"\",OFFSET(Warmtevragers!$C$7,9,A87,1,1))),\"Nee\")","v":"Nee"},{"$f":"IF(OR(F87=Keuzelijsten!$A$66),(IF(A87=\"\",\"\",OFFSET(Warmtevragers!$C$7,10,A87,1,1))),\"Nee\")","v":"Nee"},{"$f":"IF(OR(F87=Keuzelijsten!$A$66),(IF(A87=\"\",\"\",OFFSET(Warmtevragers!$C$7,11,A87,1,1))),\"Nee\")","v":"Nee"},{"$f":"IF(A87=\"\",\"\",IF(OFFSET(Warmtevragers!$C$7,7,A87,1,1)=\"Ja\",0.97,1))","v":1},{"$f":"IF(A87=\"\",\"\",OFFSET(Warmtevragers!$C$7,10,A87,1,1))","v":0}]
[80,"Warmtevrager 81",{"$f":"IF(A88=\"\",\"\",OFFSET(Warmtevragers!$C$7,2,A88,1,1))","v":0},{"$f":"IF(A88=\"\",\"\",OFFSET(Warmtevragers!$C$7,30,A88,1,1))","v":0},{"$f":"IF(A88=\"\",\"\",OFFSET(Warmtevragers!$C$7,5,A88,1,1))","v":0},{"$f":"IF(A88=\"\",\"\",OFFSET(Warmtevragers!$C$7,6,A88,1,1))","v":0},{"$f":"IF(OR(F88=Keuzelijsten!$A$65,F88=Keuzelijsten!$A$66),(IF(A88=\"\",\"\",OFFSET(Warmtevragers!$C$7,8,A88,1,1))),\"Nee\")","v":"Nee"},{"$f":"IF(OR(F88=Keuzelijsten!$A$65,F88=Keuzelijsten!$A$66),(IF(A88=\"\",\"\",OFFSET(Warmtevragers!$C$7,9,A88,1,1))),\"Nee\")","v":"Nee"},{"$f":"IF(OR(F88=Keuzelijsten!$A$66),(IF(A88=\"\",\"\",OFFSET(Warmtevragers!$C$7,10,A88,1,1))),\"Nee\")","v":"Nee"},{"$f":"IF(OR(F88=Keuzelijsten!$A$66),(IF(A88=\"\",\"\",OFFSET(Warmtevragers!$C$7,11,A88,1,1))),\"Nee\")","v":"Nee"},{"$f":"IF(A88=\"\",\"\",IF(OFFSET(Warmtevragers!$C$7,7,A88,1,1)=\"Ja\",0.97,1))","v":1},{"$f":"IF(A88=\"\",\"\",OFFSET(Warmtevragers!$C$7,10,A88,1,1))","v":0}]
[81,"Warmtevrager 82",{"$f":"IF(A89=\"\",\"\",OFFSET(Warmtevragers!$C$7,2,A89,1,1))","v":0},{"$f":"IF(A89=\"\",\"\",OFFSET(Warmtevragers!$C$7,30,A89,1,1))","v":0},{"$f":"IF(A89=\"\",\"\",OFFSET(Warmtevragers!$C$7,5,A89,1,1))","v":0},{"$f":"IF(A89=\"\",\"\",OFFSET(Warmtevragers!$C$7,6,A89,1,1))","v":0},{"$f":"IF(OR(F89=Keuzelijsten!$A$65,F89=Keuzelijsten!$A$66),(IF(A89=\"\",\"\",OFFSET(Warmtevragers!$C$7,8,A89,1,1))),\"Nee\")","v":"Nee"},{"$f":"IF(OR(F89=Keuzelijsten!$A$65,F89=Keuzelijsten!$A$66),(IF(A89=\"\",\"\",OFFSET(Warmtevragers!$C$7,9,A89,1,1))),\"Nee\")","v":"Nee"},{"$f":"IF(OR(F89=Keuzelijsten!$A$66),(IF(A89=\"\",\"\",OFFSET(Warmtevragers!$C$7,10,A89,1,1))),\"Nee\")","v":"Nee"},{"$f":"IF(OR(F89=Keuzelijsten!$A$66),(IF(A89=\"\",\"\",OFFSET(Warmtevragers!$C$7,11,A89,1,1))),\"Nee\")","v":"Nee"},{"$f":"IF(A89=\"\",\"\",IF(OFFSET(Warmtevragers!$C$7,7,A89,1,1)=\"Ja\",0.97,1))","v":1},{"$f":"IF(A89=\"\",\"\",OFFSET(Warmtevragers!$C$7,10,A89,1,1))","v":0}]
[82,"Warmtevrager 83",{"$f":"IF(A90=\"\",\"\",OFFSET(Warmtevragers!$C$7,2,A90,1,1))","v":0},{"$f":"IF(A90=\"\",\"\",OFFSET(Warmtevragers!$C$7,30,A90,1,1))","v":0},{"$f":"IF(A90=\"\",\"\",OFFSET(Warmtevragers!$C$7,5,A90,1,1))","v":0},{"$f":"IF(A90=\"\",\"\",OFFSET(Warmtevragers!$C$7,6,A90,1,1))","v":0},{"$f":"IF(OR(F90=Keuzelijsten!$A$65,F90=Keuzelijsten!$A$66),(IF(A90=\"\",\"\",OFFSET(Warmtevragers!$C$7,8,A90,1,1))),\"Nee\")","v":"Nee"},{"$f":"IF(OR(F90=Keuzelijsten!$A$65,F90=Keuzelijsten!$A$66),(IF(A90=\"\",\"\",OFFSET(Warmtevragers!$C$7,9,A90,1,1))),\"Nee\")","v":"Nee"},{"$f":"IF(OR(F90=Keuzelijsten!$A$66),(IF(A90=\"\",\"\",OFFSET(Warmtevragers!$C$7,10,A90,1,1))),\"Nee\")","v":"Nee"},{"$f":"IF(OR(F90=Keuzelijsten!$A$66),(IF(A90=\"\",\"\",OFFSET(Warmtevragers!$C$7,11,A90,1,1))),\"Nee\")","v":"Nee"},{"$f":"IF(A90=\"\",\"\",IF(OFFSET(Warmtevragers!$C$7,7,A90,1,1)=\"Ja\",0.97,1))","v":1},{"$f":"IF(A90=\"\",\"\",OFFSET(Warmtevragers!$C$7,10,A90,1,1))","v":0}]
[83,"Warmtevrager 84",{"$f":"IF(A91=\"\",\"\",OFFSET(Warmtevragers!$C$7,2,A91,1,1))","v":0},{"$f":"IF(A91=\"\",\"\",OFFSET(Warmtevragers!$C$7,30,A91,1,1))","v":0},{"$f":"IF(A91=\"\",\"\",OFFSET(Warmtevragers!$C$7,5,A91,1,1))","v":0},{"$f":"IF(A91=\"\",\"\",OFFSET(Warmtevragers!$C$7,6,A91,1,1))","v":0},{"$f":"IF(OR(F91=Keuzelijsten!$A$65,F91=Keuzelijsten!$A$66),(IF(A91=\"\",\"\",OFFSET(Warmtevragers!$C$7,8,A91,1,1))),\"Nee\")","v":"Nee"},{"$f":"IF(OR(F91=Keuzelijsten!$A$65,F91=Keuzelijsten!$A$66),(IF(A91=\"\",\"\",OFFSET(Warmtevragers!$C$7,9,A91,1,1))),\"Nee\")","v":"Nee"},{"$f":"IF(OR(F91=Keuzelijsten!$A$66),(IF(A91=\"\",\"\",OFFSET(Warmtevragers!$C$7,10,A91,1,1))),\"Nee\")","v":"Nee"},{"$f":"IF(OR(F91=Keuzelijsten!$A$66),(IF(A91=\"\",\"\",OFFSET(Warmtevragers!$C$7,11,A91,1,1))),\"Nee\")","v":"Nee"},{"$f":"IF(A91=\"\",\"\",IF(OFFSET(Warmtevragers!$C$7,7,A91,1,1)=\"Ja\",0.97,1))","v":1},{"$f":"IF(A91=\"\",\"\",OFFSET(Warmtevragers!$C$7,10,A91,1,1))","v":0}]
[84,"Warmtevrager 85",{"$f":"IF(A92=\"\",\"\",OFFSET(Warmtevragers!$C$7,2,A92,1,1))","v":0},{"$f":"IF(A92=\"\",\"\",OFFSET(Warmtevragers!$C$7,30,A92,1,1))","v":0},{"$f":"IF(A92=\"\",\"\",OFFSET(Warmtevragers!$C$7,5,A92,1,1))","v":0},{"$f":"IF(A92=\"\",\"\",OFFSET(Warmtevragers!$C$7,6,A92,1,1))","v":0},{"$f":"IF(OR(F92=Keuzelijsten!$A$65,F92=Keuzelijsten!$A$66),(IF(A92=\"\",\"\",OFFSET(Warmtevragers!$C$7,8,A92,1,1))),\"Nee\")","v":"Nee"},{"$f":"IF(OR(F92=Keuzelijsten!$A$65,F92=Keuzelijsten!$A$66),(IF(A92=\"\",\"\",OFFSET(Warmtevragers!$C$7,9,A92,1,1))),\"Nee\")","v":"Nee"},{"$f":"IF(OR(F92=Keuzelijsten!$A$66),(IF(A92=\"\",\"\",OFFSET(Warmtevragers!$C$7,10,A92,1,1))),\"Nee\")","v":"Nee"},{"$f":"IF(OR(F92=Keuzelijsten!$A$66),(IF(A92=\"\",\"\",OFFSET(Warmtevragers!$C$7,11,A92,1,1))),\"Nee\")","v":"Nee"},{"$f":"IF(A92=\"\",\"\",IF(OFFSET(Warmtevragers!$C$7,7,A92,1,1)=\"Ja\",0.97,1))","v":1},{"$f":"IF(A92=\"\",\"\",OFFSET(Warmtevragers!$C$7,10,A92,1,1))","v":0}]
[85,"Warmtevrager 86",{"$f":"IF(A93=\"\",\"\",OFFSET(Warmtevragers!$C$7,2,A93,1,1))","v":0},{"$f":"IF(A93=\"\",\"\",OFFSET(Warmtevragers!$C$7,30,A93,1,1))","v":0},{"$f":"IF(A93=\"\",\"\",OFFSET(Warmtevragers!$C$7,5,A93,1,1))","v":0},{"$f":"IF(A93=\"\",\"\",OFFSET(Warmtevragers!$C$7,6,A93,1,1))","v":0},{"$f":"IF(OR(F93=Keuzelijsten!$A$65,F93=Keuzelijsten!$A$66),(IF(A93=\"\",\"\",OFFSET(Warmtevragers!$C$7,8,A93,1,1))),\"Nee\")","v":"Nee"},{"$f":"IF(OR(F93=Keuzelijsten!$A$65,F93=Keuzelijsten!$A$66),(IF(A93=\"\",\"\",OFFSET(Warmtevragers!$C$7,9,A93,1,1))),\"Nee\")","v":"Nee"},{"$f":"IF(OR(F93=Keuzelijsten!$A$66),(IF(A93=\"\",\"\",OFFSET(Warmtevragers!$C$7,10,A93,1,1))),\"Nee\")","v":"Nee"},{"$f":"IF(OR(F93=Keuzelijsten!$A$66),(IF(A93=\"\",\"\",OFFSET(Warmtevragers!$C$7,11,A93,1,1))),\"Nee\")","v":"Nee"},{"$f":"IF(A93=\"\",\"\",IF(OFFSET(Warmtevragers!$C$7,7,A93,1,1)=\"Ja\",0.97,1))","v":1},{"$f":"IF(A93=\"\",\"\",OFFSET(Warmtevragers!$C$7,10,A93,1,1))","v":0}]
[86,"Warmtevrager 87",{"$f":"IF(A94=\"\",\"\",OFFSET(Warmtevragers!$C$7,2,A94,1,1))","v":0},{"$f":"IF(A94=\"\",\"\",OFFSET(Warmtevragers!$C$7,30,A94,1,1))","v":0},{"$f":"IF(A94=\"\",\"\",OFFSET(Warmtevragers!$C$7,5,A94,1,1))","v":0},{"$f":"IF(A94=\"\",\"\",OFFSET(Warmtevragers!$C$7,6,A94,1,1))","v":0},{"$f":"IF(OR(F94=Keuzelijsten!$A$65,F94=Keuzelijsten!$A$66),(IF(A94=\"\",\"\",OFFSET(Warmtevragers!$C$7,8,A94,1,1))),\"Nee\")","v":"Nee"},{"$f":"IF(OR(F94=Keuzelijsten!$A$65,F94=Keuzelijsten!$A$66),(IF(A94=\"\",\"\",OFFSET(Warmtevragers!$C$7,9,A94,1,1))),\"Nee\")","v":"Nee"},{"$f":"IF(OR(F94=Keuzelijsten!$A$66),(IF(A94=\"\",\"\",OFFSET(Warmtevragers!$C$7,10,A94,1,1))),\"Nee\")","v":"Nee"},{"$f":"IF(OR(F94=Keuzelijsten!$A$66),(IF(A94=\"\",\"\",OFFSET(Warmtevragers!$C$7,11,A94,1,1))),\"Nee\")","v":"Nee"},{"$f":"IF(A94=\"\",\"\",IF(OFFSET(Warmtevragers!$C$7,7,A94,1,1)=\"Ja\",0.97,1))","v":1},{"$f":"IF(A94=\"\",\"\",OFFSET(Warmtevragers!$C$7,10,A94,1,1))","v":0}]
[87,"Warmtevrager 88",{"$f":"IF(A95=\"\",\"\",OFFSET(Warmtevragers!$C$7,2,A95,1,1))","v":0},{"$f":"IF(A95=\"\",\"\",OFFSET(Warmtevragers!$C$7,30,A95,1,1))","v":0},{"$f":"IF(A95=\"\",\"\",OFFSET(Warmtevragers!$C$7,5,A95,1,1))","v":0},{"$f":"IF(A95=\"\",\"\",OFFSET(Warmtevragers!$C$7,6,A95,1,1))","v":0},{"$f":"IF(OR(F95=Keuzelijsten!$A$65,F95=Keuzelijsten!$A$66),(IF(A95=\"\",\"\",OFFSET(Warmtevragers!$C$7,8,A95,1,1))),\"Nee\")","v":"Nee"},{"$f":"IF(OR(F95=Keuzelijsten!$A$65,F95=Keuzelijsten!$A$66),(IF(A95=\"\",\"\",OFFSET(Warmtevragers!$C$7,9,A95,1,1))),\"Nee\")","v":"Nee"},{"$f":"IF(OR(F95=Keuzelijsten!$A$66),(IF(A95=\"\",\"\",OFFSET(Warmtevragers!$C$7,10,A95,1,1))),\"Nee\")","v":"Nee"},{"$f":"IF(OR(F95=Keuzelijsten!$A$66),(IF(A95=\"\",\"\",OFFSET(Warmtevragers!$C$7,11,A95,1,1))),\"Nee\")","v":"Nee"},{"$f":"IF(A95=\"\",\"\",IF(OFFSET(Warmtevragers!$C$7,7,A95,1,1)=\"Ja\",0.97,1))","v":1},{"$f":"IF(A95=\"\",\"\",OFFSET(Warmtevragers!$C$7,10,A95,1,1))","v":0}]
[88,"Warmtevrager 89",{"$f":"IF(A96=\"\",\"\",OFFSET(Warmtevragers!$C$7,2,A96,1,1))","v":0},{"$f":"IF(A96=\"\",\"\",OFFSET(Warmtevragers!$C$7,30,A96,1,1))","v":0},{"$f":"IF(A96=\"\",\"\",OFFSET(Warmtevragers!$C$7,5,A96,1,1))","v":0},{"$f":"IF(A96=\"\",\"\",OFFSET(Warmtevragers!$C$7,6,A96,1,1))","v":0},{"$f":"IF(OR(F96=Keuzelijsten!$A$65,F96=Keuzelijsten!$A$66),(IF(A96=\"\",\"\",OFFSET(Warmtevragers!$C$7,8,A96,1,1))),\"Nee\")","v":"Nee"},{"$f":"IF(OR(F96=Keuzelijsten!$A$65,F96=Keuzelijsten!$A$66),(IF(A96=\"\",\"\",OFFSET(Warmtevragers!$C$7,9,A96,1,1))),\"Nee\")","v":"Nee"},{"$f":"IF(OR(F96=Keuzelijsten!$A$66),(IF(A96=\"\",\"\",OFFSET(Warmtevragers!$C$7,10,A96,1,1))),\"Nee\")","v":"Nee"},{"$f":"IF(OR(F96=Keuzelijsten!$A$66),(IF(A96=\"\",\"\",OFFSET(Warmtevragers!$C$7,11,A96,1,1))),\"Nee\")","v":"Nee"},{"$f":"IF(A96=\"\",\"\",IF(OFFSET(Warmtevragers!$C$7,7,A96,1,1)=\"Ja\",0.97,1))","v":1},{"$f":"IF(A96=\"\",\"\",OFFSET(Warmtevragers!$C$7,10,A96,1,1))","v":0}]
[89,"Warmtevrager 90",{"$f":"IF(A97=\"\",\"\",OFFSET(Warmtevragers!$C$7,2,A97,1,1))","v":0},{"$f":"IF(A97=\"\",\"\",OFFSET(Warmtevragers!$C$7,30,A97,1,1))","v":0},{"$f":"IF(A97=\"\",\"\",OFFSET(Warmtevragers!$C$7,5,A97,1,1))","v":0},{"$f":"IF(A97=\"\",\"\",OFFSET(Warmtevragers!$C$7,6,A97,1,1))","v":0},{"$f":"IF(OR(F97=Keuzelijsten!$A$65,F97=Keuzelijsten!$A$66),(IF(A97=\"\",\"\",OFFSET(Warmtevragers!$C$7,8,A97,1,1))),\"Nee\")","v":"Nee"},{"$f":"IF(OR(F97=Keuzelijsten!$A$65,F97=Keuzelijsten!$A$66),(IF(A97=\"\",\"\",OFFSET(Warmtevragers!$C$7,9,A97,1,1))),\"Nee\")","v":"Nee"},{"$f":"IF(OR(F97=Keuzelijsten!$A$66),(IF(A97=\"\",\"\",OFFSET(Warmtevragers!$C$7,10,A97,1,1))),\"Nee\")","v":"Nee"},{"$f":"IF(OR(F97=Keuzelijsten!$A$66),(IF(A97=\"\",\"\",OFFSET(Warmtevragers!$C$7,11,A97,1,1))),\"Nee\")","v":"Nee"},{"$f":"IF(A97=\"\",\"\",IF(OFFSET(Warmtevragers!$C$7,7,A97,1,1)=\"Ja\",0.97,1))","v":1},{"$f":"IF(A97=\"\",\"\",OFFSET(Warmtevragers!$C$7,10,A97,1,1))","v":0}]
[90,"Warmtevrager 91",{"$f":"IF(A98=\"\",\"\",OFFSET(Warmtevragers!$C$7,2,A98,1,1))","v":0},{"$f":"IF(A98=\"\",\"\",OFFSET(Warmtevragers!$C$7,30,A98,1,1))","v":0},{"$f":"IF(A98=\"\",\"\",OFFSET(Warmtevragers!$C$7,5,A98,1,1))","v":0},{"$f":"IF(A98=\"\",\"\",OFFSET(Warmtevragers!$C$7,6,A98,1,1))","v":0},{"$f":"IF(OR(F98=Keuzelijsten!$A$65,F98=Keuzelijsten!$A$66),(IF(A98=\"\",\"\",OFFSET(Warmtevragers!$C$7,8,A98,1,1))),\"Nee\")","v":"Nee"},{"$f":"IF(OR(F98=Keuzelijsten!$A$65,F98=Keuzelijsten!$A$66),(IF(A98=\"\",\"\",OFFSET(Warmtevragers!$C$7,9,A98,1,1))),\"Nee\")","v":"Nee"},{"$f":"IF(OR(F98=Keuzelijsten!$A$66),(IF(A98=\"\",\"\",OFFSET(Warmtevragers!$C$7,10,A98,1,1))),\"Nee\")","v":"Nee"},{"$f":"IF(OR(F98=Keuzelijsten!$A$66),(IF(A98=\"\",\"\",OFFSET(Warmtevragers!$C$7,11,A98,1,1))),\"Nee\")","v":"Nee"},{"$f":"IF(A98=\"\",\"\",IF(OFFSET(Warmtevragers!$C$7,7,A98,1,1)=\"Ja\",0.97,1))","v":1},{"$f":"IF(A98=\"\",\"\",OFFSET(Warmtevragers!$C$7,10,A98,1,1))","v":0}]
[91,"Warmtevrager 92",{"$f":"IF(A99=\"\",\"\",OFFSET(Warmtevragers!$C$7,2,A99,1,1))","v":0},{"$f":"IF(A99=\"\",\"\",OFFSET(Warmtevragers!$C$7,30,A99,1,1))","v":0},{"$f":"IF(A99=\"\",\"\",OFFSET(Warmtevragers!$C$7,5,A99,1,1))","v":0},{"$f":"IF(A99=\"\",\"\",OFFSET(Warmtevragers!$C$7,6,A99,1,1))","v":0},{"$f":"IF(OR(F99=Keuzelijsten!$A$65,F99=Keuzelijsten!$A$66),(IF(A99=\"\",\"\",OFFSET(Warmtevragers!$C$7,8,A99,1,1))),\"Nee\")","v":"Nee"},{"$f":"IF(OR(F99=Keuzelijsten!$A$65,F99=Keuzelijsten!$A$66),(IF(A99=\"\",\"\",OFFSET(Warmtevragers!$C$7,9,A99,1,1))),\"Nee\")","v":"Nee"},{"$f":"IF(OR(F99=Keuzelijsten!$A$66),(IF(A99=\"\",\"\",OFFSET(Warmtevragers!$C$7,10,A99,1,1))),\"Nee\")","v":"Nee"},{"$f":"IF(OR(F99=Keuzelijsten!$A$66),(IF(A99=\"\",\"\",OFFSET(Warmtevragers!$C$7,11,A99,1,1))),\"Nee\")","v":"Nee"},{"$f":"IF(A99=\"\",\"\",IF(OFFSET(Warmtevragers!$C$7,7,A99,1,1)=\"Ja\",0.97,1))","v":1},{"$f":"IF(A99=\"\",\"\",OFFSET(Warmtevragers!$C$7,10,A99,1,1))","v":0}]
[92,"Warmtevrager 93",{"$f":"IF(A100=\"\",\"\",OFFSET(Warmtevragers!$C$7,2,A100,1,1))","v":0},{"$f":"IF(A100=\"\",\"\",OFFSET(Warmtevragers!$C$7,30,A100,1,1))","v":0},{"$f":"IF(A100=\"\",\"\",OFFSET(Warmtevragers!$C$7,5,A100,1,1))","v":0},{"$f":"IF(A100=\"\",\"\",OFFSET(Warmtevragers!$C$7,6,A100,1,1))","v":0},{"$f":"IF(OR(F100=Keuzelijsten!$A$65,F100=Keuzelijsten!$A$66),(IF(A100=\"\",\"\",OFFSET(Warmtevragers!$C$7,8,A100,1,1))),\"Nee\")","v":"Nee"},{"$f":"IF(OR(F100=Keuzelijsten!$A$65,F100=Keuzelijsten!$A$66),(IF(A100=\"\",\"\",OFFSET(Warmtevragers!$C$7,9,A100,1,1))),\"Nee\")","v":"Nee"},{"$f":"IF(OR(F100=Keuzelijsten!$A$66),(IF(A100=\"\",\"\",OFFSET(Warmtevragers!$C$7,10,A100,1,1))),\"Nee\")","v":"Nee"},{"$f":"IF(OR(F100=Keuzelijsten!$A$66),(IF(A100=\"\",\"\",OFFSET(Warmtevragers!$C$7,11,A100,1,1))),\"Nee\")","v":"Nee"},{"$f":"IF(A100=\"\",\"\",IF(OFFSET(Warmtevragers!$C$7,7,A100,1,1)=\"Ja\",0.97,1))","v":1},{"$f":"IF(A100=\"\",\"\",OFFSET(Warmtevragers!$C$7,10,A100,1,1))","v":0}]
[93,"Warmtevrager 94",{"$f":"IF(A101=\"\",\"\",OFFSET(Warmtevragers!$C$7,2,A101,1,1))","v":0},{"$f":"IF(A101=\"\",\"\",OFFSET(Warmtevragers!$C$7,30,A101,1,1))","v":0},{"$f":"IF(A101=\"\",\"\",OFFSET(Warmtevragers!$C$7,5,A101,1,1))","v":0},{"$f":"IF(A101=\"\",\"\",OFFSET(Warmtevragers!$C$7,6,A101,1,1))","v":0},{"$f":"IF(OR(F101=Keuzelijsten!$A$65,F101=Keuzelijsten!$A$66),(IF(A101=\"\",\"\",OFFSET(Warmtevragers!$C$7,8,A101,1,1))),\"Nee\")","v":"Nee"},{"$f":"IF(OR(F101=Keuzelijsten!$A$65,F101=Keuzelijsten!$A$66),(IF(A101=\"\",\"\",OFFSET(Warmtevragers!$C$7,9,A101,1,1))),\"Nee\")","v":"Nee"},{"$f":"IF(OR(F101=Keuzelijsten!$A$66),(IF(A101=\"\",\"\",OFFSET(Warmtevragers!$C$7,10,A101,1,1))),\"Nee\")","v":"Nee"},{"$f":"IF(OR(F101=Keuzelijsten!$A$66),(IF(A101=\"\",\"\",OFFSET(Warmtevragers!$C$7,11,A101,1,1))),\"Nee\")","v":"Nee"},{"$f":"IF(A101=\"\",\"\",IF(OFFSET(Warmtevragers!$C$7,7,A101,1,1)=\"Ja\",0.97,1))","v":1},{"$f":"IF(A101=\"\",\"\",OFFSET(Warmtevragers!$C$7,10,A101,1,1))","v":0}]
[94,"Warmtevrager 95",{"$f":"IF(A102=\"\",\"\",OFFSET(Warmtevragers!$C$7,2,A102,1,1))","v":0},{"$f":"IF(A102=\"\",\"\",OFFSET(Warmtevragers!$C$7,30,A102,1,1))","v":0},{"$f":"IF(A102=\"\",\"\",OFFSET(Warmtevragers!$C$7,5,A102,1,1))","v":0},{"$f":"IF(A102=\"\",\"\",OFFSET(Warmtevragers!$C$7,6,A102,1,1))","v":0},{"$f":"IF(OR(F102=Keuzelijsten!$A$65,F102=Keuzelijsten!$A$66),(IF(A102=\"\",\"\",OFFSET(Warmtevragers!$C$7,8,A102,1,1))),\"Nee\")","v":"Nee"},{"$f":"IF(OR(F102=Keuzelijsten!$A$65,F102=Keuzelijsten!$A$66),(IF(A102=\"\",\"\",OFFSET(Warmtevragers!$C$7,9,A102,1,1))),\"Nee\")","v":"Nee"},{"$f":"IF(OR(F102=Keuzelijsten!$A$66),(IF(A102=\"\",\"\",OFFSET(Warmtevragers!$C$7,10,A102,1,1))),\"Nee\")","v":"Nee"},{"$f":"IF(OR(F102=Keuzelijsten!$A$66),(IF(A102=\"\",\"\",OFFSET(Warmtevragers!$C$7,11,A102,1,1))),\"Nee\")","v":"Nee"},{"$f":"IF(A102=\"\",\"\",IF(OFFSET(Warmtevragers!$C$7,7,A102,1,1)=\"Ja\",0.97,1))","v":1},{"$f":"IF(A102=\"\",\"\",OFFSET(Warmtevragers!$C$7,10,A102,1,1))","v":0}]
[95,"Warmtevrager 96",{"$f":"IF(A103=\"\",\"\",OFFSET(Warmtevragers!$C$7,2,A103,1,1))","v":0},{"$f":"IF(A103=\"\",\"\",OFFSET(Warmtevragers!$C$7,30,A103,1,1))","v":0},{"$f":"IF(A103=\"\",\"\",OFFSET(Warmtevragers!$C$7,5,A103,1,1))","v":0},{"$f":"IF(A103=\"\",\"\",OFFSET(Warmtevragers!$C$7,6,A103,1,1))","v":0},{"$f":"IF(OR(F103=Keuzelijsten!$A$65,F103=Keuzelijsten!$A$66),(IF(A103=\"\",\"\",OFFSET(Warmtevragers!$C$7,8,A103,1,1))),\"Nee\")","v":"Nee"},{"$f":"IF(OR(F103=Keuzelijsten!$A$65,F103=Keuzelijsten!$A$66),(IF(A103=\"\",\"\",OFFSET(Warmtevragers!$C$7,9,A103,1,1))),\"Nee\")","v":"Nee"},{"$f":"IF(OR(F103=Keuzelijsten!$A$66),(IF(A103=\"\",\"\",OFFSET(Warmtevragers!$C$7,10,A103,1,1))),\"Nee\")","v":"Nee"},{"$f":"IF(OR(F103=Keuzelijsten!$A$66),(IF(A103=\"\",\"\",OFFSET(Warmtevragers!$C$7,11,A103,1,1))),\"Nee\")","v":"Nee"},{"$f":"IF(A103=\"\",\"\",IF(OFFSET(Warmtevragers!$C$7,7,A103,1,1)=\"Ja\",0.97,1))","v":1},{"$f":"IF(A103=\"\",\"\",OFFSET(Warmtevragers!$C$7,10,A103,1,1))","v":0}]
[96,"Warmtevrager 97",{"$f":"IF(A104=\"\",\"\",OFFSET(Warmtevragers!$C$7,2,A104,1,1))","v":0},{"$f":"IF(A104=\"\",\"\",OFFSET(Warmtevragers!$C$7,30,A104,1,1))","v":0},{"$f":"IF(A104=\"\",\"\",OFFSET(Warmtevragers!$C$7,5,A104,1,1))","v":0},{"$f":"IF(A104=\"\",\"\",OFFSET(Warmtevragers!$C$7,6,A104,1,1))","v":0},{"$f":"IF(OR(F104=Keuzelijsten!$A$65,F104=Keuzelijsten!$A$66),(IF(A104=\"\",\"\",OFFSET(Warmtevragers!$C$7,8,A104,1,1))),\"Nee\")","v":"Nee"},{"$f":"IF(OR(F104=Keuzelijsten!$A$65,F104=Keuzelijsten!$A$66),(IF(A104=\"\",\"\",OFFSET(Warmtevragers!$C$7,9,A104,1,1))),\"Nee\")","v":"Nee"},{"$f":"IF(OR(F104=Keuzelijsten!$A$66),(IF(A104=\"\",\"\",OFFSET(Warmtevragers!$C$7,10,A104,1,1))),\"Nee\")","v":"Nee"},{"$f":"IF(OR(F104=Keuzelijsten!$A$66),(IF(A104=\"\",\"\",OFFSET(Warmtevragers!$C$7,11,A104,1,1))),\"Nee\")","v":"Nee"},{"$f":"IF(A104=\"\",\"\",IF(OFFSET(Warmtevragers!$C$7,7,A104,1,1)=\"Ja\",0.97,1))","v":1},{"$f":"IF(A104=\"\",\"\",OFFSET(Warmtevragers!$C$7,10,A104,1,1))","v":0}]
[97,"Warmtevrager 98",{"$f":"IF(A105=\"\",\"\",OFFSET(Warmtevragers!$C$7,2,A105,1,1))","v":0},{"$f":"IF(A105=\"\",\"\",OFFSET(Warmtevragers!$C$7,30,A105,1,1))","v":0},{"$f":"IF(A105=\"\",\"\",OFFSET(Warmtevragers!$C$7,5,A105,1,1))","v":0},{"$f":"IF(A105=\"\",\"\",OFFSET(Warmtevragers!$C$7,6,A105,1,1))","v":0},{"$f":"IF(OR(F105=Keuzelijsten!$A$65,F105=Keuzelijsten!$A$66),(IF(A105=\"\",\"\",OFFSET(Warmtevragers!$C$7,8,A105,1,1))),\"Nee\")","v":"Nee"},{"$f":"IF(OR(F105=Keuzelijsten!$A$65,F105=Keuzelijsten!$A$66),(IF(A105=\"\",\"\",OFFSET(Warmtevragers!$C$7,9,A105,1,1))),\"Nee\")","v":"Nee"},{"$f":"IF(OR(F105=Keuzelijsten!$A$66),(IF(A105=\"\",\"\",OFFSET(Warmtevragers!$C$7,10,A105,1,1))),\"Nee\")","v":"Nee"},{"$f":"IF(OR(F105=Keuzelijsten!$A$66),(IF(A105=\"\",\"\",OFFSET(Warmtevragers!$C$7,11,A105,1,1))),\"Nee\")","v":"Nee"},{"$f":"IF(A105=\"\",\"\",IF(OFFSET(Warmtevragers!$C$7,7,A105,1,1)=\"Ja\",0.97,1))","v":1},{"$f":"IF(A105=\"\",\"\",OFFSET(Warmtevragers!$C$7,10,A105,1,1))","v":0}]
[98,"Warmtevrager 99",{"$f":"IF(A106=\"\",\"\",OFFSET(Warmtevragers!$C$7,2,A106,1,1))","v":0},{"$f":"IF(A106=\"\",\"\",OFFSET(Warmtevragers!$C$7,30,A106,1,1))","v":0},{"$f":"IF(A106=\"\",\"\",OFFSET(Warmtevragers!$C$7,5,A106,1,1))","v":0},{"$f":"IF(A106=\"\",\"\",OFFSET(Warmtevragers!$C$7,6,A106,1,1))","v":0},{"$f":"IF(OR(F106=Keuzelijsten!$A$65,F106=Keuzelijsten!$A$66),(IF(A106=\"\",\"\",OFFSET(Warmtevragers!$C$7,8,A106,1,1))),\"Nee\")","v":"Nee"},{"$f":"IF(OR(F106=Keuzelijsten!$A$65,F106=Keuzelijsten!$A$66),(IF(A106=\"\",\"\",OFFSET(Warmtevragers!$C$7,9,A106,1,1))),\"Nee\")","v":"Nee"},{"$f":"IF(OR(F106=Keuzelijsten!$A$66),(IF(A106=\"\",\"\",OFFSET(Warmtevragers!$C$7,10,A106,1,1))),\"Nee\")","v":"Nee"},{"$f":"IF(OR(F106=Keuzelijsten!$A$66),(IF(A106=\"\",\"\",OFFSET(Warmtevragers!$C$7,11,A106,1,1))),\"Nee\")","v":"Nee"},{"$f":"IF(A106=\"\",\"\",IF(OFFSET(Warmtevragers!$C$7,7,A106,1,1)=\"Ja\",0.97,1))","v":1},{"$f":"IF(A106=\"\",\"\",OFFSET(Warmtevragers!$C$7,10,A106,1,1))","v":0}]
[99,"Warmtevrager 100",{"$f":"IF(A107=\"\",\"\",OFFSET(Warmtevragers!$C$7,2,A107,1,1))","v":0},{"$f":"IF(A107=\"\",\"\",OFFSET(Warmtevragers!$C$7,30,A107,1,1))","v":0},{"$f":"IF(A107=\"\",\"\",OFFSET(Warmtevragers!$C$7,5,A107,1,1))","v":0},{"$f":"IF(A107=\"\",\"\",OFFSET(Warmtevragers!$C$7,6,A107,1,1))","v":0},{"$f":"IF(OR(F107=Keuzelijsten!$A$65,F107=Keuzelijsten!$A$66),(IF(A107=\"\",\"\",OFFSET(Warmtevragers!$C$7,8,A107,1,1))),\"Nee\")","v":"Nee"},{"$f":"IF(OR(F107=Keuzelijsten!$A$65,F107=Keuzelijsten!$A$66),(IF(A107=\"\",\"\",OFFSET(Warmtevragers!$C$7,9,A107,1,1))),\"Nee\")","v":"Nee"},{"$f":"IF(OR(F107=Keuzelijsten!$A$66),(IF(A107=\"\",\"\",OFFSET(Warmtevragers!$C$7,10,A107,1,1))),\"Nee\")","v":"Nee"},{"$f":"IF(OR(F107=Keuzelijsten!$A$66),(IF(A107=\"\",\"\",OFFSET(Warmtevragers!$C$7,11,A107,1,1))),\"Nee\")","v":"Nee"},{"$f":"IF(A107=\"\",\"\",IF(OFFSET(Warmtevragers!$C$7,7,A107,1,1)=\"Ja\",0.97,1))","v":1},{"$f":"IF(A107=\"\",\"\",OFFSET(Warmtevragers!$C$7,10,A107,1,1))","v":0}]
[100,"Warmtevrager 101",{"$f":"IF(A108=\"\",\"\",OFFSET(Warmtevragers!$C$7,2,A108,1,1))","v":0},{"$f":"IF(A108=\"\",\"\",OFFSET(Warmtevragers!$C$7,30,A108,1,1))","v":0},{"$f":"IF(A108=\"\",\"\",OFFSET(Warmtevragers!$C$7,5,A108,1,1))","v":0},{"$f":"IF(A108=\"\",\"\",OFFSET(Warmtevragers!$C$7,6,A108,1,1))","v":0},{"$f":"IF(OR(F108=Keuzelijsten!$A$65,F108=Keuzelijsten!$A$66),(IF(A108=\"\",\"\",OFFSET(Warmtevragers!$C$7,8,A108,1,1))),\"Nee\")","v":"Nee"},{"$f":"IF(OR(F108=Keuzelijsten!$A$65,F108=Keuzelijsten!$A$66),(IF(A108=\"\",\"\",OFFSET(Warmtevragers!$C$7,9,A108,1,1))),\"Nee\")","v":"Nee"},{"$f":"IF(OR(F108=Keuzelijsten!$A$66),(IF(A108=\"\",\"\",OFFSET(Warmtevragers!$C$7,10,A108,1,1))),\"Nee\")","v":"Nee"},{"$f":"IF(OR(F108=Keuzelijsten!$A$66),(IF(A108=\"\",\"\",OFFSET(Warmtevragers!$C$7,11,A108,1,1))),\"Nee\")","v":"Nee"},{"$f":"IF(A108=\"\",\"\",IF(OFFSET(Warmtevragers!$C$7,7,A108,1,1)=\"Ja\",0.97,1))","v":1},{"$f":"IF(A108=\"\",\"\",OFFSET(Warmtevragers!$C$7,10,A108,1,1))","v":0}]
[101,"Warmtevrager 102",{"$f":"IF(A109=\"\",\"\",OFFSET(Warmtevragers!$C$7,2,A109,1,1))","v":0},{"$f":"IF(A109=\"\",\"\",OFFSET(Warmtevragers!$C$7,30,A109,1,1))","v":0},{"$f":"IF(A109=\"\",\"\",OFFSET(Warmtevragers!$C$7,5,A109,1,1))","v":0},{"$f":"IF(A109=\"\",\"\",OFFSET(Warmtevragers!$C$7,6,A109,1,1))","v":0},{"$f":"IF(OR(F109=Keuzelijsten!$A$65,F109=Keuzelijsten!$A$66),(IF(A109=\"\",\"\",OFFSET(Warmtevragers!$C$7,8,A109,1,1))),\"Nee\")","v":"Nee"},{"$f":"IF(OR(F109=Keuzelijsten!$A$65,F109=Keuzelijsten!$A$66),(IF(A109=\"\",\"\",OFFSET(Warmtevragers!$C$7,9,A109,1,1))),\"Nee\")","v":"Nee"},{"$f":"IF(OR(F109=Keuzelijsten!$A$66),(IF(A109=\"\",\"\",OFFSET(Warmtevragers!$C$7,10,A109,1,1))),\"Nee\")","v":"Nee"},{"$f":"IF(OR(F109=Keuzelijsten!$A$66),(IF(A109=\"\",\"\",OFFSET(Warmtevragers!$C$7,11,A109,1,1))),\"Nee\")","v":"Nee"},{"$f":"IF(A109=\"\",\"\",IF(OFFSET(Warmtevragers!$C$7,7,A109,1,1)=\"Ja\",0.97,1))","v":1},{"$f":"IF(A109=\"\",\"\",OFFSET(Warmtevragers!$C$7,10,A109,1,1))","v":0}]
[102,"Warmtevrager 103",{"$f":"IF(A110=\"\",\"\",OFFSET(Warmtevragers!$C$7,2,A110,1,1))","v":0},{"$f":"IF(A110=\"\",\"\",OFFSET(Warmtevragers!$C$7,30,A110,1,1))","v":0},{"$f":"IF(A110=\"\",\"\",OFFSET(Warmtevragers!$C$7,5,A110,1,1))","v":0},{"$f":"IF(A110=\"\",\"\",OFFSET(Warmtevragers!$C$7,6,A110,1,1))","v":0},{"$f":"IF(OR(F110=Keuzelijsten!$A$65,F110=Keuzelijsten!$A$66),(IF(A110=\"\",\"\",OFFSET(Warmtevragers!$C$7,8,A110,1,1))),\"Nee\")","v":"Nee"},{"$f":"IF(OR(F110=Keuzelijsten!$A$65,F110=Keuzelijsten!$A$66),(IF(A110=\"\",\"\",OFFSET(Warmtevragers!$C$7,9,A110,1,1))),\"Nee\")","v":"Nee"},{"$f":"IF(OR(F110=Keuzelijsten!$A$66),(IF(A110=\"\",\"\",OFFSET(Warmtevragers!$C$7,10,A110,1,1))),\"Nee\")","v":"Nee"},{"$f":"IF(OR(F110=Keuzelijsten!$A$66),(IF(A110=\"\",\"\",OFFSET(Warmtevragers!$C$7,11,A110,1,1))),\"Nee\")","v":"Nee"},{"$f":"IF(A110=\"\",\"\",IF(OFFSET(Warmtevragers!$C$7,7,A110,1,1)=\"Ja\",0.97,1))","v":1},{"$f":"IF(A110=\"\",\"\",OFFSET(Warmtevragers!$C$7,10,A110,1,1))","v":0}]
[103,"Warmtevrager 104",{"$f":"IF(A111=\"\",\"\",OFFSET(Warmtevragers!$C$7,2,A111,1,1))","v":0},{"$f":"IF(A111=\"\",\"\",OFFSET(Warmtevragers!$C$7,30,A111,1,1))","v":0},{"$f":"IF(A111=\"\",\"\",OFFSET(Warmtevragers!$C$7,5,A111,1,1))","v":0},{"$f":"IF(A111=\"\",\"\",OFFSET(Warmtevragers!$C$7,6,A111,1,1))","v":0},{"$f":"IF(OR(F111=Keuzelijsten!$A$65,F111=Keuzelijsten!$A$66),(IF(A111=\"\",\"\",OFFSET(Warmtevragers!$C$7,8,A111,1,1))),\"Nee\")","v":"Nee"},{"$f":"IF(OR(F111=Keuzelijsten!$A$65,F111=Keuzelijsten!$A$66),(IF(A111=\"\",\"\",OFFSET(Warmtevragers!$C$7,9,A111,1,1))),\"Nee\")","v":"Nee"},{"$f":"IF(OR(F111=Keuzelijsten!$A$66),(IF(A111=\"\",\"\",OFFSET(Warmtevragers!$C$7,10,A111,1,1))),\"Nee\")","v":"Nee"},{"$f":"IF(OR(F111=Keuzelijsten!$A$66),(IF(A111=\"\",\"\",OFFSET(Warmtevragers!$C$7,11,A111,1,1))),\"Nee\")","v":"Nee"},{"$f":"IF(A111=\"\",\"\",IF(OFFSET(Warmtevragers!$C$7,7,A111,1,1)=\"Ja\",0.97,1))","v":1},{"$f":"IF(A111=\"\",\"\",OFFSET(Warmtevragers!$C$7,10,A111,1,1))","v":0}]
[104,"Warmtevrager 105",{"$f":"IF(A112=\"\",\"\",OFFSET(Warmtevragers!$C$7,2,A112,1,1))","v":0},{"$f":"IF(A112=\"\",\"\",OFFSET(Warmtevragers!$C$7,30,A112,1,1))","v":0},{"$f":"IF(A112=\"\",\"\",OFFSET(Warmtevragers!$C$7,5,A112,1,1))","v":0},{"$f":"IF(A112=\"\",\"\",OFFSET(Warmtevragers!$C$7,6,A112,1,1))","v":0},{"$f":"IF(OR(F112=Keuzelijsten!$A$65,F112=Keuzelijsten!$A$66),(IF(A112=\"\",\"\",OFFSET(Warmtevragers!$C$7,8,A112,1,1))),\"Nee\")","v":"Nee"},{"$f":"IF(OR(F112=Keuzelijsten!$A$65,F112=Keuzelijsten!$A$66),(IF(A112=\"\",\"\",OFFSET(Warmtevragers!$C$7,9,A112,1,1))),\"Nee\")","v":"Nee"},{"$f":"IF(OR(F112=Keuzelijsten!$A$66),(IF(A112=\"\",\"\",OFFSET(Warmtevragers!$C$7,10,A112,1,1))),\"Nee\")","v":"Nee"},{"$f":"IF(OR(F112=Keuzelijsten!$A$66),(IF(A112=\"\",\"\",OFFSET(Warmtevragers!$C$7,11,A112,1,1))),\"Nee\")","v":"Nee"},{"$f":"IF(A112=\"\",\"\",IF(OFFSET(Warmtevragers!$C$7,7,A112,1,1)=\"Ja\",0.97,1))","v":1},{"$f":"IF(A112=\"\",\"\",OFFSET(Warmtevragers!$C$7,10,A112,1,1))","v":0}]
[105,"Warmtevrager 106",{"$f":"IF(A113=\"\",\"\",OFFSET(Warmtevragers!$C$7,2,A113,1,1))","v":0},{"$f":"IF(A113=\"\",\"\",OFFSET(Warmtevragers!$C$7,30,A113,1,1))","v":0},{"$f":"IF(A113=\"\",\"\",OFFSET(Warmtevragers!$C$7,5,A113,1,1))","v":0},{"$f":"IF(A113=\"\",\"\",OFFSET(Warmtevragers!$C$7,6,A113,1,1))","v":0},{"$f":"IF(OR(F113=Keuzelijsten!$A$65,F113=Keuzelijsten!$A$66),(IF(A113=\"\",\"\",OFFSET(Warmtevragers!$C$7,8,A113,1,1))),\"Nee\")","v":"Nee"},{"$f":"IF(OR(F113=Keuzelijsten!$A$65,F113=Keuzelijsten!$A$66),(IF(A113=\"\",\"\",OFFSET(Warmtevragers!$C$7,9,A113,1,1))),\"Nee\")","v":"Nee"},{"$f":"IF(OR(F113=Keuzelijsten!$A$66),(IF(A113=\"\",\"\",OFFSET(Warmtevragers!$C$7,10,A113,1,1))),\"Nee\")","v":"Nee"},{"$f":"IF(OR(F113=Keuzelijsten!$A$66),(IF(A113=\"\",\"\",OFFSET(Warmtevragers!$C$7,11,A113,1,1))),\"Nee\")","v":"Nee"},{"$f":"IF(A113=\"\",\"\",IF(OFFSET(Warmtevragers!$C$7,7,A113,1,1)=\"Ja\",0.97,1))","v":1},{"$f":"IF(A113=\"\",\"\",OFFSET(Warmtevragers!$C$7,10,A113,1,1))","v":0}]
[106,"Warmtevrager 107",{"$f":"IF(A114=\"\",\"\",OFFSET(Warmtevragers!$C$7,2,A114,1,1))","v":0},{"$f":"IF(A114=\"\",\"\",OFFSET(Warmtevragers!$C$7,30,A114,1,1))","v":0},{"$f":"IF(A114=\"\",\"\",OFFSET(Warmtevragers!$C$7,5,A114,1,1))","v":0},{"$f":"IF(A114=\"\",\"\",OFFSET(Warmtevragers!$C$7,6,A114,1,1))","v":0},{"$f":"IF(OR(F114=Keuzelijsten!$A$65,F114=Keuzelijsten!$A$66),(IF(A114=\"\",\"\",OFFSET(Warmtevragers!$C$7,8,A114,1,1))),\"Nee\")","v":"Nee"},{"$f":"IF(OR(F114=Keuzelijsten!$A$65,F114=Keuzelijsten!$A$66),(IF(A114=\"\",\"\",OFFSET(Warmtevragers!$C$7,9,A114,1,1))),\"Nee\")","v":"Nee"},{"$f":"IF(OR(F114=Keuzelijsten!$A$66),(IF(A114=\"\",\"\",OFFSET(Warmtevragers!$C$7,10,A114,1,1))),\"Nee\")","v":"Nee"},{"$f":"IF(OR(F114=Keuzelijsten!$A$66),(IF(A114=\"\",\"\",OFFSET(Warmtevragers!$C$7,11,A114,1,1))),\"Nee\")","v":"Nee"},{"$f":"IF(A114=\"\",\"\",IF(OFFSET(Warmtevragers!$C$7,7,A114,1,1)=\"Ja\",0.97,1))","v":1},{"$f":"IF(A114=\"\",\"\",OFFSET(Warmtevragers!$C$7,10,A114,1,1))","v":0}]
[107,"Warmtevrager 108",{"$f":"IF(A115=\"\",\"\",OFFSET(Warmtevragers!$C$7,2,A115,1,1))","v":0},{"$f":"IF(A115=\"\",\"\",OFFSET(Warmtevragers!$C$7,30,A115,1,1))","v":0},{"$f":"IF(A115=\"\",\"\",OFFSET(Warmtevragers!$C$7,5,A115,1,1))","v":0},{"$f":"IF(A115=\"\",\"\",OFFSET(Warmtevragers!$C$7,6,A115,1,1))","v":0},{"$f":"IF(OR(F115=Keuzelijsten!$A$65,F115=Keuzelijsten!$A$66),(IF(A115=\"\",\"\",OFFSET(Warmtevragers!$C$7,8,A115,1,1))),\"Nee\")","v":"Nee"},{"$f":"IF(OR(F115=Keuzelijsten!$A$65,F115=Keuzelijsten!$A$66),(IF(A115=\"\",\"\",OFFSET(Warmtevragers!$C$7,9,A115,1,1))),\"Nee\")","v":"Nee"},{"$f":"IF(OR(F115=Keuzelijsten!$A$66),(IF(A115=\"\",\"\",OFFSET(Warmtevragers!$C$7,10,A115,1,1))),\"Nee\")","v":"Nee"},{"$f":"IF(OR(F115=Keuzelijsten!$A$66),(IF(A115=\"\",\"\",OFFSET(Warmtevragers!$C$7,11,A115,1,1))),\"Nee\")","v":"Nee"},{"$f":"IF(A115=\"\",\"\",IF(OFFSET(Warmtevragers!$C$7,7,A115,1,1)=\"Ja\",0.97,1))","v":1},{"$f":"IF(A115=\"\",\"\",OFFSET(Warmtevragers!$C$7,10,A115,1,1))","v":0}]
[108,"Warmtevrager 109",{"$f":"IF(A116=\"\",\"\",OFFSET(Warmtevragers!$C$7,2,A116,1,1))","v":0},{"$f":"IF(A116=\"\",\"\",OFFSET(Warmtevragers!$C$7,30,A116,1,1))","v":0},{"$f":"IF(A116=\"\",\"\",OFFSET(Warmtevragers!$C$7,5,A116,1,1))","v":0},{"$f":"IF(A116=\"\",\"\",OFFSET(Warmtevragers!$C$7,6,A116,1,1))","v":0},{"$f":"IF(OR(F116=Keuzelijsten!$A$65,F116=Keuzelijsten!$A$66),(IF(A116=\"\",\"\",OFFSET(Warmtevragers!$C$7,8,A116,1,1))),\"Nee\")","v":"Nee"},{"$f":"IF(OR(F116=Keuzelijsten!$A$65,F116=Keuzelijsten!$A$66),(IF(A116=\"\",\"\",OFFSET(Warmtevragers!$C$7,9,A116,1,1))),\"Nee\")","v":"Nee"},{"$f":"IF(OR(F116=Keuzelijsten!$A$66),(IF(A116=\"\",\"\",OFFSET(Warmtevragers!$C$7,10,A116,1,1))),\"Nee\")","v":"Nee"},{"$f":"IF(OR(F116=Keuzelijsten!$A$66),(IF(A116=\"\",\"\",OFFSET(Warmtevragers!$C$7,11,A116,1,1))),\"Nee\")","v":"Nee"},{"$f":"IF(A116=\"\",\"\",IF(OFFSET(Warmtevragers!$C$7,7,A116,1,1)=\"Ja\",0.97,1))","v":1},{"$f":"IF(A116=\"\",\"\",OFFSET(Warmtevragers!$C$7,10,A116,1,1))","v":0}]
[109,"Warmtevrager 110",{"$f":"IF(A117=\"\",\"\",OFFSET(Warmtevragers!$C$7,2,A117,1,1))","v":0},{"$f":"IF(A117=\"\",\"\",OFFSET(Warmtevragers!$C$7,30,A117,1,1))","v":0},{"$f":"IF(A117=\"\",\"\",OFFSET(Warmtevragers!$C$7,5,A117,1,1))","v":0},{"$f":"IF(A117=\"\",\"\",OFFSET(Warmtevragers!$C$7,6,A117,1,1))","v":0},{"$f":"IF(OR(F117=Keuzelijsten!$A$65,F117=Keuzelijsten!$A$66),(IF(A117=\"\",\"\",OFFSET(Warmtevragers!$C$7,8,A117,1,1))),\"Nee\")","v":"Nee"},{"$f":"IF(OR(F117=Keuzelijsten!$A$65,F117=Keuzelijsten!$A$66),(IF(A117=\"\",\"\",OFFSET(Warmtevragers!$C$7,9,A117,1,1))),\"Nee\")","v":"Nee"},{"$f":"IF(OR(F117=Keuzelijsten!$A$66),(IF(A117=\"\",\"\",OFFSET(Warmtevragers!$C$7,10,A117,1,1))),\"Nee\")","v":"Nee"},{"$f":"IF(OR(F117=Keuzelijsten!$A$66),(IF(A117=\"\",\"\",OFFSET(Warmtevragers!$C$7,11,A117,1,1))),\"Nee\")","v":"Nee"},{"$f":"IF(A117=\"\",\"\",IF(OFFSET(Warmtevragers!$C$7,7,A117,1,1)=\"Ja\",0.97,1))","v":1},{"$f":"IF(A117=\"\",\"\",OFFSET(Warmtevragers!$C$7,10,A117,1,1))","v":0}]
[110,"Warmtevrager 111",{"$f":"IF(A118=\"\",\"\",OFFSET(Warmtevragers!$C$7,2,A118,1,1))","v":0},{"$f":"IF(A118=\"\",\"\",OFFSET(Warmtevragers!$C$7,30,A118,1,1))","v":0},{"$f":"IF(A118=\"\",\"\",OFFSET(Warmtevragers!$C$7,5,A118,1,1))","v":0},{"$f":"IF(A118=\"\",\"\",OFFSET(Warmtevragers!$C$7,6,A118,1,1))","v":0},{"$f":"IF(OR(F118=Keuzelijsten!$A$65,F118=Keuzelijsten!$A$66),(IF(A118=\"\",\"\",OFFSET(Warmtevragers!$C$7,8,A118,1,1))),\"Nee\")","v":"Nee"},{"$f":"IF(OR(F118=Keuzelijsten!$A$65,F118=Keuzelijsten!$A$66),(IF(A118=\"\",\"\",OFFSET(Warmtevragers!$C$7,9,A118,1,1))),\"Nee\")","v":"Nee"},{"$f":"IF(OR(F118=Keuzelijsten!$A$66),(IF(A118=\"\",\"\",OFFSET(Warmtevragers!$C$7,10,A118,1,1))),\"Nee\")","v":"Nee"},{"$f":"IF(OR(F118=Keuzelijsten!$A$66),(IF(A118=\"\",\"\",OFFSET(Warmtevragers!$C$7,11,A118,1,1))),\"Nee\")","v":"Nee"},{"$f":"IF(A118=\"\",\"\",IF(OFFSET(Warmtevragers!$C$7,7,A118,1,1)=\"Ja\",0.97,1))","v":1},{"$f":"IF(A118=\"\",\"\",OFFSET(Warmtevragers!$C$7,10,A118,1,1))","v":0}]
[111,"Warmtevrager 112",{"$f":"IF(A119=\"\",\"\",OFFSET(Warmtevragers!$C$7,2,A119,1,1))","v":0},{"$f":"IF(A119=\"\",\"\",OFFSET(Warmtevragers!$C$7,30,A119,1,1))","v":0},{"$f":"IF(A119=\"\",\"\",OFFSET(Warmtevragers!$C$7,5,A119,1,1))","v":0},{"$f":"IF(A119=\"\",\"\",OFFSET(Warmtevragers!$C$7,6,A119,1,1))","v":0},{"$f":"IF(OR(F119=Keuzelijsten!$A$65,F119=Keuzelijsten!$A$66),(IF(A119=\"\",\"\",OFFSET(Warmtevragers!$C$7,8,A119,1,1))),\"Nee\")","v":"Nee"},{"$f":"IF(OR(F119=Keuzelijsten!$A$65,F119=Keuzelijsten!$A$66),(IF(A119=\"\",\"\",OFFSET(Warmtevragers!$C$7,9,A119,1,1))),\"Nee\")","v":"Nee"},{"$f":"IF(OR(F119=Keuzelijsten!$A$66),(IF(A119=\"\",\"\",OFFSET(Warmtevragers!$C$7,10,A119,1,1))),\"Nee\")","v":"Nee"},{"$f":"IF(OR(F119=Keuzelijsten!$A$66),(IF(A119=\"\",\"\",OFFSET(Warmtevragers!$C$7,11,A119,1,1))),\"Nee\")","v":"Nee"},{"$f":"IF(A119=\"\",\"\",IF(OFFSET(Warmtevragers!$C$7,7,A119,1,1)=\"Ja\",0.97,1))","v":1},{"$f":"IF(A119=\"\",\"\",OFFSET(Warmtevragers!$C$7,10,A119,1,1))","v":0}]
[112,"Warmtevrager 113",{"$f":"IF(A120=\"\",\"\",OFFSET(Warmtevragers!$C$7,2,A120,1,1))","v":0},{"$f":"IF(A120=\"\",\"\",OFFSET(Warmtevragers!$C$7,30,A120,1,1))","v":0},{"$f":"IF(A120=\"\",\"\",OFFSET(Warmtevragers!$C$7,5,A120,1,1))","v":0},{"$f":"IF(A120=\"\",\"\",OFFSET(Warmtevragers!$C$7,6,A120,1,1))","v":0},{"$f":"IF(OR(F120=Keuzelijsten!$A$65,F120=Keuzelijsten!$A$66),(IF(A120=\"\",\"\",OFFSET(Warmtevragers!$C$7,8,A120,1,1))),\"Nee\")","v":"Nee"},{"$f":"IF(OR(F120=Keuzelijsten!$A$65,F120=Keuzelijsten!$A$66),(IF(A120=\"\",\"\",OFFSET(Warmtevragers!$C$7,9,A120,1,1))),\"Nee\")","v":"Nee"},{"$f":"IF(OR(F120=Keuzelijsten!$A$66),(IF(A120=\"\",\"\",OFFSET(Warmtevragers!$C$7,10,A120,1,1))),\"Nee\")","v":"Nee"},{"$f":"IF(OR(F120=Keuzelijsten!$A$66),(IF(A120=\"\",\"\",OFFSET(Warmtevragers!$C$7,11,A120,1,1))),\"Nee\")","v":"Nee"},{"$f":"IF(A120=\"\",\"\",IF(OFFSET(Warmtevragers!$C$7,7,A120,1,1)=\"Ja\",0.97,1))","v":1},{"$f":"IF(A120=\"\",\"\",OFFSET(Warmtevragers!$C$7,10,A120,1,1))","v":0}]
[113,"Warmtevrager 114",{"$f":"IF(A121=\"\",\"\",OFFSET(Warmtevragers!$C$7,2,A121,1,1))","v":0},{"$f":"IF(A121=\"\",\"\",OFFSET(Warmtevragers!$C$7,30,A121,1,1))","v":0},{"$f":"IF(A121=\"\",\"\",OFFSET(Warmtevragers!$C$7,5,A121,1,1))","v":0},{"$f":"IF(A121=\"\",\"\",OFFSET(Warmtevragers!$C$7,6,A121,1,1))","v":0},{"$f":"IF(OR(F121=Keuzelijsten!$A$65,F121=Keuzelijsten!$A$66),(IF(A121=\"\",\"\",OFFSET(Warmtevragers!$C$7,8,A121,1,1))),\"Nee\")","v":"Nee"},{"$f":"IF(OR(F121=Keuzelijsten!$A$65,F121=Keuzelijsten!$A$66),(IF(A121=\"\",\"\",OFFSET(Warmtevragers!$C$7,9,A121,1,1))),\"Nee\")","v":"Nee"},{"$f":"IF(OR(F121=Keuzelijsten!$A$66),(IF(A121=\"\",\"\",OFFSET(Warmtevragers!$C$7,10,A121,1,1))),\"Nee\")","v":"Nee"},{"$f":"IF(OR(F121=Keuzelijsten!$A$66),(IF(A121=\"\",\"\",OFFSET(Warmtevragers!$C$7,11,A121,1,1))),\"Nee\")","v":"Nee"},{"$f":"IF(A121=\"\",\"\",IF(OFFSET(Warmtevragers!$C$7,7,A121,1,1)=\"Ja\",0.97,1))","v":1},{"$f":"IF(A121=\"\",\"\",OFFSET(Warmtevragers!$C$7,10,A121,1,1))","v":0}]
[114,"Warmtevrager 115",{"$f":"IF(A122=\"\",\"\",OFFSET(Warmtevragers!$C$7,2,A122,1,1))","v":0},{"$f":"IF(A122=\"\",\"\",OFFSET(Warmtevragers!$C$7,30,A122,1,1))","v":0},{"$f":"IF(A122=\"\",\"\",OFFSET(Warmtevragers!$C$7,5,A122,1,1))","v":0},{"$f":"IF(A122=\"\",\"\",OFFSET(Warmtevragers!$C$7,6,A122,1,1))","v":0},{"$f":"IF(OR(F122=Keuzelijsten!$A$65,F122=Keuzelijsten!$A$66),(IF(A122=\"\",\"\",OFFSET(Warmtevragers!$C$7,8,A122,1,1))),\"Nee\")","v":"Nee"},{"$f":"IF(OR(F122=Keuzelijsten!$A$65,F122=Keuzelijsten!$A$66),(IF(A122=\"\",\"\",OFFSET(Warmtevragers!$C$7,9,A122,1,1))),\"Nee\")","v":"Nee"},{"$f":"IF(OR(F122=Keuzelijsten!$A$66),(IF(A122=\"\",\"\",OFFSET(Warmtevragers!$C$7,10,A122,1,1))),\"Nee\")","v":"Nee"},{"$f":"IF(OR(F122=Keuzelijsten!$A$66),(IF(A122=\"\",\"\",OFFSET(Warmtevragers!$C$7,11,A122,1,1))),\"Nee\")","v":"Nee"},{"$f":"IF(A122=\"\",\"\",IF(OFFSET(Warmtevragers!$C$7,7,A122,1,1)=\"Ja\",0.97,1))","v":1},{"$f":"IF(A122=\"\",\"\",OFFSET(Warmtevragers!$C$7,10,A122,1,1))","v":0}]
[115,"Warmtevrager 116",{"$f":"IF(A123=\"\",\"\",OFFSET(Warmtevragers!$C$7,2,A123,1,1))","v":0},{"$f":"IF(A123=\"\",\"\",OFFSET(Warmtevragers!$C$7,30,A123,1,1))","v":0},{"$f":"IF(A123=\"\",\"\",OFFSET(Warmtevragers!$C$7,5,A123,1,1))","v":0},{"$f":"IF(A123=\"\",\"\",OFFSET(Warmtevragers!$C$7,6,A123,1,1))","v":0},{"$f":"IF(OR(F123=Keuzelijsten!$A$65,F123=Keuzelijsten!$A$66),(IF(A123=\"\",\"\",OFFSET(Warmtevragers!$C$7,8,A123,1,1))),\"Nee\")","v":"Nee"},{"$f":"IF(OR(F123=Keuzelijsten!$A$65,F123=Keuzelijsten!$A$66),(IF(A123=\"\",\"\",OFFSET(Warmtevragers!$C$7,9,A123,1,1))),\"Nee\")","v":"Nee"},{"$f":"IF(OR(F123=Keuzelijsten!$A$66),(IF(A123=\"\",\"\",OFFSET(Warmtevragers!$C$7,10,A123,1,1))),\"Nee\")","v":"Nee"},{"$f":"IF(OR(F123=Keuzelijsten!$A$66),(IF(A123=\"\",\"\",OFFSET(Warmtevragers!$C$7,11,A123,1,1))),\"Nee\")","v":"Nee"},{"$f":"IF(A123=\"\",\"\",IF(OFFSET(Warmtevragers!$C$7,7,A123,1,1)=\"Ja\",0.97,1))","v":1},{"$f":"IF(A123=\"\",\"\",OFFSET(Warmtevragers!$C$7,10,A123,1,1))","v":0}]
[116,"Warmtevrager 117",{"$f":"IF(A124=\"\",\"\",OFFSET(Warmtevragers!$C$7,2,A124,1,1))","v":0},{"$f":"IF(A124=\"\",\"\",OFFSET(Warmtevragers!$C$7,30,A124,1,1))","v":0},{"$f":"IF(A124=\"\",\"\",OFFSET(Warmtevragers!$C$7,5,A124,1,1))","v":0},{"$f":"IF(A124=\"\",\"\",OFFSET(Warmtevragers!$C$7,6,A124,1,1))","v":0},{"$f":"IF(OR(F124=Keuzelijsten!$A$65,F124=Keuzelijsten!$A$66),(IF(A124=\"\",\"\",OFFSET(Warmtevragers!$C$7,8,A124,1,1))),\"Nee\")","v":"Nee"},{"$f":"IF(OR(F124=Keuzelijsten!$A$65,F124=Keuzelijsten!$A$66),(IF(A124=\"\",\"\",OFFSET(Warmtevragers!$C$7,9,A124,1,1))),\"Nee\")","v":"Nee"},{"$f":"IF(OR(F124=Keuzelijsten!$A$66),(IF(A124=\"\",\"\",OFFSET(Warmtevragers!$C$7,10,A124,1,1))),\"Nee\")","v":"Nee"},{"$f":"IF(OR(F124=Keuzelijsten!$A$66),(IF(A124=\"\",\"\",OFFSET(Warmtevragers!$C$7,11,A124,1,1))),\"Nee\")","v":"Nee"},{"$f":"IF(A124=\"\",\"\",IF(OFFSET(Warmtevragers!$C$7,7,A124,1,1)=\"Ja\",0.97,1))","v":1},{"$f":"IF(A124=\"\",\"\",OFFSET(Warmtevragers!$C$7,10,A124,1,1))","v":0}]
[117,"Warmtevrager 118",{"$f":"IF(A125=\"\",\"\",OFFSET(Warmtevragers!$C$7,2,A125,1,1))","v":0},{"$f":"IF(A125=\"\",\"\",OFFSET(Warmtevragers!$C$7,30,A125,1,1))","v":0},{"$f":"IF(A125=\"\",\"\",OFFSET(Warmtevragers!$C$7,5,A125,1,1))","v":0},{"$f":"IF(A125=\"\",\"\",OFFSET(Warmtevragers!$C$7,6,A125,1,1))","v":0},{"$f":"IF(OR(F125=Keuzelijsten!$A$65,F125=Keuzelijsten!$A$66),(IF(A125=\"\",\"\",OFFSET(Warmtevragers!$C$7,8,A125,1,1))),\"Nee\")","v":"Nee"},{"$f":"IF(OR(F125=Keuzelijsten!$A$65,F125=Keuzelijsten!$A$66),(IF(A125=\"\",\"\",OFFSET(Warmtevragers!$C$7,9,A125,1,1))),\"Nee\")","v":"Nee"},{"$f":"IF(OR(F125=Keuzelijsten!$A$66),(IF(A125=\"\",\"\",OFFSET(Warmtevragers!$C$7,10,A125,1,1))),\"Nee\")","v":"Nee"},{"$f":"IF(OR(F125=Keuzelijsten!$A$66),(IF(A125=\"\",\"\",OFFSET(Warmtevragers!$C$7,11,A125,1,1))),\"Nee\")","v":"Nee"},{"$f":"IF(A125=\"\",\"\",IF(OFFSET(Warmtevragers!$C$7,7,A125,1,1)=\"Ja\",0.97,1))","v":1},{"$f":"IF(A125=\"\",\"\",OFFSET(Warmtevragers!$C$7,10,A125,1,1))","v":0}]
[118,"Warmtevrager 119",{"$f":"IF(A126=\"\",\"\",OFFSET(Warmtevragers!$C$7,2,A126,1,1))","v":0},{"$f":"IF(A126=\"\",\"\",OFFSET(Warmtevragers!$C$7,30,A126,1,1))","v":0},{"$f":"IF(A126=\"\",\"\",OFFSET(Warmtevragers!$C$7,5,A126,1,1))","v":0},{"$f":"IF(A126=\"\",\"\",OFFSET(Warmtevragers!$C$7,6,A126,1,1))","v":0},{"$f":"IF(OR(F126=Keuzelijsten!$A$65,F126=Keuzelijsten!$A$66),(IF(A126=\"\",\"\",OFFSET(Warmtevragers!$C$7,8,A126,1,1))),\"Nee\")","v":"Nee"},{"$f":"IF(OR(F126=Keuzelijsten!$A$65,F126=Keuzelijsten!$A$66),(IF(A126=\"\",\"\",OFFSET(Warmtevragers!$C$7,9,A126,1,1))),\"Nee\")","v":"Nee"},{"$f":"IF(OR(F126=Keuzelijsten!$A$66),(IF(A126=\"\",\"\",OFFSET(Warmtevragers!$C$7,10,A126,1,1))),\"Nee\")","v":"Nee"},{"$f":"IF(OR(F126=Keuzelijsten!$A$66),(IF(A126=\"\",\"\",OFFSET(Warmtevragers!$C$7,11,A126,1,1))),\"Nee\")","v":"Nee"},{"$f":"IF(A126=\"\",\"\",IF(OFFSET(Warmtevragers!$C$7,7,A126,1,1)=\"Ja\",0.97,1))","v":1},{"$f":"IF(A126=\"\",\"\",OFFSET(Warmtevragers!$C$7,10,A126,1,1))","v":0}]
[119,"Warmtevrager 120",{"$f":"IF(A127=\"\",\"\",OFFSET(Warmtevragers!$C$7,2,A127,1,1))","v":0},{"$f":"IF(A127=\"\",\"\",OFFSET(Warmtevragers!$C$7,30,A127,1,1))","v":0},{"$f":"IF(A127=\"\",\"\",OFFSET(Warmtevragers!$C$7,5,A127,1,1))","v":0},{"$f":"IF(A127=\"\",\"\",OFFSET(Warmtevragers!$C$7,6,A127,1,1))","v":0},{"$f":"IF(OR(F127=Keuzelijsten!$A$65,F127=Keuzelijsten!$A$66),(IF(A127=\"\",\"\",OFFSET(Warmtevragers!$C$7,8,A127,1,1))),\"Nee\")","v":"Nee"},{"$f":"IF(OR(F127=Keuzelijsten!$A$65,F127=Keuzelijsten!$A$66),(IF(A127=\"\",\"\",OFFSET(Warmtevragers!$C$7,9,A127,1,1))),\"Nee\")","v":"Nee"},{"$f":"IF(OR(F127=Keuzelijsten!$A$66),(IF(A127=\"\",\"\",OFFSET(Warmtevragers!$C$7,10,A127,1,1))),\"Nee\")","v":"Nee"},{"$f":"IF(OR(F127=Keuzelijsten!$A$66),(IF(A127=\"\",\"\",OFFSET(Warmtevragers!$C$7,11,A127,1,1))),\"Nee\")","v":"Nee"},{"$f":"IF(A127=\"\",\"\",IF(OFFSET(Warmtevragers!$C$7,7,A127,1,1)=\"Ja\",0.97,1))","v":1},{"$f":"IF(A127=\"\",\"\",OFFSET(Warmtevragers!$C$7,10,A127,1,1))","v":0}]
[120,"Warmtevrager 121",{"$f":"IF(A128=\"\",\"\",OFFSET(Warmtevragers!$C$7,2,A128,1,1))","v":0},{"$f":"IF(A128=\"\",\"\",OFFSET(Warmtevragers!$C$7,30,A128,1,1))","v":0},{"$f":"IF(A128=\"\",\"\",OFFSET(Warmtevragers!$C$7,5,A128,1,1))","v":0},{"$f":"IF(A128=\"\",\"\",OFFSET(Warmtevragers!$C$7,6,A128,1,1))","v":0},{"$f":"IF(OR(F128=Keuzelijsten!$A$65,F128=Keuzelijsten!$A$66),(IF(A128=\"\",\"\",OFFSET(Warmtevragers!$C$7,8,A128,1,1))),\"Nee\")","v":"Nee"},{"$f":"IF(OR(F128=Keuzelijsten!$A$65,F128=Keuzelijsten!$A$66),(IF(A128=\"\",\"\",OFFSET(Warmtevragers!$C$7,9,A128,1,1))),\"Nee\")","v":"Nee"},{"$f":"IF(OR(F128=Keuzelijsten!$A$66),(IF(A128=\"\",\"\",OFFSET(Warmtevragers!$C$7,10,A128,1,1))),\"Nee\")","v":"Nee"},{"$f":"IF(OR(F128=Keuzelijsten!$A$66),(IF(A128=\"\",\"\",OFFSET(Warmtevragers!$C$7,11,A128,1,1))),\"Nee\")","v":"Nee"},{"$f":"IF(A128=\"\",\"\",IF(OFFSET(Warmtevragers!$C$7,7,A128,1,1)=\"Ja\",0.97,1))","v":1},{"$f":"IF(A128=\"\",\"\",OFFSET(Warmtevragers!$C$7,10,A128,1,1))","v":0}]
[121,"Warmtevrager 122",{"$f":"IF(A129=\"\",\"\",OFFSET(Warmtevragers!$C$7,2,A129,1,1))","v":0},{"$f":"IF(A129=\"\",\"\",OFFSET(Warmtevragers!$C$7,30,A129,1,1))","v":0},{"$f":"IF(A129=\"\",\"\",OFFSET(Warmtevragers!$C$7,5,A129,1,1))","v":0},{"$f":"IF(A129=\"\",\"\",OFFSET(Warmtevragers!$C$7,6,A129,1,1))","v":0},{"$f":"IF(OR(F129=Keuzelijsten!$A$65,F129=Keuzelijsten!$A$66),(IF(A129=\"\",\"\",OFFSET(Warmtevragers!$C$7,8,A129,1,1))),\"Nee\")","v":"Nee"},{"$f":"IF(OR(F129=Keuzelijsten!$A$65,F129=Keuzelijsten!$A$66),(IF(A129=\"\",\"\",OFFSET(Warmtevragers!$C$7,9,A129,1,1))),\"Nee\")","v":"Nee"},{"$f":"IF(OR(F129=Keuzelijsten!$A$66),(IF(A129=\"\",\"\",OFFSET(Warmtevragers!$C$7,10,A129,1,1))),\"Nee\")","v":"Nee"},{"$f":"IF(OR(F129=Keuzelijsten!$A$66),(IF(A129=\"\",\"\",OFFSET(Warmtevragers!$C$7,11,A129,1,1))),\"Nee\")","v":"Nee"},{"$f":"IF(A129=\"\",\"\",IF(OFFSET(Warmtevragers!$C$7,7,A129,1,1)=\"Ja\",0.97,1))","v":1},{"$f":"IF(A129=\"\",\"\",OFFSET(Warmtevragers!$C$7,10,A129,1,1))","v":0}]
[122,"Warmtevrager 123",{"$f":"IF(A130=\"\",\"\",OFFSET(Warmtevragers!$C$7,2,A130,1,1))","v":0},{"$f":"IF(A130=\"\",\"\",OFFSET(Warmtevragers!$C$7,30,A130,1,1))","v":0},{"$f":"IF(A130=\"\",\"\",OFFSET(Warmtevragers!$C$7,5,A130,1,1))","v":0},{"$f":"IF(A130=\"\",\"\",OFFSET(Warmtevragers!$C$7,6,A130,1,1))","v":0},{"$f":"IF(OR(F130=Keuzelijsten!$A$65,F130=Keuzelijsten!$A$66),(IF(A130=\"\",\"\",OFFSET(Warmtevragers!$C$7,8,A130,1,1))),\"Nee\")","v":"Nee"},{"$f":"IF(OR(F130=Keuzelijsten!$A$65,F130=Keuzelijsten!$A$66),(IF(A130=\"\",\"\",OFFSET(Warmtevragers!$C$7,9,A130,1,1))),\"Nee\")","v":"Nee"},{"$f":"IF(OR(F130=Keuzelijsten!$A$66),(IF(A130=\"\",\"\",OFFSET(Warmtevragers!$C$7,10,A130,1,1))),\"Nee\")","v":"Nee"},{"$f":"IF(OR(F130=Keuzelijsten!$A$66),(IF(A130=\"\",\"\",OFFSET(Warmtevragers!$C$7,11,A130,1,1))),\"Nee\")","v":"Nee"},{"$f":"IF(A130=\"\",\"\",IF(OFFSET(Warmtevragers!$C$7,7,A130,1,1)=\"Ja\",0.97,1))","v":1},{"$f":"IF(A130=\"\",\"\",OFFSET(Warmtevragers!$C$7,10,A130,1,1))","v":0}]
[123,"Warmtevrager 124",{"$f":"IF(A131=\"\",\"\",OFFSET(Warmtevragers!$C$7,2,A131,1,1))","v":0},{"$f":"IF(A131=\"\",\"\",OFFSET(Warmtevragers!$C$7,30,A131,1,1))","v":0},{"$f":"IF(A131=\"\",\"\",OFFSET(Warmtevragers!$C$7,5,A131,1,1))","v":0},{"$f":"IF(A131=\"\",\"\",OFFSET(Warmtevragers!$C$7,6,A131,1,1))","v":0},{"$f":"IF(OR(F131=Keuzelijsten!$A$65,F131=Keuzelijsten!$A$66),(IF(A131=\"\",\"\",OFFSET(Warmtevragers!$C$7,8,A131,1,1))),\"Nee\")","v":"Nee"},{"$f":"IF(OR(F131=Keuzelijsten!$A$65,F131=Keuzelijsten!$A$66),(IF(A131=\"\",\"\",OFFSET(Warmtevragers!$C$7,9,A131,1,1))),\"Nee\")","v":"Nee"},{"$f":"IF(OR(F131=Keuzelijsten!$A$66),(IF(A131=\"\",\"\",OFFSET(Warmtevragers!$C$7,10,A131,1,1))),\"Nee\")","v":"Nee"},{"$f":"IF(OR(F131=Keuzelijsten!$A$66),(IF(A131=\"\",\"\",OFFSET(Warmtevragers!$C$7,11,A131,1,1))),\"Nee\")","v":"Nee"},{"$f":"IF(A131=\"\",\"\",IF(OFFSET(Warmtevragers!$C$7,7,A131,1,1)=\"Ja\",0.97,1))","v":1},{"$f":"IF(A131=\"\",\"\",OFFSET(Warmtevragers!$C$7,10,A131,1,1))","v":0}]
[124,"Warmtevrager 125",{"$f":"IF(A132=\"\",\"\",OFFSET(Warmtevragers!$C$7,2,A132,1,1))","v":0},{"$f":"IF(A132=\"\",\"\",OFFSET(Warmtevragers!$C$7,30,A132,1,1))","v":0},{"$f":"IF(A132=\"\",\"\",OFFSET(Warmtevragers!$C$7,5,A132,1,1))","v":0},{"$f":"IF(A132=\"\",\"\",OFFSET(Warmtevragers!$C$7,6,A132,1,1))","v":0},{"$f":"IF(OR(F132=Keuzelijsten!$A$65,F132=Keuzelijsten!$A$66),(IF(A132=\"\",\"\",OFFSET(Warmtevragers!$C$7,8,A132,1,1))),\"Nee\")","v":"Nee"},{"$f":"IF(OR(F132=Keuzelijsten!$A$65,F132=Keuzelijsten!$A$66),(IF(A132=\"\",\"\",OFFSET(Warmtevragers!$C$7,9,A132,1,1))),\"Nee\")","v":"Nee"},{"$f":"IF(OR(F132=Keuzelijsten!$A$66),(IF(A132=\"\",\"\",OFFSET(Warmtevragers!$C$7,10,A132,1,1))),\"Nee\")","v":"Nee"},{"$f":"IF(OR(F132=Keuzelijsten!$A$66),(IF(A132=\"\",\"\",OFFSET(Warmtevragers!$C$7,11,A132,1,1))),\"Nee\")","v":"Nee"},{"$f":"IF(A132=\"\",\"\",IF(OFFSET(Warmtevragers!$C$7,7,A132,1,1)=\"Ja\",0.97,1))","v":1},{"$f":"IF(A132=\"\",\"\",OFFSET(Warmtevragers!$C$7,10,A132,1,1))","v":0}]
[125,"Warmtevrager 126",{"$f":"IF(A133=\"\",\"\",OFFSET(Warmtevragers!$C$7,2,A133,1,1))","v":0},{"$f":"IF(A133=\"\",\"\",OFFSET(Warmtevragers!$C$7,30,A133,1,1))","v":0},{"$f":"IF(A133=\"\",\"\",OFFSET(Warmtevragers!$C$7,5,A133,1,1))","v":0},{"$f":"IF(A133=\"\",\"\",OFFSET(Warmtevragers!$C$7,6,A133,1,1))","v":0},{"$f":"IF(OR(F133=Keuzelijsten!$A$65,F133=Keuzelijsten!$A$66),(IF(A133=\"\",\"\",OFFSET(Warmtevragers!$C$7,8,A133,1,1))),\"Nee\")","v":"Nee"},{"$f":"IF(OR(F133=Keuzelijsten!$A$65,F133=Keuzelijsten!$A$66),(IF(A133=\"\",\"\",OFFSET(Warmtevragers!$C$7,9,A133,1,1))),\"Nee\")","v":"Nee"},{"$f":"IF(OR(F133=Keuzelijsten!$A$66),(IF(A133=\"\",\"\",OFFSET(Warmtevragers!$C$7,10,A133,1,1))),\"Nee\")","v":"Nee"},{"$f":"IF(OR(F133=Keuzelijsten!$A$66),(IF(A133=\"\",\"\",OFFSET(Warmtevragers!$C$7,11,A133,1,1))),\"Nee\")","v":"Nee"},{"$f":"IF(A133=\"\",\"\",IF(OFFSET(Warmtevragers!$C$7,7,A133,1,1)=\"Ja\",0.97,1))","v":1},{"$f":"IF(A133=\"\",\"\",OFFSET(Warmtevragers!$C$7,10,A133,1,1))","v":0}]
[126,"Warmtevrager 127",{"$f":"IF(A134=\"\",\"\",OFFSET(Warmtevragers!$C$7,2,A134,1,1))","v":0},{"$f":"IF(A134=\"\",\"\",OFFSET(Warmtevragers!$C$7,30,A134,1,1))","v":0},{"$f":"IF(A134=\"\",\"\",OFFSET(Warmtevragers!$C$7,5,A134,1,1))","v":0},{"$f":"IF(A134=\"\",\"\",OFFSET(Warmtevragers!$C$7,6,A134,1,1))","v":0},{"$f":"IF(OR(F134=Keuzelijsten!$A$65,F134=Keuzelijsten!$A$66),(IF(A134=\"\",\"\",OFFSET(Warmtevragers!$C$7,8,A134,1,1))),\"Nee\")","v":"Nee"},{"$f":"IF(OR(F134=Keuzelijsten!$A$65,F134=Keuzelijsten!$A$66),(IF(A134=\"\",\"\",OFFSET(Warmtevragers!$C$7,9,A134,1,1))),\"Nee\")","v":"Nee"},{"$f":"IF(OR(F134=Keuzelijsten!$A$66),(IF(A134=\"\",\"\",OFFSET(Warmtevragers!$C$7,10,A134,1,1))),\"Nee\")","v":"Nee"},{"$f":"IF(OR(F134=Keuzelijsten!$A$66),(IF(A134=\"\",\"\",OFFSET(Warmtevragers!$C$7,11,A134,1,1))),\"Nee\")","v":"Nee"},{"$f":"IF(A134=\"\",\"\",IF(OFFSET(Warmtevragers!$C$7,7,A134,1,1)=\"Ja\",0.97,1))","v":1},{"$f":"IF(A134=\"\",\"\",OFFSET(Warmtevragers!$C$7,10,A134,1,1))","v":0}]
[127,"Warmtevrager 128",{"$f":"IF(A135=\"\",\"\",OFFSET(Warmtevragers!$C$7,2,A135,1,1))","v":0},{"$f":"IF(A135=\"\",\"\",OFFSET(Warmtevragers!$C$7,30,A135,1,1))","v":0},{"$f":"IF(A135=\"\",\"\",OFFSET(Warmtevragers!$C$7,5,A135,1,1))","v":0},{"$f":"IF(A135=\"\",\"\",OFFSET(Warmtevragers!$C$7,6,A135,1,1))","v":0},{"$f":"IF(OR(F135=Keuzelijsten!$A$65,F135=Keuzelijsten!$A$66),(IF(A135=\"\",\"\",OFFSET(Warmtevragers!$C$7,8,A135,1,1))),\"Nee\")","v":"Nee"},{"$f":"IF(OR(F135=Keuzelijsten!$A$65,F135=Keuzelijsten!$A$66),(IF(A135=\"\",\"\",OFFSET(Warmtevragers!$C$7,9,A135,1,1))),\"Nee\")","v":"Nee"},{"$f":"IF(OR(F135=Keuzelijsten!$A$66),(IF(A135=\"\",\"\",OFFSET(Warmtevragers!$C$7,10,A135,1,1))),\"Nee\")","v":"Nee"},{"$f":"IF(OR(F135=Keuzelijsten!$A$66),(IF(A135=\"\",\"\",OFFSET(Warmtevragers!$C$7,11,A135,1,1))),\"Nee\")","v":"Nee"},{"$f":"IF(A135=\"\",\"\",IF(OFFSET(Warmtevragers!$C$7,7,A135,1,1)=\"Ja\",0.97,1))","v":1},{"$f":"IF(A135=\"\",\"\",OFFSET(Warmtevragers!$C$7,10,A135,1,1))","v":0}]
[128,{"$f":"\"Warmtevrager \"&A136+1","v":"Warmtevrager 129"},{"$f":"IF(A136=\"\",\"\",OFFSET(Warmtevragers!$C$7,2,A136,1,1))","v":0},{"$f":"IF(A136=\"\",\"\",OFFSET(Warmtevragers!$C$7,30,A136,1,1))","v":0},{"$f":"IF(A136=\"\",\"\",OFFSET(Warmtevragers!$C$7,5,A136,1,1))","v":0},{"$f":"IF(A136=\"\",\"\",OFFSET(Warmtevragers!$C$7,6,A136,1,1))","v":0},{"$f":"IF(OR(F136=Keuzelijsten!$A$65,F136=Keuzelijsten!$A$66),(IF(A136=\"\",\"\",OFFSET(Warmtevragers!$C$7,8,A136,1,1))),\"Nee\")","v":"Nee"},{"$f":"IF(OR(F136=Keuzelijsten!$A$65,F136=Keuzelijsten!$A$66),(IF(A136=\"\",\"\",OFFSET(Warmtevragers!$C$7,9,A136,1,1))),\"Nee\")","v":"Nee"},{"$f":"IF(OR(F136=Keuzelijsten!$A$66),(IF(A136=\"\",\"\",OFFSET(Warmtevragers!$C$7,10,A136,1,1))),\"Nee\")","v":"Nee"},{"$f":"IF(OR(F136=Keuzelijsten!$A$66),(IF(A136=\"\",\"\",OFFSET(Warmtevragers!$C$7,11,A136,1,1))),\"Nee\")","v":"Nee"},{"$f":"IF(A136=\"\",\"\",IF(OFFSET(Warmtevragers!$C$7,7,A136,1,1)=\"Ja\",0.97,1))","v":1},{"$f":"IF(A136=\"\",\"\",OFFSET(Warmtevragers!$C$7,10,A136,1,1))","v":0}]
[129,"Warmtevrager 130",{"$f":"IF(A137=\"\",\"\",OFFSET(Warmtevragers!$C$7,2,A137,1,1))","v":0},{"$f":"IF(A137=\"\",\"\",OFFSET(Warmtevragers!$C$7,30,A137,1,1))","v":0},{"$f":"IF(A137=\"\",\"\",OFFSET(Warmtevragers!$C$7,5,A137,1,1))","v":0},{"$f":"IF(A137=\"\",\"\",OFFSET(Warmtevragers!$C$7,6,A137,1,1))","v":0},{"$f":"IF(OR(F137=Keuzelijsten!$A$65,F137=Keuzelijsten!$A$66),(IF(A137=\"\",\"\",OFFSET(Warmtevragers!$C$7,8,A137,1,1))),\"Nee\")","v":"Nee"},{"$f":"IF(OR(F137=Keuzelijsten!$A$65,F137=Keuzelijsten!$A$66),(IF(A137=\"\",\"\",OFFSET(Warmtevragers!$C$7,9,A137,1,1))),\"Nee\")","v":"Nee"},{"$f":"IF(OR(F137=Keuzelijsten!$A$66),(IF(A137=\"\",\"\",OFFSET(Warmtevragers!$C$7,10,A137,1,1))),\"Nee\")","v":"Nee"},{"$f":"IF(OR(F137=Keuzelijsten!$A$66),(IF(A137=\"\",\"\",OFFSET(Warmtevragers!$C$7,11,A137,1,1))),\"Nee\")","v":"Nee"},{"$f":"IF(A137=\"\",\"\",IF(OFFSET(Warmtevragers!$C$7,7,A137,1,1)=\"Ja\",0.97,1))","v":1},{"$f":"IF(A137=\"\",\"\",OFFSET(Warmtevragers!$C$7,10,A137,1,1))","v":0}]
[130,"Warmtevrager 131",{"$f":"IF(A138=\"\",\"\",OFFSET(Warmtevragers!$C$7,2,A138,1,1))","v":0},{"$f":"IF(A138=\"\",\"\",OFFSET(Warmtevragers!$C$7,30,A138,1,1))","v":0},{"$f":"IF(A138=\"\",\"\",OFFSET(Warmtevragers!$C$7,5,A138,1,1))","v":0},{"$f":"IF(A138=\"\",\"\",OFFSET(Warmtevragers!$C$7,6,A138,1,1))","v":0},{"$f":"IF(OR(F138=Keuzelijsten!$A$65,F138=Keuzelijsten!$A$66),(IF(A138=\"\",\"\",OFFSET(Warmtevragers!$C$7,8,A138,1,1))),\"Nee\")","v":"Nee"},{"$f":"IF(OR(F138=Keuzelijsten!$A$65,F138=Keuzelijsten!$A$66),(IF(A138=\"\",\"\",OFFSET(Warmtevragers!$C$7,9,A138,1,1))),\"Nee\")","v":"Nee"},{"$f":"IF(OR(F138=Keuzelijsten!$A$66),(IF(A138=\"\",\"\",OFFSET(Warmtevragers!$C$7,10,A138,1,1))),\"Nee\")","v":"Nee"},{"$f":"IF(OR(F138=Keuzelijsten!$A$66),(IF(A138=\"\",\"\",OFFSET(Warmtevragers!$C$7,11,A138,1,1))),\"Nee\")","v":"Nee"},{"$f":"IF(A138=\"\",\"\",IF(OFFSET(Warmtevragers!$C$7,7,A138,1,1)=\"Ja\",0.97,1))","v":1},{"$f":"IF(A138=\"\",\"\",OFFSET(Warmtevragers!$C$7,10,A138,1,1))","v":0}]
[{"$f":"A138+1","v":131},"Warmtevrager 132",{"$f":"IF(A139=\"\",\"\",OFFSET(Warmtevragers!$C$7,2,A139,1,1))","v":0},{"$f":"IF(A139=\"\",\"\",OFFSET(Warmtevragers!$C$7,30,A139,1,1))","v":0},{"$f":"IF(A139=\"\",\"\",OFFSET(Warmtevragers!$C$7,5,A139,1,1))","v":0},{"$f":"IF(A139=\"\",\"\",OFFSET(Warmtevragers!$C$7,6,A139,1,1))","v":0},{"$f":"IF(OR(F139=Keuzelijsten!$A$65,F139=Keuzelijsten!$A$66),(IF(A139=\"\",\"\",OFFSET(Warmtevragers!$C$7,8,A139,1,1))),\"Nee\")","v":"Nee"},{"$f":"IF(OR(F139=Keuzelijsten!$A$65,F139=Keuzelijsten!$A$66),(IF(A139=\"\",\"\",OFFSET(Warmtevragers!$C$7,9,A139,1,1))),\"Nee\")","v":"Nee"},{"$f":"IF(OR(F139=Keuzelijsten!$A$66),(IF(A139=\"\",\"\",OFFSET(Warmtevragers!$C$7,10,A139,1,1))),\"Nee\")","v":"Nee"},{"$f":"IF(OR(F139=Keuzelijsten!$A$66),(IF(A139=\"\",\"\",OFFSET(Warmtevragers!$C$7,11,A139,1,1))),\"Nee\")","v":"Nee"},{"$f":"IF(A139=\"\",\"\",IF(OFFSET(Warmtevragers!$C$7,7,A139,1,1)=\"Ja\",0.97,1))","v":1},{"$f":"IF(A139=\"\",\"\",OFFSET(Warmtevragers!$C$7,10,A139,1,1))","v":0}]
[132,"Warmtevrager 133",{"$f":"IF(A140=\"\",\"\",OFFSET(Warmtevragers!$C$7,2,A140,1,1))","v":0},{"$f":"IF(A140=\"\",\"\",OFFSET(Warmtevragers!$C$7,30,A140,1,1))","v":0},{"$f":"IF(A140=\"\",\"\",OFFSET(Warmtevragers!$C$7,5,A140,1,1))","v":0},{"$f":"IF(A140=\"\",\"\",OFFSET(Warmtevragers!$C$7,6,A140,1,1))","v":0},{"$f":"IF(OR(F140=Keuzelijsten!$A$65,F140=Keuzelijsten!$A$66),(IF(A140=\"\",\"\",OFFSET(Warmtevragers!$C$7,8,A140,1,1))),\"Nee\")","v":"Nee"},{"$f":"IF(OR(F140=Keuzelijsten!$A$65,F140=Keuzelijsten!$A$66),(IF(A140=\"\",\"\",OFFSET(Warmtevragers!$C$7,9,A140,1,1))),\"Nee\")","v":"Nee"},{"$f":"IF(OR(F140=Keuzelijsten!$A$66),(IF(A140=\"\",\"\",OFFSET(Warmtevragers!$C$7,10,A140,1,1))),\"Nee\")","v":"Nee"},{"$f":"IF(OR(F140=Keuzelijsten!$A$66),(IF(A140=\"\",\"\",OFFSET(Warmtevragers!$C$7,11,A140,1,1))),\"Nee\")","v":"Nee"},{"$f":"IF(A140=\"\",\"\",IF(OFFSET(Warmtevragers!$C$7,7,A140,1,1)=\"Ja\",0.97,1))","v":1},{"$f":"IF(A140=\"\",\"\",OFFSET(Warmtevragers!$C$7,10,A140,1,1))","v":0}]
[133,"Warmtevrager 134",{"$f":"IF(A141=\"\",\"\",OFFSET(Warmtevragers!$C$7,2,A141,1,1))","v":0},{"$f":"IF(A141=\"\",\"\",OFFSET(Warmtevragers!$C$7,30,A141,1,1))","v":0},{"$f":"IF(A141=\"\",\"\",OFFSET(Warmtevragers!$C$7,5,A141,1,1))","v":0},{"$f":"IF(A141=\"\",\"\",OFFSET(Warmtevragers!$C$7,6,A141,1,1))","v":0},{"$f":"IF(OR(F141=Keuzelijsten!$A$65,F141=Keuzelijsten!$A$66),(IF(A141=\"\",\"\",OFFSET(Warmtevragers!$C$7,8,A141,1,1))),\"Nee\")","v":"Nee"},{"$f":"IF(OR(F141=Keuzelijsten!$A$65,F141=Keuzelijsten!$A$66),(IF(A141=\"\",\"\",OFFSET(Warmtevragers!$C$7,9,A141,1,1))),\"Nee\")","v":"Nee"},{"$f":"IF(OR(F141=Keuzelijsten!$A$66),(IF(A141=\"\",\"\",OFFSET(Warmtevragers!$C$7,10,A141,1,1))),\"Nee\")","v":"Nee"},{"$f":"IF(OR(F141=Keuzelijsten!$A$66),(IF(A141=\"\",\"\",OFFSET(Warmtevragers!$C$7,11,A141,1,1))),\"Nee\")","v":"Nee"},{"$f":"IF(A141=\"\",\"\",IF(OFFSET(Warmtevragers!$C$7,7,A141,1,1)=\"Ja\",0.97,1))","v":1},{"$f":"IF(A141=\"\",\"\",OFFSET(Warmtevragers!$C$7,10,A141,1,1))","v":0}]
[134,"Warmtevrager 135",{"$f":"IF(A142=\"\",\"\",OFFSET(Warmtevragers!$C$7,2,A142,1,1))","v":0},{"$f":"IF(A142=\"\",\"\",OFFSET(Warmtevragers!$C$7,30,A142,1,1))","v":0},{"$f":"IF(A142=\"\",\"\",OFFSET(Warmtevragers!$C$7,5,A142,1,1))","v":0},{"$f":"IF(A142=\"\",\"\",OFFSET(Warmtevragers!$C$7,6,A142,1,1))","v":0},{"$f":"IF(OR(F142=Keuzelijsten!$A$65,F142=Keuzelijsten!$A$66),(IF(A142=\"\",\"\",OFFSET(Warmtevragers!$C$7,8,A142,1,1))),\"Nee\")","v":"Nee"},{"$f":"IF(OR(F142=Keuzelijsten!$A$65,F142=Keuzelijsten!$A$66),(IF(A142=\"\",\"\",OFFSET(Warmtevragers!$C$7,9,A142,1,1))),\"Nee\")","v":"Nee"},{"$f":"IF(OR(F142=Keuzelijsten!$A$66),(IF(A142=\"\",\"\",OFFSET(Warmtevragers!$C$7,10,A142,1,1))),\"Nee\")","v":"Nee"},{"$f":"IF(OR(F142=Keuzelijsten!$A$66),(IF(A142=\"\",\"\",OFFSET(Warmtevragers!$C$7,11,A142,1,1))),\"Nee\")","v":"Nee"},{"$f":"IF(A142=\"\",\"\",IF(OFFSET(Warmtevragers!$C$7,7,A142,1,1)=\"Ja\",0.97,1))","v":1},{"$f":"IF(A142=\"\",\"\",OFFSET(Warmtevragers!$C$7,10,A142,1,1))","v":0}]
[135,"Warmtevrager 136",{"$f":"IF(A143=\"\",\"\",OFFSET(Warmtevragers!$C$7,2,A143,1,1))","v":0},{"$f":"IF(A143=\"\",\"\",OFFSET(Warmtevragers!$C$7,30,A143,1,1))","v":0},{"$f":"IF(A143=\"\",\"\",OFFSET(Warmtevragers!$C$7,5,A143,1,1))","v":0},{"$f":"IF(A143=\"\",\"\",OFFSET(Warmtevragers!$C$7,6,A143,1,1))","v":0},{"$f":"IF(OR(F143=Keuzelijsten!$A$65,F143=Keuzelijsten!$A$66),(IF(A143=\"\",\"\",OFFSET(Warmtevragers!$C$7,8,A143,1,1))),\"Nee\")","v":"Nee"},{"$f":"IF(OR(F143=Keuzelijsten!$A$65,F143=Keuzelijsten!$A$66),(IF(A143=\"\",\"\",OFFSET(Warmtevragers!$C$7,9,A143,1,1))),\"Nee\")","v":"Nee"},{"$f":"IF(OR(F143=Keuzelijsten!$A$66),(IF(A143=\"\",\"\",OFFSET(Warmtevragers!$C$7,10,A143,1,1))),\"Nee\")","v":"Nee"},{"$f":"IF(OR(F143=Keuzelijsten!$A$66),(IF(A143=\"\",\"\",OFFSET(Warmtevragers!$C$7,11,A143,1,1))),\"Nee\")","v":"Nee"},{"$f":"IF(A143=\"\",\"\",IF(OFFSET(Warmtevragers!$C$7,7,A143,1,1)=\"Ja\",0.97,1))","v":1},{"$f":"IF(A143=\"\",\"\",OFFSET(Warmtevragers!$C$7,10,A143,1,1))","v":0}]
[136,"Warmtevrager 137",{"$f":"IF(A144=\"\",\"\",OFFSET(Warmtevragers!$C$7,2,A144,1,1))","v":0},{"$f":"IF(A144=\"\",\"\",OFFSET(Warmtevragers!$C$7,30,A144,1,1))","v":0},{"$f":"IF(A144=\"\",\"\",OFFSET(Warmtevragers!$C$7,5,A144,1,1))","v":0},{"$f":"IF(A144=\"\",\"\",OFFSET(Warmtevragers!$C$7,6,A144,1,1))","v":0},{"$f":"IF(OR(F144=Keuzelijsten!$A$65,F144=Keuzelijsten!$A$66),(IF(A144=\"\",\"\",OFFSET(Warmtevragers!$C$7,8,A144,1,1))),\"Nee\")","v":"Nee"},{"$f":"IF(OR(F144=Keuzelijsten!$A$65,F144=Keuzelijsten!$A$66),(IF(A144=\"\",\"\",OFFSET(Warmtevragers!$C$7,9,A144,1,1))),\"Nee\")","v":"Nee"},{"$f":"IF(OR(F144=Keuzelijsten!$A$66),(IF(A144=\"\",\"\",OFFSET(Warmtevragers!$C$7,10,A144,1,1))),\"Nee\")","v":"Nee"},{"$f":"IF(OR(F144=Keuzelijsten!$A$66),(IF(A144=\"\",\"\",OFFSET(Warmtevragers!$C$7,11,A144,1,1))),\"Nee\")","v":"Nee"},{"$f":"IF(A144=\"\",\"\",IF(OFFSET(Warmtevragers!$C$7,7,A144,1,1)=\"Ja\",0.97,1))","v":1},{"$f":"IF(A144=\"\",\"\",OFFSET(Warmtevragers!$C$7,10,A144,1,1))","v":0}]
[137,"Warmtevrager 138",{"$f":"IF(A145=\"\",\"\",OFFSET(Warmtevragers!$C$7,2,A145,1,1))","v":0},{"$f":"IF(A145=\"\",\"\",OFFSET(Warmtevragers!$C$7,30,A145,1,1))","v":0},{"$f":"IF(A145=\"\",\"\",OFFSET(Warmtevragers!$C$7,5,A145,1,1))","v":0},{"$f":"IF(A145=\"\",\"\",OFFSET(Warmtevragers!$C$7,6,A145,1,1))","v":0},{"$f":"IF(OR(F145=Keuzelijsten!$A$65,F145=Keuzelijsten!$A$66),(IF(A145=\"\",\"\",OFFSET(Warmtevragers!$C$7,8,A145,1,1))),\"Nee\")","v":"Nee"},{"$f":"IF(OR(F145=Keuzelijsten!$A$65,F145=Keuzelijsten!$A$66),(IF(A145=\"\",\"\",OFFSET(Warmtevragers!$C$7,9,A145,1,1))),\"Nee\")","v":"Nee"},{"$f":"IF(OR(F145=Keuzelijsten!$A$66),(IF(A145=\"\",\"\",OFFSET(Warmtevragers!$C$7,10,A145,1,1))),\"Nee\")","v":"Nee"},{"$f":"IF(OR(F145=Keuzelijsten!$A$66),(IF(A145=\"\",\"\",OFFSET(Warmtevragers!$C$7,11,A145,1,1))),\"Nee\")","v":"Nee"},{"$f":"IF(A145=\"\",\"\",IF(OFFSET(Warmtevragers!$C$7,7,A145,1,1)=\"Ja\",0.97,1))","v":1},{"$f":"IF(A145=\"\",\"\",OFFSET(Warmtevragers!$C$7,10,A145,1,1))","v":0}]
[138,"Warmtevrager 139",{"$f":"IF(A146=\"\",\"\",OFFSET(Warmtevragers!$C$7,2,A146,1,1))","v":0},{"$f":"IF(A146=\"\",\"\",OFFSET(Warmtevragers!$C$7,30,A146,1,1))","v":0},{"$f":"IF(A146=\"\",\"\",OFFSET(Warmtevragers!$C$7,5,A146,1,1))","v":0},{"$f":"IF(A146=\"\",\"\",OFFSET(Warmtevragers!$C$7,6,A146,1,1))","v":0},{"$f":"IF(OR(F146=Keuzelijsten!$A$65,F146=Keuzelijsten!$A$66),(IF(A146=\"\",\"\",OFFSET(Warmtevragers!$C$7,8,A146,1,1))),\"Nee\")","v":"Nee"},{"$f":"IF(OR(F146=Keuzelijsten!$A$65,F146=Keuzelijsten!$A$66),(IF(A146=\"\",\"\",OFFSET(Warmtevragers!$C$7,9,A146,1,1))),\"Nee\")","v":"Nee"},{"$f":"IF(OR(F146=Keuzelijsten!$A$66),(IF(A146=\"\",\"\",OFFSET(Warmtevragers!$C$7,10,A146,1,1))),\"Nee\")","v":"Nee"},{"$f":"IF(OR(F146=Keuzelijsten!$A$66),(IF(A146=\"\",\"\",OFFSET(Warmtevragers!$C$7,11,A146,1,1))),\"Nee\")","v":"Nee"},{"$f":"IF(A146=\"\",\"\",IF(OFFSET(Warmtevragers!$C$7,7,A146,1,1)=\"Ja\",0.97,1))","v":1},{"$f":"IF(A146=\"\",\"\",OFFSET(Warmtevragers!$C$7,10,A146,1,1))","v":0}]
[139,"Warmtevrager 140",{"$f":"IF(A147=\"\",\"\",OFFSET(Warmtevragers!$C$7,2,A147,1,1))","v":0},{"$f":"IF(A147=\"\",\"\",OFFSET(Warmtevragers!$C$7,30,A147,1,1))","v":0},{"$f":"IF(A147=\"\",\"\",OFFSET(Warmtevragers!$C$7,5,A147,1,1))","v":0},{"$f":"IF(A147=\"\",\"\",OFFSET(Warmtevragers!$C$7,6,A147,1,1))","v":0},{"$f":"IF(OR(F147=Keuzelijsten!$A$65,F147=Keuzelijsten!$A$66),(IF(A147=\"\",\"\",OFFSET(Warmtevragers!$C$7,8,A147,1,1))),\"Nee\")","v":"Nee"},{"$f":"IF(OR(F147=Keuzelijsten!$A$65,F147=Keuzelijsten!$A$66),(IF(A147=\"\",\"\",OFFSET(Warmtevragers!$C$7,9,A147,1,1))),\"Nee\")","v":"Nee"},{"$f":"IF(OR(F147=Keuzelijsten!$A$66),(IF(A147=\"\",\"\",OFFSET(Warmtevragers!$C$7,10,A147,1,1))),\"Nee\")","v":"Nee"},{"$f":"IF(OR(F147=Keuzelijsten!$A$66),(IF(A147=\"\",\"\",OFFSET(Warmtevragers!$C$7,11,A147,1,1))),\"Nee\")","v":"Nee"},{"$f":"IF(A147=\"\",\"\",IF(OFFSET(Warmtevragers!$C$7,7,A147,1,1)=\"Ja\",0.97,1))","v":1},{"$f":"IF(A147=\"\",\"\",OFFSET(Warmtevragers!$C$7,10,A147,1,1))","v":0}]
[140,"Warmtevrager 141",{"$f":"IF(A148=\"\",\"\",OFFSET(Warmtevragers!$C$7,2,A148,1,1))","v":0},{"$f":"IF(A148=\"\",\"\",OFFSET(Warmtevragers!$C$7,30,A148,1,1))","v":0},{"$f":"IF(A148=\"\",\"\",OFFSET(Warmtevragers!$C$7,5,A148,1,1))","v":0},{"$f":"IF(A148=\"\",\"\",OFFSET(Warmtevragers!$C$7,6,A148,1,1))","v":0},{"$f":"IF(OR(F148=Keuzelijsten!$A$65,F148=Keuzelijsten!$A$66),(IF(A148=\"\",\"\",OFFSET(Warmtevragers!$C$7,8,A148,1,1))),\"Nee\")","v":"Nee"},{"$f":"IF(OR(F148=Keuzelijsten!$A$65,F148=Keuzelijsten!$A$66),(IF(A148=\"\",\"\",OFFSET(Warmtevragers!$C$7,9,A148,1,1))),\"Nee\")","v":"Nee"},{"$f":"IF(OR(F148=Keuzelijsten!$A$66),(IF(A148=\"\",\"\",OFFSET(Warmtevragers!$C$7,10,A148,1,1))),\"Nee\")","v":"Nee"},{"$f":"IF(OR(F148=Keuzelijsten!$A$66),(IF(A148=\"\",\"\",OFFSET(Warmtevragers!$C$7,11,A148,1,1))),\"Nee\")","v":"Nee"},{"$f":"IF(A148=\"\",\"\",IF(OFFSET(Warmtevragers!$C$7,7,A148,1,1)=\"Ja\",0.97,1))","v":1},{"$f":"IF(A148=\"\",\"\",OFFSET(Warmtevragers!$C$7,10,A148,1,1))","v":0}]
[141,"Warmtevrager 142",{"$f":"IF(A149=\"\",\"\",OFFSET(Warmtevragers!$C$7,2,A149,1,1))","v":0},{"$f":"IF(A149=\"\",\"\",OFFSET(Warmtevragers!$C$7,30,A149,1,1))","v":0},{"$f":"IF(A149=\"\",\"\",OFFSET(Warmtevragers!$C$7,5,A149,1,1))","v":0},{"$f":"IF(A149=\"\",\"\",OFFSET(Warmtevragers!$C$7,6,A149,1,1))","v":0},{"$f":"IF(OR(F149=Keuzelijsten!$A$65,F149=Keuzelijsten!$A$66),(IF(A149=\"\",\"\",OFFSET(Warmtevragers!$C$7,8,A149,1,1))),\"Nee\")","v":"Nee"},{"$f":"IF(OR(F149=Keuzelijsten!$A$65,F149=Keuzelijsten!$A$66),(IF(A149=\"\",\"\",OFFSET(Warmtevragers!$C$7,9,A149,1,1))),\"Nee\")","v":"Nee"},{"$f":"IF(OR(F149=Keuzelijsten!$A$66),(IF(A149=\"\",\"\",OFFSET(Warmtevragers!$C$7,10,A149,1,1))),\"Nee\")","v":"Nee"},{"$f":"IF(OR(F149=Keuzelijsten!$A$66),(IF(A149=\"\",\"\",OFFSET(Warmtevragers!$C$7,11,A149,1,1))),\"Nee\")","v":"Nee"},{"$f":"IF(A149=\"\",\"\",IF(OFFSET(Warmtevragers!$C$7,7,A149,1,1)=\"Ja\",0.97,1))","v":1},{"$f":"IF(A149=\"\",\"\",OFFSET(Warmtevragers!$C$7,10,A149,1,1))","v":0}]
[142,"Warmtevrager 143",{"$f":"IF(A150=\"\",\"\",OFFSET(Warmtevragers!$C$7,2,A150,1,1))","v":0},{"$f":"IF(A150=\"\",\"\",OFFSET(Warmtevragers!$C$7,30,A150,1,1))","v":0},{"$f":"IF(A150=\"\",\"\",OFFSET(Warmtevragers!$C$7,5,A150,1,1))","v":0},{"$f":"IF(A150=\"\",\"\",OFFSET(Warmtevragers!$C$7,6,A150,1,1))","v":0},{"$f":"IF(OR(F150=Keuzelijsten!$A$65,F150=Keuzelijsten!$A$66),(IF(A150=\"\",\"\",OFFSET(Warmtevragers!$C$7,8,A150,1,1))),\"Nee\")","v":"Nee"},{"$f":"IF(OR(F150=Keuzelijsten!$A$65,F150=Keuzelijsten!$A$66),(IF(A150=\"\",\"\",OFFSET(Warmtevragers!$C$7,9,A150,1,1))),\"Nee\")","v":"Nee"},{"$f":"IF(OR(F150=Keuzelijsten!$A$66),(IF(A150=\"\",\"\",OFFSET(Warmtevragers!$C$7,10,A150,1,1))),\"Nee\")","v":"Nee"},{"$f":"IF(OR(F150=Keuzelijsten!$A$66),(IF(A150=\"\",\"\",OFFSET(Warmtevragers!$C$7,11,A150,1,1))),\"Nee\")","v":"Nee"},{"$f":"IF(A150=\"\",\"\",IF(OFFSET(Warmtevragers!$C$7,7,A150,1,1)=\"Ja\",0.97,1))","v":1},{"$f":"IF(A150=\"\",\"\",OFFSET(Warmtevragers!$C$7,10,A150,1,1))","v":0}]
[143,"Warmtevrager 144",{"$f":"IF(A151=\"\",\"\",OFFSET(Warmtevragers!$C$7,2,A151,1,1))","v":0},{"$f":"IF(A151=\"\",\"\",OFFSET(Warmtevragers!$C$7,30,A151,1,1))","v":0},{"$f":"IF(A151=\"\",\"\",OFFSET(Warmtevragers!$C$7,5,A151,1,1))","v":0},{"$f":"IF(A151=\"\",\"\",OFFSET(Warmtevragers!$C$7,6,A151,1,1))","v":0},{"$f":"IF(OR(F151=Keuzelijsten!$A$65,F151=Keuzelijsten!$A$66),(IF(A151=\"\",\"\",OFFSET(Warmtevragers!$C$7,8,A151,1,1))),\"Nee\")","v":"Nee"},{"$f":"IF(OR(F151=Keuzelijsten!$A$65,F151=Keuzelijsten!$A$66),(IF(A151=\"\",\"\",OFFSET(Warmtevragers!$C$7,9,A151,1,1))),\"Nee\")","v":"Nee"},{"$f":"IF(OR(F151=Keuzelijsten!$A$66),(IF(A151=\"\",\"\",OFFSET(Warmtevragers!$C$7,10,A151,1,1))),\"Nee\")","v":"Nee"},{"$f":"IF(OR(F151=Keuzelijsten!$A$66),(IF(A151=\"\",\"\",OFFSET(Warmtevragers!$C$7,11,A151,1,1))),\"Nee\")","v":"Nee"},{"$f":"IF(A151=\"\",\"\",IF(OFFSET(Warmtevragers!$C$7,7,A151,1,1)=\"Ja\",0.97,1))","v":1},{"$f":"IF(A151=\"\",\"\",OFFSET(Warmtevragers!$C$7,10,A151,1,1))","v":0}]
[144,"Warmtevrager 145",{"$f":"IF(A152=\"\",\"\",OFFSET(Warmtevragers!$C$7,2,A152,1,1))","v":0},{"$f":"IF(A152=\"\",\"\",OFFSET(Warmtevragers!$C$7,30,A152,1,1))","v":0},{"$f":"IF(A152=\"\",\"\",OFFSET(Warmtevragers!$C$7,5,A152,1,1))","v":0},{"$f":"IF(A152=\"\",\"\",OFFSET(Warmtevragers!$C$7,6,A152,1,1))","v":0},{"$f":"IF(OR(F152=Keuzelijsten!$A$65,F152=Keuzelijsten!$A$66),(IF(A152=\"\",\"\",OFFSET(Warmtevragers!$C$7,8,A152,1,1))),\"Nee\")","v":"Nee"},{"$f":"IF(OR(F152=Keuzelijsten!$A$65,F152=Keuzelijsten!$A$66),(IF(A152=\"\",\"\",OFFSET(Warmtevragers!$C$7,9,A152,1,1))),\"Nee\")","v":"Nee"},{"$f":"IF(OR(F152=Keuzelijsten!$A$66),(IF(A152=\"\",\"\",OFFSET(Warmtevragers!$C$7,10,A152,1,1))),\"Nee\")","v":"Nee"},{"$f":"IF(OR(F152=Keuzelijsten!$A$66),(IF(A152=\"\",\"\",OFFSET(Warmtevragers!$C$7,11,A152,1,1))),\"Nee\")","v":"Nee"},{"$f":"IF(A152=\"\",\"\",IF(OFFSET(Warmtevragers!$C$7,7,A152,1,1)=\"Ja\",0.97,1))","v":1},{"$f":"IF(A152=\"\",\"\",OFFSET(Warmtevragers!$C$7,10,A152,1,1))","v":0}]
[145,"Warmtevrager 146",{"$f":"IF(A153=\"\",\"\",OFFSET(Warmtevragers!$C$7,2,A153,1,1))","v":0},{"$f":"IF(A153=\"\",\"\",OFFSET(Warmtevragers!$C$7,30,A153,1,1))","v":0},{"$f":"IF(A153=\"\",\"\",OFFSET(Warmtevragers!$C$7,5,A153,1,1))","v":0},{"$f":"IF(A153=\"\",\"\",OFFSET(Warmtevragers!$C$7,6,A153,1,1))","v":0},{"$f":"IF(OR(F153=Keuzelijsten!$A$65,F153=Keuzelijsten!$A$66),(IF(A153=\"\",\"\",OFFSET(Warmtevragers!$C$7,8,A153,1,1))),\"Nee\")","v":"Nee"},{"$f":"IF(OR(F153=Keuzelijsten!$A$65,F153=Keuzelijsten!$A$66),(IF(A153=\"\",\"\",OFFSET(Warmtevragers!$C$7,9,A153,1,1))),\"Nee\")","v":"Nee"},{"$f":"IF(OR(F153=Keuzelijsten!$A$66),(IF(A153=\"\",\"\",OFFSET(Warmtevragers!$C$7,10,A153,1,1))),\"Nee\")","v":"Nee"},{"$f":"IF(OR(F153=Keuzelijsten!$A$66),(IF(A153=\"\",\"\",OFFSET(Warmtevragers!$C$7,11,A153,1,1))),\"Nee\")","v":"Nee"},{"$f":"IF(A153=\"\",\"\",IF(OFFSET(Warmtevragers!$C$7,7,A153,1,1)=\"Ja\",0.97,1))","v":1},{"$f":"IF(A153=\"\",\"\",OFFSET(Warmtevragers!$C$7,10,A153,1,1))","v":0}]
[146,"Warmtevrager 147",{"$f":"IF(A154=\"\",\"\",OFFSET(Warmtevragers!$C$7,2,A154,1,1))","v":0},{"$f":"IF(A154=\"\",\"\",OFFSET(Warmtevragers!$C$7,30,A154,1,1))","v":0},{"$f":"IF(A154=\"\",\"\",OFFSET(Warmtevragers!$C$7,5,A154,1,1))","v":0},{"$f":"IF(A154=\"\",\"\",OFFSET(Warmtevragers!$C$7,6,A154,1,1))","v":0},{"$f":"IF(OR(F154=Keuzelijsten!$A$65,F154=Keuzelijsten!$A$66),(IF(A154=\"\",\"\",OFFSET(Warmtevragers!$C$7,8,A154,1,1))),\"Nee\")","v":"Nee"},{"$f":"IF(OR(F154=Keuzelijsten!$A$65,F154=Keuzelijsten!$A$66),(IF(A154=\"\",\"\",OFFSET(Warmtevragers!$C$7,9,A154,1,1))),\"Nee\")","v":"Nee"},{"$f":"IF(OR(F154=Keuzelijsten!$A$66),(IF(A154=\"\",\"\",OFFSET(Warmtevragers!$C$7,10,A154,1,1))),\"Nee\")","v":"Nee"},{"$f":"IF(OR(F154=Keuzelijsten!$A$66),(IF(A154=\"\",\"\",OFFSET(Warmtevragers!$C$7,11,A154,1,1))),\"Nee\")","v":"Nee"},{"$f":"IF(A154=\"\",\"\",IF(OFFSET(Warmtevragers!$C$7,7,A154,1,1)=\"Ja\",0.97,1))","v":1},{"$f":"IF(A154=\"\",\"\",OFFSET(Warmtevragers!$C$7,10,A154,1,1))","v":0}]
[147,"Warmtevrager 148",{"$f":"IF(A155=\"\",\"\",OFFSET(Warmtevragers!$C$7,2,A155,1,1))","v":0},{"$f":"IF(A155=\"\",\"\",OFFSET(Warmtevragers!$C$7,30,A155,1,1))","v":0},{"$f":"IF(A155=\"\",\"\",OFFSET(Warmtevragers!$C$7,5,A155,1,1))","v":0},{"$f":"IF(A155=\"\",\"\",OFFSET(Warmtevragers!$C$7,6,A155,1,1))","v":0},{"$f":"IF(OR(F155=Keuzelijsten!$A$65,F155=Keuzelijsten!$A$66),(IF(A155=\"\",\"\",OFFSET(Warmtevragers!$C$7,8,A155,1,1))),\"Nee\")","v":"Nee"},{"$f":"IF(OR(F155=Keuzelijsten!$A$65,F155=Keuzelijsten!$A$66),(IF(A155=\"\",\"\",OFFSET(Warmtevragers!$C$7,9,A155,1,1))),\"Nee\")","v":"Nee"},{"$f":"IF(OR(F155=Keuzelijsten!$A$66),(IF(A155=\"\",\"\",OFFSET(Warmtevragers!$C$7,10,A155,1,1))),\"Nee\")","v":"Nee"},{"$f":"IF(OR(F155=Keuzelijsten!$A$66),(IF(A155=\"\",\"\",OFFSET(Warmtevragers!$C$7,11,A155,1,1))),\"Nee\")","v":"Nee"},{"$f":"IF(A155=\"\",\"\",IF(OFFSET(Warmtevragers!$C$7,7,A155,1,1)=\"Ja\",0.97,1))","v":1},{"$f":"IF(A155=\"\",\"\",OFFSET(Warmtevragers!$C$7,10,A155,1,1))","v":0}]
[148,"Warmtevrager 149",{"$f":"IF(A156=\"\",\"\",OFFSET(Warmtevragers!$C$7,2,A156,1,1))","v":0},{"$f":"IF(A156=\"\",\"\",OFFSET(Warmtevragers!$C$7,30,A156,1,1))","v":0},{"$f":"IF(A156=\"\",\"\",OFFSET(Warmtevragers!$C$7,5,A156,1,1))","v":0},{"$f":"IF(A156=\"\",\"\",OFFSET(Warmtevragers!$C$7,6,A156,1,1))","v":0},{"$f":"IF(OR(F156=Keuzelijsten!$A$65,F156=Keuzelijsten!$A$66),(IF(A156=\"\",\"\",OFFSET(Warmtevragers!$C$7,8,A156,1,1))),\"Nee\")","v":"Nee"},{"$f":"IF(OR(F156=Keuzelijsten!$A$65,F156=Keuzelijsten!$A$66),(IF(A156=\"\",\"\",OFFSET(Warmtevragers!$C$7,9,A156,1,1))),\"Nee\")","v":"Nee"},{"$f":"IF(OR(F156=Keuzelijsten!$A$66),(IF(A156=\"\",\"\",OFFSET(Warmtevragers!$C$7,10,A156,1,1))),\"Nee\")","v":"Nee"},{"$f":"IF(OR(F156=Keuzelijsten!$A$66),(IF(A156=\"\",\"\",OFFSET(Warmtevragers!$C$7,11,A156,1,1))),\"Nee\")","v":"Nee"},{"$f":"IF(A156=\"\",\"\",IF(OFFSET(Warmtevragers!$C$7,7,A156,1,1)=\"Ja\",0.97,1))","v":1},{"$f":"IF(A156=\"\",\"\",OFFSET(Warmtevragers!$C$7,10,A156,1,1))","v":0}]
[149,"Warmtevrager 150",{"$f":"IF(A157=\"\",\"\",OFFSET(Warmtevragers!$C$7,2,A157,1,1))","v":0},{"$f":"IF(A157=\"\",\"\",OFFSET(Warmtevragers!$C$7,30,A157,1,1))","v":0},{"$f":"IF(A157=\"\",\"\",OFFSET(Warmtevragers!$C$7,5,A157,1,1))","v":0},{"$f":"IF(A157=\"\",\"\",OFFSET(Warmtevragers!$C$7,6,A157,1,1))","v":0},{"$f":"IF(OR(F157=Keuzelijsten!$A$65,F157=Keuzelijsten!$A$66),(IF(A157=\"\",\"\",OFFSET(Warmtevragers!$C$7,8,A157,1,1))),\"Nee\")","v":"Nee"},{"$f":"IF(OR(F157=Keuzelijsten!$A$65,F157=Keuzelijsten!$A$66),(IF(A157=\"\",\"\",OFFSET(Warmtevragers!$C$7,9,A157,1,1))),\"Nee\")","v":"Nee"},{"$f":"IF(OR(F157=Keuzelijsten!$A$66),(IF(A157=\"\",\"\",OFFSET(Warmtevragers!$C$7,10,A157,1,1))),\"Nee\")","v":"Nee"},{"$f":"IF(OR(F157=Keuzelijsten!$A$66),(IF(A157=\"\",\"\",OFFSET(Warmtevragers!$C$7,11,A157,1,1))),\"Nee\")","v":"Nee"},{"$f":"IF(A157=\"\",\"\",IF(OFFSET(Warmtevragers!$C$7,7,A157,1,1)=\"Ja\",0.97,1))","v":1},{"$f":"IF(A157=\"\",\"\",OFFSET(Warmtevragers!$C$7,10,A157,1,1))","v":0}]
[150,"Warmtevrager 151",{"$f":"IF(A158=\"\",\"\",OFFSET(Warmtevragers!$C$7,2,A158,1,1))","v":0},{"$f":"IF(A158=\"\",\"\",OFFSET(Warmtevragers!$C$7,30,A158,1,1))","v":0},{"$f":"IF(A158=\"\",\"\",OFFSET(Warmtevragers!$C$7,5,A158,1,1))","v":0},{"$f":"IF(A158=\"\",\"\",OFFSET(Warmtevragers!$C$7,6,A158,1,1))","v":0},{"$f":"IF(OR(F158=Keuzelijsten!$A$65,F158=Keuzelijsten!$A$66),(IF(A158=\"\",\"\",OFFSET(Warmtevragers!$C$7,8,A158,1,1))),\"Nee\")","v":"Nee"},{"$f":"IF(OR(F158=Keuzelijsten!$A$65,F158=Keuzelijsten!$A$66),(IF(A158=\"\",\"\",OFFSET(Warmtevragers!$C$7,9,A158,1,1))),\"Nee\")","v":"Nee"},{"$f":"IF(OR(F158=Keuzelijsten!$A$66),(IF(A158=\"\",\"\",OFFSET(Warmtevragers!$C$7,10,A158,1,1))),\"Nee\")","v":"Nee"},{"$f":"IF(OR(F158=Keuzelijsten!$A$66),(IF(A158=\"\",\"\",OFFSET(Warmtevragers!$C$7,11,A158,1,1))),\"Nee\")","v":"Nee"},{"$f":"IF(A158=\"\",\"\",IF(OFFSET(Warmtevragers!$C$7,7,A158,1,1)=\"Ja\",0.97,1))","v":1},{"$f":"IF(A158=\"\",\"\",OFFSET(Warmtevragers!$C$7,10,A158,1,1))","v":0}]
[151,"Warmtevrager 152",{"$f":"IF(A159=\"\",\"\",OFFSET(Warmtevragers!$C$7,2,A159,1,1))","v":0},{"$f":"IF(A159=\"\",\"\",OFFSET(Warmtevragers!$C$7,30,A159,1,1))","v":0},{"$f":"IF(A159=\"\",\"\",OFFSET(Warmtevragers!$C$7,5,A159,1,1))","v":0},{"$f":"IF(A159=\"\",\"\",OFFSET(Warmtevragers!$C$7,6,A159,1,1))","v":0},{"$f":"IF(OR(F159=Keuzelijsten!$A$65,F159=Keuzelijsten!$A$66),(IF(A159=\"\",\"\",OFFSET(Warmtevragers!$C$7,8,A159,1,1))),\"Nee\")","v":"Nee"},{"$f":"IF(OR(F159=Keuzelijsten!$A$65,F159=Keuzelijsten!$A$66),(IF(A159=\"\",\"\",OFFSET(Warmtevragers!$C$7,9,A159,1,1))),\"Nee\")","v":"Nee"},{"$f":"IF(OR(F159=Keuzelijsten!$A$66),(IF(A159=\"\",\"\",OFFSET(Warmtevragers!$C$7,10,A159,1,1))),\"Nee\")","v":"Nee"},{"$f":"IF(OR(F159=Keuzelijsten!$A$66),(IF(A159=\"\",\"\",OFFSET(Warmtevragers!$C$7,11,A159,1,1))),\"Nee\")","v":"Nee"},{"$f":"IF(A159=\"\",\"\",IF(OFFSET(Warmtevragers!$C$7,7,A159,1,1)=\"Ja\",0.97,1))","v":1},{"$f":"IF(A159=\"\",\"\",OFFSET(Warmtevragers!$C$7,10,A159,1,1))","v":0}]
[152,"Warmtevrager 153",{"$f":"IF(A160=\"\",\"\",OFFSET(Warmtevragers!$C$7,2,A160,1,1))","v":0},{"$f":"IF(A160=\"\",\"\",OFFSET(Warmtevragers!$C$7,30,A160,1,1))","v":0},{"$f":"IF(A160=\"\",\"\",OFFSET(Warmtevragers!$C$7,5,A160,1,1))","v":0},{"$f":"IF(A160=\"\",\"\",OFFSET(Warmtevragers!$C$7,6,A160,1,1))","v":0},{"$f":"IF(OR(F160=Keuzelijsten!$A$65,F160=Keuzelijsten!$A$66),(IF(A160=\"\",\"\",OFFSET(Warmtevragers!$C$7,8,A160,1,1))),\"Nee\")","v":"Nee"},{"$f":"IF(OR(F160=Keuzelijsten!$A$65,F160=Keuzelijsten!$A$66),(IF(A160=\"\",\"\",OFFSET(Warmtevragers!$C$7,9,A160,1,1))),\"Nee\")","v":"Nee"},{"$f":"IF(OR(F160=Keuzelijsten!$A$66),(IF(A160=\"\",\"\",OFFSET(Warmtevragers!$C$7,10,A160,1,1))),\"Nee\")","v":"Nee"},{"$f":"IF(OR(F160=Keuzelijsten!$A$66),(IF(A160=\"\",\"\",OFFSET(Warmtevragers!$C$7,11,A160,1,1))),\"Nee\")","v":"Nee"},{"$f":"IF(A160=\"\",\"\",IF(OFFSET(Warmtevragers!$C$7,7,A160,1,1)=\"Ja\",0.97,1))","v":1},{"$f":"IF(A160=\"\",\"\",OFFSET(Warmtevragers!$C$7,10,A160,1,1))","v":0}]
[153,"Warmtevrager 154",{"$f":"IF(A161=\"\",\"\",OFFSET(Warmtevragers!$C$7,2,A161,1,1))","v":0},{"$f":"IF(A161=\"\",\"\",OFFSET(Warmtevragers!$C$7,30,A161,1,1))","v":0},{"$f":"IF(A161=\"\",\"\",OFFSET(Warmtevragers!$C$7,5,A161,1,1))","v":0},{"$f":"IF(A161=\"\",\"\",OFFSET(Warmtevragers!$C$7,6,A161,1,1))","v":0},{"$f":"IF(OR(F161=Keuzelijsten!$A$65,F161=Keuzelijsten!$A$66),(IF(A161=\"\",\"\",OFFSET(Warmtevragers!$C$7,8,A161,1,1))),\"Nee\")","v":"Nee"},{"$f":"IF(OR(F161=Keuzelijsten!$A$65,F161=Keuzelijsten!$A$66),(IF(A161=\"\",\"\",OFFSET(Warmtevragers!$C$7,9,A161,1,1))),\"Nee\")","v":"Nee"},{"$f":"IF(OR(F161=Keuzelijsten!$A$66),(IF(A161=\"\",\"\",OFFSET(Warmtevragers!$C$7,10,A161,1,1))),\"Nee\")","v":"Nee"},{"$f":"IF(OR(F161=Keuzelijsten!$A$66),(IF(A161=\"\",\"\",OFFSET(Warmtevragers!$C$7,11,A161,1,1))),\"Nee\")","v":"Nee"},{"$f":"IF(A161=\"\",\"\",IF(OFFSET(Warmtevragers!$C$7,7,A161,1,1)=\"Ja\",0.97,1))","v":1},{"$f":"IF(A161=\"\",\"\",OFFSET(Warmtevragers!$C$7,10,A161,1,1))","v":0}]
[154,"Warmtevrager 155",{"$f":"IF(A162=\"\",\"\",OFFSET(Warmtevragers!$C$7,2,A162,1,1))","v":0},{"$f":"IF(A162=\"\",\"\",OFFSET(Warmtevragers!$C$7,30,A162,1,1))","v":0},{"$f":"IF(A162=\"\",\"\",OFFSET(Warmtevragers!$C$7,5,A162,1,1))","v":0},{"$f":"IF(A162=\"\",\"\",OFFSET(Warmtevragers!$C$7,6,A162,1,1))","v":0},{"$f":"IF(OR(F162=Keuzelijsten!$A$65,F162=Keuzelijsten!$A$66),(IF(A162=\"\",\"\",OFFSET(Warmtevragers!$C$7,8,A162,1,1))),\"Nee\")","v":"Nee"},{"$f":"IF(OR(F162=Keuzelijsten!$A$65,F162=Keuzelijsten!$A$66),(IF(A162=\"\",\"\",OFFSET(Warmtevragers!$C$7,9,A162,1,1))),\"Nee\")","v":"Nee"},{"$f":"IF(OR(F162=Keuzelijsten!$A$66),(IF(A162=\"\",\"\",OFFSET(Warmtevragers!$C$7,10,A162,1,1))),\"Nee\")","v":"Nee"},{"$f":"IF(OR(F162=Keuzelijsten!$A$66),(IF(A162=\"\",\"\",OFFSET(Warmtevragers!$C$7,11,A162,1,1))),\"Nee\")","v":"Nee"},{"$f":"IF(A162=\"\",\"\",IF(OFFSET(Warmtevragers!$C$7,7,A162,1,1)=\"Ja\",0.97,1))","v":1},{"$f":"IF(A162=\"\",\"\",OFFSET(Warmtevragers!$C$7,10,A162,1,1))","v":0}]
[155,"Warmtevrager 156",{"$f":"IF(A163=\"\",\"\",OFFSET(Warmtevragers!$C$7,2,A163,1,1))","v":0},{"$f":"IF(A163=\"\",\"\",OFFSET(Warmtevragers!$C$7,30,A163,1,1))","v":0},{"$f":"IF(A163=\"\",\"\",OFFSET(Warmtevragers!$C$7,5,A163,1,1))","v":0},{"$f":"IF(A163=\"\",\"\",OFFSET(Warmtevragers!$C$7,6,A163,1,1))","v":0},{"$f":"IF(OR(F163=Keuzelijsten!$A$65,F163=Keuzelijsten!$A$66),(IF(A163=\"\",\"\",OFFSET(Warmtevragers!$C$7,8,A163,1,1))),\"Nee\")","v":"Nee"},{"$f":"IF(OR(F163=Keuzelijsten!$A$65,F163=Keuzelijsten!$A$66),(IF(A163=\"\",\"\",OFFSET(Warmtevragers!$C$7,9,A163,1,1))),\"Nee\")","v":"Nee"},{"$f":"IF(OR(F163=Keuzelijsten!$A$66),(IF(A163=\"\",\"\",OFFSET(Warmtevragers!$C$7,10,A163,1,1))),\"Nee\")","v":"Nee"},{"$f":"IF(OR(F163=Keuzelijsten!$A$66),(IF(A163=\"\",\"\",OFFSET(Warmtevragers!$C$7,11,A163,1,1))),\"Nee\")","v":"Nee"},{"$f":"IF(A163=\"\",\"\",IF(OFFSET(Warmtevragers!$C$7,7,A163,1,1)=\"Ja\",0.97,1))","v":1},{"$f":"IF(A163=\"\",\"\",OFFSET(Warmtevragers!$C$7,10,A163,1,1))","v":0}]
[156,"Warmtevrager 157",{"$f":"IF(A164=\"\",\"\",OFFSET(Warmtevragers!$C$7,2,A164,1,1))","v":0},{"$f":"IF(A164=\"\",\"\",OFFSET(Warmtevragers!$C$7,30,A164,1,1))","v":0},{"$f":"IF(A164=\"\",\"\",OFFSET(Warmtevragers!$C$7,5,A164,1,1))","v":0},{"$f":"IF(A164=\"\",\"\",OFFSET(Warmtevragers!$C$7,6,A164,1,1))","v":0},{"$f":"IF(OR(F164=Keuzelijsten!$A$65,F164=Keuzelijsten!$A$66),(IF(A164=\"\",\"\",OFFSET(Warmtevragers!$C$7,8,A164,1,1))),\"Nee\")","v":"Nee"},{"$f":"IF(OR(F164=Keuzelijsten!$A$65,F164=Keuzelijsten!$A$66),(IF(A164=\"\",\"\",OFFSET(Warmtevragers!$C$7,9,A164,1,1))),\"Nee\")","v":"Nee"},{"$f":"IF(OR(F164=Keuzelijsten!$A$66),(IF(A164=\"\",\"\",OFFSET(Warmtevragers!$C$7,10,A164,1,1))),\"Nee\")","v":"Nee"},{"$f":"IF(OR(F164=Keuzelijsten!$A$66),(IF(A164=\"\",\"\",OFFSET(Warmtevragers!$C$7,11,A164,1,1))),\"Nee\")","v":"Nee"},{"$f":"IF(A164=\"\",\"\",IF(OFFSET(Warmtevragers!$C$7,7,A164,1,1)=\"Ja\",0.97,1))","v":1},{"$f":"IF(A164=\"\",\"\",OFFSET(Warmtevragers!$C$7,10,A164,1,1))","v":0}]
[157,"Warmtevrager 158",{"$f":"IF(A165=\"\",\"\",OFFSET(Warmtevragers!$C$7,2,A165,1,1))","v":0},{"$f":"IF(A165=\"\",\"\",OFFSET(Warmtevragers!$C$7,30,A165,1,1))","v":0},{"$f":"IF(A165=\"\",\"\",OFFSET(Warmtevragers!$C$7,5,A165,1,1))","v":0},{"$f":"IF(A165=\"\",\"\",OFFSET(Warmtevragers!$C$7,6,A165,1,1))","v":0},{"$f":"IF(OR(F165=Keuzelijsten!$A$65,F165=Keuzelijsten!$A$66),(IF(A165=\"\",\"\",OFFSET(Warmtevragers!$C$7,8,A165,1,1))),\"Nee\")","v":"Nee"},{"$f":"IF(OR(F165=Keuzelijsten!$A$65,F165=Keuzelijsten!$A$66),(IF(A165=\"\",\"\",OFFSET(Warmtevragers!$C$7,9,A165,1,1))),\"Nee\")","v":"Nee"},{"$f":"IF(OR(F165=Keuzelijsten!$A$66),(IF(A165=\"\",\"\",OFFSET(Warmtevragers!$C$7,10,A165,1,1))),\"Nee\")","v":"Nee"},{"$f":"IF(OR(F165=Keuzelijsten!$A$66),(IF(A165=\"\",\"\",OFFSET(Warmtevragers!$C$7,11,A165,1,1))),\"Nee\")","v":"Nee"},{"$f":"IF(A165=\"\",\"\",IF(OFFSET(Warmtevragers!$C$7,7,A165,1,1)=\"Ja\",0.97,1))","v":1},{"$f":"IF(A165=\"\",\"\",OFFSET(Warmtevragers!$C$7,10,A165,1,1))","v":0}]
[158,"Warmtevrager 159",{"$f":"IF(A166=\"\",\"\",OFFSET(Warmtevragers!$C$7,2,A166,1,1))","v":0},{"$f":"IF(A166=\"\",\"\",OFFSET(Warmtevragers!$C$7,30,A166,1,1))","v":0},{"$f":"IF(A166=\"\",\"\",OFFSET(Warmtevragers!$C$7,5,A166,1,1))","v":0},{"$f":"IF(A166=\"\",\"\",OFFSET(Warmtevragers!$C$7,6,A166,1,1))","v":0},{"$f":"IF(OR(F166=Keuzelijsten!$A$65,F166=Keuzelijsten!$A$66),(IF(A166=\"\",\"\",OFFSET(Warmtevragers!$C$7,8,A166,1,1))),\"Nee\")","v":"Nee"},{"$f":"IF(OR(F166=Keuzelijsten!$A$65,F166=Keuzelijsten!$A$66),(IF(A166=\"\",\"\",OFFSET(Warmtevragers!$C$7,9,A166,1,1))),\"Nee\")","v":"Nee"},{"$f":"IF(OR(F166=Keuzelijsten!$A$66),(IF(A166=\"\",\"\",OFFSET(Warmtevragers!$C$7,10,A166,1,1))),\"Nee\")","v":"Nee"},{"$f":"IF(OR(F166=Keuzelijsten!$A$66),(IF(A166=\"\",\"\",OFFSET(Warmtevragers!$C$7,11,A166,1,1))),\"Nee\")","v":"Nee"},{"$f":"IF(A166=\"\",\"\",IF(OFFSET(Warmtevragers!$C$7,7,A166,1,1)=\"Ja\",0.97,1))","v":1},{"$f":"IF(A166=\"\",\"\",OFFSET(Warmtevragers!$C$7,10,A166,1,1))","v":0}]
[159,"Warmtevrager 160",{"$f":"IF(A167=\"\",\"\",OFFSET(Warmtevragers!$C$7,2,A167,1,1))","v":0},{"$f":"IF(A167=\"\",\"\",OFFSET(Warmtevragers!$C$7,30,A167,1,1))","v":0},{"$f":"IF(A167=\"\",\"\",OFFSET(Warmtevragers!$C$7,5,A167,1,1))","v":0},{"$f":"IF(A167=\"\",\"\",OFFSET(Warmtevragers!$C$7,6,A167,1,1))","v":0},{"$f":"IF(OR(F167=Keuzelijsten!$A$65,F167=Keuzelijsten!$A$66),(IF(A167=\"\",\"\",OFFSET(Warmtevragers!$C$7,8,A167,1,1))),\"Nee\")","v":"Nee"},{"$f":"IF(OR(F167=Keuzelijsten!$A$65,F167=Keuzelijsten!$A$66),(IF(A167=\"\",\"\",OFFSET(Warmtevragers!$C$7,9,A167,1,1))),\"Nee\")","v":"Nee"},{"$f":"IF(OR(F167=Keuzelijsten!$A$66),(IF(A167=\"\",\"\",OFFSET(Warmtevragers!$C$7,10,A167,1,1))),\"Nee\")","v":"Nee"},{"$f":"IF(OR(F167=Keuzelijsten!$A$66),(IF(A167=\"\",\"\",OFFSET(Warmtevragers!$C$7,11,A167,1,1))),\"Nee\")","v":"Nee"},{"$f":"IF(A167=\"\",\"\",IF(OFFSET(Warmtevragers!$C$7,7,A167,1,1)=\"Ja\",0.97,1))","v":1},{"$f":"IF(A167=\"\",\"\",OFFSET(Warmtevragers!$C$7,10,A167,1,1))","v":0}]
[160,"Warmtevrager 161",{"$f":"IF(A168=\"\",\"\",OFFSET(Warmtevragers!$C$7,2,A168,1,1))","v":0},{"$f":"IF(A168=\"\",\"\",OFFSET(Warmtevragers!$C$7,30,A168,1,1))","v":0},{"$f":"IF(A168=\"\",\"\",OFFSET(Warmtevragers!$C$7,5,A168,1,1))","v":0},{"$f":"IF(A168=\"\",\"\",OFFSET(Warmtevragers!$C$7,6,A168,1,1))","v":0},{"$f":"IF(OR(F168=Keuzelijsten!$A$65,F168=Keuzelijsten!$A$66),(IF(A168=\"\",\"\",OFFSET(Warmtevragers!$C$7,8,A168,1,1))),\"Nee\")","v":"Nee"},{"$f":"IF(OR(F168=Keuzelijsten!$A$65,F168=Keuzelijsten!$A$66),(IF(A168=\"\",\"\",OFFSET(Warmtevragers!$C$7,9,A168,1,1))),\"Nee\")","v":"Nee"},{"$f":"IF(OR(F168=Keuzelijsten!$A$66),(IF(A168=\"\",\"\",OFFSET(Warmtevragers!$C$7,10,A168,1,1))),\"Nee\")","v":"Nee"},{"$f":"IF(OR(F168=Keuzelijsten!$A$66),(IF(A168=\"\",\"\",OFFSET(Warmtevragers!$C$7,11,A168,1,1))),\"Nee\")","v":"Nee"},{"$f":"IF(A168=\"\",\"\",IF(OFFSET(Warmtevragers!$C$7,7,A168,1,1)=\"Ja\",0.97,1))","v":1},{"$f":"IF(A168=\"\",\"\",OFFSET(Warmtevragers!$C$7,10,A168,1,1))","v":0}]
[161,"Warmtevrager 162",{"$f":"IF(A169=\"\",\"\",OFFSET(Warmtevragers!$C$7,2,A169,1,1))","v":0},{"$f":"IF(A169=\"\",\"\",OFFSET(Warmtevragers!$C$7,30,A169,1,1))","v":0},{"$f":"IF(A169=\"\",\"\",OFFSET(Warmtevragers!$C$7,5,A169,1,1))","v":0},{"$f":"IF(A169=\"\",\"\",OFFSET(Warmtevragers!$C$7,6,A169,1,1))","v":0},{"$f":"IF(OR(F169=Keuzelijsten!$A$65,F169=Keuzelijsten!$A$66),(IF(A169=\"\",\"\",OFFSET(Warmtevragers!$C$7,8,A169,1,1))),\"Nee\")","v":"Nee"},{"$f":"IF(OR(F169=Keuzelijsten!$A$65,F169=Keuzelijsten!$A$66),(IF(A169=\"\",\"\",OFFSET(Warmtevragers!$C$7,9,A169,1,1))),\"Nee\")","v":"Nee"},{"$f":"IF(OR(F169=Keuzelijsten!$A$66),(IF(A169=\"\",\"\",OFFSET(Warmtevragers!$C$7,10,A169,1,1))),\"Nee\")","v":"Nee"},{"$f":"IF(OR(F169=Keuzelijsten!$A$66),(IF(A169=\"\",\"\",OFFSET(Warmtevragers!$C$7,11,A169,1,1))),\"Nee\")","v":"Nee"},{"$f":"IF(A169=\"\",\"\",IF(OFFSET(Warmtevragers!$C$7,7,A169,1,1)=\"Ja\",0.97,1))","v":1},{"$f":"IF(A169=\"\",\"\",OFFSET(Warmtevragers!$C$7,10,A169,1,1))","v":0}]
[162,"Warmtevrager 163",{"$f":"IF(A170=\"\",\"\",OFFSET(Warmtevragers!$C$7,2,A170,1,1))","v":0},{"$f":"IF(A170=\"\",\"\",OFFSET(Warmtevragers!$C$7,30,A170,1,1))","v":0},{"$f":"IF(A170=\"\",\"\",OFFSET(Warmtevragers!$C$7,5,A170,1,1))","v":0},{"$f":"IF(A170=\"\",\"\",OFFSET(Warmtevragers!$C$7,6,A170,1,1))","v":0},{"$f":"IF(OR(F170=Keuzelijsten!$A$65,F170=Keuzelijsten!$A$66),(IF(A170=\"\",\"\",OFFSET(Warmtevragers!$C$7,8,A170,1,1))),\"Nee\")","v":"Nee"},{"$f":"IF(OR(F170=Keuzelijsten!$A$65,F170=Keuzelijsten!$A$66),(IF(A170=\"\",\"\",OFFSET(Warmtevragers!$C$7,9,A170,1,1))),\"Nee\")","v":"Nee"},{"$f":"IF(OR(F170=Keuzelijsten!$A$66),(IF(A170=\"\",\"\",OFFSET(Warmtevragers!$C$7,10,A170,1,1))),\"Nee\")","v":"Nee"},{"$f":"IF(OR(F170=Keuzelijsten!$A$66),(IF(A170=\"\",\"\",OFFSET(Warmtevragers!$C$7,11,A170,1,1))),\"Nee\")","v":"Nee"},{"$f":"IF(A170=\"\",\"\",IF(OFFSET(Warmtevragers!$C$7,7,A170,1,1)=\"Ja\",0.97,1))","v":1},{"$f":"IF(A170=\"\",\"\",OFFSET(Warmtevragers!$C$7,10,A170,1,1))","v":0}]
[163,"Warmtevrager 164",{"$f":"IF(A171=\"\",\"\",OFFSET(Warmtevragers!$C$7,2,A171,1,1))","v":0},{"$f":"IF(A171=\"\",\"\",OFFSET(Warmtevragers!$C$7,30,A171,1,1))","v":0},{"$f":"IF(A171=\"\",\"\",OFFSET(Warmtevragers!$C$7,5,A171,1,1))","v":0},{"$f":"IF(A171=\"\",\"\",OFFSET(Warmtevragers!$C$7,6,A171,1,1))","v":0},{"$f":"IF(OR(F171=Keuzelijsten!$A$65,F171=Keuzelijsten!$A$66),(IF(A171=\"\",\"\",OFFSET(Warmtevragers!$C$7,8,A171,1,1))),\"Nee\")","v":"Nee"},{"$f":"IF(OR(F171=Keuzelijsten!$A$65,F171=Keuzelijsten!$A$66),(IF(A171=\"\",\"\",OFFSET(Warmtevragers!$C$7,9,A171,1,1))),\"Nee\")","v":"Nee"},{"$f":"IF(OR(F171=Keuzelijsten!$A$66),(IF(A171=\"\",\"\",OFFSET(Warmtevragers!$C$7,10,A171,1,1))),\"Nee\")","v":"Nee"},{"$f":"IF(OR(F171=Keuzelijsten!$A$66),(IF(A171=\"\",\"\",OFFSET(Warmtevragers!$C$7,11,A171,1,1))),\"Nee\")","v":"Nee"},{"$f":"IF(A171=\"\",\"\",IF(OFFSET(Warmtevragers!$C$7,7,A171,1,1)=\"Ja\",0.97,1))","v":1},{"$f":"IF(A171=\"\",\"\",OFFSET(Warmtevragers!$C$7,10,A171,1,1))","v":0}]
[164,"Warmtevrager 165",{"$f":"IF(A172=\"\",\"\",OFFSET(Warmtevragers!$C$7,2,A172,1,1))","v":0},{"$f":"IF(A172=\"\",\"\",OFFSET(Warmtevragers!$C$7,30,A172,1,1))","v":0},{"$f":"IF(A172=\"\",\"\",OFFSET(Warmtevragers!$C$7,5,A172,1,1))","v":0},{"$f":"IF(A172=\"\",\"\",OFFSET(Warmtevragers!$C$7,6,A172,1,1))","v":0},{"$f":"IF(OR(F172=Keuzelijsten!$A$65,F172=Keuzelijsten!$A$66),(IF(A172=\"\",\"\",OFFSET(Warmtevragers!$C$7,8,A172,1,1))),\"Nee\")","v":"Nee"},{"$f":"IF(OR(F172=Keuzelijsten!$A$65,F172=Keuzelijsten!$A$66),(IF(A172=\"\",\"\",OFFSET(Warmtevragers!$C$7,9,A172,1,1))),\"Nee\")","v":"Nee"},{"$f":"IF(OR(F172=Keuzelijsten!$A$66),(IF(A172=\"\",\"\",OFFSET(Warmtevragers!$C$7,10,A172,1,1))),\"Nee\")","v":"Nee"},{"$f":"IF(OR(F172=Keuzelijsten!$A$66),(IF(A172=\"\",\"\",OFFSET(Warmtevragers!$C$7,11,A172,1,1))),\"Nee\")","v":"Nee"},{"$f":"IF(A172=\"\",\"\",IF(OFFSET(Warmtevragers!$C$7,7,A172,1,1)=\"Ja\",0.97,1))","v":1},{"$f":"IF(A172=\"\",\"\",OFFSET(Warmtevragers!$C$7,10,A172,1,1))","v":0}]
[165,"Warmtevrager 166",{"$f":"IF(A173=\"\",\"\",OFFSET(Warmtevragers!$C$7,2,A173,1,1))","v":0},{"$f":"IF(A173=\"\",\"\",OFFSET(Warmtevragers!$C$7,30,A173,1,1))","v":0},{"$f":"IF(A173=\"\",\"\",OFFSET(Warmtevragers!$C$7,5,A173,1,1))","v":0},{"$f":"IF(A173=\"\",\"\",OFFSET(Warmtevragers!$C$7,6,A173,1,1))","v":0},{"$f":"IF(OR(F173=Keuzelijsten!$A$65,F173=Keuzelijsten!$A$66),(IF(A173=\"\",\"\",OFFSET(Warmtevragers!$C$7,8,A173,1,1))),\"Nee\")","v":"Nee"},{"$f":"IF(OR(F173=Keuzelijsten!$A$65,F173=Keuzelijsten!$A$66),(IF(A173=\"\",\"\",OFFSET(Warmtevragers!$C$7,9,A173,1,1))),\"Nee\")","v":"Nee"},{"$f":"IF(OR(F173=Keuzelijsten!$A$66),(IF(A173=\"\",\"\",OFFSET(Warmtevragers!$C$7,10,A173,1,1))),\"Nee\")","v":"Nee"},{"$f":"IF(OR(F173=Keuzelijsten!$A$66),(IF(A173=\"\",\"\",OFFSET(Warmtevragers!$C$7,11,A173,1,1))),\"Nee\")","v":"Nee"},{"$f":"IF(A173=\"\",\"\",IF(OFFSET(Warmtevragers!$C$7,7,A173,1,1)=\"Ja\",0.97,1))","v":1},{"$f":"IF(A173=\"\",\"\",OFFSET(Warmtevragers!$C$7,10,A173,1,1))","v":0}]
[166,"Warmtevrager 167",{"$f":"IF(A174=\"\",\"\",OFFSET(Warmtevragers!$C$7,2,A174,1,1))","v":0},{"$f":"IF(A174=\"\",\"\",OFFSET(Warmtevragers!$C$7,30,A174,1,1))","v":0},{"$f":"IF(A174=\"\",\"\",OFFSET(Warmtevragers!$C$7,5,A174,1,1))","v":0},{"$f":"IF(A174=\"\",\"\",OFFSET(Warmtevragers!$C$7,6,A174,1,1))","v":0},{"$f":"IF(OR(F174=Keuzelijsten!$A$65,F174=Keuzelijsten!$A$66),(IF(A174=\"\",\"\",OFFSET(Warmtevragers!$C$7,8,A174,1,1))),\"Nee\")","v":"Nee"},{"$f":"IF(OR(F174=Keuzelijsten!$A$65,F174=Keuzelijsten!$A$66),(IF(A174=\"\",\"\",OFFSET(Warmtevragers!$C$7,9,A174,1,1))),\"Nee\")","v":"Nee"},{"$f":"IF(OR(F174=Keuzelijsten!$A$66),(IF(A174=\"\",\"\",OFFSET(Warmtevragers!$C$7,10,A174,1,1))),\"Nee\")","v":"Nee"},{"$f":"IF(OR(F174=Keuzelijsten!$A$66),(IF(A174=\"\",\"\",OFFSET(Warmtevragers!$C$7,11,A174,1,1))),\"Nee\")","v":"Nee"},{"$f":"IF(A174=\"\",\"\",IF(OFFSET(Warmtevragers!$C$7,7,A174,1,1)=\"Ja\",0.97,1))","v":1},{"$f":"IF(A174=\"\",\"\",OFFSET(Warmtevragers!$C$7,10,A174,1,1))","v":0}]
[167,"Warmtevrager 168",{"$f":"IF(A175=\"\",\"\",OFFSET(Warmtevragers!$C$7,2,A175,1,1))","v":0},{"$f":"IF(A175=\"\",\"\",OFFSET(Warmtevragers!$C$7,30,A175,1,1))","v":0},{"$f":"IF(A175=\"\",\"\",OFFSET(Warmtevragers!$C$7,5,A175,1,1))","v":0},{"$f":"IF(A175=\"\",\"\",OFFSET(Warmtevragers!$C$7,6,A175,1,1))","v":0},{"$f":"IF(OR(F175=Keuzelijsten!$A$65,F175=Keuzelijsten!$A$66),(IF(A175=\"\",\"\",OFFSET(Warmtevragers!$C$7,8,A175,1,1))),\"Nee\")","v":"Nee"},{"$f":"IF(OR(F175=Keuzelijsten!$A$65,F175=Keuzelijsten!$A$66),(IF(A175=\"\",\"\",OFFSET(Warmtevragers!$C$7,9,A175,1,1))),\"Nee\")","v":"Nee"},{"$f":"IF(OR(F175=Keuzelijsten!$A$66),(IF(A175=\"\",\"\",OFFSET(Warmtevragers!$C$7,10,A175,1,1))),\"Nee\")","v":"Nee"},{"$f":"IF(OR(F175=Keuzelijsten!$A$66),(IF(A175=\"\",\"\",OFFSET(Warmtevragers!$C$7,11,A175,1,1))),\"Nee\")","v":"Nee"},{"$f":"IF(A175=\"\",\"\",IF(OFFSET(Warmtevragers!$C$7,7,A175,1,1)=\"Ja\",0.97,1))","v":1},{"$f":"IF(A175=\"\",\"\",OFFSET(Warmtevragers!$C$7,10,A175,1,1))","v":0}]
[168,"Warmtevrager 169",{"$f":"IF(A176=\"\",\"\",OFFSET(Warmtevragers!$C$7,2,A176,1,1))","v":0},{"$f":"IF(A176=\"\",\"\",OFFSET(Warmtevragers!$C$7,30,A176,1,1))","v":0},{"$f":"IF(A176=\"\",\"\",OFFSET(Warmtevragers!$C$7,5,A176,1,1))","v":0},{"$f":"IF(A176=\"\",\"\",OFFSET(Warmtevragers!$C$7,6,A176,1,1))","v":0},{"$f":"IF(OR(F176=Keuzelijsten!$A$65,F176=Keuzelijsten!$A$66),(IF(A176=\"\",\"\",OFFSET(Warmtevragers!$C$7,8,A176,1,1))),\"Nee\")","v":"Nee"},{"$f":"IF(OR(F176=Keuzelijsten!$A$65,F176=Keuzelijsten!$A$66),(IF(A176=\"\",\"\",OFFSET(Warmtevragers!$C$7,9,A176,1,1))),\"Nee\")","v":"Nee"},{"$f":"IF(OR(F176=Keuzelijsten!$A$66),(IF(A176=\"\",\"\",OFFSET(Warmtevragers!$C$7,10,A176,1,1))),\"Nee\")","v":"Nee"},{"$f":"IF(OR(F176=Keuzelijsten!$A$66),(IF(A176=\"\",\"\",OFFSET(Warmtevragers!$C$7,11,A176,1,1))),\"Nee\")","v":"Nee"},{"$f":"IF(A176=\"\",\"\",IF(OFFSET(Warmtevragers!$C$7,7,A176,1,1)=\"Ja\",0.97,1))","v":1},{"$f":"IF(A176=\"\",\"\",OFFSET(Warmtevragers!$C$7,10,A176,1,1))","v":0}]
[169,"Warmtevrager 170",{"$f":"IF(A177=\"\",\"\",OFFSET(Warmtevragers!$C$7,2,A177,1,1))","v":0},{"$f":"IF(A177=\"\",\"\",OFFSET(Warmtevragers!$C$7,30,A177,1,1))","v":0},{"$f":"IF(A177=\"\",\"\",OFFSET(Warmtevragers!$C$7,5,A177,1,1))","v":0},{"$f":"IF(A177=\"\",\"\",OFFSET(Warmtevragers!$C$7,6,A177,1,1))","v":0},{"$f":"IF(OR(F177=Keuzelijsten!$A$65,F177=Keuzelijsten!$A$66),(IF(A177=\"\",\"\",OFFSET(Warmtevragers!$C$7,8,A177,1,1))),\"Nee\")","v":"Nee"},{"$f":"IF(OR(F177=Keuzelijsten!$A$65,F177=Keuzelijsten!$A$66),(IF(A177=\"\",\"\",OFFSET(Warmtevragers!$C$7,9,A177,1,1))),\"Nee\")","v":"Nee"},{"$f":"IF(OR(F177=Keuzelijsten!$A$66),(IF(A177=\"\",\"\",OFFSET(Warmtevragers!$C$7,10,A177,1,1))),\"Nee\")","v":"Nee"},{"$f":"IF(OR(F177=Keuzelijsten!$A$66),(IF(A177=\"\",\"\",OFFSET(Warmtevragers!$C$7,11,A177,1,1))),\"Nee\")","v":"Nee"},{"$f":"IF(A177=\"\",\"\",IF(OFFSET(Warmtevragers!$C$7,7,A177,1,1)=\"Ja\",0.97,1))","v":1},{"$f":"IF(A177=\"\",\"\",OFFSET(Warmtevragers!$C$7,10,A177,1,1))","v":0}]
[170,"Warmtevrager 171",{"$f":"IF(A178=\"\",\"\",OFFSET(Warmtevragers!$C$7,2,A178,1,1))","v":0},{"$f":"IF(A178=\"\",\"\",OFFSET(Warmtevragers!$C$7,30,A178,1,1))","v":0},{"$f":"IF(A178=\"\",\"\",OFFSET(Warmtevragers!$C$7,5,A178,1,1))","v":0},{"$f":"IF(A178=\"\",\"\",OFFSET(Warmtevragers!$C$7,6,A178,1,1))","v":0},{"$f":"IF(OR(F178=Keuzelijsten!$A$65,F178=Keuzelijsten!$A$66),(IF(A178=\"\",\"\",OFFSET(Warmtevragers!$C$7,8,A178,1,1))),\"Nee\")","v":"Nee"},{"$f":"IF(OR(F178=Keuzelijsten!$A$65,F178=Keuzelijsten!$A$66),(IF(A178=\"\",\"\",OFFSET(Warmtevragers!$C$7,9,A178,1,1))),\"Nee\")","v":"Nee"},{"$f":"IF(OR(F178=Keuzelijsten!$A$66),(IF(A178=\"\",\"\",OFFSET(Warmtevragers!$C$7,10,A178,1,1))),\"Nee\")","v":"Nee"},{"$f":"IF(OR(F178=Keuzelijsten!$A$66),(IF(A178=\"\",\"\",OFFSET(Warmtevragers!$C$7,11,A178,1,1))),\"Nee\")","v":"Nee"},{"$f":"IF(A178=\"\",\"\",IF(OFFSET(Warmtevragers!$C$7,7,A178,1,1)=\"Ja\",0.97,1))","v":1},{"$f":"IF(A178=\"\",\"\",OFFSET(Warmtevragers!$C$7,10,A178,1,1))","v":0}]
[171,"Warmtevrager 172",{"$f":"IF(A179=\"\",\"\",OFFSET(Warmtevragers!$C$7,2,A179,1,1))","v":0},{"$f":"IF(A179=\"\",\"\",OFFSET(Warmtevragers!$C$7,30,A179,1,1))","v":0},{"$f":"IF(A179=\"\",\"\",OFFSET(Warmtevragers!$C$7,5,A179,1,1))","v":0},{"$f":"IF(A179=\"\",\"\",OFFSET(Warmtevragers!$C$7,6,A179,1,1))","v":0},{"$f":"IF(OR(F179=Keuzelijsten!$A$65,F179=Keuzelijsten!$A$66),(IF(A179=\"\",\"\",OFFSET(Warmtevragers!$C$7,8,A179,1,1))),\"Nee\")","v":"Nee"},{"$f":"IF(OR(F179=Keuzelijsten!$A$65,F179=Keuzelijsten!$A$66),(IF(A179=\"\",\"\",OFFSET(Warmtevragers!$C$7,9,A179,1,1))),\"Nee\")","v":"Nee"},{"$f":"IF(OR(F179=Keuzelijsten!$A$66),(IF(A179=\"\",\"\",OFFSET(Warmtevragers!$C$7,10,A179,1,1))),\"Nee\")","v":"Nee"},{"$f":"IF(OR(F179=Keuzelijsten!$A$66),(IF(A179=\"\",\"\",OFFSET(Warmtevragers!$C$7,11,A179,1,1))),\"Nee\")","v":"Nee"},{"$f":"IF(A179=\"\",\"\",IF(OFFSET(Warmtevragers!$C$7,7,A179,1,1)=\"Ja\",0.97,1))","v":1},{"$f":"IF(A179=\"\",\"\",OFFSET(Warmtevragers!$C$7,10,A179,1,1))","v":0}]
[172,"Warmtevrager 173",{"$f":"IF(A180=\"\",\"\",OFFSET(Warmtevragers!$C$7,2,A180,1,1))","v":0},{"$f":"IF(A180=\"\",\"\",OFFSET(Warmtevragers!$C$7,30,A180,1,1))","v":0},{"$f":"IF(A180=\"\",\"\",OFFSET(Warmtevragers!$C$7,5,A180,1,1))","v":0},{"$f":"IF(A180=\"\",\"\",OFFSET(Warmtevragers!$C$7,6,A180,1,1))","v":0},{"$f":"IF(OR(F180=Keuzelijsten!$A$65,F180=Keuzelijsten!$A$66),(IF(A180=\"\",\"\",OFFSET(Warmtevragers!$C$7,8,A180,1,1))),\"Nee\")","v":"Nee"},{"$f":"IF(OR(F180=Keuzelijsten!$A$65,F180=Keuzelijsten!$A$66),(IF(A180=\"\",\"\",OFFSET(Warmtevragers!$C$7,9,A180,1,1))),\"Nee\")","v":"Nee"},{"$f":"IF(OR(F180=Keuzelijsten!$A$66),(IF(A180=\"\",\"\",OFFSET(Warmtevragers!$C$7,10,A180,1,1))),\"Nee\")","v":"Nee"},{"$f":"IF(OR(F180=Keuzelijsten!$A$66),(IF(A180=\"\",\"\",OFFSET(Warmtevragers!$C$7,11,A180,1,1))),\"Nee\")","v":"Nee"},{"$f":"IF(A180=\"\",\"\",IF(OFFSET(Warmtevragers!$C$7,7,A180,1,1)=\"Ja\",0.97,1))","v":1},{"$f":"IF(A180=\"\",\"\",OFFSET(Warmtevragers!$C$7,10,A180,1,1))","v":0}]
[173,"Warmtevrager 174",{"$f":"IF(A181=\"\",\"\",OFFSET(Warmtevragers!$C$7,2,A181,1,1))","v":0},{"$f":"IF(A181=\"\",\"\",OFFSET(Warmtevragers!$C$7,30,A181,1,1))","v":0},{"$f":"IF(A181=\"\",\"\",OFFSET(Warmtevragers!$C$7,5,A181,1,1))","v":0},{"$f":"IF(A181=\"\",\"\",OFFSET(Warmtevragers!$C$7,6,A181,1,1))","v":0},{"$f":"IF(OR(F181=Keuzelijsten!$A$65,F181=Keuzelijsten!$A$66),(IF(A181=\"\",\"\",OFFSET(Warmtevragers!$C$7,8,A181,1,1))),\"Nee\")","v":"Nee"},{"$f":"IF(OR(F181=Keuzelijsten!$A$65,F181=Keuzelijsten!$A$66),(IF(A181=\"\",\"\",OFFSET(Warmtevragers!$C$7,9,A181,1,1))),\"Nee\")","v":"Nee"},{"$f":"IF(OR(F181=Keuzelijsten!$A$66),(IF(A181=\"\",\"\",OFFSET(Warmtevragers!$C$7,10,A181,1,1))),\"Nee\")","v":"Nee"},{"$f":"IF(OR(F181=Keuzelijsten!$A$66),(IF(A181=\"\",\"\",OFFSET(Warmtevragers!$C$7,11,A181,1,1))),\"Nee\")","v":"Nee"},{"$f":"IF(A181=\"\",\"\",IF(OFFSET(Warmtevragers!$C$7,7,A181,1,1)=\"Ja\",0.97,1))","v":1},{"$f":"IF(A181=\"\",\"\",OFFSET(Warmtevragers!$C$7,10,A181,1,1))","v":0}]
[174,"Warmtevrager 175",{"$f":"IF(A182=\"\",\"\",OFFSET(Warmtevragers!$C$7,2,A182,1,1))","v":0},{"$f":"IF(A182=\"\",\"\",OFFSET(Warmtevragers!$C$7,30,A182,1,1))","v":0},{"$f":"IF(A182=\"\",\"\",OFFSET(Warmtevragers!$C$7,5,A182,1,1))","v":0},{"$f":"IF(A182=\"\",\"\",OFFSET(Warmtevragers!$C$7,6,A182,1,1))","v":0},{"$f":"IF(OR(F182=Keuzelijsten!$A$65,F182=Keuzelijsten!$A$66),(IF(A182=\"\",\"\",OFFSET(Warmtevragers!$C$7,8,A182,1,1))),\"Nee\")","v":"Nee"},{"$f":"IF(OR(F182=Keuzelijsten!$A$65,F182=Keuzelijsten!$A$66),(IF(A182=\"\",\"\",OFFSET(Warmtevragers!$C$7,9,A182,1,1))),\"Nee\")","v":"Nee"},{"$f":"IF(OR(F182=Keuzelijsten!$A$66),(IF(A182=\"\",\"\",OFFSET(Warmtevragers!$C$7,10,A182,1,1))),\"Nee\")","v":"Nee"},{"$f":"IF(OR(F182=Keuzelijsten!$A$66),(IF(A182=\"\",\"\",OFFSET(Warmtevragers!$C$7,11,A182,1,1))),\"Nee\")","v":"Nee"},{"$f":"IF(A182=\"\",\"\",IF(OFFSET(Warmtevragers!$C$7,7,A182,1,1)=\"Ja\",0.97,1))","v":1},{"$f":"IF(A182=\"\",\"\",OFFSET(Warmtevragers!$C$7,10,A182,1,1))","v":0}]
[175,"Warmtevrager 176",{"$f":"IF(A183=\"\",\"\",OFFSET(Warmtevragers!$C$7,2,A183,1,1))","v":0},{"$f":"IF(A183=\"\",\"\",OFFSET(Warmtevragers!$C$7,30,A183,1,1))","v":0},{"$f":"IF(A183=\"\",\"\",OFFSET(Warmtevragers!$C$7,5,A183,1,1))","v":0},{"$f":"IF(A183=\"\",\"\",OFFSET(Warmtevragers!$C$7,6,A183,1,1))","v":0},{"$f":"IF(OR(F183=Keuzelijsten!$A$65,F183=Keuzelijsten!$A$66),(IF(A183=\"\",\"\",OFFSET(Warmtevragers!$C$7,8,A183,1,1))),\"Nee\")","v":"Nee"},{"$f":"IF(OR(F183=Keuzelijsten!$A$65,F183=Keuzelijsten!$A$66),(IF(A183=\"\",\"\",OFFSET(Warmtevragers!$C$7,9,A183,1,1))),\"Nee\")","v":"Nee"},{"$f":"IF(OR(F183=Keuzelijsten!$A$66),(IF(A183=\"\",\"\",OFFSET(Warmtevragers!$C$7,10,A183,1,1))),\"Nee\")","v":"Nee"},{"$f":"IF(OR(F183=Keuzelijsten!$A$66),(IF(A183=\"\",\"\",OFFSET(Warmtevragers!$C$7,11,A183,1,1))),\"Nee\")","v":"Nee"},{"$f":"IF(A183=\"\",\"\",IF(OFFSET(Warmtevragers!$C$7,7,A183,1,1)=\"Ja\",0.97,1))","v":1},{"$f":"IF(A183=\"\",\"\",OFFSET(Warmtevragers!$C$7,10,A183,1,1))","v":0}]
[176,"Warmtevrager 177",{"$f":"IF(A184=\"\",\"\",OFFSET(Warmtevragers!$C$7,2,A184,1,1))","v":0},{"$f":"IF(A184=\"\",\"\",OFFSET(Warmtevragers!$C$7,30,A184,1,1))","v":0},{"$f":"IF(A184=\"\",\"\",OFFSET(Warmtevragers!$C$7,5,A184,1,1))","v":0},{"$f":"IF(A184=\"\",\"\",OFFSET(Warmtevragers!$C$7,6,A184,1,1))","v":0},{"$f":"IF(OR(F184=Keuzelijsten!$A$65,F184=Keuzelijsten!$A$66),(IF(A184=\"\",\"\",OFFSET(Warmtevragers!$C$7,8,A184,1,1))),\"Nee\")","v":"Nee"},{"$f":"IF(OR(F184=Keuzelijsten!$A$65,F184=Keuzelijsten!$A$66),(IF(A184=\"\",\"\",OFFSET(Warmtevragers!$C$7,9,A184,1,1))),\"Nee\")","v":"Nee"},{"$f":"IF(OR(F184=Keuzelijsten!$A$66),(IF(A184=\"\",\"\",OFFSET(Warmtevragers!$C$7,10,A184,1,1))),\"Nee\")","v":"Nee"},{"$f":"IF(OR(F184=Keuzelijsten!$A$66),(IF(A184=\"\",\"\",OFFSET(Warmtevragers!$C$7,11,A184,1,1))),\"Nee\")","v":"Nee"},{"$f":"IF(A184=\"\",\"\",IF(OFFSET(Warmtevragers!$C$7,7,A184,1,1)=\"Ja\",0.97,1))","v":1},{"$f":"IF(A184=\"\",\"\",OFFSET(Warmtevragers!$C$7,10,A184,1,1))","v":0}]
[177,"Warmtevrager 178",{"$f":"IF(A185=\"\",\"\",OFFSET(Warmtevragers!$C$7,2,A185,1,1))","v":0},{"$f":"IF(A185=\"\",\"\",OFFSET(Warmtevragers!$C$7,30,A185,1,1))","v":0},{"$f":"IF(A185=\"\",\"\",OFFSET(Warmtevragers!$C$7,5,A185,1,1))","v":0},{"$f":"IF(A185=\"\",\"\",OFFSET(Warmtevragers!$C$7,6,A185,1,1))","v":0},{"$f":"IF(OR(F185=Keuzelijsten!$A$65,F185=Keuzelijsten!$A$66),(IF(A185=\"\",\"\",OFFSET(Warmtevragers!$C$7,8,A185,1,1))),\"Nee\")","v":"Nee"},{"$f":"IF(OR(F185=Keuzelijsten!$A$65,F185=Keuzelijsten!$A$66),(IF(A185=\"\",\"\",OFFSET(Warmtevragers!$C$7,9,A185,1,1))),\"Nee\")","v":"Nee"},{"$f":"IF(OR(F185=Keuzelijsten!$A$66),(IF(A185=\"\",\"\",OFFSET(Warmtevragers!$C$7,10,A185,1,1))),\"Nee\")","v":"Nee"},{"$f":"IF(OR(F185=Keuzelijsten!$A$66),(IF(A185=\"\",\"\",OFFSET(Warmtevragers!$C$7,11,A185,1,1))),\"Nee\")","v":"Nee"},{"$f":"IF(A185=\"\",\"\",IF(OFFSET(Warmtevragers!$C$7,7,A185,1,1)=\"Ja\",0.97,1))","v":1},{"$f":"IF(A185=\"\",\"\",OFFSET(Warmtevragers!$C$7,10,A185,1,1))","v":0}]
[178,"Warmtevrager 179",{"$f":"IF(A186=\"\",\"\",OFFSET(Warmtevragers!$C$7,2,A186,1,1))","v":0},{"$f":"IF(A186=\"\",\"\",OFFSET(Warmtevragers!$C$7,30,A186,1,1))","v":0},{"$f":"IF(A186=\"\",\"\",OFFSET(Warmtevragers!$C$7,5,A186,1,1))","v":0},{"$f":"IF(A186=\"\",\"\",OFFSET(Warmtevragers!$C$7,6,A186,1,1))","v":0},{"$f":"IF(OR(F186=Keuzelijsten!$A$65,F186=Keuzelijsten!$A$66),(IF(A186=\"\",\"\",OFFSET(Warmtevragers!$C$7,8,A186,1,1))),\"Nee\")","v":"Nee"},{"$f":"IF(OR(F186=Keuzelijsten!$A$65,F186=Keuzelijsten!$A$66),(IF(A186=\"\",\"\",OFFSET(Warmtevragers!$C$7,9,A186,1,1))),\"Nee\")","v":"Nee"},{"$f":"IF(OR(F186=Keuzelijsten!$A$66),(IF(A186=\"\",\"\",OFFSET(Warmtevragers!$C$7,10,A186,1,1))),\"Nee\")","v":"Nee"},{"$f":"IF(OR(F186=Keuzelijsten!$A$66),(IF(A186=\"\",\"\",OFFSET(Warmtevragers!$C$7,11,A186,1,1))),\"Nee\")","v":"Nee"},{"$f":"IF(A186=\"\",\"\",IF(OFFSET(Warmtevragers!$C$7,7,A186,1,1)=\"Ja\",0.97,1))","v":1},{"$f":"IF(A186=\"\",\"\",OFFSET(Warmtevragers!$C$7,10,A186,1,1))","v":0}]
[179,"Warmtevrager 180",{"$f":"IF(A187=\"\",\"\",OFFSET(Warmtevragers!$C$7,2,A187,1,1))","v":0},{"$f":"IF(A187=\"\",\"\",OFFSET(Warmtevragers!$C$7,30,A187,1,1))","v":0},{"$f":"IF(A187=\"\",\"\",OFFSET(Warmtevragers!$C$7,5,A187,1,1))","v":0},{"$f":"IF(A187=\"\",\"\",OFFSET(Warmtevragers!$C$7,6,A187,1,1))","v":0},{"$f":"IF(OR(F187=Keuzelijsten!$A$65,F187=Keuzelijsten!$A$66),(IF(A187=\"\",\"\",OFFSET(Warmtevragers!$C$7,8,A187,1,1))),\"Nee\")","v":"Nee"},{"$f":"IF(OR(F187=Keuzelijsten!$A$65,F187=Keuzelijsten!$A$66),(IF(A187=\"\",\"\",OFFSET(Warmtevragers!$C$7,9,A187,1,1))),\"Nee\")","v":"Nee"},{"$f":"IF(OR(F187=Keuzelijsten!$A$66),(IF(A187=\"\",\"\",OFFSET(Warmtevragers!$C$7,10,A187,1,1))),\"Nee\")","v":"Nee"},{"$f":"IF(OR(F187=Keuzelijsten!$A$66),(IF(A187=\"\",\"\",OFFSET(Warmtevragers!$C$7,11,A187,1,1))),\"Nee\")","v":"Nee"},{"$f":"IF(A187=\"\",\"\",IF(OFFSET(Warmtevragers!$C$7,7,A187,1,1)=\"Ja\",0.97,1))","v":1},{"$f":"IF(A187=\"\",\"\",OFFSET(Warmtevragers!$C$7,10,A187,1,1))","v":0}]
[180,"Warmtevrager 181",{"$f":"IF(A188=\"\",\"\",OFFSET(Warmtevragers!$C$7,2,A188,1,1))","v":0},{"$f":"IF(A188=\"\",\"\",OFFSET(Warmtevragers!$C$7,30,A188,1,1))","v":0},{"$f":"IF(A188=\"\",\"\",OFFSET(Warmtevragers!$C$7,5,A188,1,1))","v":0},{"$f":"IF(A188=\"\",\"\",OFFSET(Warmtevragers!$C$7,6,A188,1,1))","v":0},{"$f":"IF(OR(F188=Keuzelijsten!$A$65,F188=Keuzelijsten!$A$66),(IF(A188=\"\",\"\",OFFSET(Warmtevragers!$C$7,8,A188,1,1))),\"Nee\")","v":"Nee"},{"$f":"IF(OR(F188=Keuzelijsten!$A$65,F188=Keuzelijsten!$A$66),(IF(A188=\"\",\"\",OFFSET(Warmtevragers!$C$7,9,A188,1,1))),\"Nee\")","v":"Nee"},{"$f":"IF(OR(F188=Keuzelijsten!$A$66),(IF(A188=\"\",\"\",OFFSET(Warmtevragers!$C$7,10,A188,1,1))),\"Nee\")","v":"Nee"},{"$f":"IF(OR(F188=Keuzelijsten!$A$66),(IF(A188=\"\",\"\",OFFSET(Warmtevragers!$C$7,11,A188,1,1))),\"Nee\")","v":"Nee"},{"$f":"IF(A188=\"\",\"\",IF(OFFSET(Warmtevragers!$C$7,7,A188,1,1)=\"Ja\",0.97,1))","v":1},{"$f":"IF(A188=\"\",\"\",OFFSET(Warmtevragers!$C$7,10,A188,1,1))","v":0}]
[181,"Warmtevrager 182",{"$f":"IF(A189=\"\",\"\",OFFSET(Warmtevragers!$C$7,2,A189,1,1))","v":0},{"$f":"IF(A189=\"\",\"\",OFFSET(Warmtevragers!$C$7,30,A189,1,1))","v":0},{"$f":"IF(A189=\"\",\"\",OFFSET(Warmtevragers!$C$7,5,A189,1,1))","v":0},{"$f":"IF(A189=\"\",\"\",OFFSET(Warmtevragers!$C$7,6,A189,1,1))","v":0},{"$f":"IF(OR(F189=Keuzelijsten!$A$65,F189=Keuzelijsten!$A$66),(IF(A189=\"\",\"\",OFFSET(Warmtevragers!$C$7,8,A189,1,1))),\"Nee\")","v":"Nee"},{"$f":"IF(OR(F189=Keuzelijsten!$A$65,F189=Keuzelijsten!$A$66),(IF(A189=\"\",\"\",OFFSET(Warmtevragers!$C$7,9,A189,1,1))),\"Nee\")","v":"Nee"},{"$f":"IF(OR(F189=Keuzelijsten!$A$66),(IF(A189=\"\",\"\",OFFSET(Warmtevragers!$C$7,10,A189,1,1))),\"Nee\")","v":"Nee"},{"$f":"IF(OR(F189=Keuzelijsten!$A$66),(IF(A189=\"\",\"\",OFFSET(Warmtevragers!$C$7,11,A189,1,1))),\"Nee\")","v":"Nee"},{"$f":"IF(A189=\"\",\"\",IF(OFFSET(Warmtevragers!$C$7,7,A189,1,1)=\"Ja\",0.97,1))","v":1},{"$f":"IF(A189=\"\",\"\",OFFSET(Warmtevragers!$C$7,10,A189,1,1))","v":0}]
[182,"Warmtevrager 183",{"$f":"IF(A190=\"\",\"\",OFFSET(Warmtevragers!$C$7,2,A190,1,1))","v":0},{"$f":"IF(A190=\"\",\"\",OFFSET(Warmtevragers!$C$7,30,A190,1,1))","v":0},{"$f":"IF(A190=\"\",\"\",OFFSET(Warmtevragers!$C$7,5,A190,1,1))","v":0},{"$f":"IF(A190=\"\",\"\",OFFSET(Warmtevragers!$C$7,6,A190,1,1))","v":0},{"$f":"IF(OR(F190=Keuzelijsten!$A$65,F190=Keuzelijsten!$A$66),(IF(A190=\"\",\"\",OFFSET(Warmtevragers!$C$7,8,A190,1,1))),\"Nee\")","v":"Nee"},{"$f":"IF(OR(F190=Keuzelijsten!$A$65,F190=Keuzelijsten!$A$66),(IF(A190=\"\",\"\",OFFSET(Warmtevragers!$C$7,9,A190,1,1))),\"Nee\")","v":"Nee"},{"$f":"IF(OR(F190=Keuzelijsten!$A$66),(IF(A190=\"\",\"\",OFFSET(Warmtevragers!$C$7,10,A190,1,1))),\"Nee\")","v":"Nee"},{"$f":"IF(OR(F190=Keuzelijsten!$A$66),(IF(A190=\"\",\"\",OFFSET(Warmtevragers!$C$7,11,A190,1,1))),\"Nee\")","v":"Nee"},{"$f":"IF(A190=\"\",\"\",IF(OFFSET(Warmtevragers!$C$7,7,A190,1,1)=\"Ja\",0.97,1))","v":1},{"$f":"IF(A190=\"\",\"\",OFFSET(Warmtevragers!$C$7,10,A190,1,1))","v":0}]
[183,"Warmtevrager 184",{"$f":"IF(A191=\"\",\"\",OFFSET(Warmtevragers!$C$7,2,A191,1,1))","v":0},{"$f":"IF(A191=\"\",\"\",OFFSET(Warmtevragers!$C$7,30,A191,1,1))","v":0},{"$f":"IF(A191=\"\",\"\",OFFSET(Warmtevragers!$C$7,5,A191,1,1))","v":0},{"$f":"IF(A191=\"\",\"\",OFFSET(Warmtevragers!$C$7,6,A191,1,1))","v":0},{"$f":"IF(OR(F191=Keuzelijsten!$A$65,F191=Keuzelijsten!$A$66),(IF(A191=\"\",\"\",OFFSET(Warmtevragers!$C$7,8,A191,1,1))),\"Nee\")","v":"Nee"},{"$f":"IF(OR(F191=Keuzelijsten!$A$65,F191=Keuzelijsten!$A$66),(IF(A191=\"\",\"\",OFFSET(Warmtevragers!$C$7,9,A191,1,1))),\"Nee\")","v":"Nee"},{"$f":"IF(OR(F191=Keuzelijsten!$A$66),(IF(A191=\"\",\"\",OFFSET(Warmtevragers!$C$7,10,A191,1,1))),\"Nee\")","v":"Nee"},{"$f":"IF(OR(F191=Keuzelijsten!$A$66),(IF(A191=\"\",\"\",OFFSET(Warmtevragers!$C$7,11,A191,1,1))),\"Nee\")","v":"Nee"},{"$f":"IF(A191=\"\",\"\",IF(OFFSET(Warmtevragers!$C$7,7,A191,1,1)=\"Ja\",0.97,1))","v":1},{"$f":"IF(A191=\"\",\"\",OFFSET(Warmtevragers!$C$7,10,A191,1,1))","v":0}]
[184,"Warmtevrager 185",{"$f":"IF(A192=\"\",\"\",OFFSET(Warmtevragers!$C$7,2,A192,1,1))","v":0},{"$f":"IF(A192=\"\",\"\",OFFSET(Warmtevragers!$C$7,30,A192,1,1))","v":0},{"$f":"IF(A192=\"\",\"\",OFFSET(Warmtevragers!$C$7,5,A192,1,1))","v":0},{"$f":"IF(A192=\"\",\"\",OFFSET(Warmtevragers!$C$7,6,A192,1,1))","v":0},{"$f":"IF(OR(F192=Keuzelijsten!$A$65,F192=Keuzelijsten!$A$66),(IF(A192=\"\",\"\",OFFSET(Warmtevragers!$C$7,8,A192,1,1))),\"Nee\")","v":"Nee"},{"$f":"IF(OR(F192=Keuzelijsten!$A$65,F192=Keuzelijsten!$A$66),(IF(A192=\"\",\"\",OFFSET(Warmtevragers!$C$7,9,A192,1,1))),\"Nee\")","v":"Nee"},{"$f":"IF(OR(F192=Keuzelijsten!$A$66),(IF(A192=\"\",\"\",OFFSET(Warmtevragers!$C$7,10,A192,1,1))),\"Nee\")","v":"Nee"},{"$f":"IF(OR(F192=Keuzelijsten!$A$66),(IF(A192=\"\",\"\",OFFSET(Warmtevragers!$C$7,11,A192,1,1))),\"Nee\")","v":"Nee"},{"$f":"IF(A192=\"\",\"\",IF(OFFSET(Warmtevragers!$C$7,7,A192,1,1)=\"Ja\",0.97,1))","v":1},{"$f":"IF(A192=\"\",\"\",OFFSET(Warmtevragers!$C$7,10,A192,1,1))","v":0}]
[185,"Warmtevrager 186",{"$f":"IF(A193=\"\",\"\",OFFSET(Warmtevragers!$C$7,2,A193,1,1))","v":0},{"$f":"IF(A193=\"\",\"\",OFFSET(Warmtevragers!$C$7,30,A193,1,1))","v":0},{"$f":"IF(A193=\"\",\"\",OFFSET(Warmtevragers!$C$7,5,A193,1,1))","v":0},{"$f":"IF(A193=\"\",\"\",OFFSET(Warmtevragers!$C$7,6,A193,1,1))","v":0},{"$f":"IF(OR(F193=Keuzelijsten!$A$65,F193=Keuzelijsten!$A$66),(IF(A193=\"\",\"\",OFFSET(Warmtevragers!$C$7,8,A193,1,1))),\"Nee\")","v":"Nee"},{"$f":"IF(OR(F193=Keuzelijsten!$A$65,F193=Keuzelijsten!$A$66),(IF(A193=\"\",\"\",OFFSET(Warmtevragers!$C$7,9,A193,1,1))),\"Nee\")","v":"Nee"},{"$f":"IF(OR(F193=Keuzelijsten!$A$66),(IF(A193=\"\",\"\",OFFSET(Warmtevragers!$C$7,10,A193,1,1))),\"Nee\")","v":"Nee"},{"$f":"IF(OR(F193=Keuzelijsten!$A$66),(IF(A193=\"\",\"\",OFFSET(Warmtevragers!$C$7,11,A193,1,1))),\"Nee\")","v":"Nee"},{"$f":"IF(A193=\"\",\"\",IF(OFFSET(Warmtevragers!$C$7,7,A193,1,1)=\"Ja\",0.97,1))","v":1},{"$f":"IF(A193=\"\",\"\",OFFSET(Warmtevragers!$C$7,10,A193,1,1))","v":0}]
[186,"Warmtevrager 187",{"$f":"IF(A194=\"\",\"\",OFFSET(Warmtevragers!$C$7,2,A194,1,1))","v":0},{"$f":"IF(A194=\"\",\"\",OFFSET(Warmtevragers!$C$7,30,A194,1,1))","v":0},{"$f":"IF(A194=\"\",\"\",OFFSET(Warmtevragers!$C$7,5,A194,1,1))","v":0},{"$f":"IF(A194=\"\",\"\",OFFSET(Warmtevragers!$C$7,6,A194,1,1))","v":0},{"$f":"IF(OR(F194=Keuzelijsten!$A$65,F194=Keuzelijsten!$A$66),(IF(A194=\"\",\"\",OFFSET(Warmtevragers!$C$7,8,A194,1,1))),\"Nee\")","v":"Nee"},{"$f":"IF(OR(F194=Keuzelijsten!$A$65,F194=Keuzelijsten!$A$66),(IF(A194=\"\",\"\",OFFSET(Warmtevragers!$C$7,9,A194,1,1))),\"Nee\")","v":"Nee"},{"$f":"IF(OR(F194=Keuzelijsten!$A$66),(IF(A194=\"\",\"\",OFFSET(Warmtevragers!$C$7,10,A194,1,1))),\"Nee\")","v":"Nee"},{"$f":"IF(OR(F194=Keuzelijsten!$A$66),(IF(A194=\"\",\"\",OFFSET(Warmtevragers!$C$7,11,A194,1,1))),\"Nee\")","v":"Nee"},{"$f":"IF(A194=\"\",\"\",IF(OFFSET(Warmtevragers!$C$7,7,A194,1,1)=\"Ja\",0.97,1))","v":1},{"$f":"IF(A194=\"\",\"\",OFFSET(Warmtevragers!$C$7,10,A194,1,1))","v":0}]
[187,"Warmtevrager 188",{"$f":"IF(A195=\"\",\"\",OFFSET(Warmtevragers!$C$7,2,A195,1,1))","v":0},{"$f":"IF(A195=\"\",\"\",OFFSET(Warmtevragers!$C$7,30,A195,1,1))","v":0},{"$f":"IF(A195=\"\",\"\",OFFSET(Warmtevragers!$C$7,5,A195,1,1))","v":0},{"$f":"IF(A195=\"\",\"\",OFFSET(Warmtevragers!$C$7,6,A195,1,1))","v":0},{"$f":"IF(OR(F195=Keuzelijsten!$A$65,F195=Keuzelijsten!$A$66),(IF(A195=\"\",\"\",OFFSET(Warmtevragers!$C$7,8,A195,1,1))),\"Nee\")","v":"Nee"},{"$f":"IF(OR(F195=Keuzelijsten!$A$65,F195=Keuzelijsten!$A$66),(IF(A195=\"\",\"\",OFFSET(Warmtevragers!$C$7,9,A195,1,1))),\"Nee\")","v":"Nee"},{"$f":"IF(OR(F195=Keuzelijsten!$A$66),(IF(A195=\"\",\"\",OFFSET(Warmtevragers!$C$7,10,A195,1,1))),\"Nee\")","v":"Nee"},{"$f":"IF(OR(F195=Keuzelijsten!$A$66),(IF(A195=\"\",\"\",OFFSET(Warmtevragers!$C$7,11,A195,1,1))),\"Nee\")","v":"Nee"},{"$f":"IF(A195=\"\",\"\",IF(OFFSET(Warmtevragers!$C$7,7,A195,1,1)=\"Ja\",0.97,1))","v":1},{"$f":"IF(A195=\"\",\"\",OFFSET(Warmtevragers!$C$7,10,A195,1,1))","v":0}]
[188,"Warmtevrager 189",{"$f":"IF(A196=\"\",\"\",OFFSET(Warmtevragers!$C$7,2,A196,1,1))","v":0},{"$f":"IF(A196=\"\",\"\",OFFSET(Warmtevragers!$C$7,30,A196,1,1))","v":0},{"$f":"IF(A196=\"\",\"\",OFFSET(Warmtevragers!$C$7,5,A196,1,1))","v":0},{"$f":"IF(A196=\"\",\"\",OFFSET(Warmtevragers!$C$7,6,A196,1,1))","v":0},{"$f":"IF(OR(F196=Keuzelijsten!$A$65,F196=Keuzelijsten!$A$66),(IF(A196=\"\",\"\",OFFSET(Warmtevragers!$C$7,8,A196,1,1))),\"Nee\")","v":"Nee"},{"$f":"IF(OR(F196=Keuzelijsten!$A$65,F196=Keuzelijsten!$A$66),(IF(A196=\"\",\"\",OFFSET(Warmtevragers!$C$7,9,A196,1,1))),\"Nee\")","v":"Nee"},{"$f":"IF(OR(F196=Keuzelijsten!$A$66),(IF(A196=\"\",\"\",OFFSET(Warmtevragers!$C$7,10,A196,1,1))),\"Nee\")","v":"Nee"},{"$f":"IF(OR(F196=Keuzelijsten!$A$66),(IF(A196=\"\",\"\",OFFSET(Warmtevragers!$C$7,11,A196,1,1))),\"Nee\")","v":"Nee"},{"$f":"IF(A196=\"\",\"\",IF(OFFSET(Warmtevragers!$C$7,7,A196,1,1)=\"Ja\",0.97,1))","v":1},{"$f":"IF(A196=\"\",\"\",OFFSET(Warmtevragers!$C$7,10,A196,1,1))","v":0}]
[189,"Warmtevrager 190",{"$f":"IF(A197=\"\",\"\",OFFSET(Warmtevragers!$C$7,2,A197,1,1))","v":0},{"$f":"IF(A197=\"\",\"\",OFFSET(Warmtevragers!$C$7,30,A197,1,1))","v":0},{"$f":"IF(A197=\"\",\"\",OFFSET(Warmtevragers!$C$7,5,A197,1,1))","v":0},{"$f":"IF(A197=\"\",\"\",OFFSET(Warmtevragers!$C$7,6,A197,1,1))","v":0},{"$f":"IF(OR(F197=Keuzelijsten!$A$65,F197=Keuzelijsten!$A$66),(IF(A197=\"\",\"\",OFFSET(Warmtevragers!$C$7,8,A197,1,1))),\"Nee\")","v":"Nee"},{"$f":"IF(OR(F197=Keuzelijsten!$A$65,F197=Keuzelijsten!$A$66),(IF(A197=\"\",\"\",OFFSET(Warmtevragers!$C$7,9,A197,1,1))),\"Nee\")","v":"Nee"},{"$f":"IF(OR(F197=Keuzelijsten!$A$66),(IF(A197=\"\",\"\",OFFSET(Warmtevragers!$C$7,10,A197,1,1))),\"Nee\")","v":"Nee"},{"$f":"IF(OR(F197=Keuzelijsten!$A$66),(IF(A197=\"\",\"\",OFFSET(Warmtevragers!$C$7,11,A197,1,1))),\"Nee\")","v":"Nee"},{"$f":"IF(A197=\"\",\"\",IF(OFFSET(Warmtevragers!$C$7,7,A197,1,1)=\"Ja\",0.97,1))","v":1},{"$f":"IF(A197=\"\",\"\",OFFSET(Warmtevragers!$C$7,10,A197,1,1))","v":0}]
[190,"Warmtevrager 191",{"$f":"IF(A198=\"\",\"\",OFFSET(Warmtevragers!$C$7,2,A198,1,1))","v":0},{"$f":"IF(A198=\"\",\"\",OFFSET(Warmtevragers!$C$7,30,A198,1,1))","v":0},{"$f":"IF(A198=\"\",\"\",OFFSET(Warmtevragers!$C$7,5,A198,1,1))","v":0},{"$f":"IF(A198=\"\",\"\",OFFSET(Warmtevragers!$C$7,6,A198,1,1))","v":0},{"$f":"IF(OR(F198=Keuzelijsten!$A$65,F198=Keuzelijsten!$A$66),(IF(A198=\"\",\"\",OFFSET(Warmtevragers!$C$7,8,A198,1,1))),\"Nee\")","v":"Nee"},{"$f":"IF(OR(F198=Keuzelijsten!$A$65,F198=Keuzelijsten!$A$66),(IF(A198=\"\",\"\",OFFSET(Warmtevragers!$C$7,9,A198,1,1))),\"Nee\")","v":"Nee"},{"$f":"IF(OR(F198=Keuzelijsten!$A$66),(IF(A198=\"\",\"\",OFFSET(Warmtevragers!$C$7,10,A198,1,1))),\"Nee\")","v":"Nee"},{"$f":"IF(OR(F198=Keuzelijsten!$A$66),(IF(A198=\"\",\"\",OFFSET(Warmtevragers!$C$7,11,A198,1,1))),\"Nee\")","v":"Nee"},{"$f":"IF(A198=\"\",\"\",IF(OFFSET(Warmtevragers!$C$7,7,A198,1,1)=\"Ja\",0.97,1))","v":1},{"$f":"IF(A198=\"\",\"\",OFFSET(Warmtevragers!$C$7,10,A198,1,1))","v":0}]
[191,"Warmtevrager 192",{"$f":"IF(A199=\"\",\"\",OFFSET(Warmtevragers!$C$7,2,A199,1,1))","v":0},{"$f":"IF(A199=\"\",\"\",OFFSET(Warmtevragers!$C$7,30,A199,1,1))","v":0},{"$f":"IF(A199=\"\",\"\",OFFSET(Warmtevragers!$C$7,5,A199,1,1))","v":0},{"$f":"IF(A199=\"\",\"\",OFFSET(Warmtevragers!$C$7,6,A199,1,1))","v":0},{"$f":"IF(OR(F199=Keuzelijsten!$A$65,F199=Keuzelijsten!$A$66),(IF(A199=\"\",\"\",OFFSET(Warmtevragers!$C$7,8,A199,1,1))),\"Nee\")","v":"Nee"},{"$f":"IF(OR(F199=Keuzelijsten!$A$65,F199=Keuzelijsten!$A$66),(IF(A199=\"\",\"\",OFFSET(Warmtevragers!$C$7,9,A199,1,1))),\"Nee\")","v":"Nee"},{"$f":"IF(OR(F199=Keuzelijsten!$A$66),(IF(A199=\"\",\"\",OFFSET(Warmtevragers!$C$7,10,A199,1,1))),\"Nee\")","v":"Nee"},{"$f":"IF(OR(F199=Keuzelijsten!$A$66),(IF(A199=\"\",\"\",OFFSET(Warmtevragers!$C$7,11,A199,1,1))),\"Nee\")","v":"Nee"},{"$f":"IF(A199=\"\",\"\",IF(OFFSET(Warmtevragers!$C$7,7,A199,1,1)=\"Ja\",0.97,1))","v":1},{"$f":"IF(A199=\"\",\"\",OFFSET(Warmtevragers!$C$7,10,A199,1,1))","v":0}]
[192,{"$f":"\"Warmtevrager \"&A200+1","v":"Warmtevrager 193"},{"$f":"IF(A200=\"\",\"\",OFFSET(Warmtevragers!$C$7,2,A200,1,1))","v":0},{"$f":"IF(A200=\"\",\"\",OFFSET(Warmtevragers!$C$7,30,A200,1,1))","v":0},{"$f":"IF(A200=\"\",\"\",OFFSET(Warmtevragers!$C$7,5,A200,1,1))","v":0},{"$f":"IF(A200=\"\",\"\",OFFSET(Warmtevragers!$C$7,6,A200,1,1))","v":0},{"$f":"IF(OR(F200=Keuzelijsten!$A$65,F200=Keuzelijsten!$A$66),(IF(A200=\"\",\"\",OFFSET(Warmtevragers!$C$7,8,A200,1,1))),\"Nee\")","v":"Nee"},{"$f":"IF(OR(F200=Keuzelijsten!$A$65,F200=Keuzelijsten!$A$66),(IF(A200=\"\",\"\",OFFSET(Warmtevragers!$C$7,9,A200,1,1))),\"Nee\")","v":"Nee"},{"$f":"IF(OR(F200=Keuzelijsten!$A$66),(IF(A200=\"\",\"\",OFFSET(Warmtevragers!$C$7,10,A200,1,1))),\"Nee\")","v":"Nee"},{"$f":"IF(OR(F200=Keuzelijsten!$A$66),(IF(A200=\"\",\"\",OFFSET(Warmtevragers!$C$7,11,A200,1,1))),\"Nee\")","v":"Nee"},{"$f":"IF(A200=\"\",\"\",IF(OFFSET(Warmtevragers!$C$7,7,A200,1,1)=\"Ja\",0.97,1))","v":1},{"$f":"IF(A200=\"\",\"\",OFFSET(Warmtevragers!$C$7,10,A200,1,1))","v":0}]
[193,"Warmtevrager 194",{"$f":"IF(A201=\"\",\"\",OFFSET(Warmtevragers!$C$7,2,A201,1,1))","v":0},{"$f":"IF(A201=\"\",\"\",OFFSET(Warmtevragers!$C$7,30,A201,1,1))","v":0},{"$f":"IF(A201=\"\",\"\",OFFSET(Warmtevragers!$C$7,5,A201,1,1))","v":0},{"$f":"IF(A201=\"\",\"\",OFFSET(Warmtevragers!$C$7,6,A201,1,1))","v":0},{"$f":"IF(OR(F201=Keuzelijsten!$A$65,F201=Keuzelijsten!$A$66),(IF(A201=\"\",\"\",OFFSET(Warmtevragers!$C$7,8,A201,1,1))),\"Nee\")","v":"Nee"},{"$f":"IF(OR(F201=Keuzelijsten!$A$65,F201=Keuzelijsten!$A$66),(IF(A201=\"\",\"\",OFFSET(Warmtevragers!$C$7,9,A201,1,1))),\"Nee\")","v":"Nee"},{"$f":"IF(OR(F201=Keuzelijsten!$A$66),(IF(A201=\"\",\"\",OFFSET(Warmtevragers!$C$7,10,A201,1,1))),\"Nee\")","v":"Nee"},{"$f":"IF(OR(F201=Keuzelijsten!$A$66),(IF(A201=\"\",\"\",OFFSET(Warmtevragers!$C$7,11,A201,1,1))),\"Nee\")","v":"Nee"},{"$f":"IF(A201=\"\",\"\",IF(OFFSET(Warmtevragers!$C$7,7,A201,1,1)=\"Ja\",0.97,1))","v":1},{"$f":"IF(A201=\"\",\"\",OFFSET(Warmtevragers!$C$7,10,A201,1,1))","v":0}]
[194,"Warmtevrager 195",{"$f":"IF(A202=\"\",\"\",OFFSET(Warmtevragers!$C$7,2,A202,1,1))","v":0},{"$f":"IF(A202=\"\",\"\",OFFSET(Warmtevragers!$C$7,30,A202,1,1))","v":0},{"$f":"IF(A202=\"\",\"\",OFFSET(Warmtevragers!$C$7,5,A202,1,1))","v":0},{"$f":"IF(A202=\"\",\"\",OFFSET(Warmtevragers!$C$7,6,A202,1,1))","v":0},{"$f":"IF(OR(F202=Keuzelijsten!$A$65,F202=Keuzelijsten!$A$66),(IF(A202=\"\",\"\",OFFSET(Warmtevragers!$C$7,8,A202,1,1))),\"Nee\")","v":"Nee"},{"$f":"IF(OR(F202=Keuzelijsten!$A$65,F202=Keuzelijsten!$A$66),(IF(A202=\"\",\"\",OFFSET(Warmtevragers!$C$7,9,A202,1,1))),\"Nee\")","v":"Nee"},{"$f":"IF(OR(F202=Keuzelijsten!$A$66),(IF(A202=\"\",\"\",OFFSET(Warmtevragers!$C$7,10,A202,1,1))),\"Nee\")","v":"Nee"},{"$f":"IF(OR(F202=Keuzelijsten!$A$66),(IF(A202=\"\",\"\",OFFSET(Warmtevragers!$C$7,11,A202,1,1))),\"Nee\")","v":"Nee"},{"$f":"IF(A202=\"\",\"\",IF(OFFSET(Warmtevragers!$C$7,7,A202,1,1)=\"Ja\",0.97,1))","v":1},{"$f":"IF(A202=\"\",\"\",OFFSET(Warmtevragers!$C$7,10,A202,1,1))","v":0}]
[{"$f":"A202+1","v":195},"Warmtevrager 196",{"$f":"IF(A203=\"\",\"\",OFFSET(Warmtevragers!$C$7,2,A203,1,1))","v":0},{"$f":"IF(A203=\"\",\"\",OFFSET(Warmtevragers!$C$7,30,A203,1,1))","v":0},{"$f":"IF(A203=\"\",\"\",OFFSET(Warmtevragers!$C$7,5,A203,1,1))","v":0},{"$f":"IF(A203=\"\",\"\",OFFSET(Warmtevragers!$C$7,6,A203,1,1))","v":0},{"$f":"IF(OR(F203=Keuzelijsten!$A$65,F203=Keuzelijsten!$A$66),(IF(A203=\"\",\"\",OFFSET(Warmtevragers!$C$7,8,A203,1,1))),\"Nee\")","v":"Nee"},{"$f":"IF(OR(F203=Keuzelijsten!$A$65,F203=Keuzelijsten!$A$66),(IF(A203=\"\",\"\",OFFSET(Warmtevragers!$C$7,9,A203,1,1))),\"Nee\")","v":"Nee"},{"$f":"IF(OR(F203=Keuzelijsten!$A$66),(IF(A203=\"\",\"\",OFFSET(Warmtevragers!$C$7,10,A203,1,1))),\"Nee\")","v":"Nee"},{"$f":"IF(OR(F203=Keuzelijsten!$A$66),(IF(A203=\"\",\"\",OFFSET(Warmtevragers!$C$7,11,A203,1,1))),\"Nee\")","v":"Nee"},{"$f":"IF(A203=\"\",\"\",IF(OFFSET(Warmtevragers!$C$7,7,A203,1,1)=\"Ja\",0.97,1))","v":1},{"$f":"IF(A203=\"\",\"\",OFFSET(Warmtevragers!$C$7,10,A203,1,1))","v":0}]
[196,"Warmtevrager 197",{"$f":"IF(A204=\"\",\"\",OFFSET(Warmtevragers!$C$7,2,A204,1,1))","v":0},{"$f":"IF(A204=\"\",\"\",OFFSET(Warmtevragers!$C$7,30,A204,1,1))","v":0},{"$f":"IF(A204=\"\",\"\",OFFSET(Warmtevragers!$C$7,5,A204,1,1))","v":0},{"$f":"IF(A204=\"\",\"\",OFFSET(Warmtevragers!$C$7,6,A204,1,1))","v":0},{"$f":"IF(OR(F204=Keuzelijsten!$A$65,F204=Keuzelijsten!$A$66),(IF(A204=\"\",\"\",OFFSET(Warmtevragers!$C$7,8,A204,1,1))),\"Nee\")","v":"Nee"},{"$f":"IF(OR(F204=Keuzelijsten!$A$65,F204=Keuzelijsten!$A$66),(IF(A204=\"\",\"\",OFFSET(Warmtevragers!$C$7,9,A204,1,1))),\"Nee\")","v":"Nee"},{"$f":"IF(OR(F204=Keuzelijsten!$A$66),(IF(A204=\"\",\"\",OFFSET(Warmtevragers!$C$7,10,A204,1,1))),\"Nee\")","v":"Nee"},{"$f":"IF(OR(F204=Keuzelijsten!$A$66),(IF(A204=\"\",\"\",OFFSET(Warmtevragers!$C$7,11,A204,1,1))),\"Nee\")","v":"Nee"},{"$f":"IF(A204=\"\",\"\",IF(OFFSET(Warmtevragers!$C$7,7,A204,1,1)=\"Ja\",0.97,1))","v":1},{"$f":"IF(A204=\"\",\"\",OFFSET(Warmtevragers!$C$7,10,A204,1,1))","v":0}]
[197,"Warmtevrager 198",{"$f":"IF(A205=\"\",\"\",OFFSET(Warmtevragers!$C$7,2,A205,1,1))","v":0},{"$f":"IF(A205=\"\",\"\",OFFSET(Warmtevragers!$C$7,30,A205,1,1))","v":0},{"$f":"IF(A205=\"\",\"\",OFFSET(Warmtevragers!$C$7,5,A205,1,1))","v":0},{"$f":"IF(A205=\"\",\"\",OFFSET(Warmtevragers!$C$7,6,A205,1,1))","v":0},{"$f":"IF(OR(F205=Keuzelijsten!$A$65,F205=Keuzelijsten!$A$66),(IF(A205=\"\",\"\",OFFSET(Warmtevragers!$C$7,8,A205,1,1))),\"Nee\")","v":"Nee"},{"$f":"IF(OR(F205=Keuzelijsten!$A$65,F205=Keuzelijsten!$A$66),(IF(A205=\"\",\"\",OFFSET(Warmtevragers!$C$7,9,A205,1,1))),\"Nee\")","v":"Nee"},{"$f":"IF(OR(F205=Keuzelijsten!$A$66),(IF(A205=\"\",\"\",OFFSET(Warmtevragers!$C$7,10,A205,1,1))),\"Nee\")","v":"Nee"},{"$f":"IF(OR(F205=Keuzelijsten!$A$66),(IF(A205=\"\",\"\",OFFSET(Warmtevragers!$C$7,11,A205,1,1))),\"Nee\")","v":"Nee"},{"$f":"IF(A205=\"\",\"\",IF(OFFSET(Warmtevragers!$C$7,7,A205,1,1)=\"Ja\",0.97,1))","v":1},{"$f":"IF(A205=\"\",\"\",OFFSET(Warmtevragers!$C$7,10,A205,1,1))","v":0}]
[198,"Warmtevrager 199",{"$f":"IF(A206=\"\",\"\",OFFSET(Warmtevragers!$C$7,2,A206,1,1))","v":0},{"$f":"IF(A206=\"\",\"\",OFFSET(Warmtevragers!$C$7,30,A206,1,1))","v":0},{"$f":"IF(A206=\"\",\"\",OFFSET(Warmtevragers!$C$7,5,A206,1,1))","v":0},{"$f":"IF(A206=\"\",\"\",OFFSET(Warmtevragers!$C$7,6,A206,1,1))","v":0},{"$f":"IF(OR(F206=Keuzelijsten!$A$65,F206=Keuzelijsten!$A$66),(IF(A206=\"\",\"\",OFFSET(Warmtevragers!$C$7,8,A206,1,1))),\"Nee\")","v":"Nee"},{"$f":"IF(OR(F206=Keuzelijsten!$A$65,F206=Keuzelijsten!$A$66),(IF(A206=\"\",\"\",OFFSET(Warmtevragers!$C$7,9,A206,1,1))),\"Nee\")","v":"Nee"},{"$f":"IF(OR(F206=Keuzelijsten!$A$66),(IF(A206=\"\",\"\",OFFSET(Warmtevragers!$C$7,10,A206,1,1))),\"Nee\")","v":"Nee"},{"$f":"IF(OR(F206=Keuzelijsten!$A$66),(IF(A206=\"\",\"\",OFFSET(Warmtevragers!$C$7,11,A206,1,1))),\"Nee\")","v":"Nee"},{"$f":"IF(A206=\"\",\"\",IF(OFFSET(Warmtevragers!$C$7,7,A206,1,1)=\"Ja\",0.97,1))","v":1},{"$f":"IF(A206=\"\",\"\",OFFSET(Warmtevragers!$C$7,10,A206,1,1))","v":0}]
[199,"Warmtevrager 200",{"$f":"IF(A207=\"\",\"\",OFFSET(Warmtevragers!$C$7,2,A207,1,1))","v":0},{"$f":"IF(A207=\"\",\"\",OFFSET(Warmtevragers!$C$7,30,A207,1,1))","v":0},{"$f":"IF(A207=\"\",\"\",OFFSET(Warmtevragers!$C$7,5,A207,1,1))","v":0},{"$f":"IF(A207=\"\",\"\",OFFSET(Warmtevragers!$C$7,6,A207,1,1))","v":0},{"$f":"IF(OR(F207=Keuzelijsten!$A$65,F207=Keuzelijsten!$A$66),(IF(A207=\"\",\"\",OFFSET(Warmtevragers!$C$7,8,A207,1,1))),\"Nee\")","v":"Nee"},{"$f":"IF(OR(F207=Keuzelijsten!$A$65,F207=Keuzelijsten!$A$66),(IF(A207=\"\",\"\",OFFSET(Warmtevragers!$C$7,9,A207,1,1))),\"Nee\")","v":"Nee"},{"$f":"IF(OR(F207=Keuzelijsten!$A$66),(IF(A207=\"\",\"\",OFFSET(Warmtevragers!$C$7,10,A207,1,1))),\"Nee\")","v":"Nee"},{"$f":"IF(OR(F207=Keuzelijsten!$A$66),(IF(A207=\"\",\"\",OFFSET(Warmtevragers!$C$7,11,A207,1,1))),\"Nee\")","v":"Nee"},{"$f":"IF(A207=\"\",\"\",IF(OFFSET(Warmtevragers!$C$7,7,A207,1,1)=\"Ja\",0.97,1))","v":1},{"$f":"IF(A207=\"\",\"\",OFFSET(Warmtevragers!$C$7,10,A207,1,1))","v":0}]

{"sheet":"Qlossdist,dh","index":13,"n_rows":57,"n_cols":3,"rows_kept":57,"cut":false,"hidden":true,"merged":[[0,1,0,2],[1,1,1,2],[2,1,2,2],[4,1,4,2],[5,1,5,2]]}
[null,"Lineaire warmteverliezen"]
[]
[null,"1. De hoeveelheid warmte die jaarlijks verloren gaat in het systeem van externe warmtelevering te wijten aan lineaire warmteverliezen"]
[null,"Qlossdist,dh [MJ]",{"$f":"'Warmteverliezen lineair'!B4","v":0}]
[]
["verbergen","2. Het maandelijkse verdeelverlies van leidingsegment n"]
[null,"Naam","Qdistr,heat,netw,n,a [MJ]"]
[0,{"$f":"\"Segment \"&A8+1","v":"Segment 1"},{"$f":"OFFSET('Warmteverliezen lineair'!$C$25,0,'Qlossdist,dh'!A8,1,1)","v":0}]
[{"$f":"A8+1","v":1},"Segment 2",{"$f":"OFFSET('Warmteverliezen lineair'!$C$25,0,'Qlossdist,dh'!A9,1,1)","v":0}]
[2,"Segment 3",{"$f":"OFFSET('Warmteverliezen lineair'!$C$25,0,'Qlossdist,dh'!A10,1,1)","v":0}]
[3,"Segment 4",{"$f":"OFFSET('Warmteverliezen lineair'!$C$25,0,'Qlossdist,dh'!A11,1,1)","v":0}]
[4,"Segment 5",{"$f":"OFFSET('Warmteverliezen lineair'!$C$25,0,'Qlossdist,dh'!A12,1,1)","v":0}]
[5,"Segment 6",{"$f":"OFFSET('Warmteverliezen lineair'!$C$25,0,'Qlossdist,dh'!A13,1,1)","v":0}]
[6,"Segment 7",{"$f":"OFFSET('Warmteverliezen lineair'!$C$25,0,'Qlossdist,dh'!A14,1,1)","v":0}]
[7,"Segment 8",{"$f":"OFFSET('Warmteverliezen lineair'!$C$25,0,'Qlossdist,dh'!A15,1,1)","v":0}]
[8,{"$f":"\"Segment \"&A16+1","v":"Segment 9"},{"$f":"OFFSET('Warmteverliezen lineair'!$C$25,0,'Qlossdist,dh'!A16,1,1)","v":0}]
[9,"Segment 10",{"$f":"OFFSET('Warmteverliezen lineair'!$C$25,0,'Qlossdist,dh'!A17,1,1)","v":0}]
[10,"Segment 11",{"$f":"OFFSET('Warmteverliezen lineair'!$C$25,0,'Qlossdist,dh'!A18,1,1)","v":0}]
[11,"Segment 12",{"$f":"OFFSET('Warmteverliezen lineair'!$C$25,0,'Qlossdist,dh'!A19,1,1)","v":0}]
[12,"Segment 13",{"$f":"OFFSET('Warmteverliezen lineair'!$C$25,0,'Qlossdist,dh'!A20,1,1)","v":0}]
[13,"Segment 14",{"$f":"OFFSET('Warmteverliezen lineair'!$C$25,0,'Qlossdist,dh'!A21,1,1)","v":0}]
[14,"Segment 15",{"$f":"OFFSET('Warmteverliezen lineair'!$C$25,0,'Qlossdist,dh'!A22,1,1)","v":0}]
[15,"Segment 16",{"$f":"OFFSET('Warmteverliezen lineair'!$C$25,0,'Qlossdist,dh'!A23,1,1)","v":0}]
[16,"Segment 17",{"$f":"OFFSET('Warmteverliezen lineair'!$C$25,0,'Qlossdist,dh'!A24,1,1)","v":0}]
[17,"Segment 18",{"$f":"OFFSET('Warmteverliezen lineair'!$C$25,0,'Qlossdist,dh'!A25,1,1)","v":0}]
[18,"Segment 19",{"$f":"OFFSET('Warmteverliezen lineair'!$C$25,0,'Qlossdist,dh'!A26,1,1)","v":0}]
[19,"Segment 20",{"$f":"OFFSET('Warmteverliezen lineair'!$C$25,0,'Qlossdist,dh'!A27,1,1)","v":0}]
[20,"Segment 21",{"$f":"OFFSET('Warmteverliezen lineair'!$C$25,0,'Qlossdist,dh'!A28,1,1)","v":0}]
[21,"Segment 22",{"$f":"OFFSET('Warmteverliezen lineair'!$C$25,0,'Qlossdist,dh'!A29,1,1)","v":0}]
[22,"Segment 23",{"$f":"OFFSET('Warmteverliezen lineair'!$C$25,0,'Qlossdist,dh'!A30,1,1)","v":0}]
[23,"Segment 24",{"$f":"OFFSET('Warmteverliezen lineair'!$C$25,0,'Qlossdist,dh'!A31,1,1)","v":0}]
[24,"Segment 25",{"$f":"OFFSET('Warmteverliezen lineair'!$C$25,0,'Qlossdist,dh'!A32,1,1)","v":0}]
[25,"Segment 26",{"$f":"OFFSET('Warmteverliezen lineair'!$C$25,0,'Qlossdist,dh'!A33,1,1)","v":0}]
[26,"Segment 27",{"$f":"OFFSET('Warmteverliezen lineair'!$C$25,0,'Qlossdist,dh'!A34,1,1)","v":0}]
[27,"Segment 28",{"$f":"OFFSET('Warmteverliezen lineair'!$C$25,0,'Qlossdist,dh'!A35,1,1)","v":0}]
[28,"Segment 29",{"$f":"OFFSET('Warmteverliezen lineair'!$C$25,0,'Qlossdist,dh'!A36,1,1)","v":0}]
[29,"Segment 30",{"$f":"OFFSET('Warmteverliezen lineair'!$C$25,0,'Qlossdist,dh'!A37,1,1)","v":0}]
[30,"Segment 31",{"$f":"OFFSET('Warmteverliezen lineair'!$C$25,0,'Qlossdist,dh'!A38,1,1)","v":0}]
[31,"Segment 32",{"$f":"OFFSET('Warmteverliezen lineair'!$C$25,0,'Qlossdist,dh'!A39,1,1)","v":0}]
[32,"Segment 33",{"$f":"OFFSET('Warmteverliezen lineair'!$C$25,0,'Qlossdist,dh'!A40,1,1)","v":0}]
[33,"Segment 34",{"$f":"OFFSET('Warmteverliezen lineair'!$C$25,0,'Qlossdist,dh'!A41,1,1)","v":0}]
[34,"Segment 35",{"$f":"OFFSET('Warmteverliezen lineair'!$C$25,0,'Qlossdist,dh'!A42,1,1)","v":0}]
[35,"Segment 36",{"$f":"OFFSET('Warmteverliezen lineair'!$C$25,0,'Qlossdist,dh'!A43,1,1)","v":0}]
[36,"Segment 37",{"$f":"OFFSET('Warmteverliezen lineair'!$C$25,0,'Qlossdist,dh'!A44,1,1)","v":0}]
[37,"Segment 38",{"$f":"OFFSET('Warmteverliezen lineair'!$C$25,0,'Qlossdist,dh'!A45,1,1)","v":0}]
[38,"Segment 39",{"$f":"OFFSET('Warmteverliezen lineair'!$C$25,0,'Qlossdist,dh'!A46,1,1)","v":0}]
[39,"Segment 40",{"$f":"OFFSET('Warmteverliezen lineair'!$C$25,0,'Qlossdist,dh'!A47,1,1)","v":0}]
[40,"Segment 41",{"$f":"OFFSET('Warmteverliezen lineair'!$C$25,0,'Qlossdist,dh'!A48,1,1)","v":0}]
[41,"Segment 42",{"$f":"OFFSET('Warmteverliezen lineair'!$C$25,0,'Qlossdist,dh'!A49,1,1)","v":0}]
[42,"Segment 43",{"$f":"OFFSET('Warmteverliezen lineair'!$C$25,0,'Qlossdist,dh'!A50,1,1)","v":0}]
[43,"Segment 44",{"$f":"OFFSET('Warmteverliezen lineair'!$C$25,0,'Qlossdist,dh'!A51,1,1)","v":0}]
[44,"Segment 45",{"$f":"OFFSET('Warmteverliezen lineair'!$C$25,0,'Qlossdist,dh'!A52,1,1)","v":0}]
[45,"Segment 46",{"$f":"OFFSET('Warmteverliezen lineair'!$C$25,0,'Qlossdist,dh'!A53,1,1)","v":0}]
[46,"Segment 47",{"$f":"OFFSET('Warmteverliezen lineair'!$C$25,0,'Qlossdist,dh'!A54,1,1)","v":0}]
[47,"Segment 48",{"$f":"OFFSET('Warmteverliezen lineair'!$C$25,0,'Qlossdist,dh'!A55,1,1)","v":0}]
[48,"Segment 49",{"$f":"OFFSET('Warmteverliezen lineair'!$C$25,0,'Qlossdist,dh'!A56,1,1)","v":0}]
[49,"Segment 50",{"$f":"OFFSET('Warmteverliezen lineair'!$C$25,0,'Qlossdist,dh'!A57,1,1)","v":0}]