Workbook
Name C_01: ComboValue!$AB$2
Name C_01b: ComboValue!$AC$2
Name C_02: ComboValue!$AD$2
Name C_03: ComboValue!$AE$2
Name C_04: ComboValue!$AF$2
Name C_05: ComboValue!$AG$2
Name C_06: ComboValue!$AH$2:$AH$4
Name C_07: ComboValue!$AI$2:$AI$4
Name C_08: ComboValue!$AJ$2
Name C_09: ComboValue!$AK$2
Name C_10: ComboValue!$AL$2
Name C_11: ComboValue!$AM$2
Name C_12: ComboValue!$AN$2
Name C_13: ComboValue!$AO$2
Name C_14: ComboValue!$AP$2
Name C_15: ComboValue!$AQ$2
Name C_16: ComboValue!$AR$2
Name C_17: ComboValue!$AS$2
Name CMR: #REF!
Name Critère: #REF!
Name D_01: ComboValue!$AB$8
Name D_01b: ComboValue!$AC$8
Name D_02: ComboValue!$AD$8
Name D_03: ComboValue!$AE$8
Name D_04: ComboValue!$AF$8
Name D_05: ComboValue!$AG$8
Name D_06: ComboValue!$AH$8:$AH$10
Name D_07: ComboValue!$AI$8:$AI$10
Name D_08: ComboValue!$AJ$8
Name D_09: ComboValue!$AK$8
Name D_10: ComboValue!$AL$8
Name D_11: ComboValue!$AM$8
Name D_12: ComboValue!$AN$8
Name D_13: ComboValue!$AO$8
Name D_14: ComboValue!$AP$8
Name Gaz_Fr: ComboValue!$D$2:$D$5
Name Gaz_Nl: ComboValue!$E$2:$E$5
Name Inventaire: #REF!
Name Prods: #REF!
Name Produit: #REF!
Name Tous_Fr: ComboValue!$D$2:$D$18
Name Tous_Nl: ComboValue!$E$2:$E$18

Sheet 0. Mode d'emploi
A1: v2026.2.0 - juin2026
A2: 0. MODE D'EMPLOI
A4: 1. Lieux et Conditionnements
A5: Connaître où (lieux) et comment (conditionnements) vos produits dangereux sont stockés nous permet de mieux préparer les visites potentielles de votre exploitation par l'administration, tout en établissant de manière préliminaire si une étude de sol devra être rélalisée ou non. Pour plus de facilité pour le demandeur, ces informations ne doivent pas être associées directement aux produits dangereux. --> Cet onglet doit être rempli par vos soins.
A7: 2. Inventaire
A8: Cet onglet est le plus important ! Il reprend, ligne par ligne, l'ensemble des produits dangereux présents dans votre exploitation. Les déchets dangereux ne doivent pas y être recensés. Un guide pour compléter l'inventaire est également disponible via un lien hypertexte situé en haut de la page 2. Inventaire. Voici quelques principes à suivre lorsque vous remplissez cet onglet: 1. Un seul produit doit être renseigné par ligne 2. Les colonnes "A. Nom (ou "famille") de produits dangereux", "B. Pictogramme de danger", "C. Type de produit dangereux", "D. Point d'éclair (en °C)" et "E. Quantité maximale stockée" doivent toujours être remplies, pour chaque produit dangereux. 3. Vous devez remplir autant de colonnes "B. Pictogramme de danger" que de pictogrammes associés au produit dangereux concerné (ex: si votre produit présente 3 pictogrammes sur la bouteille, il convient de remplir 3 colonnes différentes avec les pictogrammes associés). Remarque : La mention "Pas de pictogramme de danger" ne concerne que des produits dont l'étiquette/la fiche de données de sécurité ne présente pas de pictogrammes de danger mais présente bien des codes de mention de danger. Elle ne doit pas être sélectionnée pour un produit non classé comme dangereux. En effet, l’inventaire ne doit recenser que les produits dangereux. 4. La colonne R. "Devez-vous remplir les codes de mentions danger associés à ce produit ?" vous indique si les colonnes suivantes ("F. Code de mention de danger du produit (H suivi de chiffres)") doivent être remplies pour ce produit. 5. Les codes H peuvent être trouvés dans la fiche de données de sécurité du produit (rubrique 2). Il convient (comme pour les pictogrammes) de remplir autant de colonnes que de codes H associés au produit. 6. Merci de ne pas laisser de lignes vides entre les différents produits renseignés. --> Cet onglet doit être rempli par vos soins.
A10: 3. Produits Particulièrement Préoccupants
A11: La présence de certains Codes H qui indique la présence de propriétés particulèrement dangereuses pour les personnes ou pour l'environnement. (ex: H350 - peut provoquer le cancer). Ces produits-là nécessitent une attention particulière et plus d'informations doivent nous être envoyées afin d'assurer une sécurité suffisante dans votre exploitation et sur le long terme. /!\ Seuls les produits effectivements utilisés sont concernés par cet onglet (à l'inverse des produits qui ne sont que stockés). Les fiches de données de sécurité associées à ces produits doivent nous être envoyées en même temps que cet inventaire. --> Cet onglet doit être rempli par vos soins.
A13: 4. Erreurs
A14: Pointe vers les erreurs les plus classiques dans le remplissage de l'inventaire. Permet d'éviter des aller-retours entre vous et l'administration. Référez-vous aux numéros de produits indiqués dans cet onglet et vérifiez les informations que vous avez encodées. --> Vous devez consulter cet onglet mais ne devez pas y encoder d'informations.
A16: 5. Résultats
A17: Le but premier de cet inventaire est de détecter la présence de certains types de dépôt de produits dangereux qui, selon les quantités stockées, peuvent être assimilés à des installations classées. Dans ce cas, il sera nécessaire d'ajouter à votre demande de permis les rubriques indiquées dans cet onglet. La classe (1B-2-3) de permis demandé peut elle aussi évoluer en fonction de la classe des installations détectées. En parallèle, cet onglet résume les produits particulèrement préoccupants présents dans votre exploitation (et vous rappelle votre obligation de nous fournir la fiche de données de sécurité associée) ainsi que les quantités totales de produits, classées par pictogramme de danger, information qui sera utile à l'élaboration des conditions d'exploitation de votre permis, ainsi qu'aux services de pompiers en cas d'intervention dans votre exploitation. --> Vous devez consulter cet onglet mais ne devez pas y encoder d'informations.

Sheet Conditionnement
A1: Inventaire produits dangereux : FEUILLE A REMPLIR - Conditionnement(s)
A4: Conditionnement (choix 1)
A5: Conditionnement (choix 2)
A6: Conditionnement (choix 3)
A7: Conditionnement (choix 4)
A8: Conditionnement (choix 5)
A9: Conditionnement (choix 6)
A10: Conditionnement (choix 7)
A11: Conditionnement (choix 8)
A12: Id_C | B12: =IF(ISBLANK(B4),"",VLOOKUP(B4,ComboValue!$U$2:$W$9,3,FALSE) & ",") & IF(ISBLANK(B5),"",VLOOKUP(B5,ComboValue!$U$2:$W$9,3,FALSE) & ",") & IF(ISBLANK(B6),"",VLOOKUP(B6,ComboValue!$U$2:$W$9,3,FALSE) & ",") & IF(ISBLANK(B7),"",VLOOKUP(B7,ComboValue!$U$2:$W$9,3,FALSE) & ",") & IF(ISBLANK(B8),"",VLOOKUP(B8,ComboValue!$U$2:$W$9,3,FALSE) & ",") & IF(ISBLANK(B9),"",VLOOKUP(B9,ComboValue!$U$2:$W$9,3,FALSE) & ",") & IF(ISBLANK(B10),"",VLOOKUP(B10,ComboValue!$U$2:$W$9,3,FALSE) & ",") & IF(ISBLANK(B11),"",VLOOKUP(B11,ComboValue!$U$2:$W$9,3,FALSE) & ",")
A15: Note :

Sheet 1. Lieux et conditionnements
B2: 1a. Lieu(x) de stockage
A3: Lieu (choix 1)
A4: Lieu (choix 2)
A5: Lieu (choix 3)
A6: Lieu (choix 4)
A7: Lieu (choix 5)
A8: Lieu (choix 6)
A9: Lieu (choix 7)
A10: Lieu (choix 8)
A11: Lieu (choix 9)
A12: Id_L | B12: =IF(ISBLANK(B3),"",VLOOKUP(B3,ComboValue!$X$2:$Z$10,3,FALSE) & ",") & IF(ISBLANK(B4),"",VLOOKUP(B4,ComboValue!$X$2:$Z$10,3,FALSE) & ",") & IF(ISBLANK(B5),"",VLOOKUP(B5,ComboValue!$X$2:$Z$10,3,FALSE) & ",") & IF(ISBLANK(B6),"",VLOOKUP(B6,ComboValue!$X$2:$Z$10,3,FALSE) & ",") & IF(ISBLANK(B7),"",VLOOKUP(B7,ComboValue!$X$2:$Z$10,3,FALSE) & ",") & IF(ISBLANK(B9),"",VLOOKUP(B9,ComboValue!$X$2:$Z$10,3,FALSE) & ",") & IF(ISBLANK(#REF!),"",VLOOKUP(#REF!,ComboValue!$X$2:$Z$10,3,FALSE) & ",") & IF(ISBLANK(B10),"",VLOOKUP(B10,ComboValue!$X$2:$Z$10,3,FALSE) & ",") & IF(ISBLANK(B11),"",VLOOKUP(B11,ComboValue!$X$2:$Z$10,3,FALSE) & ",") -> #REF!
A14: Note : Bruxelles Environnement a besoin de connaître les différents lieux où seront stockés vos produits dangereux, et ce afin de pouvoir visiter ces lieux lors d'une potentielle visite. De plus, selon les quantités entreposées dans certains lieux, certaines conditions d'exploitation supplémentaires devront être rédigées.
B18: 1b. Conditionnement(s)
A19: Conditionnement (choix 1)
A20: Conditionnement (choix 2)
A21: Conditionnement (choix 3)
A22: Conditionnement (choix 4)
A23: Conditionnement (choix 5)
A24: Conditionnement (choix 6)
A25: Conditionnement (choix 7)
A26: Conditionnement (choix 8)
A27: Id_C | B27: =IF(ISBLANK(B19),"",VLOOKUP(B19,ComboValue!$U$2:$W$9,3,FALSE) & ",") & IF(ISBLANK(B20),"",VLOOKUP(B20,ComboValue!$U$2:$W$9,3,FALSE) & ",") & IF(ISBLANK(B21),"",VLOOKUP(B21,ComboValue!$U$2:$W$9,3,FALSE) & ",") & IF(ISBLANK(B22),"",VLOOKUP(B22,ComboValue!$U$2:$W$9,3,FALSE) & ",") & IF(ISBLANK(B23),"",VLOOKUP(B23,ComboValue!$U$2:$W$9,3,FALSE) & ",") & IF(ISBLANK(B24),"",VLOOKUP(B24,ComboValue!$U$2:$W$9,3,FALSE) & ",") & IF(ISBLANK(B25),"",VLOOKUP(B25,ComboValue!$U$2:$W$9,3,FALSE) & ",") & IF(ISBLANK(B26),"",VLOOKUP(B26,ComboValue!$U$2:$W$9,3,FALSE) & ",")
A29: Note : Le stockage de produits dangereux peut entraîner l'obligation de réaliser une étude de sol afin de s'assurer que vos produits dangereux n'en impactent pas la qualité. En choisissant un conditionnement approprié, vous pourrez potentiellement être exempté de cette obligation.

Sheet 2. Inventaire
C1: 2. INVENTAIRE | G1: Si plus de 4 pictogrammes des danger sont associés à un produit, utilisez le [+] ci-dessus pour afficher plus de colonnes | V1: Si plus de 6 code de mention de danger sont associés à un produit, utiliser le [+] ci-dessus pour afficher plus de colonnes
B2: Pour vous aider à remplir cet inventaire, un guide est disponible via le lien suivant. Il comporte notamment des spécificités importantes pour les magasins de vente de produits de bricolage, d’entretien ou de nettoyage - les supermarchés et les hypermarchés.
B3: (Numéro du produit) | C3: A. Nom ou "famille" de produits dangereux | D3: B. Pictogramme de danger (choix 1) | E3: B. Pictogramme de danger (choix 2) | F3: B. Pictogramme de danger (choix 3) | G3: B. Pictogramme de danger (choix 4) | H3: B. Pictogramme de danger (choix 5) | I3: B. Pictogramme de danger (choix 6) | J3: B. Pictogramme de danger (choix 7) | K3: B. Pictogramme de danger (choix 8) | L3: B. Pictogramme de danger (choix 9) | M3: C. Type de produit dangereux | N3: D. Point d'éclair (en °C) | O3: E. Quantité maximale stockée | P3: (Unité) | Q3: Commentaires | R3: Devez-vous remplir les codes de mentions danger associés à ce produit ? | S3: F. Code de mention de danger du produit (H suivi de chiffres) (choix 1) | T3: F. Code de mention de danger du produit (H suivi de chiffres) (choix 2) | U3: F. Code de mention de danger du produit (H suivi de chiffres) (choix 3) | V3: F. Code de mention de danger du produit (H suivi de chiffres) (choix 4) | W3: F. Code de mention de danger du produit (H suivi de chiffres) (choix 5) | X3: F. Code de mention de danger du produit (H suivi de chiffres) (choix 6) | Y3: F. Code de mention de danger du produit (H suivi de chiffres) (choix 7) | Z3: F. Code de mention de danger du produit (H suivi de chiffres) (choix 8) | AA3: F. Code de mention de danger du produit (H suivi de chiffres) (choix 9) | AB3: F. Code de mention de danger du produit (H suivi de chiffres) (choix 10) | AC3: F. Code de mention de danger du produit (H suivi de chiffres) (choix 11) | AD3: F. Code de mention de danger du produit (H suivi de chiffres) (choix 12) | AE3: F. Code de mention de danger du produit (H suivi de chiffres) (choix 13) | AF3: F. Code de mention de danger du produit (H suivi de chiffres) (choix 14) | AG3: F. Code de mention de danger du produit (H suivi de chiffres) (choix 15) | AH3: F. Code de mention de danger du produit (H suivi de chiffres) (choix 16) | AI3: F. Code de mention de danger du produit (H suivi de chiffres) (choix 17) | AJ3: F. Code de mention de danger du produit (H suivi de chiffres) (choix 18) | AK3: F. Code de mention de danger du produit (H suivi de chiffres) (choix 19) | AL3: F. Code de mention de danger du produit (H suivi de chiffres) (choix 20) | AM3: F. Code de mention de danger du produit (H suivi de chiffres) (choix 21) | AN3: F. Code de mention de danger du produit (H suivi de chiffres) (choix 22) | AO3: F. Code de mention de danger du produit (H suivi de chiffres) (choix 23) | AP3: F. Code de mention de danger du produit (H suivi de chiffres) (choix 24) | AQ3: F. Code de mention de danger du produit (H suivi de chiffres) (choix 25) | AR3: F. Code de mention de danger du produit (H suivi de chiffres) (choix 26) | AS3: F. Code de mention de danger du produit (H suivi de chiffres) (choix 27) | AT3: F. Code de mention de danger du produit (H suivi de chiffres) (choix 28) | AU3: F. Code de mention de danger du produit (H suivi de chiffres) (choix 29) | AV3: F. Code de mention de danger du produit (H suivi de chiffres) (choix 30) | AX3: Id_Picto | AY3: Liste déroulante TPD | AZ3: Id_TPD | BA3: Id_PE | BB3: Id_H | BC3: Id_Err | BE3: SGH01 (bombe explosant) | BF3: SGH02 (flamme) | BG3: SGH03 ( flamme au-dessus d'un cercle) | BH3: SGH04 (bouteille à gaz) | BI3: SGH05 (corrosion) | BJ3: SGH06 (tête de mort sur 2 tibias) | BK3: SGH07 (point d'exclamation) | BL3: SGH08 (danger pour la santé) | BM3: SGH09 (environnement) | BN3: pas de pictogramme | BO3: Résid. SGH02 (= SGH02) | BP3: Résid SGH05 (SGH05 - rédid SGH06) | BQ3: Résid SGH06 (SGH06 - résid SGH02) | BR3: Résid SGH07 (SGH07 - résid SGH08) | BS3: Résid SGH08 (SGH08 - résid SGH05) | BT3: Résid SGH09 (SGH09 - résid SGH07) | BU3: Gaz : dépôts fixes (rub. 72 1°) | BV3: Gaz : gaz d'extinction (rub. 72 2°) | BW3: Gaz : dépôts mobiles (rub. 74 1°) | BX3: Gaz : aérosols (rub. 74 2°) | BY3: "Liquides inflammables : autres (dépôt enfoui) (<21°C)" + "Liquides inflammables : essence (dépôt enfoui) (<21°C)" (rub. 88 1°(enfoui)) | BZ3: "Liquides inflammables : autres (dépôt non enfoui) (<21°C)" + "Liquides inflammables : essence (dépôt non enfoui) (<21°C)" (rub. 88 1°(non enfoui)) | CA3: Liquides inflammables : autres (dépôt enfoui) (>21°C <55°C) (rub. 88 2°(enfoui)) | CB3: Liquides inflammables : autres (dépôt non enfoui) (>21°C <55°C) (rub. 88 2°(non enfoui)) | CC3: "Liquides inflammables : autres (dépôt enfoui) (>55°C <100°C)" + "Produits spécifiques : diesel, mazout, fioul, gazole (dépôt enfoui et/ou approvisionnement véhicules) (>55°C <100°C)" (rub. 88 3°(enfoui/véhicules)) | CD3: "Liquides inflammables : autres (dépôt non enfoui) (>55°C <100°C)" + "Produits spécifiques : diesel, mazout, fioul, gazole (dépôt non enfoui) (>55°C <100°C)" (rub. 88 3° (non enfoui)) | CE3: Produits spécifiques : fuel lourd, huiles minérales ou synthétiques et liquides analogue (dépôt enfoui et/ou approvisionnement véhicules) (rub. 88 4°(enfoui/véhicules)) | CF3: Produits spécifiques : fuel lourd, huiles minérales ou synthétiques et liquides analogue (dépôt non enfoui) (rub.88 4°(non enfoui)) | CG3: Produits spécifiques : produits phytopharmaceutiques (à usage professionnel) (rub. 112 pro) | CH3: Produits spécifiques : produits phytopharmaceutiques (à usage non professionnel destiné à la vente) (rub. 112 non-pro) | CI3: Produits spécifiques : produits phytopharmaceutiques (à usage non professionnel destiné au stockage) (rub. 112 non-pro) | CJ3: Substances annexes 14 REACH | CK3: Substances ou mélanges dangereux non repris sous une autre rubrique (H302, H304, ….) (uniquement infl/noc/irr) (rub. 121 1°) | CL3: Substances ou mélanges dangereux non repris sous une autre rubrique (H200, H201, ….) (autre que infl/noc/irr) (rub. 121 2°) | CM3: Danger pour la santé (CMR, mortels, sensibilisants) | CN3: Danger pour l'environnement | CO3: Perturbateurs endocriniens | CP3: Produits chimiques persistants | CQ3: Substances Annexe XIV de REACH | CR3: Produits Préoccupants | CS3: SGH01 (bombe explosant) | CT3: SGH02 (flamme) | CU3: SGH03 ( flamme au-dessus d'un cercle) | CV3: SGH04 (bouteille à gaz) | CW3: SGH05 (corrosion) | CX3: SGH06 (tête de mort sur 2 tibias) | CY3: SGH07 (point d'exclamation) | CZ3: SGH08 (danger pour la santé) | DA3: SGH09 (environnement) | DB3: pas de pictogramme | DC3: Erreur 01 | DD3: Erreur 02 | DE3: Erreur 03 | DF3: Erreur 04
B4: choix automatique | C4: champ libre à encoder | D4: liste déroulante | E4: liste déroulante | F4: liste déroulante | G4: liste déroulante | H4: liste déroulante | I4: liste déroulante | J4: liste déroulante | K4: liste déroulante | L4: liste déroulante | M4: liste déroulante (14 options) | N4: liste déroulante | O4: champ libre à encoder | P4: choix automatique | Q4: Colonne libre | R4: Automatique | S4: liste déroulante | T4: liste déroulante | U4: liste déroulante | V4: liste déroulante | W4: liste déroulante | X4: liste déroulante | Y4: liste déroulante | Z4: liste déroulante | AA4: liste déroulante | AB4: liste déroulante | AC4: liste déroulante | AD4: liste déroulante | AE4: liste déroulante | AF4: liste déroulante | AG4: liste déroulante | AH4: liste déroulante | AI4: liste déroulante | AJ4: liste déroulant | AK4: liste déroulante | AL4: liste déroulant | AM4: liste déroulante | AN4: liste déroulante | AO4: liste déroulante | AP4: liste déroulante | AQ4: liste déroulante | AR4: liste déroulante | AS4: liste déroulante | AT4: liste déroulante | AU4: liste déroulante | AV4: liste déroulante | AX4: choix automatique | AY4: choix automatique | AZ4: choix automatique | BA4: choix automatique | BB4: choix automatique | BC4: choix automatique
B5: Ex. | C5: Exemple: Butane | D5: SGH02 (flamme) | E5: SGH04 (bouteille à gaz) | M5: Gaz : dépôts fixes | N5: Pas d'application | O5: 3000 | P5: litres | R5: OUI --> remplir les codes H NON --> ne pas remplir les codes H | S5: H220 : Gaz extrêmement inflammable | T5: H280 : Contient un gaz sous pression ; peut exploser sous l’effet de la chaleur
B6: 1 | P6: =IF(ISBLANK(M6),"",VLOOKUP(M6,ComboValue!$D$2:$H$18,5,FALSE)) | R6: {=IF(OR(ISNUMBER(SEARCH("SGH05",$D6:$L6)),ISNUMBER(SEARCH("SGH06",$D6:$L6)),ISNUMBER(SEARCH("SGH07",$D6:$L6)),ISNUMBER(SEARCH("SGH08",$D6:$L6)),ISNUMBER(SEARCH("pas de pictogramme",$D6:$L6)),ISNUMBER(SEARCH("SGH09",$D6:$L6)),ISNUMBER(SEARCH("SGH03",$D6:$L6))),"OUI","NON")} -> NON | AX6: {=_xlfn.TEXTJOIN(",", TRUE, IF(D6:L6="","",VLOOKUP(D6:L6, ComboValue!$A$2:$C$11, 3, FALSE)))} | AY6: =IF(ISNUMBER(SEARCH("04",AX6)),"Gaz_Fr","Tous_Fr") -> Tous_Fr | AZ6: =IF(ISBLANK(M6),"",VLOOKUP(M6,ComboValue!$D$2:$F$18,3,FALSE)) | BA6: =IF(ISBLANK(N6),"",VLOOKUP(N6,ComboValue!$J$2:$L$5,3,FALSE)) | BB6: {=_xlfn.TEXTJOIN(",", TRUE, IF(S6:AV6="","",VLOOKUP(S6:AV6, ComboValue!$M$2:$O$100, 3, FALSE)))} | BC6: =IF(AND(ISNUMBER(SEARCH("04",AX6)),NOT(OR("C_01"=AZ6,"C_01b"=AZ6,"C_02"=AZ6,"C_03"=AZ6))),"01,","") & IF(OR(AND("C_01"=AZ6,NOT("04"=BA6)),AND("C_02"=AZ6,NOT("04"=BA6)),AND("C_03"=AZ6,NOT("04"=BA6)),AND("C_04"=AZ6,NOT("01"=BA6)),AND("C_05"=AZ6,NOT("01"=BA6)),AND("C_06"=AZ6,OR("04"=BA6,BA6="")),AND("C_07"=AZ6,OR("04"=BA6,BA6="")),AND("C_08"=AZ6,NOT("03"=BA6)),AND("C_09"=AZ6,NOT("03"=BA6)),AND("C_10"=AZ6,NOT("04"=BA6)),AND("C_11"=AZ6,NOT("04"=BA6)),AND("C_12"=AZ6,NOT("04"=BA6)),AND("C_13"=AZ6,NOT("04"=BA6)),AND("C_14"=AZ6,NOT("04"=BA6))),"02,","") & IF(AND(OR(ISNUMBER(SEARCH("11",BB6)),ISNUMBER(SEARCH("12",BB6))),NOT("01"=BA6)),"03,","") & IF(AND(ISNUMBER(SEARCH("13",BB6)),NOT("02"=BA6)),"04,","") | BE6: =IF(ISNUMBER(SEARCH("01",AX6)),O6,"") | BF6: =IF(ISNUMBER(SEARCH("02",AX6)),O6,"") | BG6: =IF(ISNUMBER(SEARCH("03",AX6)),O6,"") | BH6: =IF(ISNUMBER(SEARCH("04",AX6)),O6,"") | BI6: =IF(ISNUMBER(SEARCH("05",AX6)),O6,"") | BJ6: =IF(ISNUMBER(SEARCH("06",AX6)),O6,"") | BK6: =IF(ISNUMBER(SEARCH("07",AX6)),O6,"") | BL6: =IF(ISNUMBER(SEARCH("08",AX6)),O6,"") | BM6: =IF(ISNUMBER(SEARCH("09",AX6)),O6,"") | BN6: =IF(ISNUMBER(SEARCH("10",AX6)),O6,"") | BO6: =IF(BF6="",0,BF6) -> 0 | BP6: =IF(BI6="",0,BI6-BQ6-BO6) -> 0 | BQ6: =IF(BJ6="",0,BJ6-BO6) -> 0 | BR6: =IF(BK6="",0,BK6-BS6-BP6-BQ6-BO6) -> 0 | BS6: =IF(BK6="",0,BK6-BP6-BQ6-BO6) -> 0 | BT6: =IF(BL6="",0,BL6-BR6-BS6-BP6-BQ6-BO6) -> 0 | BU6: =IF(AZ6="C_01",O6,"") | BV6: =IF(AZ6="C_01b",O6,"") | BW6: =IF(AZ6="C_02",O6,"") | BX6: =IF(AZ6="C_03",O6,"") | BY6: =IF(AND(OR(AZ6="C_04",AZ6="C_06"),BA6="01"),O6,"") | BZ6: =IF(AND(OR(AZ6="C_05",AZ6="C_07"),BA6="01"),O6,"") | CA6: =IF(AND(AZ6="C_06",BA6="02"),O6,"") | CB6: =IF(AND(AZ6="C_07",BA6="02"),O6,"") | CC6: =IF(AND(OR(AZ6="C_06",AZ6="C_08"),BA6="03"),O6,"") | CD6: =IF(AND(OR(AZ6="C_07",AZ6="C_09"),BA6="03"),O6,"") | CE6: =IF(AZ6="C_10",O6,"") | CF6: =IF(AZ6="C_11",O6,"") | CG6: =IF(AZ6="C_12",O6,"") | CH6: =IF(AZ6="C_13",O6,"") | CI6: =IF(AZ6="C_14",O6,"") | CJ6: =IF(AZ6="C_15",O6,"") | CK6: {=IF(AND(AZ6="C_16", SUMPRODUCT(--ISNUMBER(SEARCH({"14","34","38","40","41","42","43","46","48","56","64","65"},BB6)))>0), O6-IF(ISNUMBER(CL6),CL6,0), "")} | CL6: {=IF(AND(AZ6="C_16", SUMPRODUCT(--ISNUMBER(SEARCH({"01";"02";"03";"04";"05";"06";"07";"08";"09";"10";"11";"12";"13";"15";"16";"17";"19";"20";"21";"22";"23";"24";"25";"26";"27";"28";"29";"30";"31";"32";"33";"35";"36";"37";"39";"44";"45";"47";"49";"50";"51";"52";"53";"54";"55";"57";"58";"59";"60";"61";"62";"63";"66";"67";"68";"69";"70";"71";"72";"73";"74";"75"}, BB6)))>0), O6, "")} | CM6: {=IF(SUMPRODUCT(--ISNUMBER(SEARCH({"32";"35";"36";"44";"45";"47";"50";"51";"52";"53";"54";"55";"57";"58";"59";"60"}, BB6)))>0, B6, "")} | CN6: {=IF(SUMPRODUCT(--ISNUMBER(SEARCH({"61";"62"}, BB6)))>0, B6, "")} | CO6: {=IF(SUMPRODUCT(--ISNUMBER(SEARCH({"68";"69";"70";"71"}, BB6)))>0, B6, "")} | CP6: {=IF(SUMPRODUCT(--ISNUMBER(SEARCH({"72";"73";"74";"75"}, BB6)))>0, B6, "")} | CQ6: =IF(ISNUMBER(SEARCH("REACH",M6)),B6,"") | CR6: =IF(OR(AZ6="C_15", CM6<>"",CN6<>"",CO6<>"",CP6<>""), "YES", "NO") -> NO | CS6: =IF(ISNUMBER(SEARCH("01",AX6)),B6,"") | CT6: =IF(ISNUMBER(SEARCH("02",AX6)),B6,"") | CU6: =IF(ISNUMBER(SEARCH("03",AX6)),B6,"") | CV6: =IF(ISNUMBER(SEARCH("04",AX6)),B6,"") | CW6: =IF(ISNUMBER(SEARCH("05",AX6)),B6,"") | CX6: =IF(ISNUMBER(SEARCH("06",AX6)),B6,"") | CY6: =IF(ISNUMBER(SEARCH("07",AX6)),B6,"") | CZ6: =IF(ISNUMBER(SEARCH("08",AX6)),B6,"") | DA6: =IF(ISNUMBER(SEARCH("09",AX6)),B6,"") | DB6: =IF(ISNUMBER(SEARCH("10",AX6)),B6,"") | DC6: =IF(ISNUMBER(SEARCH("01",BC6)),B6,"") | DD6: =IF(ISNUMBER(SEARCH("02",BC6)),B6,"") | DE6: =IF(ISNUMBER(SEARCH("03",BC6)),B6,"") | DF6: =IF(ISNUMBER(SEARCH("04",BC6)),B6,"")
B7: 2 | P7: =IF(ISBLANK(M7),"",VLOOKUP(M7,ComboValue!$D$2:$H$18,5,FALSE)) | R7: {=IF(OR(ISNUMBER(SEARCH("SGH05",$D7:$L7)),ISNUMBER(SEARCH("SGH06",$D7:$L7)),ISNUMBER(SEARCH("SGH07",$D7:$L7)),ISNUMBER(SEARCH("SGH08",$D7:$L7)),ISNUMBER(SEARCH("pas de pictogramme",$D7:$L7)),ISNUMBER(SEARCH("SGH09",$D7:$L7)),ISNUMBER(SEARCH("SGH03",$D7:$L7))),"OUI","NON")} -> NON | AX7: {=_xlfn.TEXTJOIN(",", TRUE, IF(D7:L7="","",VLOOKUP(D7:L7, ComboValue!$A$2:$C$11, 3, FALSE)))} | AY7: =IF(ISNUMBER(SEARCH("04",AX7)),"Gaz_Fr","Tous_Fr") -> Tous_Fr | AZ7: =IF(ISBLANK(M7),"",VLOOKUP(M7,ComboValue!$D$2:$F$18,3,FALSE)) | BA7: =IF(ISBLANK(N7),"",VLOOKUP(N7,ComboValue!$J$2:$L$5,3,FALSE)) | BB7: {=_xlfn.TEXTJOIN(",", TRUE, IF(S7:AV7="","",VLOOKUP(S7:AV7, ComboValue!$M$2:$O$100, 3, FALSE)))} | BC7: =IF(AND(ISNUMBER(SEARCH("04",AX7)),NOT(OR("C_01"=AZ7,"C_01b"=AZ7,"C_02"=AZ7,"C_03"=AZ7))),"01,","") & IF(OR(AND("C_01"=AZ7,NOT("04"=BA7)),AND("C_02"=AZ7,NOT("04"=BA7)),AND("C_03"=AZ7,NOT("04"=BA7)),AND("C_04"=AZ7,NOT("01"=BA7)),AND("C_05"=AZ7,NOT("01"=BA7)),AND("C_06"=AZ7,OR("04"=BA7,BA7="")),AND("C_07"=AZ7,OR("04"=BA7,BA7="")),AND("C_08"=AZ7,NOT("03"=BA7)),AND("C_09"=AZ7,NOT("03"=BA7)),AND("C_10"=AZ7,NOT("04"=BA7)),AND("C_11"=AZ7,NOT("04"=BA7)),AND("C_12"=AZ7,NOT("04"=BA7)),AND("C_13"=AZ7,NOT("04"=BA7)),AND("C_14"=AZ7,NOT("04"=BA7))),"02,","") & IF(AND(OR(ISNUMBER(SEARCH("11",BB7)),ISNUMBER(SEARCH("12",BB7))),NOT("01"=BA7)),"03,","") & IF(AND(ISNUMBER(SEARCH("13",BB7)),NOT("02"=BA7)),"04,","") | BE7: =IF(ISNUMBER(SEARCH("01",AX7)),O7,"") | BF7: =IF(ISNUMBER(SEARCH("02",AX7)),O7,"") | BG7: =IF(ISNUMBER(SEARCH("03",AX7)),O7,"") | BH7: =IF(ISNUMBER(SEARCH("04",AX7)),O7,"") | BI7: =IF(ISNUMBER(SEARCH("05",AX7)),O7,"") | BJ7: =IF(ISNUMBER(SEARCH("06",AX7)),O7,"") | BK7: =IF(ISNUMBER(SEARCH("07",AX7)),O7,"") | BL7: =IF(ISNUMBER(SEARCH("08",AX7)),O7,"") | BM7: =IF(ISNUMBER(SEARCH("09",AX7)),O7,"") | BN7: =IF(ISNUMBER(SEARCH("10",AX7)),O7,"") | BO7: =IF(BF7="",0,BF7) -> 0 | BP7: =IF(BI7="",0,BI7-BQ7-BO7) -> 0 | BQ7: =IF(BJ7="",0,BJ7-BO7) -> 0 | BR7: =IF(BK7="",0,BK7-BS7-BP7-BQ7-BO7) -> 0 | BS7: =IF(BK7="",0,BK7-BP7-BQ7-BO7) -> 0 | BT7: =IF(BL7="",0,BL7-BR7-BS7-BP7-BQ7-BO7) -> 0 | BU7: =IF(AZ7="C_01",O7,"") | BV7: =IF(AZ7="C_01b",O7,"") | BW7: =IF(AZ7="C_02",O7,"") | BX7: =IF(AZ7="C_03",O7,"") | BY7: =IF(AND(OR(AZ7="C_04",AZ7="C_06"),BA7="01"),O7,"") | BZ7: =IF(AND(OR(AZ7="C_05",AZ7="C_07"),BA7="01"),O7,"") | CA7: =IF(AND(AZ7="C_06",BA7="02"),O7,"") | CB7: =IF(AND(AZ7="C_07",BA7="02"),O7,"") | CC7: =IF(AND(OR(AZ7="C_06",AZ7="C_08"),BA7="03"),O7,"") | CD7: =IF(AND(OR(AZ7="C_07",AZ7="C_09"),BA7="03"),O7,"") | CE7: =IF(AZ7="C_10",O7,"") | CF7: =IF(AZ7="C_11",O7,"") | CG7: =IF(AZ7="C_12",O7,"") | CH7: =IF(AZ7="C_13",O7,"") | CI7: =IF(AZ7="C_14",O7,"") | CJ7: =IF(AZ7="C_15",O7,"") | CK7: {=IF(AND(AZ7="C_16", SUMPRODUCT(--ISNUMBER(SEARCH({"14","34","38","40","41","42","43","46","48","56","64","65"},BB7)))>0), O7-IF(ISNUMBER(CL7),CL7,0), "")} | CL7: {=IF(AND(AZ7="C_16", SUMPRODUCT(--ISNUMBER(SEARCH({"01";"02";"03";"04";"05";"06";"07";"08";"09";"10";"11";"12";"13";"15";"16";"17";"19";"20";"21";"22";"23";"24";"25";"26";"27";"28";"29";"30";"31";"32";"33";"35";"36";"37";"39";"44";"45";"47";"49";"50";"51";"52";"53";"54";"55";"57";"58";"59";"60";"61";"62";"63";"66";"67";"68";"69";"70";"71";"72";"73";"74";"75"}, BB7)))>0), O7, "")} | CM7: {=IF(SUMPRODUCT(--ISNUMBER(SEARCH({"32";"35";"36";"44";"45";"47";"50";"51";"52";"53";"54";"55";"57";"58";"59";"60"}, BB7)))>0, B7, "")} | CN7: {=IF(SUMPRODUCT(--ISNUMBER(SEARCH({"61";"62"}, BB7)))>0, B7, "")} | CO7: {=IF(SUMPRODUCT(--ISNUMBER(SEARCH({"68";"69";"70";"71"}, BB7)))>0, B7, "")} | CP7: {=IF(SUMPRODUCT(--ISNUMBER(SEARCH({"72";"73";"74";"75"}, BB7)))>0, B7, "")} | CQ7: =IF(ISNUMBER(SEARCH("REACH",M7)),B7,"") | CR7: =IF(OR(AZ7="C_15", CM7<>"",CN7<>"",CO7<>"",CP7<>""), "YES", "NO") -> NO | CS7: =IF(ISNUMBER(SEARCH("01",AX7)),B7,"") | CT7: =IF(ISNUMBER(SEARCH("02",AX7)),B7,"") | CU7: =IF(ISNUMBER(SEARCH("03",AX7)),B7,"") | CV7: =IF(ISNUMBER(SEARCH("04",AX7)),B7,"") | CW7: =IF(ISNUMBER(SEARCH("05",AX7)),B7,"") | CX7: =IF(ISNUMBER(SEARCH("06",AX7)),B7,"") | CY7: =IF(ISNUMBER(SEARCH("07",AX7)),B7,"") | CZ7: =IF(ISNUMBER(SEARCH("08",AX7)),B7,"") | DA7: =IF(ISNUMBER(SEARCH("09",AX7)),B7,"") | DB7: =IF(ISNUMBER(SEARCH("10",AX7)),B7,"") | DC7: =IF(ISNUMBER(SEARCH("01",BC7)),B7,"") | DD7: =IF(ISNUMBER(SEARCH("02",BC7)),B7,"") | DE7: =IF(ISNUMBER(SEARCH("03",BC7)),B7,"") | DF7: =IF(ISNUMBER(SEARCH("04",BC7)),B7,"")
B8: 3 | P8: =IF(ISBLANK(M8),"",VLOOKUP(M8,ComboValue!$D$2:$H$18,5,FALSE)) | R8: {=IF(OR(ISNUMBER(SEARCH("SGH05",$D8:$L8)),ISNUMBER(SEARCH("SGH06",$D8:$L8)),ISNUMBER(SEARCH("SGH07",$D8:$L8)),ISNUMBER(SEARCH("SGH08",$D8:$L8)),ISNUMBER(SEARCH("pas de pictogramme",$D8:$L8)),ISNUMBER(SEARCH("SGH09",$D8:$L8)),ISNUMBER(SEARCH("SGH03",$D8:$L8))),"OUI","NON")} -> NON | AX8: {=_xlfn.TEXTJOIN(",", TRUE, IF(D8:L8="","",VLOOKUP(D8:L8, ComboValue!$A$2:$C$11, 3, FALSE)))} | AY8: =IF(ISNUMBER(SEARCH("04",AX8)),"Gaz_Fr","Tous_Fr") -> Tous_Fr | AZ8: =IF(ISBLANK(M8),"",VLOOKUP(M8,ComboValue!$D$2:$F$18,3,FALSE)) | BA8: =IF(ISBLANK(N8),"",VLOOKUP(N8,ComboValue!$J$2:$L$5,3,FALSE)) | BB8: {=_xlfn.TEXTJOIN(",", TRUE, IF(S8:AV8="","",VLOOKUP(S8:AV8, ComboValue!$M$2:$O$100, 3, FALSE)))} | BC8: =IF(AND(ISNUMBER(SEARCH("04",AX8)),NOT(OR("C_01"=AZ8,"C_01b"=AZ8,"C_02"=AZ8,"C_03"=AZ8))),"01,","") & IF(OR(AND("C_01"=AZ8,NOT("04"=BA8)),AND("C_02"=AZ8,NOT("04"=BA8)),AND("C_03"=AZ8,NOT("04"=BA8)),AND("C_04"=AZ8,NOT("01"=BA8)),AND("C_05"=AZ8,NOT("01"=BA8)),AND("C_06"=AZ8,OR("04"=BA8,BA8="")),AND("C_07"=AZ8,OR("04"=BA8,BA8="")),AND("C_08"=AZ8,NOT("03"=BA8)),AND("C_09"=AZ8,NOT("03"=BA8)),AND("C_10"=AZ8,NOT("04"=BA8)),AND("C_11"=AZ8,NOT("04"=BA8)),AND("C_12"=AZ8,NOT("04"=BA8)),AND("C_13"=AZ8,NOT("04"=BA8)),AND("C_14"=AZ8,NOT("04"=BA8))),"02,","") & IF(AND(OR(ISNUMBER(SEARCH("11",BB8)),ISNUMBER(SEARCH("12",BB8))),NOT("01"=BA8)),"03,","") & IF(AND(ISNUMBER(SEARCH("13",BB8)),NOT("02"=BA8)),"04,","") | BE8: =IF(ISNUMBER(SEARCH("01",AX8)),O8,"") | BF8: =IF(ISNUMBER(SEARCH("02",AX8)),O8,"") | BG8: =IF(ISNUMBER(SEARCH("03",AX8)),O8,"") | BH8: =IF(ISNUMBER(SEARCH("04",AX8)),O8,"") | BI8: =IF(ISNUMBER(SEARCH("05",AX8)),O8,"") | BJ8: =IF(ISNUMBER(SEARCH("06",AX8)),O8,"") | BK8: =IF(ISNUMBER(SEARCH("07",AX8)),O8,"") | BL8: =IF(ISNUMBER(SEARCH("08",AX8)),O8,"") | BM8: =IF(ISNUMBER(SEARCH("09",AX8)),O8,"") | BN8: =IF(ISNUMBER(SEARCH("10",AX8)),O8,"") | BO8: =IF(BF8="",0,BF8) -> 0 | BP8: =IF(BI8="",0,BI8-BQ8-BO8) -> 0 | BQ8: =IF(BJ8="",0,BJ8-BO8) -> 0 | BR8: =IF(BK8="",0,BK8-BS8-BP8-BQ8-BO8) -> 0 | BS8: =IF(BK8="",0,BK8-BP8-BQ8-BO8) -> 0 | BT8: =IF(BL8="",0,BL8-BR8-BS8-BP8-BQ8-BO8) -> 0 | BU8: =IF(AZ8="C_01",O8,"") | BV8: =IF(AZ8="C_01b",O8,"") | BW8: =IF(AZ8="C_02",O8,"") | BX8: =IF(AZ8="C_03",O8,"") | BY8: =IF(AND(OR(AZ8="C_04",AZ8="C_06"),BA8="01"),O8,"") | BZ8: =IF(AND(OR(AZ8="C_05",AZ8="C_07"),BA8="01"),O8,"") | CA8: =IF(AND(AZ8="C_06",BA8="02"),O8,"") | CB8: =IF(AND(AZ8="C_07",BA8="02"),O8,"") | CC8: =IF(AND(OR(AZ8="C_06",AZ8="C_08"),BA8="03"),O8,"") | CD8: =IF(AND(OR(AZ8="C_07",AZ8="C_09"),BA8="03"),O8,"") | CE8: =IF(AZ8="C_10",O8,"") | CF8: =IF(AZ8="C_11",O8,"") | CG8: =IF(AZ8="C_12",O8,"") | CH8: =IF(AZ8="C_13",O8,"") | CI8: =IF(AZ8="C_14",O8,"") | CJ8: =IF(AZ8="C_15",O8,"") | CK8: {=IF(AND(AZ8="C_16", SUMPRODUCT(--ISNUMBER(SEARCH({"14","34","38","40","41","42","43","46","48","56","64","65"},BB8)))>0), O8-IF(ISNUMBER(CL8),CL8,0), "")} | CL8: {=IF(AND(AZ8="C_16", SUMPRODUCT(--ISNUMBER(SEARCH({"01";"02";"03";"04";"05";"06";"07";"08";"09";"10";"11";"12";"13";"15";"16";"17";"19";"20";"21";"22";"23";"24";"25";"26";"27";"28";"29";"30";"31";"32";"33";"35";"36";"37";"39";"44";"45";"47";"49";"50";"51";"52";"53";"54";"55";"57";"58";"59";"60";"61";"62";"63";"66";"67";"68";"69";"70";"71";"72";"73";"74";"75"}, BB8)))>0), O8, "")} | CM8: {=IF(SUMPRODUCT(--ISNUMBER(SEARCH({"32";"35";"36";"44";"45";"47";"50";"51";"52";"53";"54";"55";"57";"58";"59";"60"}, BB8)))>0, B8, "")} | CN8: {=IF(SUMPRODUCT(--ISNUMBER(SEARCH({"61";"62"}, BB8)))>0, B8, "")} | CO8: {=IF(SUMPRODUCT(--ISNUMBER(SEARCH({"68";"69";"70";"71"}, BB8)))>0, B8, "")} | CP8: {=IF(SUMPRODUCT(--ISNUMBER(SEARCH({"72";"73";"74";"75"}, BB8)))>0, B8, "")} | CQ8: =IF(ISNUMBER(SEARCH("REACH",M8)),B8,"") | CR8: =IF(OR(AZ8="C_15", CM8<>"",CN8<>"",CO8<>"",CP8<>""), "YES", "NO") -> NO | CS8: =IF(ISNUMBER(SEARCH("01",AX8)),B8,"") | CT8: =IF(ISNUMBER(SEARCH("02",AX8)),B8,"") | CU8: =IF(ISNUMBER(SEARCH("03",AX8)),B8,"") | CV8: =IF(ISNUMBER(SEARCH("04",AX8)),B8,"") | CW8: =IF(ISNUMBER(SEARCH("05",AX8)),B8,"") | CX8: =IF(ISNUMBER(SEARCH("06",AX8)),B8,"") | CY8: =IF(ISNUMBER(SEARCH("07",AX8)),B8,"") | CZ8: =IF(ISNUMBER(SEARCH("08",AX8)),B8,"") | DA8: =IF(ISNUMBER(SEARCH("09",AX8)),B8,"") | DB8: =IF(ISNUMBER(SEARCH("10",AX8)),B8,"") | DC8: =IF(ISNUMBER(SEARCH("01",BC8)),B8,"") | DD8: =IF(ISNUMBER(SEARCH("02",BC8)),B8,"") | DE8: =IF(ISNUMBER(SEARCH("03",BC8)),B8,"") | DF8: =IF(ISNUMBER(SEARCH("04",BC8)),B8,"")
B9: 4 | P9: =IF(ISBLANK(M9),"",VLOOKUP(M9,ComboValue!$D$2:$H$18,5,FALSE)) | R9: {=IF(OR(ISNUMBER(SEARCH("SGH05",$D9:$L9)),ISNUMBER(SEARCH("SGH06",$D9:$L9)),ISNUMBER(SEARCH("SGH07",$D9:$L9)),ISNUMBER(SEARCH("SGH08",$D9:$L9)),ISNUMBER(SEARCH("pas de pictogramme",$D9:$L9)),ISNUMBER(SEARCH("SGH09",$D9:$L9)),ISNUMBER(SEARCH("SGH03",$D9:$L9))),"OUI","NON")} -> NON | AX9: {=_xlfn.TEXTJOIN(",", TRUE, IF(D9:L9="","",VLOOKUP(D9:L9, ComboValue!$A$2:$C$11, 3, FALSE)))} | AY9: =IF(ISNUMBER(SEARCH("04",AX9)),"Gaz_Fr","Tous_Fr") -> Tous_Fr | AZ9: =IF(ISBLANK(M9),"",VLOOKUP(M9,ComboValue!$D$2:$F$18,3,FALSE)) | BA9: =IF(ISBLANK(N9),"",VLOOKUP(N9,ComboValue!$J$2:$L$5,3,FALSE)) | BB9: {=_xlfn.TEXTJOIN(",", TRUE, IF(S9:AV9="","",VLOOKUP(S9:AV9, ComboValue!$M$2:$O$100, 3, FALSE)))} | BC9: =IF(AND(ISNUMBER(SEARCH("04",AX9)),NOT(OR("C_01"=AZ9,"C_01b"=AZ9,"C_02"=AZ9,"C_03"=AZ9))),"01,","") & IF(OR(AND("C_01"=AZ9,NOT("04"=BA9)),AND("C_02"=AZ9,NOT("04"=BA9)),AND("C_03"=AZ9,NOT("04"=BA9)),AND("C_04"=AZ9,NOT("01"=BA9)),AND("C_05"=AZ9,NOT("01"=BA9)),AND("C_06"=AZ9,OR("04"=BA9,BA9="")),AND("C_07"=AZ9,OR("04"=BA9,BA9="")),AND("C_08"=AZ9,NOT("03"=BA9)),AND("C_09"=AZ9,NOT("03"=BA9)),AND("C_10"=AZ9,NOT("04"=BA9)),AND("C_11"=AZ9,NOT("04"=BA9)),AND("C_12"=AZ9,NOT("04"=BA9)),AND("C_13"=AZ9,NOT("04"=BA9)),AND("C_14"=AZ9,NOT("04"=BA9))),"02,","") & IF(AND(OR(ISNUMBER(SEARCH("11",BB9)),ISNUMBER(SEARCH("12",BB9))),NOT("01"=BA9)),"03,","") & IF(AND(ISNUMBER(SEARCH("13",BB9)),NOT("02"=BA9)),"04,","") | BE9: =IF(ISNUMBER(SEARCH("01",AX9)),O9,"") | BF9: =IF(ISNUMBER(SEARCH("02",AX9)),O9,"") | BG9: =IF(ISNUMBER(SEARCH("03",AX9)),O9,"") | BH9: =IF(ISNUMBER(SEARCH("04",AX9)),O9,"") | BI9: =IF(ISNUMBER(SEARCH("05",AX9)),O9,"") | BJ9: =IF(ISNUMBER(SEARCH("06",AX9)),O9,"") | BK9: =IF(ISNUMBER(SEARCH("07",AX9)),O9,"") | BL9: =IF(ISNUMBER(SEARCH("08",AX9)),O9,"") | BM9: =IF(ISNUMBER(SEARCH("09",AX9)),O9,"") | BN9: =IF(ISNUMBER(SEARCH("10",AX9)),O9,"") | BO9: =IF(BF9="",0,BF9) -> 0 | BP9: =IF(BI9="",0,BI9-BQ9-BO9) -> 0 | BQ9: =IF(BJ9="",0,BJ9-BO9) -> 0 | BR9: =IF(BK9="",0,BK9-BS9-BP9-BQ9-BO9) -> 0 | BS9: =IF(BK9="",0,BK9-BP9-BQ9-BO9) -> 0 | BT9: =IF(BL9="",0,BL9-BR9-BS9-BP9-BQ9-BO9) -> 0 | BU9: =IF(AZ9="C_01",O9,"") | BV9: =IF(AZ9="C_01b",O9,"") | BW9: =IF(AZ9="C_02",O9,"") | BX9: =IF(AZ9="C_03",O9,"") | BY9: =IF(AND(OR(AZ9="C_04",AZ9="C_06"),BA9="01"),O9,"") | BZ9: =IF(AND(OR(AZ9="C_05",AZ9="C_07"),BA9="01"),O9,"") | CA9: =IF(AND(AZ9="C_06",BA9="02"),O9,"") | CB9: =IF(AND(AZ9="C_07",BA9="02"),O9,"") | CC9: =IF(AND(OR(AZ9="C_06",AZ9="C_08"),BA9="03"),O9,"") | CD9: =IF(AND(OR(AZ9="C_07",AZ9="C_09"),BA9="03"),O9,"") | CE9: =IF(AZ9="C_10",O9,"") | CF9: =IF(AZ9="C_11",O9,"") | CG9: =IF(AZ9="C_12",O9,"") | CH9: =IF(AZ9="C_13",O9,"") | CI9: =IF(AZ9="C_14",O9,"") | CJ9: =IF(AZ9="C_15",O9,"") | CK9: {=IF(AND(AZ9="C_16", SUMPRODUCT(--ISNUMBER(SEARCH({"14","34","38","40","41","42","43","46","48","56","64","65"},BB9)))>0), O9-IF(ISNUMBER(CL9),CL9,0), "")} | CL9: {=IF(AND(AZ9="C_16", SUMPRODUCT(--ISNUMBER(SEARCH({"01";"02";"03";"04";"05";"06";"07";"08";"09";"10";"11";"12";"13";"15";"16";"17";"19";"20";"21";"22";"23";"24";"25";"26";"27";"28";"29";"30";"31";"32";"33";"35";"36";"37";"39";"44";"45";"47";"49";"50";"51";"52";"53";"54";"55";"57";"58";"59";"60";"61";"62";"63";"66";"67";"68";"69";"70";"71";"72";"73";"74";"75"}, BB9)))>0), O9, "")} | CM9: {=IF(SUMPRODUCT(--ISNUMBER(SEARCH({"32";"35";"36";"44";"45";"47";"50";"51";"52";"53";"54";"55";"57";"58";"59";"60"}, BB9)))>0, B9, "")} | CN9: {=IF(SUMPRODUCT(--ISNUMBER(SEARCH({"61";"62"}, BB9)))>0, B9, "")} | CO9: {=IF(SUMPRODUCT(--ISNUMBER(SEARCH({"68";"69";"70";"71"}, BB9)))>0, B9, "")} | CP9: {=IF(SUMPRODUCT(--ISNUMBER(SEARCH({"72";"73";"74";"75"}, BB9)))>0, B9, "")} | CQ9: =IF(ISNUMBER(SEARCH("REACH",M9)),B9,"") | CR9: =IF(OR(AZ9="C_15", CM9<>"",CN9<>"",CO9<>"",CP9<>""), "YES", "NO") -> NO | CS9: =IF(ISNUMBER(SEARCH("01",AX9)),B9,"") | CT9: =IF(ISNUMBER(SEARCH("02",AX9)),B9,"") | CU9: =IF(ISNUMBER(SEARCH("03",AX9)),B9,"") | CV9: =IF(ISNUMBER(SEARCH("04",AX9)),B9,"") | CW9: =IF(ISNUMBER(SEARCH("05",AX9)),B9,"") | CX9: =IF(ISNUMBER(SEARCH("06",AX9)),B9,"") | CY9: =IF(ISNUMBER(SEARCH("07",AX9)),B9,"") | CZ9: =IF(ISNUMBER(SEARCH("08",AX9)),B9,"") | DA9: =IF(ISNUMBER(SEARCH("09",AX9)),B9,"") | DB9: =IF(ISNUMBER(SEARCH("10",AX9)),B9,"") | DC9: =IF(ISNUMBER(SEARCH("01",BC9)),B9,"") | DD9: =IF(ISNUMBER(SEARCH("02",BC9)),B9,"") | DE9: =IF(ISNUMBER(SEARCH("03",BC9)),B9,"") | DF9: =IF(ISNUMBER(SEARCH("04",BC9)),B9,"")
B10: 5 | P10: =IF(ISBLANK(M10),"",VLOOKUP(M10,ComboValue!$D$2:$H$18,5,FALSE)) | R10: {=IF(OR(ISNUMBER(SEARCH("SGH05",$D10:$L10)),ISNUMBER(SEARCH("SGH06",$D10:$L10)),ISNUMBER(SEARCH("SGH07",$D10:$L10)),ISNUMBER(SEARCH("SGH08",$D10:$L10)),ISNUMBER(SEARCH("pas de pictogramme",$D10:$L10)),ISNUMBER(SEARCH("SGH09",$D10:$L10)),ISNUMBER(SEARCH("SGH03",$D10:$L10))),"OUI","NON")} -> NON | AX10: {=_xlfn.TEXTJOIN(",", TRUE, IF(D10:L10="","",VLOOKUP(D10:L10, ComboValue!$A$2:$C$11, 3, FALSE)))} | AY10: =IF(ISNUMBER(SEARCH("04",AX10)),"Gaz_Fr","Tous_Fr") -> Tous_Fr | AZ10: =IF(ISBLANK(M10),"",VLOOKUP(M10,ComboValue!$D$2:$F$18,3,FALSE)) | BA10: =IF(ISBLANK(N10),"",VLOOKUP(N10,ComboValue!$J$2:$L$5,3,FALSE)) | BB10: {=_xlfn.TEXTJOIN(",", TRUE, IF(S10:AV10="","",VLOOKUP(S10:AV10, ComboValue!$M$2:$O$100, 3, FALSE)))} | BC10: =IF(AND(ISNUMBER(SEARCH("04",AX10)),NOT(OR("C_01"=AZ10,"C_01b"=AZ10,"C_02"=AZ10,"C_03"=AZ10))),"01,","") & IF(OR(AND("C_01"=AZ10,NOT("04"=BA10)),AND("C_02"=AZ10,NOT("04"=BA10)),AND("C_03"=AZ10,NOT("04"=BA10)),AND("C_04"=AZ10,NOT("01"=BA10)),AND("C_05"=AZ10,NOT("01"=BA10)),AND("C_06"=AZ10,OR("04"=BA10,BA10="")),AND("C_07"=AZ10,OR("04"=BA10,BA10="")),AND("C_08"=AZ10,NOT("03"=BA10)),AND("C_09"=AZ10,NOT("03"=BA10)),AND("C_10"=AZ10,NOT("04"=BA10)),AND("C_11"=AZ10,NOT("04"=BA10)),AND("C_12"=AZ10,NOT("04"=BA10)),AND("C_13"=AZ10,NOT("04"=BA10)),AND("C_14"=AZ10,NOT("04"=BA10))),"02,","") & IF(AND(OR(ISNUMBER(SEARCH("11",BB10)),ISNUMBER(SEARCH("12",BB10))),NOT("01"=BA10)),"03,","") & IF(AND(ISNUMBER(SEARCH("13",BB10)),NOT("02"=BA10)),"04,","") | BE10: =IF(ISNUMBER(SEARCH("01",AX10)),O10,"") | BF10: =IF(ISNUMBER(SEARCH("02",AX10)),O10,"") | BG10: =IF(ISNUMBER(SEARCH("03",AX10)),O10,"") | BH10: =IF(ISNUMBER(SEARCH("04",AX10)),O10,"") | BI10: =IF(ISNUMBER(SEARCH("05",AX10)),O10,"") | BJ10: =IF(ISNUMBER(SEARCH("06",AX10)),O10,"") | BK10: =IF(ISNUMBER(SEARCH("07",AX10)),O10,"") | BL10: =IF(ISNUMBER(SEARCH("08",AX10)),O10,"") | BM10: =IF(ISNUMBER(SEARCH("09",AX10)),O10,"") | BN10: =IF(ISNUMBER(SEARCH("10",AX10)),O10,"") | BO10: =IF(BF10="",0,BF10) -> 0 | BP10: =IF(BI10="",0,BI10-BQ10-BO10) -> 0 | BQ10: =IF(BJ10="",0,BJ10-BO10) -> 0 | BR10: =IF(BK10="",0,BK10-BS10-BP10-BQ10-BO10) -> 0 | BS10: =IF(BK10="",0,BK10-BP10-BQ10-BO10) -> 0 | BT10: =IF(BL10="",0,BL10-BR10-BS10-BP10-BQ10-BO10) -> 0 | BU10: =IF(AZ10="C_01",O10,"") | BV10: =IF(AZ10="C_01b",O10,"") | BW10: =IF(AZ10="C_02",O10,"") | BX10: =IF(AZ10="C_03",O10,"") | BY10: =IF(AND(OR(AZ10="C_04",AZ10="C_06"),BA10="01"),O10,"") | BZ10: =IF(AND(OR(AZ10="C_05",AZ10="C_07"),BA10="01"),O10,"") | CA10: =IF(AND(AZ10="C_06",BA10="02"),O10,"") | CB10: =IF(AND(AZ10="C_07",BA10="02"),O10,"") | CC10: =IF(AND(OR(AZ10="C_06",AZ10="C_08"),BA10="03"),O10,"") | CD10: =IF(AND(OR(AZ10="C_07",AZ10="C_09"),BA10="03"),O10,"") | CE10: =IF(AZ10="C_10",O10,"") | CF10: =IF(AZ10="C_11",O10,"") | CG10: =IF(AZ10="C_12",O10,"") | CH10: =IF(AZ10="C_13",O10,"") | CI10: =IF(AZ10="C_14",O10,"") | CJ10: =IF(AZ10="C_15",O10,"") | CK10: {=IF(AND(AZ10="C_16", SUMPRODUCT(--ISNUMBER(SEARCH({"14","34","38","40","41","42","43","46","48","56","64","65"},BB10)))>0), O10-IF(ISNUMBER(CL10),CL10,0), "")} | CL10: {=IF(AND(AZ10="C_16", SUMPRODUCT(--ISNUMBER(SEARCH({"01";"02";"03";"04";"05";"06";"07";"08";"09";"10";"11";"12";"13";"15";"16";"17";"19";"20";"21";"22";"23";"24";"25";"26";"27";"28";"29";"30";"31";"32";"33";"35";"36";"37";"39";"44";"45";"47";"49";"50";"51";"52";"53";"54";"55";"57";"58";"59";"60";"61";"62";"63";"66";"67";"68";"69";"70";"71";"72";"73";"74";"75"}, BB10)))>0), O10, "")} | CM10: {=IF(SUMPRODUCT(--ISNUMBER(SEARCH({"32";"35";"36";"44";"45";"47";"50";"51";"52";"53";"54";"55";"57";"58";"59";"60"}, BB10)))>0, B10, "")} | CN10: {=IF(SUMPRODUCT(--ISNUMBER(SEARCH({"61";"62"}, BB10)))>0, B10, "")} | CO10: {=IF(SUMPRODUCT(--ISNUMBER(SEARCH({"68";"69";"70";"71"}, BB10)))>0, B10, "")} | CP10: {=IF(SUMPRODUCT(--ISNUMBER(SEARCH({"72";"73";"74";"75"}, BB10)))>0, B10, "")} | CQ10: =IF(ISNUMBER(SEARCH("REACH",M10)),B10,"") | CR10: =IF(OR(AZ10="C_15", CM10<>"",CN10<>"",CO10<>"",CP10<>""), "YES", "NO") -> NO | CS10: =IF(ISNUMBER(SEARCH("01",AX10)),B10,"") | CT10: =IF(ISNUMBER(SEARCH("02",AX10)),B10,"") | CU10: =IF(ISNUMBER(SEARCH("03",AX10)),B10,"") | CV10: =IF(ISNUMBER(SEARCH("04",AX10)),B10,"") | CW10: =IF(ISNUMBER(SEARCH("05",AX10)),B10,"") | CX10: =IF(ISNUMBER(SEARCH("06",AX10)),B10,"") | CY10: =IF(ISNUMBER(SEARCH("07",AX10)),B10,"") | CZ10: =IF(ISNUMBER(SEARCH("08",AX10)),B10,"") | DA10: =IF(ISNUMBER(SEARCH("09",AX10)),B10,"") | DB10: =IF(ISNUMBER(SEARCH("10",AX10)),B10,"") | DC10: =IF(ISNUMBER(SEARCH("01",BC10)),B10,"") | DD10: =IF(ISNUMBER(SEARCH("02",BC10)),B10,"") | DE10: =IF(ISNUMBER(SEARCH("03",BC10)),B10,"") | DF10: =IF(ISNUMBER(SEARCH("04",BC10)),B10,"")
B11: 6 | P11: =IF(ISBLANK(M11),"",VLOOKUP(M11,ComboValue!$D$2:$H$18,5,FALSE)) | R11: {=IF(OR(ISNUMBER(SEARCH("SGH05",$D11:$L11)),ISNUMBER(SEARCH("SGH06",$D11:$L11)),ISNUMBER(SEARCH("SGH07",$D11:$L11)),ISNUMBER(SEARCH("SGH08",$D11:$L11)),ISNUMBER(SEARCH("pas de pictogramme",$D11:$L11)),ISNUMBER(SEARCH("SGH09",$D11:$L11)),ISNUMBER(SEARCH("SGH03",$D11:$L11))),"OUI","NON")} -> NON | AX11: {=_xlfn.TEXTJOIN(",", TRUE, IF(D11:L11="","",VLOOKUP(D11:L11, ComboValue!$A$2:$C$11, 3, FALSE)))} | AY11: =IF(ISNUMBER(SEARCH("04",AX11)),"Gaz_Fr","Tous_Fr") -> Tous_Fr | AZ11: =IF(ISBLANK(M11),"",VLOOKUP(M11,ComboValue!$D$2:$F$18,3,FALSE)) | BA11: =IF(ISBLANK(N11),"",VLOOKUP(N11,ComboValue!$J$2:$L$5,3,FALSE)) | BB11: {=_xlfn.TEXTJOIN(",", TRUE, IF(S11:AV11="","",VLOOKUP(S11:AV11, ComboValue!$M$2:$O$100, 3, FALSE)))} | BC11: =IF(AND(ISNUMBER(SEARCH("04",AX11)),NOT(OR("C_01"=AZ11,"C_01b"=AZ11,"C_02"=AZ11,"C_03"=AZ11))),"01,","") & IF(OR(AND("C_01"=AZ11,NOT("04"=BA11)),AND("C_02"=AZ11,NOT("04"=BA11)),AND("C_03"=AZ11,NOT("04"=BA11)),AND("C_04"=AZ11,NOT("01"=BA11)),AND("C_05"=AZ11,NOT("01"=BA11)),AND("C_06"=AZ11,OR("04"=BA11,BA11="")),AND("C_07"=AZ11,OR("04"=BA11,BA11="")),AND("C_08"=AZ11,NOT("03"=BA11)),AND("C_09"=AZ11,NOT("03"=BA11)),AND("C_10"=AZ11,NOT("04"=BA11)),AND("C_11"=AZ11,NOT("04"=BA11)),AND("C_12"=AZ11,NOT("04"=BA11)),AND("C_13"=AZ11,NOT("04"=BA11)),AND("C_14"=AZ11,NOT("04"=BA11))),"02,","") & IF(AND(OR(ISNUMBER(SEARCH("11",BB11)),ISNUMBER(SEARCH("12",BB11))),NOT("01"=BA11)),"03,","") & IF(AND(ISNUMBER(SEARCH("13",BB11)),NOT("02"=BA11)),"04,","") | BE11: =IF(ISNUMBER(SEARCH("01",AX11)),O11,"") | BF11: =IF(ISNUMBER(SEARCH("02",AX11)),O11,"") | BG11: =IF(ISNUMBER(SEARCH("03",AX11)),O11,"") | BH11: =IF(ISNUMBER(SEARCH("04",AX11)),O11,"") | BI11: =IF(ISNUMBER(SEARCH("05",AX11)),O11,"") | BJ11: =IF(ISNUMBER(SEARCH("06",AX11)),O11,"") | BK11: =IF(ISNUMBER(SEARCH("07",AX11)),O11,"") | BL11: =IF(ISNUMBER(SEARCH("08",AX11)),O11,"") | BM11: =IF(ISNUMBER(SEARCH("09",AX11)),O11,"") | BN11: =IF(ISNUMBER(SEARCH("10",AX11)),O11,"") | BO11: =IF(BF11="",0,BF11) -> 0 | BP11: =IF(BI11="",0,BI11-BQ11-BO11) -> 0 | BQ11: =IF(BJ11="",0,BJ11-BO11) -> 0 | BR11: =IF(BK11="",0,BK11-BS11-BP11-BQ11-BO11) -> 0 | BS11: =IF(BK11="",0,BK11-BP11-BQ11-BO11) -> 0 | BT11: =IF(BL11="",0,BL11-BR11-BS11-BP11-BQ11-BO11) -> 0 | BU11: =IF(AZ11="C_01",O11,"") | BV11: =IF(AZ11="C_01b",O11,"") | BW11: =IF(AZ11="C_02",O11,"") | BX11: =IF(AZ11="C_03",O11,"") | BY11: =IF(AND(OR(AZ11="C_04",AZ11="C_06"),BA11="01"),O11,"") | BZ11: =IF(AND(OR(AZ11="C_05",AZ11="C_07"),BA11="01"),O11,"") | CA11: =IF(AND(AZ11="C_06",BA11="02"),O11,"") | CB11: =IF(AND(AZ11="C_07",BA11="02"),O11,"") | CC11: =IF(AND(OR(AZ11="C_06",AZ11="C_08"),BA11="03"),O11,"") | CD11: =IF(AND(OR(AZ11="C_07",AZ11="C_09"),BA11="03"),O11,"") | CE11: =IF(AZ11="C_10",O11,"") | CF11: =IF(AZ11="C_11",O11,"") | CG11: =IF(AZ11="C_12",O11,"") | CH11: =IF(AZ11="C_13",O11,"") | CI11: =IF(AZ11="C_14",O11,"") | CJ11: =IF(AZ11="C_15",O11,"") | CK11: {=IF(AND(AZ11="C_16", SUMPRODUCT(--ISNUMBER(SEARCH({"14","34","38","40","41","42","43","46","48","56","64","65"},BB11)))>0), O11-IF(ISNUMBER(CL11),CL11,0), "")} | CL11: {=IF(AND(AZ11="C_16", SUMPRODUCT(--ISNUMBER(SEARCH({"01";"02";"03";"04";"05";"06";"07";"08";"09";"10";"11";"12";"13";"15";"16";"17";"19";"20";"21";"22";"23";"24";"25";"26";"27";"28";"29";"30";"31";"32";"33";"35";"36";"37";"39";"44";"45";"47";"49";"50";"51";"52";"53";"54";"55";"57";"58";"59";"60";"61";"62";"63";"66";"67";"68";"69";"70";"71";"72";"73";"74";"75"}, BB11)))>0), O11, "")} | CM11: {=IF(SUMPRODUCT(--ISNUMBER(SEARCH({"32";"35";"36";"44";"45";"47";"50";"51";"52";"53";"54";"55";"57";"58";"59";"60"}, BB11)))>0, B11, "")} | CN11: {=IF(SUMPRODUCT(--ISNUMBER(SEARCH({"61";"62"}, BB11)))>0, B11, "")} | CO11: {=IF(SUMPRODUCT(--ISNUMBER(SEARCH({"68";"69";"70";"71"}, BB11)))>0, B11, "")} | CP11: {=IF(SUMPRODUCT(--ISNUMBER(SEARCH({"72";"73";"74";"75"}, BB11)))>0, B11, "")} | CQ11: =IF(ISNUMBER(SEARCH("REACH",M11)),B11,"") | CR11: =IF(OR(AZ11="C_15", CM11<>"",CN11<>"",CO11<>"",CP11<>""), "YES", "NO") -> NO | CS11: =IF(ISNUMBER(SEARCH("01",AX11)),B11,"") | CT11: =IF(ISNUMBER(SEARCH("02",AX11)),B11,"") | CU11: =IF(ISNUMBER(SEARCH("03",AX11)),B11,"") | CV11: =IF(ISNUMBER(SEARCH("04",AX11)),B11,"") | CW11: =IF(ISNUMBER(SEARCH("05",AX11)),B11,"") | CX11: =IF(ISNUMBER(SEARCH("06",AX11)),B11,"") | CY11: =IF(ISNUMBER(SEARCH("07",AX11)),B11,"") | CZ11: =IF(ISNUMBER(SEARCH("08",AX11)),B11,"") | DA11: =IF(ISNUMBER(SEARCH("09",AX11)),B11,"") | DB11: =IF(ISNUMBER(SEARCH("10",AX11)),B11,"") | DC11: =IF(ISNUMBER(SEARCH("01",BC11)),B11,"") | DD11: =IF(ISNUMBER(SEARCH("02",BC11)),B11,"") | DE11: =IF(ISNUMBER(SEARCH("03",BC11)),B11,"") | DF11: =IF(ISNUMBER(SEARCH("04",BC11)),B11,"")
B12: 7 | P12: =IF(ISBLANK(M12),"",VLOOKUP(M12,ComboValue!$D$2:$H$18,5,FALSE)) | R12: {=IF(OR(ISNUMBER(SEARCH("SGH05",$D12:$L12)),ISNUMBER(SEARCH("SGH06",$D12:$L12)),ISNUMBER(SEARCH("SGH07",$D12:$L12)),ISNUMBER(SEARCH("SGH08",$D12:$L12)),ISNUMBER(SEARCH("pas de pictogramme",$D12:$L12)),ISNUMBER(SEARCH("SGH09",$D12:$L12)),ISNUMBER(SEARCH("SGH03",$D12:$L12))),"OUI","NON")} -> NON | AX12: {=_xlfn.TEXTJOIN(",", TRUE, IF(D12:L12="","",VLOOKUP(D12:L12, ComboValue!$A$2:$C$11, 3, FALSE)))} | AY12: =IF(ISNUMBER(SEARCH("04",AX12)),"Gaz_Fr","Tous_Fr") -> Tous_Fr | AZ12: =IF(ISBLANK(M12),"",VLOOKUP(M12,ComboValue!$D$2:$F$18,3,FALSE)) | BA12: =IF(ISBLANK(N12),"",VLOOKUP(N12,ComboValue!$J$2:$L$5,3,FALSE)) | BB12: {=_xlfn.TEXTJOIN(",", TRUE, IF(S12:AV12="","",VLOOKUP(S12:AV12, ComboValue!$M$2:$O$100, 3, FALSE)))} | BC12: =IF(AND(ISNUMBER(SEARCH("04",AX12)),NOT(OR("C_01"=AZ12,"C_01b"=AZ12,"C_02"=AZ12,"C_03"=AZ12))),"01,","") & IF(OR(AND("C_01"=AZ12,NOT("04"=BA12)),AND("C_02"=AZ12,NOT("04"=BA12)),AND("C_03"=AZ12,NOT("04"=BA12)),AND("C_04"=AZ12,NOT("01"=BA12)),AND("C_05"=AZ12,NOT("01"=BA12)),AND("C_06"=AZ12,OR("04"=BA12,BA12="")),AND("C_07"=AZ12,OR("04"=BA12,BA12="")),AND("C_08"=AZ12,NOT("03"=BA12)),AND("C_09"=AZ12,NOT("03"=BA12)),AND("C_10"=AZ12,NOT("04"=BA12)),AND("C_11"=AZ12,NOT("04"=BA12)),AND("C_12"=AZ12,NOT("04"=BA12)),AND("C_13"=AZ12,NOT("04"=BA12)),AND("C_14"=AZ12,NOT("04"=BA12))),"02,","") & IF(AND(OR(ISNUMBER(SEARCH("11",BB12)),ISNUMBER(SEARCH("12",BB12))),NOT("01"=BA12)),"03,","") & IF(AND(ISNUMBER(SEARCH("13",BB12)),NOT("02"=BA12)),"04,","") | BE12: =IF(ISNUMBER(SEARCH("01",AX12)),O12,"") | BF12: =IF(ISNUMBER(SEARCH("02",AX12)),O12,"") | BG12: =IF(ISNUMBER(SEARCH("03",AX12)),O12,"") | BH12: =IF(ISNUMBER(SEARCH("04",AX12)),O12,"") | BI12: =IF(ISNUMBER(SEARCH("05",AX12)),O12,"") | BJ12: =IF(ISNUMBER(SEARCH("06",AX12)),O12,"") | BK12: =IF(ISNUMBER(SEARCH("07",AX12)),O12,"") | BL12: =IF(ISNUMBER(SEARCH("08",AX12)),O12,"") | BM12: =IF(ISNUMBER(SEARCH("09",AX12)),O12,"") | BN12: =IF(ISNUMBER(SEARCH("10",AX12)),O12,"") | BO12: =IF(BF12="",0,BF12) -> 0 | BP12: =IF(BI12="",0,BI12-BQ12-BO12) -> 0 | BQ12: =IF(BJ12="",0,BJ12-BO12) -> 0 | BR12: =IF(BK12="",0,BK12-BS12-BP12-BQ12-BO12) -> 0 | BS12: =IF(BK12="",0,BK12-BP12-BQ12-BO12) -> 0 | BT12: =IF(BL12="",0,BL12-BR12-BS12-BP12-BQ12-BO12) -> 0 | BU12: =IF(AZ12="C_01",O12,"") | BV12: =IF(AZ12="C_01b",O12,"") | BW12: =IF(AZ12="C_02",O12,"") | BX12: =IF(AZ12="C_03",O12,"") | BY12: =IF(AND(OR(AZ12="C_04",AZ12="C_06"),BA12="01"),O12,"") | BZ12: =IF(AND(OR(AZ12="C_05",AZ12="C_07"),BA12="01"),O12,"") | CA12: =IF(AND(AZ12="C_06",BA12="02"),O12,"") | CB12: =IF(AND(AZ12="C_07",BA12="02"),O12,"") | CC12: =IF(AND(OR(AZ12="C_06",AZ12="C_08"),BA12="03"),O12,"") | CD12: =IF(AND(OR(AZ12="C_07",AZ12="C_09"),BA12="03"),O12,"") | CE12: =IF(AZ12="C_10",O12,"") | CF12: =IF(AZ12="C_11",O12,"") | CG12: =IF(AZ12="C_12",O12,"") | CH12: =IF(AZ12="C_13",O12,"") | CI12: =IF(AZ12="C_14",O12,"") | CJ12: =IF(AZ12="C_15",O12,"") | CK12: {=IF(AND(AZ12="C_16", SUMPRODUCT(--ISNUMBER(SEARCH({"14","34","38","40","41","42","43","46","48","56","64","65"},BB12)))>0), O12-IF(ISNUMBER(CL12),CL12,0), "")} | CL12: {=IF(AND(AZ12="C_16", SUMPRODUCT(--ISNUMBER(SEARCH({"01";"02";"03";"04";"05";"06";"07";"08";"09";"10";"11";"12";"13";"15";"16";"17";"19";"20";"21";"22";"23";"24";"25";"26";"27";"28";"29";"30";"31";"32";"33";"35";"36";"37";"39";"44";"45";"47";"49";"50";"51";"52";"53";"54";"55";"57";"58";"59";"60";"61";"62";"63";"66";"67";"68";"69";"70";"71";"72";"73";"74";"75"}, BB12)))>0), O12, "")} | CM12: {=IF(SUMPRODUCT(--ISNUMBER(SEARCH({"32";"35";"36";"44";"45";"47";"50";"51";"52";"53";"54";"55";"57";"58";"59";"60"}, BB12)))>0, B12, "")} | CN12: {=IF(SUMPRODUCT(--ISNUMBER(SEARCH({"61";"62"}, BB12)))>0, B12, "")} | CO12: {=IF(SUMPRODUCT(--ISNUMBER(SEARCH({"68";"69";"70";"71"}, BB12)))>0, B12, "")} | CP12: {=IF(SUMPRODUCT(--ISNUMBER(SEARCH({"72";"73";"74";"75"}, BB12)))>0, B12, "")} | CQ12: =IF(ISNUMBER(SEARCH("REACH",M12)),B12,"") | CR12: =IF(OR(AZ12="C_15", CM12<>"",CN12<>"",CO12<>"",CP12<>""), "YES", "NO") -> NO | CS12: =IF(ISNUMBER(SEARCH("01",AX12)),B12,"") | CT12: =IF(ISNUMBER(SEARCH("02",AX12)),B12,"") | CU12: =IF(ISNUMBER(SEARCH("03",AX12)),B12,"") | CV12: =IF(ISNUMBER(SEARCH("04",AX12)),B12,"") | CW12: =IF(ISNUMBER(SEARCH("05",AX12)),B12,"") | CX12: =IF(ISNUMBER(SEARCH("06",AX12)),B12,"") | CY12: =IF(ISNUMBER(SEARCH("07",AX12)),B12,"") | CZ12: =IF(ISNUMBER(SEARCH("08",AX12)),B12,"") | DA12: =IF(ISNUMBER(SEARCH("09",AX12)),B12,"") | DB12: =IF(ISNUMBER(SEARCH("10",AX12)),B12,"") | DC12: =IF(ISNUMBER(SEARCH("01",BC12)),B12,"") | DD12: =IF(ISNUMBER(SEARCH("02",BC12)),B12,"") | DE12: =IF(ISNUMBER(SEARCH("03",BC12)),B12,"") | DF12: =IF(ISNUMBER(SEARCH("04",BC12)),B12,"")
B13: 8 | P13: =IF(ISBLANK(M13),"",VLOOKUP(M13,ComboValue!$D$2:$H$18,5,FALSE)) | R13: {=IF(OR(ISNUMBER(SEARCH("SGH05",$D13:$L13)),ISNUMBER(SEARCH("SGH06",$D13:$L13)),ISNUMBER(SEARCH("SGH07",$D13:$L13)),ISNUMBER(SEARCH("SGH08",$D13:$L13)),ISNUMBER(SEARCH("pas de pictogramme",$D13:$L13)),ISNUMBER(SEARCH("SGH09",$D13:$L13)),ISNUMBER(SEARCH("SGH03",$D13:$L13))),"OUI","NON")} -> NON | AX13: {=_xlfn.TEXTJOIN(",", TRUE, IF(D13:L13="","",VLOOKUP(D13:L13, ComboValue!$A$2:$C$11, 3, FALSE)))} | AY13: =IF(ISNUMBER(SEARCH("04",AX13)),"Gaz_Fr","Tous_Fr") -> Tous_Fr | AZ13: =IF(ISBLANK(M13),"",VLOOKUP(M13,ComboValue!$D$2:$F$18,3,FALSE)) | BA13: =IF(ISBLANK(N13),"",VLOOKUP(N13,ComboValue!$J$2:$L$5,3,FALSE)) | BB13: {=_xlfn.TEXTJOIN(",", TRUE, IF(S13:AV13="","",VLOOKUP(S13:AV13, ComboValue!$M$2:$O$100, 3, FALSE)))} | BC13: =IF(AND(ISNUMBER(SEARCH("04",AX13)),NOT(OR("C_01"=AZ13,"C_01b"=AZ13,"C_02"=AZ13,"C_03"=AZ13))),"01,","") & IF(OR(AND("C_01"=AZ13,NOT("04"=BA13)),AND("C_02"=AZ13,NOT("04"=BA13)),AND("C_03"=AZ13,NOT("04"=BA13)),AND("C_04"=AZ13,NOT("01"=BA13)),AND("C_05"=AZ13,NOT("01"=BA13)),AND("C_06"=AZ13,OR("04"=BA13,BA13="")),AND("C_07"=AZ13,OR("04"=BA13,BA13="")),AND("C_08"=AZ13,NOT("03"=BA13)),AND("C_09"=AZ13,NOT("03"=BA13)),AND("C_10"=AZ13,NOT("04"=BA13)),AND("C_11"=AZ13,NOT("04"=BA13)),AND("C_12"=AZ13,NOT("04"=BA13)),AND("C_13"=AZ13,NOT("04"=BA13)),AND("C_14"=AZ13,NOT("04"=BA13))),"02,","") & IF(AND(OR(ISNUMBER(SEARCH("11",BB13)),ISNUMBER(SEARCH("12",BB13))),NOT("01"=BA13)),"03,","") & IF(AND(ISNUMBER(SEARCH("13",BB13)),NOT("02"=BA13)),"04,","") | BE13: =IF(ISNUMBER(SEARCH("01",AX13)),O13,"") | BF13: =IF(ISNUMBER(SEARCH("02",AX13)),O13,"") | BG13: =IF(ISNUMBER(SEARCH("03",AX13)),O13,"") | BH13: =IF(ISNUMBER(SEARCH("04",AX13)),O13,"") | BI13: =IF(ISNUMBER(SEARCH("05",AX13)),O13,"") | BJ13: =IF(ISNUMBER(SEARCH("06",AX13)),O13,"") | BK13: =IF(ISNUMBER(SEARCH("07",AX13)),O13,"") | BL13: =IF(ISNUMBER(SEARCH("08",AX13)),O13,"") | BM13: =IF(ISNUMBER(SEARCH("09",AX13)),O13,"") | BN13: =IF(ISNUMBER(SEARCH("10",AX13)),O13,"") | BO13: =IF(BF13="",0,BF13) -> 0 | BP13: =IF(BI13="",0,BI13-BQ13-BO13) -> 0 | BQ13: =IF(BJ13="",0,BJ13-BO13) -> 0 | BR13: =IF(BK13="",0,BK13-BS13-BP13-BQ13-BO13) -> 0 | BS13: =IF(BK13="",0,BK13-BP13-BQ13-BO13) -> 0 | BT13: =IF(BL13="",0,BL13-BR13-BS13-BP13-BQ13-BO13) -> 0 | BU13: =IF(AZ13="C_01",O13,"") | BV13: =IF(AZ13="C_01b",O13,"") | BW13: =IF(AZ13="C_02",O13,"") | BX13: =IF(AZ13="C_03",O13,"") | BY13: =IF(AND(OR(AZ13="C_04",AZ13="C_06"),BA13="01"),O13,"") | BZ13: =IF(AND(OR(AZ13="C_05",AZ13="C_07"),BA13="01"),O13,"") | CA13: =IF(AND(AZ13="C_06",BA13="02"),O13,"") | CB13: =IF(AND(AZ13="C_07",BA13="02"),O13,"") | CC13: =IF(AND(OR(AZ13="C_06",AZ13="C_08"),BA13="03"),O13,"") | CD13: =IF(AND(OR(AZ13="C_07",AZ13="C_09"),BA13="03"),O13,"") | CE13: =IF(AZ13="C_10",O13,"") | CF13: =IF(AZ13="C_11",O13,"") | CG13: =IF(AZ13="C_12",O13,"") | CH13: =IF(AZ13="C_13",O13,"") | CI13: =IF(AZ13="C_14",O13,"") | CJ13: =IF(AZ13="C_15",O13,"") | CK13: {=IF(AND(AZ13="C_16", SUMPRODUCT(--ISNUMBER(SEARCH({"14","34","38","40","41","42","43","46","48","56","64","65"},BB13)))>0), O13-IF(ISNUMBER(CL13),CL13,0), "")} | CL13: {=IF(AND(AZ13="C_16", SUMPRODUCT(--ISNUMBER(SEARCH({"01";"02";"03";"04";"05";"06";"07";"08";"09";"10";"11";"12";"13";"15";"16";"17";"19";"20";"21";"22";"23";"24";"25";"26";"27";"28";"29";"30";"31";"32";"33";"35";"36";"37";"39";"44";"45";"47";"49";"50";"51";"52";"53";"54";"55";"57";"58";"59";"60";"61";"62";"63";"66";"67";"68";"69";"70";"71";"72";"73";"74";"75"}, BB13)))>0), O13, "")} | CM13: {=IF(SUMPRODUCT(--ISNUMBER(SEARCH({"32";"35";"36";"44";"45";"47";"50";"51";"52";"53";"54";"55";"57";"58";"59";"60"}, BB13)))>0, B13, "")} | CN13: {=IF(SUMPRODUCT(--ISNUMBER(SEARCH({"61";"62"}, BB13)))>0, B13, "")} | CO13: {=IF(SUMPRODUCT(--ISNUMBER(SEARCH({"68";"69";"70";"71"}, BB13)))>0, B13, "")} | CP13: {=IF(SUMPRODUCT(--ISNUMBER(SEARCH({"72";"73";"74";"75"}, BB13)))>0, B13, "")} | CQ13: =IF(ISNUMBER(SEARCH("REACH",M13)),B13,"") | CR13: =IF(OR(AZ13="C_15", CM13<>"",CN13<>"",CO13<>"",CP13<>""), "YES", "NO") -> NO | CS13: =IF(ISNUMBER(SEARCH("01",AX13)),B13,"") | CT13: =IF(ISNUMBER(SEARCH("02",AX13)),B13,"") | CU13: =IF(ISNUMBER(SEARCH("03",AX13)),B13,"") | CV13: =IF(ISNUMBER(SEARCH("04",AX13)),B13,"") | CW13: =IF(ISNUMBER(SEARCH("05",AX13)),B13,"") | CX13: =IF(ISNUMBER(SEARCH("06",AX13)),B13,"") | CY13: =IF(ISNUMBER(SEARCH("07",AX13)),B13,"") | CZ13: =IF(ISNUMBER(SEARCH("08",AX13)),B13,"") | DA13: =IF(ISNUMBER(SEARCH("09",AX13)),B13,"") | DB13: =IF(ISNUMBER(SEARCH("10",AX13)),B13,"") | DC13: =IF(ISNUMBER(SEARCH("01",BC13)),B13,"") | DD13: =IF(ISNUMBER(SEARCH("02",BC13)),B13,"") | DE13: =IF(ISNUMBER(SEARCH("03",BC13)),B13,"") | DF13: =IF(ISNUMBER(SEARCH("04",BC13)),B13,"")
B14: 9 | P14: =IF(ISBLANK(M14),"",VLOOKUP(M14,ComboValue!$D$2:$H$18,5,FALSE)) | R14: {=IF(OR(ISNUMBER(SEARCH("SGH05",$D14:$L14)),ISNUMBER(SEARCH("SGH06",$D14:$L14)),ISNUMBER(SEARCH("SGH07",$D14:$L14)),ISNUMBER(SEARCH("SGH08",$D14:$L14)),ISNUMBER(SEARCH("pas de pictogramme",$D14:$L14)),ISNUMBER(SEARCH("SGH09",$D14:$L14)),ISNUMBER(SEARCH("SGH03",$D14:$L14))),"OUI","NON")} -> NON | AX14: {=_xlfn.TEXTJOIN(",", TRUE, IF(D14:L14="","",VLOOKUP(D14:L14, ComboValue!$A$2:$C$11, 3, FALSE)))} | AY14: =IF(ISNUMBER(SEARCH("04",AX14)),"Gaz_Fr","Tous_Fr") -> Tous_Fr | AZ14: =IF(ISBLANK(M14),"",VLOOKUP(M14,ComboValue!$D$2:$F$18,3,FALSE)) | BA14: =IF(ISBLANK(N14),"",VLOOKUP(N14,ComboValue!$J$2:$L$5,3,FALSE)) | BB14: {=_xlfn.TEXTJOIN(",", TRUE, IF(S14:AV14="","",VLOOKUP(S14:AV14, ComboValue!$M$2:$O$100, 3, FALSE)))} | BC14: =IF(AND(ISNUMBER(SEARCH("04",AX14)),NOT(OR("C_01"=AZ14,"C_01b"=AZ14,"C_02"=AZ14,"C_03"=AZ14))),"01,","") & IF(OR(AND("C_01"=AZ14,NOT("04"=BA14)),AND("C_02"=AZ14,NOT("04"=BA14)),AND("C_03"=AZ14,NOT("04"=BA14)),AND("C_04"=AZ14,NOT("01"=BA14)),AND("C_05"=AZ14,NOT("01"=BA14)),AND("C_06"=AZ14,OR("04"=BA14,BA14="")),AND("C_07"=AZ14,OR("04"=BA14,BA14="")),AND("C_08"=AZ14,NOT("03"=BA14)),AND("C_09"=AZ14,NOT("03"=BA14)),AND("C_10"=AZ14,NOT("04"=BA14)),AND("C_11"=AZ14,NOT("04"=BA14)),AND("C_12"=AZ14,NOT("04"=BA14)),AND("C_13"=AZ14,NOT("04"=BA14)),AND("C_14"=AZ14,NOT("04"=BA14))),"02,","") & IF(AND(OR(ISNUMBER(SEARCH("11",BB14)),ISNUMBER(SEARCH("12",BB14))),NOT("01"=BA14)),"03,","") & IF(AND(ISNUMBER(SEARCH("13",BB14)),NOT("02"=BA14)),"04,","") | BE14: =IF(ISNUMBER(SEARCH("01",AX14)),O14,"") | BF14: =IF(ISNUMBER(SEARCH("02",AX14)),O14,"") | BG14: =IF(ISNUMBER(SEARCH("03",AX14)),O14,"") | BH14: =IF(ISNUMBER(SEARCH("04",AX14)),O14,"") | BI14: =IF(ISNUMBER(SEARCH("05",AX14)),O14,"") | BJ14: =IF(ISNUMBER(SEARCH("06",AX14)),O14,"") | BK14: =IF(ISNUMBER(SEARCH("07",AX14)),O14,"") | BL14: =IF(ISNUMBER(SEARCH("08",AX14)),O14,"") | BM14: =IF(ISNUMBER(SEARCH("09",AX14)),O14,"") | BN14: =IF(ISNUMBER(SEARCH("10",AX14)),O14,"") | BO14: =IF(BF14="",0,BF14) -> 0 | BP14: =IF(BI14="",0,BI14-BQ14-BO14) -> 0 | BQ14: =IF(BJ14="",0,BJ14-BO14) -> 0 | BR14: =IF(BK14="",0,BK14-BS14-BP14-BQ14-BO14) -> 0 | BS14: =IF(BK14="",0,BK14-BP14-BQ14-BO14) -> 0 | BT14: =IF(BL14="",0,BL14-BR14-BS14-BP14-BQ14-BO14) -> 0 | BU14: =IF(AZ14="C_01",O14,"") | BV14: =IF(AZ14="C_01b",O14,"") | BW14: =IF(AZ14="C_02",O14,"") | BX14: =IF(AZ14="C_03",O14,"") | BY14: =IF(AND(OR(AZ14="C_04",AZ14="C_06"),BA14="01"),O14,"") | BZ14: =IF(AND(OR(AZ14="C_05",AZ14="C_07"),BA14="01"),O14,"") | CA14: =IF(AND(AZ14="C_06",BA14="02"),O14,"") | CB14: =IF(AND(AZ14="C_07",BA14="02"),O14,"") | CC14: =IF(AND(OR(AZ14="C_06",AZ14="C_08"),BA14="03"),O14,"") | CD14: =IF(AND(OR(AZ14="C_07",AZ14="C_09"),BA14="03"),O14,"") | CE14: =IF(AZ14="C_10",O14,"") | CF14: =IF(AZ14="C_11",O14,"") | CG14: =IF(AZ14="C_12",O14,"") | CH14: =IF(AZ14="C_13",O14,"") | CI14: =IF(AZ14="C_14",O14,"") | CJ14: =IF(AZ14="C_15",O14,"") | CK14: {=IF(AND(AZ14="C_16", SUMPRODUCT(--ISNUMBER(SEARCH({"14","34","38","40","41","42","43","46","48","56","64","65"},BB14)))>0), O14-IF(ISNUMBER(CL14),CL14,0), "")} | CL14: {=IF(AND(AZ14="C_16", SUMPRODUCT(--ISNUMBER(SEARCH({"01";"02";"03";"04";"05";"06";"07";"08";"09";"10";"11";"12";"13";"15";"16";"17";"19";"20";"21";"22";"23";"24";"25";"26";"27";"28";"29";"30";"31";"32";"33";"35";"36";"37";"39";"44";"45";"47";"49";"50";"51";"52";"53";"54";"55";"57";"58";"59";"60";"61";"62";"63";"66";"67";"68";"69";"70";"71";"72";"73";"74";"75"}, BB14)))>0), O14, "")} | CM14: {=IF(SUMPRODUCT(--ISNUMBER(SEARCH({"32";"35";"36";"44";"45";"47";"50";"51";"52";"53";"54";"55";"57";"58";"59";"60"}, BB14)))>0, B14, "")} | CN14: {=IF(SUMPRODUCT(--ISNUMBER(SEARCH({"61";"62"}, BB14)))>0, B14, "")} | CO14: {=IF(SUMPRODUCT(--ISNUMBER(SEARCH({"68";"69";"70";"71"}, BB14)))>0, B14, "")} | CP14: {=IF(SUMPRODUCT(--ISNUMBER(SEARCH({"72";"73";"74";"75"}, BB14)))>0, B14, "")} | CQ14: =IF(ISNUMBER(SEARCH("REACH",M14)),B14,"") | CR14: =IF(OR(AZ14="C_15", CM14<>"",CN14<>"",CO14<>"",CP14<>""), "YES", "NO") -> NO | CS14: =IF(ISNUMBER(SEARCH("01",AX14)),B14,"") | CT14: =IF(ISNUMBER(SEARCH("02",AX14)),B14,"") | CU14: =IF(ISNUMBER(SEARCH("03",AX14)),B14,"") | CV14: =IF(ISNUMBER(SEARCH("04",AX14)),B14,"") | CW14: =IF(ISNUMBER(SEARCH("05",AX14)),B14,"") | CX14: =IF(ISNUMBER(SEARCH("06",AX14)),B14,"") | CY14: =IF(ISNUMBER(SEARCH("07",AX14)),B14,"") | CZ14: =IF(ISNUMBER(SEARCH("08",AX14)),B14,"") | DA14: =IF(ISNUMBER(SEARCH("09",AX14)),B14,"") | DB14: =IF(ISNUMBER(SEARCH("10",AX14)),B14,"") | DC14: =IF(ISNUMBER(SEARCH("01",BC14)),B14,"") | DD14: =IF(ISNUMBER(SEARCH("02",BC14)),B14,"") | DE14: =IF(ISNUMBER(SEARCH("03",BC14)),B14,"") | DF14: =IF(ISNUMBER(SEARCH("04",BC14)),B14,"")
