Workbook

Sheet README
B6: Ce fichier Excel vous permet de préparer l'exportation de vos données de consommation vers un fichier .csv dans un format importable dans la plateforme web PLAGE. Les étapes à suivre sont les suivantes: 1. Remplir la feuille "encodage-invoer" avec les données de vos compteurs et de consommation. Important: - pour ajouter une consommation à un compteur existant dans PLAGE, utiliser exactement la même référence et le même nom de compteur. - si vous essayez d'importer un relevé dont la période chevauche la période d'un relevé existant, l'import échouera avec un message d'erreur. 2. Cliquez sur la feuille "fichier csv bestand" et puis sur "fichier", "enregistrer sous", et choisir le format "CSV UTF-8" 3. Importez ce fichier dans le plateforme PLAGE | C6: Dit Excel-bestand helpt om de export van verbruiksgegevens naar een .csv bestand voor te bereiden in een formaat dat geïmporteerd kan worden in het PLAGE-webplatform. De stappen zijn als volgt: 1. Vul het "encodage-invoer"-blad in met je verbruiksgegevens. Belangrijk: - Om verbruik toe te voegen aan een bestaande meter in RANGE, gebruik exact dezelfde referentie en meternaam. - Als je probeert een verbruik te importeren met een periode die overlapt met de periode van een bestaande verbruik, mislukt de import met een foutmelding. 2. Klik op het "fichier csv bestand"-blad en vervolgens op "bestand", "opslaan als", en kies het "CSV UTF-8" formaat 3. Importeer dit bestand op het PLAGE-platform
B8: Description des champs (tiré du manuel PLAGE).Les données suivies d'une * sont obligatoires | C8: Beschrijving van de vakgebieden (afkomstig uit het PLAGE-handboek). Data gevolgd door een * is vereist
B9: NOM CPT * : Le nom du compteur en caractères alphanumériques. Plusieurs compteurs peuvent avoir le même nom. Nous vous conseillons toutefois de donner un nom unique à chaque compteur. Dans le cas où plusieurs compteurs portent le même nom, un suffixe sera ajouté afin de pouvoir les distinguer entre eux. | C9: NOM CPT *: De naam van de teller in alfanumerieke tekens. Tellers kunnen dezelfde namen hebben. Wanneer een teller echter dezelfde naam heeft als een andere teller, wordt aan de laatste een achtervoegsel toegevoegd om hem van de eerste te onderscheiden.
B10: REFERENCE CPT * : C’est le numéro du compteur ou son code EAN, ce numéro est unique pour chaque compteur. | C10: REFERENCE CPT *: Dit is het nummer van de meter of zijn EAN-code, dit nummer is uniek voor elke meter.
B11: DATE DEBUT* : Date du début de la période de consommation. Le format demandé est jj/mm/aaaa, par exemple: 28/02/2023 | C11: DATE DEBUT* : Startdatum van de verbruiksperiode, als volgt uitgedrukt: "jj/mm/yyyy" ofwel "jj/mm/yyyy hh:mm:ss"
B12: DATE FIN * : Date du fin de la période de consommation. Le format demandé est jj/mm/aaaa, par exemple: 28/02/2023 | C12: DATE FIN * : Einddatum van de verbruiksperiode, als volgt uitgedrukt: "jj/mm/yyyy" ofwel "jj/mm/yyyy hh:mm:ss"
B13: VECTEUR * : C’est le vecteur énergétique pour le compteur importé. Vous ne pouvez importer via le fichier .csv que vos compteurs de gaz ou d’électricité. Les valeurs acceptées sont les suivantes : "GAS" - "ELEC" | C13: VECTEUR *: Dit is de energiedrager voor de ingevoerde meter. U kunt via het CSV-bestand enkel uw gas- of elektriciteitsmeters importeren. De aanvaarde waarden zijn: • GAS • ELEC
B14: TYPE : Le type de compteur n’est obligatoire que pour les compteurs électriques (si le vecteur énergétique="ELEC"), si vous importez un compteur gaz, vous devez laisser ce champ vide (""). Les valeurs acceptées sont : | C14: TYPE: Het metertype is alleen verplicht voor elektrische meters (als de energievector="ELEC"), als u een gasmeter importeert, moet u dit veld leeg laten (""). De aanvaarde waarden zijn:
B15: · "MONO_DIRECT_DEBIT", vous encodez cette valeur s’il s’agit d’un compteur de prélèvement du réseau | C15: · MONO_DIRECT_DEBIT, u voert deze waarde in als het over een enkelvoudige meter gaat met afname van het net
B16: · "MONO_FEEDBACK", vous encodez cette valeur s’il s’agit d’un compteur de réinjection vers le réseau | C16: · MONO_FEEDBACK, u voert deze waarde in als het over een enkelvoudige meter gaat met stroom injectie naar het net
B17: · "BI", vous encodez cette valeur s’il s’agit d’un compteur bi-horaire (prélèvement du réseau) | C17: · BI, u voert deze waarde in als het over een tweevoudige meter gaat met afname van het net
B18: · "AA", vous encodez cette valeur s’il s’agit d’un compteur A+ /A- | C18: AA, u voert deze waarde in als het een bidirectionele meter is (autoproductie A+/A-)
... B20: INJE : Il s’agit de la valeur réinjectée au réseau sur la période exprimée en kWh PCS. Cela doit être une valeur numérique, qui peut être laissée vide. | C20: · INJE: Dit is de waarde die gedurende de periode naar het net wordt geïnjecteerd, uitgedrukt in kWh BVW. Dit moet een numerieke waarde zijn die leeg gelaten kan worden.

Sheet encodage-invoer
A1: NOM CPT | B1: REFERENCE CPT | C1: DATE DEBUT | D1: DATE FIN | E1: VECTEUR | F1: TYPE | G1: CONSO | H1: INJE
A2: Exemple 1 | B2: 432156 | C2: 43466 | D2: 43496 | E2: ELEC | F2: MONO_DIRECT_DEBIT | G2: 41810.4
A3: Exemple 1 | B3: 432156 | C3: 43497 | D3: 43524 | E3: ELEC | F3: MONO_DIRECT_DEBIT | G3: 38485.1
A4: Exemple 1 | B4: 432156 | C4: 43525 | D4: 43555 | E4: ELEC | F4: MONO_DIRECT_DEBIT | G4: 43515
A5: Exemple 1 | B5: 432156 | C5: 43556 | D5: 43585 | E5: ELEC | F5: MONO_DIRECT_DEBIT | G5: 39902.9
A6: Voorbeeld 2 | B6: 123456789 | C6: 43466 | D6: 43496 | E6: GAS | G6: 86686
A7: Voorbeeld 2 | B7: 123456789 | C7: 43497 | D7: 43524 | E7: GAS | G7: 51234.7
A8: Voorbeeld 2 | B8: 123456789 | C8: 43525 | D8: 43555 | E8: GAS | G8: 48850.9
A9: Voorbeeld 2 | B9: 123456789 | C9: 43556 | D9: 43585 | E9: GAS | G9: 33352.6
A10: Voorbeeld 2 | B10: 123456789 | C10: 43586 | D10: 43616 | E10: GAS | G10: 24294.7

Sheet Step 2
A1: =+CONCATENATE(CHAR(34),'encodage-invoer'!A1,CHAR(34),",") -> "NOM CPT", | B1: =+CONCATENATE(CHAR(34),'encodage-invoer'!B1,CHAR(34),",") -> "REFERENCE CPT", | C1: =+CONCATENATE(CHAR(34),'encodage-invoer'!C1,CHAR(34),",") -> "DATE DEBUT", | D1: =+CONCATENATE(CHAR(34),'encodage-invoer'!D1,CHAR(34),",") -> "DATE FIN", | E1: =+CONCATENATE(CHAR(34),'encodage-invoer'!E1,CHAR(34),",") -> "VECTEUR", | F1: =+CONCATENATE(CHAR(34),'encodage-invoer'!F1,CHAR(34),",") -> "TYPE", | G1: =+CONCATENATE(CHAR(34),'encodage-invoer'!G1,CHAR(34),",") -> "CONSO", | H1: =+CONCATENATE(CHAR(34),'encodage-invoer'!H1,CHAR(34)) -> "INJE" | J1: =+CONCATENATE(A1,B1,C1,D1,E1,F1,G1,H1) -> "NOM CPT","REFERENCE CPT","DATE DEBUT","DATE FIN","VECTEUR","TYPE","CONSO","INJE"
A2: =IF(ISBLANK('encodage-invoer'!B2),"",+CONCATENATE(CHAR(34),'encodage-invoer'!A2,CHAR(34),",")) -> "Exemple 1", | B2: =IF(ISBLANK('encodage-invoer'!B2),"",+CONCATENATE(CHAR(34),'encodage-invoer'!B2,CHAR(34),",")) -> "432156", | C2: =IF(ISBLANK('encodage-invoer'!B2),"",CHAR(34)&TEXT(DAY('encodage-invoer'!C2),"00")&"/"&TEXT(MONTH('encodage-invoer'!C2),"00")&"/"&TEXT(YEAR('encodage-invoer'!C2),"0000")&CHAR(34)&",") -> "01/01/2019", | D2: =IF(ISBLANK('encodage-invoer'!B2),"",CHAR(34)&TEXT(DAY('encodage-invoer'!D2),"00")&"/"&TEXT(MONTH('encodage-invoer'!D2),"00")&"/"&TEXT(YEAR('encodage-invoer'!D2),"0000")&CHAR(34)&",") -> "31/01/2019", | E2: =IF(ISBLANK('encodage-invoer'!B2),"",+CONCATENATE(CHAR(34),'encodage-invoer'!E2,CHAR(34),",")) -> "ELEC", | F2: =IF(ISBLANK('encodage-invoer'!B2),"",+CONCATENATE(CHAR(34),'encodage-invoer'!F2,CHAR(34),",")) -> "MONO_DIRECT_DEBIT", | G2: =IF(ISBLANK('encodage-invoer'!B2),"",+CONCATENATE(CHAR(34),SUBSTITUTE(TEXT('encodage-invoer'!G2,"0,00"),",","."),CHAR(34),",")) -> "41810.40", | H2: =IF(ISBLANK('encodage-invoer'!B2),"",+CONCATENATE(CHAR(34),'encodage-invoer'!H2,CHAR(34))) -> "" | J2: =+CONCATENATE(A2,B2,C2,D2,E2,F2,G2,H2) -> "Exemple 1","432156","01/01/2019","31/01/2019","ELEC","MONO_DIRECT_DEBIT","41810.40",""
A3: =IF(ISBLANK('encodage-invoer'!B3),"",+CONCATENATE(CHAR(34),'encodage-invoer'!A3,CHAR(34),",")) -> "Exemple 1", | B3: =IF(ISBLANK('encodage-invoer'!B3),"",+CONCATENATE(CHAR(34),'encodage-invoer'!B3,CHAR(34),",")) -> "432156", | C3: =IF(ISBLANK('encodage-invoer'!B3),"",CHAR(34)&TEXT(DAY('encodage-invoer'!C3),"00")&"/"&TEXT(MONTH('encodage-invoer'!C3),"00")&"/"&TEXT(YEAR('encodage-invoer'!C3),"0000")&CHAR(34)&",") -> "01/02/2019", | D3: =IF(ISBLANK('encodage-invoer'!B3),"",CHAR(34)&TEXT(DAY('encodage-invoer'!D3),"00")&"/"&TEXT(MONTH('encodage-invoer'!D3),"00")&"/"&TEXT(YEAR('encodage-invoer'!D3),"0000")&CHAR(34)&",") -> "28/02/2019", | E3: =IF(ISBLANK('encodage-invoer'!B3),"",+CONCATENATE(CHAR(34),'encodage-invoer'!E3,CHAR(34),",")) -> "ELEC", | F3: =IF(ISBLANK('encodage-invoer'!B3),"",+CONCATENATE(CHAR(34),'encodage-invoer'!F3,CHAR(34),",")) -> "MONO_DIRECT_DEBIT", | G3: =IF(ISBLANK('encodage-invoer'!B3),"",+CONCATENATE(CHAR(34),SUBSTITUTE(TEXT('encodage-invoer'!G3,"0,00"),",","."),CHAR(34),",")) -> "38485.10", | H3: =IF(ISBLANK('encodage-invoer'!B3),"",+CONCATENATE(CHAR(34),'encodage-invoer'!H3,CHAR(34))) -> "" | J3: =+CONCATENATE(A3,B3,C3,D3,E3,F3,G3,H3) -> "Exemple 1","432156","01/02/2019","28/02/2019","ELEC","MONO_DIRECT_DEBIT","38485.10",""
A4: =IF(ISBLANK('encodage-invoer'!B4),"",+CONCATENATE(CHAR(34),'encodage-invoer'!A4,CHAR(34),",")) -> "Exemple 1", | B4: =IF(ISBLANK('encodage-invoer'!B4),"",+CONCATENATE(CHAR(34),'encodage-invoer'!B4,CHAR(34),",")) -> "432156", | C4: =IF(ISBLANK('encodage-invoer'!B4),"",CHAR(34)&TEXT(DAY('encodage-invoer'!C4),"00")&"/"&TEXT(MONTH('encodage-invoer'!C4),"00")&"/"&TEXT(YEAR('encodage-invoer'!C4),"0000")&CHAR(34)&",") -> "01/03/2019", | D4: =IF(ISBLANK('encodage-invoer'!B4),"",CHAR(34)&TEXT(DAY('encodage-invoer'!D4),"00")&"/"&TEXT(MONTH('encodage-invoer'!D4),"00")&"/"&TEXT(YEAR('encodage-invoer'!D4),"0000")&CHAR(34)&",") -> "31/03/2019", | E4: =IF(ISBLANK('encodage-invoer'!B4),"",+CONCATENATE(CHAR(34),'encodage-invoer'!E4,CHAR(34),",")) -> "ELEC", | F4: =IF(ISBLANK('encodage-invoer'!B4),"",+CONCATENATE(CHAR(34),'encodage-invoer'!F4,CHAR(34),",")) -> "MONO_DIRECT_DEBIT", | G4: =IF(ISBLANK('encodage-invoer'!B4),"",+CONCATENATE(CHAR(34),SUBSTITUTE(TEXT('encodage-invoer'!G4,"0,00"),",","."),CHAR(34),",")) -> "43515.00", | H4: =IF(ISBLANK('encodage-invoer'!B4),"",+CONCATENATE(CHAR(34),'encodage-invoer'!H4,CHAR(34))) -> "" | J4: =+CONCATENATE(A4,B4,C4,D4,E4,F4,G4,H4) -> "Exemple 1","432156","01/03/2019","31/03/2019","ELEC","MONO_DIRECT_DEBIT","43515.00",""
A5: =IF(ISBLANK('encodage-invoer'!B5),"",+CONCATENATE(CHAR(34),'encodage-invoer'!A5,CHAR(34),",")) -> "Exemple 1", | B5: =IF(ISBLANK('encodage-invoer'!B5),"",+CONCATENATE(CHAR(34),'encodage-invoer'!B5,CHAR(34),",")) -> "432156", | C5: =IF(ISBLANK('encodage-invoer'!B5),"",CHAR(34)&TEXT(DAY('encodage-invoer'!C5),"00")&"/"&TEXT(MONTH('encodage-invoer'!C5),"00")&"/"&TEXT(YEAR('encodage-invoer'!C5),"0000")&CHAR(34)&",") -> "01/04/2019", | D5: =IF(ISBLANK('encodage-invoer'!B5),"",CHAR(34)&TEXT(DAY('encodage-invoer'!D5),"00")&"/"&TEXT(MONTH('encodage-invoer'!D5),"00")&"/"&TEXT(YEAR('encodage-invoer'!D5),"0000")&CHAR(34)&",") -> "30/04/2019", | E5: =IF(ISBLANK('encodage-invoer'!B5),"",+CONCATENATE(CHAR(34),'encodage-invoer'!E5,CHAR(34),",")) -> "ELEC", | F5: =IF(ISBLANK('encodage-invoer'!B5),"",+CONCATENATE(CHAR(34),'encodage-invoer'!F5,CHAR(34),",")) -> "MONO_DIRECT_DEBIT", | G5: =IF(ISBLANK('encodage-invoer'!B5),"",+CONCATENATE(CHAR(34),SUBSTITUTE(TEXT('encodage-invoer'!G5,"0,00"),",","."),CHAR(34),",")) -> "39902.90", | H5: =IF(ISBLANK('encodage-invoer'!B5),"",+CONCATENATE(CHAR(34),'encodage-invoer'!H5,CHAR(34))) -> "" | J5: =+CONCATENATE(A5,B5,C5,D5,E5,F5,G5,H5) -> "Exemple 1","432156","01/04/2019","30/04/2019","ELEC","MONO_DIRECT_DEBIT","39902.90",""
A6: =IF(ISBLANK('encodage-invoer'!B6),"",+CONCATENATE(CHAR(34),'encodage-invoer'!A6,CHAR(34),",")) -> "Voorbeeld 2", | B6: =IF(ISBLANK('encodage-invoer'!B6),"",+CONCATENATE(CHAR(34),'encodage-invoer'!B6,CHAR(34),",")) -> "123456789", | C6: =IF(ISBLANK('encodage-invoer'!B6),"",CHAR(34)&TEXT(DAY('encodage-invoer'!C6),"00")&"/"&TEXT(MONTH('encodage-invoer'!C6),"00")&"/"&TEXT(YEAR('encodage-invoer'!C6),"0000")&CHAR(34)&",") -> "01/01/2019", | D6: =IF(ISBLANK('encodage-invoer'!B6),"",CHAR(34)&TEXT(DAY('encodage-invoer'!D6),"00")&"/"&TEXT(MONTH('encodage-invoer'!D6),"00")&"/"&TEXT(YEAR('encodage-invoer'!D6),"0000")&CHAR(34)&",") -> "31/01/2019", | E6: =IF(ISBLANK('encodage-invoer'!B6),"",+CONCATENATE(CHAR(34),'encodage-invoer'!E6,CHAR(34),",")) -> "GAS", | F6: =IF(ISBLANK('encodage-invoer'!B6),"",+CONCATENATE(CHAR(34),'encodage-invoer'!F6,CHAR(34),",")) -> "", | G6: =IF(ISBLANK('encodage-invoer'!B6),"",+CONCATENATE(CHAR(34),SUBSTITUTE(TEXT('encodage-invoer'!G6,"0,00"),",","."),CHAR(34),",")) -> "86686.00", | H6: =IF(ISBLANK('encodage-invoer'!B6),"",+CONCATENATE(CHAR(34),'encodage-invoer'!H6,CHAR(34))) -> "" | J6: =+CONCATENATE(A6,B6,C6,D6,E6,F6,G6,H6) -> "Voorbeeld 2","123456789","01/01/2019","31/01/2019","GAS","","86686.00",""
A7: =IF(ISBLANK('encodage-invoer'!B7),"",+CONCATENATE(CHAR(34),'encodage-invoer'!A7,CHAR(34),",")) -> "Voorbeeld 2", | B7: =IF(ISBLANK('encodage-invoer'!B7),"",+CONCATENATE(CHAR(34),'encodage-invoer'!B7,CHAR(34),",")) -> "123456789", | C7: =IF(ISBLANK('encodage-invoer'!B7),"",CHAR(34)&TEXT(DAY('encodage-invoer'!C7),"00")&"/"&TEXT(MONTH('encodage-invoer'!C7),"00")&"/"&TEXT(YEAR('encodage-invoer'!C7),"0000")&CHAR(34)&",") -> "01/02/2019", | D7: =IF(ISBLANK('encodage-invoer'!B7),"",CHAR(34)&TEXT(DAY('encodage-invoer'!D7),"00")&"/"&TEXT(MONTH('encodage-invoer'!D7),"00")&"/"&TEXT(YEAR('encodage-invoer'!D7),"0000")&CHAR(34)&",") -> "28/02/2019", | E7: =IF(ISBLANK('encodage-invoer'!B7),"",+CONCATENATE(CHAR(34),'encodage-invoer'!E7,CHAR(34),",")) -> "GAS", | F7: =IF(ISBLANK('encodage-invoer'!B7),"",+CONCATENATE(CHAR(34),'encodage-invoer'!F7,CHAR(34),",")) -> "", | G7: =IF(ISBLANK('encodage-invoer'!B7),"",+CONCATENATE(CHAR(34),SUBSTITUTE(TEXT('encodage-invoer'!G7,"0,00"),",","."),CHAR(34),",")) -> "51234.70", | H7: =IF(ISBLANK('encodage-invoer'!B7),"",+CONCATENATE(CHAR(34),'encodage-invoer'!H7,CHAR(34))) -> "" | J7: =+CONCATENATE(A7,B7,C7,D7,E7,F7,G7,H7) -> "Voorbeeld 2","123456789","01/02/2019","28/02/2019","GAS","","51234.70",""
A8: =IF(ISBLANK('encodage-invoer'!B8),"",+CONCATENATE(CHAR(34),'encodage-invoer'!A8,CHAR(34),",")) -> "Voorbeeld 2", | B8: =IF(ISBLANK('encodage-invoer'!B8),"",+CONCATENATE(CHAR(34),'encodage-invoer'!B8,CHAR(34),",")) -> "123456789", | C8: =IF(ISBLANK('encodage-invoer'!B8),"",CHAR(34)&TEXT(DAY('encodage-invoer'!C8),"00")&"/"&TEXT(MONTH('encodage-invoer'!C8),"00")&"/"&TEXT(YEAR('encodage-invoer'!C8),"0000")&CHAR(34)&",") -> "01/03/2019", | D8: =IF(ISBLANK('encodage-invoer'!B8),"",CHAR(34)&TEXT(DAY('encodage-invoer'!D8),"00")&"/"&TEXT(MONTH('encodage-invoer'!D8),"00")&"/"&TEXT(YEAR('encodage-invoer'!D8),"0000")&CHAR(34)&",") -> "31/03/2019", | E8: =IF(ISBLANK('encodage-invoer'!B8),"",+CONCATENATE(CHAR(34),'encodage-invoer'!E8,CHAR(34),",")) -> "GAS", | F8: =IF(ISBLANK('encodage-invoer'!B8),"",+CONCATENATE(CHAR(34),'encodage-invoer'!F8,CHAR(34),",")) -> "", | G8: =IF(ISBLANK('encodage-invoer'!B8),"",+CONCATENATE(CHAR(34),SUBSTITUTE(TEXT('encodage-invoer'!G8,"0,00"),",","."),CHAR(34),",")) -> "48850.90", | H8: =IF(ISBLANK('encodage-invoer'!B8),"",+CONCATENATE(CHAR(34),'encodage-invoer'!H8,CHAR(34))) -> "" | J8: =+CONCATENATE(A8,B8,C8,D8,E8,F8,G8,H8) -> "Voorbeeld 2","123456789","01/03/2019","31/03/2019","GAS","","48850.90",""
A9: =IF(ISBLANK('encodage-invoer'!B9),"",+CONCATENATE(CHAR(34),'encodage-invoer'!A9,CHAR(34),",")) -> "Voorbeeld 2", | B9: =IF(ISBLANK('encodage-invoer'!B9),"",+CONCATENATE(CHAR(34),'encodage-invoer'!B9,CHAR(34),",")) -> "123456789", | C9: =IF(ISBLANK('encodage-invoer'!B9),"",CHAR(34)&TEXT(DAY('encodage-invoer'!C9),"00")&"/"&TEXT(MONTH('encodage-invoer'!C9),"00")&"/"&TEXT(YEAR('encodage-invoer'!C9),"0000")&CHAR(34)&",") -> "01/04/2019", | D9: =IF(ISBLANK('encodage-invoer'!B9),"",CHAR(34)&TEXT(DAY('encodage-invoer'!D9),"00")&"/"&TEXT(MONTH('encodage-invoer'!D9),"00")&"/"&TEXT(YEAR('encodage-invoer'!D9),"0000")&CHAR(34)&",") -> "30/04/2019", | E9: =IF(ISBLANK('encodage-invoer'!B9),"",+CONCATENATE(CHAR(34),'encodage-invoer'!E9,CHAR(34),",")) -> "GAS", | F9: =IF(ISBLANK('encodage-invoer'!B9),"",+CONCATENATE(CHAR(34),'encodage-invoer'!F9,CHAR(34),",")) -> "", | G9: =IF(ISBLANK('encodage-invoer'!B9),"",+CONCATENATE(CHAR(34),SUBSTITUTE(TEXT('encodage-invoer'!G9,"0,00"),",","."),CHAR(34),",")) -> "33352.60", | H9: =IF(ISBLANK('encodage-invoer'!B9),"",+CONCATENATE(CHAR(34),'encodage-invoer'!H9,CHAR(34))) -> "" | J9: =+CONCATENATE(A9,B9,C9,D9,E9,F9,G9,H9) -> "Voorbeeld 2","123456789","01/04/2019","30/04/2019","GAS","","33352.60",""
A10: =IF(ISBLANK('encodage-invoer'!B10),"",+CONCATENATE(CHAR(34),'encodage-invoer'!A10,CHAR(34),",")) -> "Voorbeeld 2", | B10: =IF(ISBLANK('encodage-invoer'!B10),"",+CONCATENATE(CHAR(34),'encodage-invoer'!B10,CHAR(34),",")) -> "123456789", | C10: =IF(ISBLANK('encodage-invoer'!B10),"",CHAR(34)&TEXT(DAY('encodage-invoer'!C10),"00")&"/"&TEXT(MONTH('encodage-invoer'!C10),"00")&"/"&TEXT(YEAR('encodage-invoer'!C10),"0000")&CHAR(34)&",") -> "01/05/2019", | D10: =IF(ISBLANK('encodage-invoer'!B10),"",CHAR(34)&TEXT(DAY('encodage-invoer'!D10),"00")&"/"&TEXT(MONTH('encodage-invoer'!D10),"00")&"/"&TEXT(YEAR('encodage-invoer'!D10),"0000")&CHAR(34)&",") -> "31/05/2019", | E10: =IF(ISBLANK('encodage-invoer'!B10),"",+CONCATENATE(CHAR(34),'encodage-invoer'!E10,CHAR(34),",")) -> "GAS", | F10: =IF(ISBLANK('encodage-invoer'!B10),"",+CONCATENATE(CHAR(34),'encodage-invoer'!F10,CHAR(34),",")) -> "", | G10: =IF(ISBLANK('encodage-invoer'!B10),"",+CONCATENATE(CHAR(34),SUBSTITUTE(TEXT('encodage-invoer'!G10,"0,00"),",","."),CHAR(34),",")) -> "24294.70", | H10: =IF(ISBLANK('encodage-invoer'!B10),"",+CONCATENATE(CHAR(34),'encodage-invoer'!H10,CHAR(34))) -> "" | J10: =+CONCATENATE(A10,B10,C10,D10,E10,F10,G10,H10) -> "Voorbeeld 2","123456789","01/05/2019","31/05/2019","GAS","","24294.70",""
A11: =IF(ISBLANK('encodage-invoer'!B11),"",+CONCATENATE(CHAR(34),'encodage-invoer'!A11,CHAR(34),",")) | B11: =IF(ISBLANK('encodage-invoer'!B11),"",+CONCATENATE(CHAR(34),'encodage-invoer'!B11,CHAR(34),",")) | C11: =IF(ISBLANK('encodage-invoer'!B11),"",CHAR(34)&TEXT(DAY('encodage-invoer'!C11),"00")&"/"&TEXT(MONTH('encodage-invoer'!C11),"00")&"/"&TEXT(YEAR('encodage-invoer'!C11),"0000")&CHAR(34)&",") | D11: =IF(ISBLANK('encodage-invoer'!B11),"",CHAR(34)&TEXT(DAY('encodage-invoer'!D11),"00")&"/"&TEXT(MONTH('encodage-invoer'!D11),"00")&"/"&TEXT(YEAR('encodage-invoer'!D11),"0000")&CHAR(34)&",") | E11: =IF(ISBLANK('encodage-invoer'!B11),"",+CONCATENATE(CHAR(34),'encodage-invoer'!E11,CHAR(34),",")) | F11: =IF(ISBLANK('encodage-invoer'!B11),"",+CONCATENATE(CHAR(34),'encodage-invoer'!F11,CHAR(34),",")) | G11: =IF(ISBLANK('encodage-invoer'!B11),"",+CONCATENATE(CHAR(34),SUBSTITUTE(TEXT('encodage-invoer'!G11,"0,00"),",","."),CHAR(34),",")) | H11: =IF(ISBLANK('encodage-invoer'!B11),"",+CONCATENATE(CHAR(34),'encodage-invoer'!H11,CHAR(34))) | J11: =+CONCATENATE(A11,B11,C11,D11,E11,F11,G11,H11)
A12: =IF(ISBLANK('encodage-invoer'!B12),"",+CONCATENATE(CHAR(34),'encodage-invoer'!A12,CHAR(34),",")) | B12: =IF(ISBLANK('encodage-invoer'!B12),"",+CONCATENATE(CHAR(34),'encodage-invoer'!B12,CHAR(34),",")) | C12: =IF(ISBLANK('encodage-invoer'!B12),"",CHAR(34)&TEXT(DAY('encodage-invoer'!C12),"00")&"/"&TEXT(MONTH('encodage-invoer'!C12),"00")&"/"&TEXT(YEAR('encodage-invoer'!C12),"0000")&CHAR(34)&",") | D12: =IF(ISBLANK('encodage-invoer'!B12),"",CHAR(34)&TEXT(DAY('encodage-invoer'!D12),"00")&"/"&TEXT(MONTH('encodage-invoer'!D12),"00")&"/"&TEXT(YEAR('encodage-invoer'!D12),"0000")&CHAR(34)&",") | E12: =IF(ISBLANK('encodage-invoer'!B12),"",+CONCATENATE(CHAR(34),'encodage-invoer'!E12,CHAR(34),",")) | F12: =IF(ISBLANK('encodage-invoer'!B12),"",+CONCATENATE(CHAR(34),'encodage-invoer'!F12,CHAR(34),",")) | G12: =IF(ISBLANK('encodage-invoer'!B12),"",+CONCATENATE(CHAR(34),SUBSTITUTE(TEXT('encodage-invoer'!G12,"0,00"),",","."),CHAR(34),",")) | H12: =IF(ISBLANK('encodage-invoer'!B12),"",+CONCATENATE(CHAR(34),'encodage-invoer'!H12,CHAR(34))) | J12: =+CONCATENATE(A12,B12,C12,D12,E12,F12,G12,H12)
A13: =IF(ISBLANK('encodage-invoer'!B13),"",+CONCATENATE(CHAR(34),'encodage-invoer'!A13,CHAR(34),",")) | B13: =IF(ISBLANK('encodage-invoer'!B13),"",+CONCATENATE(CHAR(34),'encodage-invoer'!B13,CHAR(34),",")) | C13: =IF(ISBLANK('encodage-invoer'!B13),"",CHAR(34)&TEXT(DAY('encodage-invoer'!C13),"00")&"/"&TEXT(MONTH('encodage-invoer'!C13),"00")&"/"&TEXT(YEAR('encodage-invoer'!C13),"0000")&CHAR(34)&",") | D13: =IF(ISBLANK('encodage-invoer'!B13),"",CHAR(34)&TEXT(DAY('encodage-invoer'!D13),"00")&"/"&TEXT(MONTH('encodage-invoer'!D13),"00")&"/"&TEXT(YEAR('encodage-invoer'!D13),"0000")&CHAR(34)&",") | E13: =IF(ISBLANK('encodage-invoer'!B13),"",+CONCATENATE(CHAR(34),'encodage-invoer'!E13,CHAR(34),",")) | F13: =IF(ISBLANK('encodage-invoer'!B13),"",+CONCATENATE(CHAR(34),'encodage-invoer'!F13,CHAR(34),",")) | G13: =IF(ISBLANK('encodage-invoer'!B13),"",+CONCATENATE(CHAR(34),SUBSTITUTE(TEXT('encodage-invoer'!G13,"0,00"),",","."),CHAR(34),",")) | H13: =IF(ISBLANK('encodage-invoer'!B13),"",+CONCATENATE(CHAR(34),'encodage-invoer'!H13,CHAR(34))) | J13: =+CONCATENATE(A13,B13,C13,D13,E13,F13,G13,H13)
... A1000: =IF(ISBLANK('encodage-invoer'!B1000),"",+CONCATENATE(CHAR(34),'encodage-invoer'!A1000,CHAR(34),",")) | B1000: =IF(ISBLANK('encodage-invoer'!B1000),"",+CONCATENATE(CHAR(34),'encodage-invoer'!B1000,CHAR(34),",")) | C1000: =IF(ISBLANK('encodage-invoer'!B1000),"",CHAR(34)&TEXT(DAY('encodage-invoer'!C1000),"00")&"/"&TEXT(MONTH('encodage-invoer'!C1000),"00")&"/"&TEXT(YEAR('encodage-invoer'!C1000),"0000")&CHAR(34)&",") | D1000: =IF(ISBLANK('encodage-invoer'!B1000),"",CHAR(34)&TEXT(DAY('encodage-invoer'!D1000),"00")&"/"&TEXT(MONTH('encodage-invoer'!D1000),"00")&"/"&TEXT(YEAR('encodage-invoer'!D1000),"0000")&CHAR(34)&",") | E1000: =IF(ISBLANK('encodage-invoer'!B1000),"",+CONCATENATE(CHAR(34),'encodage-invoer'!E1000,CHAR(34),",")) | F1000: =IF(ISBLANK('encodage-invoer'!B1000),"",+CONCATENATE(CHAR(34),'encodage-invoer'!F1000,CHAR(34),",")) | G1000: =IF(ISBLANK('encodage-invoer'!B1000),"",+CONCATENATE(CHAR(34),SUBSTITUTE(TEXT('encodage-invoer'!G1000,"0,00"),",","."),CHAR(34),",")) | H1000: =IF(ISBLANK('encodage-invoer'!B1000),"",+CONCATENATE(CHAR(34),'encodage-invoer'!H1000,CHAR(34))) | J1000: =+CONCATENATE(A1000,B1000,C1000,D1000,E1000,F1000,G1000,H1000)

Sheet fichier csv bestand
A1: =+'Step 2'!J1 -> "NOM CPT","REFERENCE CPT","DATE DEBUT","DATE FIN","VECTEUR","TYPE","CONSO","INJE"
A2: =+'Step 2'!J2 -> "Exemple 1","432156","01/01/2019","31/01/2019","ELEC","MONO_DIRECT_DEBIT","41810.40",""
A3: =+'Step 2'!J3 -> "Exemple 1","432156","01/02/2019","28/02/2019","ELEC","MONO_DIRECT_DEBIT","38485.10",""
A4: =+'Step 2'!J4 -> "Exemple 1","432156","01/03/2019","31/03/2019","ELEC","MONO_DIRECT_DEBIT","43515.00",""
A5: =+'Step 2'!J5 -> "Exemple 1","432156","01/04/2019","30/04/2019","ELEC","MONO_DIRECT_DEBIT","39902.90",""
A6: =+'Step 2'!J6 -> "Voorbeeld 2","123456789","01/01/2019","31/01/2019","GAS","","86686.00",""
A7: =+'Step 2'!J7 -> "Voorbeeld 2","123456789","01/02/2019","28/02/2019","GAS","","51234.70",""
A8: =+'Step 2'!J8 -> "Voorbeeld 2","123456789","01/03/2019","31/03/2019","GAS","","48850.90",""
A9: =+'Step 2'!J9 -> "Voorbeeld 2","123456789","01/04/2019","30/04/2019","GAS","","33352.60",""
A10: =+'Step 2'!J10 -> "Voorbeeld 2","123456789","01/05/2019","31/05/2019","GAS","","24294.70",""
A11: =+'Step 2'!J11
A12: =+'Step 2'!J12
... A1000: =+'Step 2'!J1000

Sheet Menus deroulants
B1: Vecteur | C1: Type compteur
B2: GAS
B3: ELEC | C3: MONO_DIRECT_DEBIT
C4: MONO_FEEDBACK
C5: BI
C6: AA
